{"text_format":"1","workbook":"xlsx","n_sheets":65,"sheets":["START","Instructions","Template names","Lookup and lists","Org structure","Contacts","A1-Sum","A2-FinPerf SC","A2A","A3-FinPerf V","A3A","A4-FinPerf RE","A5-Capex","A5A","Chart1","A6-FinPos","A7-CFlow","A8-ResRecon","A9-Asset","A10-SerDel","SA1","SA2","SA3","SA4","SA5","SA6","SA7","SA8","SA9","SA10","SA11","SA12a","SA12b","SA13a","SA13b","SA14","SA15","SA16","SA17","SA18","SA19","SA20","SA21","SA22","SA23","SA24","SA25","SA26","SA27","SA28","SA29","SA30","SA31","SA32","SA33","SA34a","SA34b","SA34c","SA34d","SA34e","SA35","SA36","SA37","SA38","LGDB_EXPORT"],"not_rendered":{"charts":2,"images":16,"macros":1,"external_links":3,"defined_names":1917,"comments":0,"pivot_tables":0},"unopened":[{"sheet":"Chart1","index":14,"reason":"not_a_worksheet"}],"bounds":{"document_bytes":16777216,"sheet_cells":100000,"rows_first":2000,"rows_last":500,"rows_between":2000,"halvings":0,"cell_chars":16384,"cell_head_chars":4096},"cells_cut":0,"cells_raw":0,"read":"whole","date_system":"1900"}

{"sheet":"START","index":0,"n_rows":0,"n_cols":0,"rows_kept":0,"cut":false,"hidden":false,"merged":[]}

{"sheet":"Instructions","index":1,"n_rows":77,"n_cols":24,"rows_kept":77,"cut":false,"hidden":false,"merged":[]}
[]
[null,null,null,2020]
[]
[null,null,null,null,null,null,null,null,null,null,null,null,null,null,null,null,null,null,null,null,null,null,null,"Yes"]
[null,null,null,null,null,null,null,null,null,null,null,null,null,null,null,null,null,null,null,null,null,null,null,"No"]
[]
[null,null,null,null,null,null,null,null,null,null,null,null,null,null,null,null,null,null,null,null,null,null,"Type of Entities Range:"]
[null,null,null,null,null,null,null,null,null,null,null,null,null,null,null,null,null,null,null,null,null,null,null,"Parent Municipality"]
[null,null,null,null,null,null,null,null,null,null,null,null,null,null,null,null,null,null,null,null,null,null,null,"Consolidated Information"]
[]
[]
[]
[]
[null,null,null,null,null,"START"]
[null,null,null,null,null,"Instructions"]
[null,null,null,null,null,"Template names"]
[null,null,null,null,null,"Lookup and lists",null,null,null,null,null,null,null,null,null,null,null,null,null,null,null,null,"MTREF Range:",2013]
[null,null,null,null,null,"Org structure",null,null,null,null,null,null,null,null,null,null,null,null,null,null,null,null,null,2014]
[null,null,null,null,null,"Contacts",null,null,null,null,null,null,null,null,null,null,null,null,null,null,null,null,null,2015]
[null,null,null,null,null,"A1-Sum",null,null,null,null,null,null,null,null,null,null,null,null,null,null,null,null,null,2016]
[null,null,null,null,null,"A2-FinPerf SC",null,null,null,null,null,null,null,null,null,null,null,null,null,null,null,null,null,2017]
[null,null,null,null,null,"A2A",null,null,null,null,null,null,null,null,null,null,null,null,null,null,null,null,null,2018]
[null,null,null,null,null,"A3-FinPerf V",null,null,null,null,null,null,null,null,null,null,null,null,null,null,null,null,null,2019]
[null,null,null,null,null,"A3A",null,null,null,null,null,null,null,null,null,null,null,null,null,null,null,null,null,2020]
[null,null,null,null,null,"A4-FinPerf RE",null,null,null,null,null,null,null,null,null,null,null,null,null,null,null,null,null,2021]
[null,null,null,null,null,"A5-Capex",null,null,null,null,null,null,null,null,null,null,null,null,null,null,null,null,null,2022]
[null,null,null,null,null,"A5A",null,null,null,null,null,null,null,null,null,null,null,null,null,null,null,null,null,2023]
[null,null,null,null,null,"A6-FinPos",null,null,null,null,null,null,null,null,null,null,null,null,null,null,null,null,null,2024]
[null,null,null,null,null,"A7-CFlow",null,null,null,null,null,null,null,null,null,null,null,null,null,null,null,null,null,2025]
[null,null,null,null,null,"A8-ResRecon",null,null,null,null,null,null,null,null,null,null,null,null,null,null,null,null,null,2026]
[null,null,null,null,null,"A9-Asset",null,null,null,null,null,null,null,null,null,null,null,null,null,null,null,null,null,2027]
[null,null,null,null,null,"A10-SerDel"]
[null,null,null,null,null,"SA1",null,null,null,null,null,null,null,null,null,null,null,null,null,null,null,null,"MTREF Linked:",9]
[null,null,null,null,null,"SA2",null,null,null,null,null,null,null,null,null,null,null,null,null,null,null,null,"MTREF:",{"$f":"INDEX(X17:X26,X33,1)","v":2021}]
[null,null,null,null,null,"SA3"]
[null,null,null,null,null,"SA4",null,null,null,null,null,null,null,null,null,null,null,null,null,null,null,null,"Fin Year:",{"$f":"MTREF&\"/\"&RIGHT(MTREF,2)+1","v":"2021/22"}]
[null,null,null,null,null,"SA5"]
[null,null,null,null,null,"SA6"]
[null,null,null,null,null,"SA7"]
[null,null,null,null,null,"SA8"]
[null,null,null,null,null,"SA9"]
[null,null,null,null,null,"SA10"]
[null,null,null,null,null,"SA11"]
[null,null,null,null,null,"SA12a"]
[null,null,null,null,null,"SA12b"]
[null,null,null,null,null,"SA13a"]
[null,null,null,null,null,"SA13b"]
[null,null,null,null,null,"SA14"]
[null,null,null,null,null,"SA15"]
[null,null,null,null,null,"SA16"]
[null,null,null,null,null,"SA17"]
[null,null,null,null,null,"SA18"]
[null,null,null,null,null,"SA19"]
[null,null,null,null,null,"SA20"]
[null,null,null,null,null,"SA21"]
[null,null,null,null,null,"SA22"]
[null,null,null,null,null,"SA23"]
[null,null,null,null,null,"SA24"]
[null,null,null,null,null,"SA25"]
[null,null,null,null,null,"SA26"]
[null,null,null,null,null,"SA27"]
[null,null,null,null,null,"SA28"]
[null,null,null,null,null,"SA29"]
[null,null,null,null,null,"SA30"]
[null,null,null,null,null,"SA31"]
[null,null,null,null,null,"SA32"]
[null,null,null,null,null,"SA33"]
[null,null,null,null,null,"SA34a"]
[null,null,null,null,null,"SA34b"]
[null,null,null,null,null,"SA34c"]
[null,null,null,null,null,"SA34d"]
[null,null,null,null,null,"SA34e"]
[null,null,null,null,null,"SA35"]
[null,null,null,null,null,"SA36"]
[null,null,null,null,null,"SA37"]
[null,null,null,null,null,"SA38"]
[null,null,null,null,null,"LGDB_EXPORT"]

{"sheet":"Template names","index":2,"n_rows":179,"n_cols":6,"rows_kept":179,"cut":false,"hidden":true,"merged":[[0,0,0,3],[86,0,86,1],[109,0,109,1],[98,0,98,1],[91,0,91,3]]}
["Common sheet headings"]
["Head1",{"$f":"HLOOKUP(MTREF,Headings,2)","v":"2019/20"},"Prior year -1"]
["Head1A",{"$f":"HLOOKUP(MTREF,Headings,3)","v":"2018/19"},"Prior year -2"]
["Head1B",{"$f":"HLOOKUP(MTREF,Headings,4)","v":"2017/18"},"Prior year -3"]
["Head2",{"$f":"HLOOKUP(MTREF,Headings,5)","v":"Current Year 2020/21"},"Year in which budget is being prepared"]
["Head2A",{"$f":"HLOOKUP(MTREF,Headings,6)","v":"2020/21"},"Year in which budget is being prepared"]
["Head3",{"$f":"HLOOKUP(MTREF,Headings,7)","v":"2021/22 Medium Term Revenue & Expenditure Framework"},"MTREF name"]
["Head4","LTFS","Long term financial strategy"]
["Head5","Audited Outcome"]
["Head5A","Outcome"]
["Head5B","Pre-audit outcome"]
["Head6","Original Budget"]
["Head7","Adjusted Budget"]
["Head8","Full Year Forecast"]
["Head9",{"$f":"HLOOKUP(MTREF,Headings,8)","v":"Budget Year 2021/22"},"1st year of MTREF","Year1"]
["Head10",{"$f":"HLOOKUP(MTREF,Headings,9)","v":"Budget Year +1 2022/23"},"2nd year of MTREF","Year2"]
["Head11",{"$f":"HLOOKUP(MTREF,Headings,10)","v":"Budget Year +2 2023/24"},"3rd year of MTREF","Year3"]
["Head12",{"$f":"HLOOKUP(MTREF,Headings,11)","v":"Forecast 2024/25"},"1st yr of long term forecast","Year4"]
["Head13",{"$f":"HLOOKUP(MTREF,Headings,12)","v":"Forecast 2025/26"},"Next yr of long term forecast","Year5"]
["Head14",{"$f":"HLOOKUP(MTREF,Headings,13)","v":"Forecast 2026/27"},"Next yr of long term forecast","Year6"]
["Head15",{"$f":"HLOOKUP(MTREF,Headings,14)","v":"Forecast 2027/28"},"Next yr of long term forecast","Year7"]
["Head16",{"$f":"HLOOKUP(MTREF,Headings,15)","v":"Forecast 2028/29"},"Next yr of long term forecast","Year8"]
["Head17",{"$f":"HLOOKUP(MTREF,Headings,16)","v":"Forecast 2029/30"},"Next yr of long term forecast","Year9"]
["Head18",{"$f":"HLOOKUP(MTREF,Headings,17)","v":"Forecast 2030/31"},"Next yr of long term forecast","Year10"]
["Head19",{"$f":"HLOOKUP(MTREF,Headings,18)","v":"Forecast 2031/32"},"Next yr of long term forecast","Year11"]
["Head20",{"$f":"HLOOKUP(MTREF,Headings,19)","v":"Forecast 2032/33"},"Next yr of long term forecast","Year12"]
["Head21",{"$f":"HLOOKUP(MTREF,Headings,20)","v":"Forecast 2033/34"},"Next yr of long term forecast","Year13"]
["Head22",{"$f":"HLOOKUP(MTREF,Headings,21)","v":"Forecast 2034/35"},"Next yr of long term forecast","Year14"]
["Head23",{"$f":"HLOOKUP(MTREF,Headings,22)","v":"Forecast 2035/36"},"Next yr of long term forecast","Year15"]
["Head24","Description"]
["Head25"]
["Head26","Vote Description"]
["Head27","Ref"]
["Head27a","References"]
["Head28","Surplus/(Deficit) for the year",null,"Result"]
["Head29",{"$f":"HLOOKUP(MTREF,Headings,23)","v":"Annual target 2021/22"}]
["Head30",{"$f":"HLOOKUP(MTREF,Headings,24)","v":"Revised target 2021/22"}]
["Head31","Quarter ended 30 September"]
["Head32","Quarter ended 31 December"]
["Head33","Quarter ended 31 March"]
["Head34","Quarter ended 30 June"]
["Head35","Variance explanation"]
["Head36","YTD  Actual 31 Dec"]
["Head37","YTD  Budget 31 Dec"]
["Head38","Monthly actual"]
["Head39","YTD actual"]
["Head40","YTD budget"]
["Head41","YTD variance"]
["Head42","Surplus/ (Deficit) for the yr/period"]
["Head43",{"$f":"Head3&\" Summary\"","v":"2021/22 Medium Term Revenue & Expenditure Framework Summary"}]
["Head44","2001 Census"]
["Head45","2011 Census"]
["Head46"," - Adjustments Budget - January 2007"]
["Head47","Previous target year to complete"]
["Head48","Present value"]
["Head49"]
["Head50","Other Adjusts."]
["Head51","Accum. Funds"]
["Head52","Multi-year capital"]
["Head53","Unfore. Unavoid."]
["Head54","Prior Adjusted"]
["Head55","Nat. or Prov. Govt"]
["Head56","Total Adjusts."]
["SFPerf1","Budgeted Financial Performance"]
["SFPerf2","Forecast Financial Performance"]
["SFPos1","Budgeted Financial Position"]
["SFPos2","Forecast Financial Position"]
["Cash1","Budget Cash Flow"]
["Cash2","Forecast Cash Flow"]
["RandM","Expenditure includes repairs & maintenance of R'000"]
["Depart1","Department 1 - ",null,"DEP1"]
["Depart2","Department 2 - ",null,"DEP2"]
["Depart3","Department 3 - ",null,"DEP3"]
["Depart4","Department 4 - ",null,"DEP4"]
["Depart5","Department 5 - ",null,"DEP5"]
["Depart6","Department 6 - ",null,"DEP6"]
["Depart7","Department 7 - ",null,"DEP7"]
["Depart8","Department 8 - ",null,"DEP8"]
["Depart9","Department 9 - ",null,"DEP9"]
["Depart10","Department 10 - ",null,"DEP10"]
["Depart11","Department 11 - ",null,"DEP11"]
["Depart12","Department 12 - ",null,"DEP12"]
["Depart13","Department 13 - ",null,"DEP13"]
["Depart14","Department 14 - ",null,"DEP14"]
[]
[]
["Base year of forecast column selection names"]
["Choose","ACT"]
[null,"APP"]
[null,"ADJ"]
[]
["Standard nomenclature"]
["Muni",{"$f":"'Lookup and lists'!B28","v":"Choose name from list"}]
["Municipal Entities",2,"Type of report:",1]
[{"$f":"IF((MuniEntities=1)*(MuniType=2),\"YES\",\"NO\")","v":"NO"},"Does this municipality have entities (consolidated budget and entity budgets required)? YES/NO"]
["Entity 1","(Pty) Ltd Example 1 - Municipal entity - ",null,"Ent1"]
["Entity 2","(Pty) Ltd Example 2 - Municipal entity - ",null,"Ent2"]
["Entity 3","Municipal Entity Example 3",null,"Ent3"]
["Budget approval tables",null,"Chart x-ref","Sch/Tab/Ch","Alternative for municipalities without entities","Alternative for municipalities without entities"]
[null,{"$f":"IF(Consolques=\"YES\",E100,F100)","v":"Table A1 Budget Summary"},null,"Table A1 ",{"$f":"D100&\"Consolidated Budget Summary\"","v":"Table A1 Consolidated Budget Summary"},{"$f":"D100&\"Budget Summary\"","v":"Table A1 Budget Summary"}]
[null,"Table A2 Budgeted Financial Performance (revenue and expenditure by functional classification)","Charts 5, 6","Table A2 ",{"$f":"D101&\"Consolidated Budgeted Financial Performance (revenue and expenditure by functional classification)\"","v":"Table A2 Consolidated Budgeted Financial Performance (revenue and expenditure by functional classification)"},{"$f":"D101&\"Budgeted Financial Performance (revenue and expenditure by functional classification)\"","v":"Table A2 Budgeted Financial Performance (revenue and expenditure by functional classification)"}]
[null,"Table A3 Budgeted Financial Performance (revenue and expenditure by municipal vote)",null,"Table A3 ",{"$f":"D102&\"Consolidated Budgeted Financial Performance (revenue and expenditure by municipal vote)\"","v":"Table A3 Consolidated Budgeted Financial Performance (revenue and expenditure by municipal vote)"},{"$f":"D102&\"Budgeted Financial Performance (revenue and expenditure by municipal vote)\"","v":"Table A3 Budgeted Financial Performance (revenue and expenditure by municipal vote)"}]
[null,"Table A4 Budgeted Financial Performance (revenue and expenditure)","Charts 1, 2, 3, 4","Table A4 ",{"$f":"D103&\"Consolidated Budgeted Financial Performance (revenue and expenditure)\"","v":"Table A4 Consolidated Budgeted Financial Performance (revenue and expenditure)"},{"$f":"D103&\"Budgeted Financial Performance (revenue and expenditure)\"","v":"Table A4 Budgeted Financial Performance (revenue and expenditure)"}]
[null,"Table A5 Budgeted Capital Expenditure by vote, functional classification and funding","Charts 7, 8, 9, 10, 20","Table A5 ",{"$f":"D104&\"Consolidated Budgeted Capital Expenditure by vote, functional classification and funding\"","v":"Table A5 Consolidated Budgeted Capital Expenditure by vote, functional classification and funding"},{"$f":"D104&\"Budgeted Capital Expenditure by vote, functional classification and funding\"","v":"Table A5 Budgeted Capital Expenditure by vote, functional classification and funding"}]
[null,"Table A6 Budgeted Financial Position",null,"Table A6 ",{"$f":"D105&\"Consolidated Budgeted Financial Position\"","v":"Table A6 Consolidated Budgeted Financial Position"},{"$f":"D105&\"Budgeted Financial Position\"","v":"Table A6 Budgeted Financial Position"}]
[null,"Table A7 Budgeted Cash Flows",null,"Table A7 ",{"$f":"D106&\"Consolidated Budgeted Cash Flows\"","v":"Table A7 Consolidated Budgeted Cash Flows"},{"$f":"D106&\"Budgeted Cash Flows\"","v":"Table A7 Budgeted Cash Flows"}]
[null,"Table A8 Cash backed reserves/accumulated surplus reconciliation",null,"Table A8 ",{"$f":"D107&\"Consolidated Cash backed reserves/accumulated surplus reconciliation\"","v":"Table A8 Consolidated Cash backed reserves/accumulated surplus reconciliation"},{"$f":"D107&\"Cash backed reserves/accumulated surplus reconciliation\"","v":"Table A8 Cash backed reserves/accumulated surplus reconciliation"}]
[null,"Table A9 Asset Management",null,"Table A9 ",{"$f":"D108&\"Consolidated Asset Management\"","v":"Table A9 Consolidated Asset Management"},{"$f":"D108&\"Asset Management\"","v":"Table A9 Asset Management"}]
[null,"Table A10 Basic service delivery measurement",null,"Table A10 ",{"$f":"D109&\"Consolidated basic service delivery measurement\"","v":"Table A10 Consolidated basic service delivery measurement"},{"$f":"D109&\"Basic service delivery measurement\"","v":"Table A10 Basic service delivery measurement"}]
["Supportinging Tables to the Budget Approval Tables",null,{"$f":"$C$99","v":"Chart x-ref"},{"$f":"$D$99","v":"Sch/Tab/Ch"}]
["Supporting Table SA1",{"$f":"A111&\" Supportinging detail to 'Budgeted Financial Performance'\"","v":"Supporting Table SA1 Supportinging detail to 'Budgeted Financial Performance'"}]
["Supporting Table SA2 ",{"$f":"IF(Consolques=\"YES\",E112,F112)","v":"Supporting Table SA2 Matrix Financial Performance Budget (revenue source/expenditure type and dept.)"},null,null,{"$f":"A112&\"Consolidated Matrix Financial Performance Budget (revenue source/expenditure type & dept.)\"","v":"Supporting Table SA2 Consolidated Matrix Financial Performance Budget (revenue source/expenditure type & dept.)"},{"$f":"A112&\"Matrix Financial Performance Budget (revenue source/expenditure type and dept.)\"","v":"Supporting Table SA2 Matrix Financial Performance Budget (revenue source/expenditure type and dept.)"}]
["Supporting Table SA3 ",{"$f":"A113&\"Supportinging detail to 'Budgeted Financial Position'\"","v":"Supporting Table SA3 Supportinging detail to 'Budgeted Financial Position'"}]
["Supporting Table SA4 ",{"$f":"A114&\"Reconciliation of IDP strategic objectives and budget (revenue)\"","v":"Supporting Table SA4 Reconciliation of IDP strategic objectives and budget (revenue)"},"Chart 11"]
["Supporting Table SA5 ",{"$f":"A115&\"Reconciliation of IDP strategic objectives and budget (operating expenditure)\"","v":"Supporting Table SA5 Reconciliation of IDP strategic objectives and budget (operating expenditure)"},"Chart 12"]
["Supporting Table SA6 ",{"$f":"A116&\"Reconciliation of IDP strategic objectives and budget (capital expenditure)\"","v":"Supporting Table SA6 Reconciliation of IDP strategic objectives and budget (capital expenditure)"},"Chart 13"]
["Supporting Table SA7",{"$f":"A117&\" Measureable performance objectives\"","v":"Supporting Table SA7 Measureable performance objectives"}]
["Supporting Table SA8",{"$f":"A118&\" Performance indicators and benchmarks\"","v":"Supporting Table SA8 Performance indicators and benchmarks"},"Chts 15-19"]
["Supporting Table SA9",{"$f":"A119&\" Social, economic and demographic statistics and assumptions\"","v":"Supporting Table SA9 Social, economic and demographic statistics and assumptions"}]
["Supporting Table SA10",{"$f":"A120&\" Funding measurement\"","v":"Supporting Table SA10 Funding measurement"},"Chart 14"]
["Supporting Table SA11",{"$f":"A121&\" Property rates summary\"","v":"Supporting Table SA11 Property rates summary"}]
["Supporting Table SA12a",{"$f":"A122&\" Property rates by category (current year)\"","v":"Supporting Table SA12a Property rates by category (current year)"}]
["Supporting Table SA12b",{"$f":"A123&\" Property rates by category (budget year)\"","v":"Supporting Table SA12b Property rates by category (budget year)"}]
["Supporting Table SA13a",{"$f":"A124&\" Service Tariffs by category\"","v":"Supporting Table SA13a Service Tariffs by category"}]
["Supporting Table SA13b",{"$f":"A125&\" Service Tariffs by category - explanatory\"","v":"Supporting Table SA13b Service Tariffs by category - explanatory"}]
["Supporting Table SA14",{"$f":"A126&\" Household bills\"","v":"Supporting Table SA14 Household bills"}]
["Supporting Table SA15",{"$f":"A127&\" Investment particulars by type\"","v":"Supporting Table SA15 Investment particulars by type"}]
["Supporting Table SA16",{"$f":"A128&\" Investment particulars by maturity\"","v":"Supporting Table SA16 Investment particulars by maturity"}]
["Supporting Table SA17",{"$f":"A129&\" Borrowing\"","v":"Supporting Table SA17 Borrowing"}]
["Supporting Table SA18",{"$f":"A130&\" Transfers and grant receipts\"","v":"Supporting Table SA18 Transfers and grant receipts"}]
["Supporting Table SA19",{"$f":"A131&\" Expenditure on transfers and grant programme\"","v":"Supporting Table SA19 Expenditure on transfers and grant programme"}]
["Supporting Table SA20",{"$f":"A132&\" Reconciliation of transfers, grant receipts and unspent funds\"","v":"Supporting Table SA20 Reconciliation of transfers, grant receipts and unspent funds"}]
["Supporting Table SA21",{"$f":"A133&\" Transfers and grants made by the municipality\"","v":"Supporting Table SA21 Transfers and grants made by the municipality"}]
["Supporting Table SA22",{"$f":"A134&\" Summary councillor and staff benefits\"","v":"Supporting Table SA22 Summary councillor and staff benefits"}]
["Supporting Table SA23",{"$f":"A135&\" Salaries, allowances & benefits (political office bearers/councillors/senior managers)\"","v":"Supporting Table SA23 Salaries, allowances & benefits (political office bearers/councillors/senior managers)"}]
["Supporting Table SA24",{"$f":"A136&\" Summary of personnel numbers\"","v":"Supporting Table SA24 Summary of personnel numbers"}]
["Supporting Table SA25",{"$f":"IF(Consolques=\"YES\",E137,F137)","v":"Supporting Table SA25 Budgeted monthly revenue and expenditure"},null,null,{"$f":"A137&\" Consolidated budgeted monthly revenue and expenditure\"","v":"Supporting Table SA25 Consolidated budgeted monthly revenue and expenditure"},{"$f":"A137&\" Budgeted monthly revenue and expenditure\"","v":"Supporting Table SA25 Budgeted monthly revenue and expenditure"}]
["Supporting Table SA26","Supporting Table SA26 Budgeted monthly revenue and expenditure (municipal vote)",null,null,{"$f":"A138&\" Consolidated budgeted monthly revenue and expenditure (municipal vote)\"","v":"Supporting Table SA26 Consolidated budgeted monthly revenue and expenditure (municipal vote)"},{"$f":"A138&\" Budgeted monthly revenue and expenditure (municipal vote)\"","v":"Supporting Table SA26 Budgeted monthly revenue and expenditure (municipal vote)"}]
["Supporting Table SA27","Supporting Table SA27 Budgeted monthly revenue and expenditure (functional classification)",null,null,{"$f":"A139&\" Consolidated budgeted monthly revenue and expenditure (functional classification)\"","v":"Supporting Table SA27 Consolidated budgeted monthly revenue and expenditure (functional classification)"},{"$f":"A139&\" Budgeted monthly revenue and expenditure (functional classification)\"","v":"Supporting Table SA27 Budgeted monthly revenue and expenditure (functional classification)"}]
["Supporting Table SA28","Supporting Table SA28 Budgeted monthly capital expenditure (municipal vote)",null,null,{"$f":"A140&\" Consolidated budgeted monthly capital expenditure (municipal vote)\"","v":"Supporting Table SA28 Consolidated budgeted monthly capital expenditure (municipal vote)"},{"$f":"A140&\" Budgeted monthly capital expenditure (municipal vote)\"","v":"Supporting Table SA28 Budgeted monthly capital expenditure (municipal vote)"}]
["Supporting Table SA29","Supporting Table SA29 Budgeted monthly capital expenditure (functional classification)",null,null,{"$f":"A141&\" Consolidated budgeted monthly capital expenditure (functional classification)\"","v":"Supporting Table SA29 Consolidated budgeted monthly capital expenditure (functional classification)"},{"$f":"A141&\" Budgeted monthly capital expenditure (functional classification)\"","v":"Supporting Table SA29 Budgeted monthly capital expenditure (functional classification)"}]
["Supporting Table SA30","Supporting Table SA30 Budgeted monthly cash flow",null,null,{"$f":"A142&\" Consolidated budgeted monthly cash flow\"","v":"Supporting Table SA30 Consolidated budgeted monthly cash flow"},{"$f":"A142&\" Budgeted monthly cash flow\"","v":"Supporting Table SA30 Budgeted monthly cash flow"}]
["Supporting Table SA31","NOT REQUIRED - municipality does not have entities",null,null,{"$f":"A143&\" Aggregated entity budget\"","v":"Supporting Table SA31 Aggregated entity budget"},"NOT REQUIRED - municipality does not have entities"]
["Supporting Table SA32",{"$f":"A144&\" List of external mechanisms\"","v":"Supporting Table SA32 List of external mechanisms"}]
["Supporting Table SA33",{"$f":"A145&\" Contracts having future budgetary implications\"","v":"Supporting Table SA33 Contracts having future budgetary implications"}]
["Supporting Table SA34a",{"$f":"IF(Consolques=\"YES\",E146,F146)","v":"Supporting Table SA34a Capital expenditure on new assets by asset class"},null,null,{"$f":"A146&\" Consolidated capital expenditure on new assets by asset class\"","v":"Supporting Table SA34a Consolidated capital expenditure on new assets by asset class"},{"$f":"A146&\" Capital expenditure on new assets by asset class\"","v":"Supporting Table SA34a Capital expenditure on new assets by asset class"}]
["Supporting Table SA34b","Supporting Table SA34b Capital expenditure on the renewal of existing assets by asset class",null,null,{"$f":"A147&\" Consolidated capital expenditure on the renewal of existing assets by asset class\"","v":"Supporting Table SA34b Consolidated capital expenditure on the renewal of existing assets by asset class"},{"$f":"A147&\" Capital expenditure on the renewal of existing assets by asset class\"","v":"Supporting Table SA34b Capital expenditure on the renewal of existing assets by asset class"}]
["Supporting Table SA34c","Supporting Table SA34c Repairs and maintenance expenditure by asset class",null,null,{"$f":"A148&\" Consolidated repairs and maintenance by asset class\"","v":"Supporting Table SA34c Consolidated repairs and maintenance by asset class"},{"$f":"A148&\" Repairs and maintenance expenditure by asset class\"","v":"Supporting Table SA34c Repairs and maintenance expenditure by asset class"}]
["Supporting Table SA34d",{"$f":"IF(Consolques=\"YES\",E149,F149)","v":"Supporting Table SA34d Depreciation by asset class"},null,null,{"$f":"A149&\" Consolidated Depreciation by asset class\"","v":"Supporting Table SA34d Consolidated Depreciation by asset class"},{"$f":"A149&\" Depreciation by asset class\"","v":"Supporting Table SA34d Depreciation by asset class"}]
["Supporting Table SA34e",{"$f":"IF(Consolques=\"YES\",E150,F150)","v":"Supporting Table SA34e Capital expenditure on the upgrading of existing assets by asset class"},null,null,{"$f":"A150&\" Consolidated capital expenditure on the upgrading of existing assets by asset class\"","v":"Supporting Table SA34e Consolidated capital expenditure on the upgrading of existing assets by asset class"},{"$f":"A150&\" Capital expenditure on the upgrading of existing assets by asset class\"","v":"Supporting Table SA34e Capital expenditure on the upgrading of existing assets by asset class"}]
["Supporting Table SA35","Supporting Table SA35 Future financial implications of the capital budget",null,null,{"$f":"A151&\" Consolidated future financial implications of the capital budget\"","v":"Supporting Table SA35 Consolidated future financial implications of the capital budget"},{"$f":"A151& \" Future financial implications of the capital budget\"","v":"Supporting Table SA35 Future financial implications of the capital budget"}]
["Supporting Table SA36","Supporting Table SA36 Detailed capital budget",null,null,{"$f":"A152&\" Consolidated detailed capital budget\"","v":"Supporting Table SA36 Consolidated detailed capital budget"},{"$f":"A152& \" Detailed capital budget\"","v":"Supporting Table SA36 Detailed capital budget"}]
["Supporting Table SA37","Supporting Table SA37 Projects delayed from previous financial year/s",null,null,{"$f":"A153&\" Consolidated projects delayed from previous financial year/s\"","v":"Supporting Table SA37 Consolidated projects delayed from previous financial year/s"},{"$f":"A153& \" Projects delayed from previous financial year/s\"","v":"Supporting Table SA37 Projects delayed from previous financial year/s"}]
["Supporting Table SA38",{"$f":"IF(Consolques=\"YES\",E154,F154)","v":"Supporting Table SA38 Detailed operational projects"},null,null,{"$f":"A154&\" Consolidated detailed operational projects\"","v":"Supporting Table SA38 Consolidated detailed operational projects"},{"$f":"A154& \" Detailed operational projects\"","v":"Supporting Table SA38 Detailed operational projects"}]
[]
["Budget Charts","Charts","Cross reference"]
["Chart A1 ",{"$f":"A157&\"Revenue by Municipal Vote\"","v":"Chart A1 Revenue by Municipal Vote"}]
["Chart A2 ",{"$f":"A158&\"Expenditure by Municipal Vote\"","v":"Chart A2 Expenditure by Municipal Vote"}]
["Chart A3 ",{"$f":"A159&\"Revenue by Standard Classification\"","v":"Chart A3 Revenue by Standard Classification"},"A2"]
["Chart A4 ",{"$f":"A160&\"Expenditure by Standard Classification\"","v":"Chart A4 Expenditure by Standard Classification"},"A2"]
["Chart A5 ",{"$f":"A161&\"Revenue by Major Source (refer 'Minor' source for 'Other Revenue' allocation\"","v":"Chart A5 Revenue by Major Source (refer 'Minor' source for 'Other Revenue' allocation"},"A3"]
["Chart A6 ",{"$f":"A162&\"Revenue by Minor Source (Other)\"","v":"Chart A6 Revenue by Minor Source (Other)"},"A3"]
["Chart A7 ",{"$f":"A163&\"Expenditure by Major Type\"","v":"Chart A7 Expenditure by Major Type"},"A3"]
["Chart A8 ",{"$f":"A164&\"Expenditure by Minor Type (Other)\"","v":"Chart A8 Expenditure by Minor Type (Other)"},"A3"]
["Chart A9 ",{"$f":"A165&\"Capital Expenditure by Municipal Vote/Appropriation (Major)\"","v":"Chart A9 Capital Expenditure by Municipal Vote/Appropriation (Major)"},"A5"]
["Chart A10 ",{"$f":"A166&\"Capital Expenditure by Municipal Vote/Appropriation (Minor)\"","v":"Chart A10 Capital Expenditure by Municipal Vote/Appropriation (Minor)"},"A5"]
["Chart A11 ",{"$f":"A166&\"Capital Expenditure by Standard Classification\"","v":"Chart A10 Capital Expenditure by Standard Classification"},"A5"]
["Chart A12 ",{"$f":"A168&\"Capital expenditure performance trend\"","v":"Chart A12 Capital expenditure performance trend"},"A5"]
["Chart A13 ",{"$f":"A169&\"Capital funding by Source\"","v":"Chart A13 Capital funding by Source"},"A5"]
["Chart A14 ",{"$f":"A170&\"Cash flow trend\"","v":"Chart A14 Cash flow trend"},"A7"]
["Chart A15 ",{"$f":"A171&\"IDP Strategic Objective - Revenue\"","v":"Chart A15 IDP Strategic Objective - Revenue"},"Table A4"]
["Chart A16 ",{"$f":"A172&\"IDP Strategic Objective - Expenditure\"","v":"Chart A16 IDP Strategic Objective - Expenditure"},"Table A5"]
["Chart A17 ",{"$f":"A173&\"IDP Strategic Objective - Capital Expenditure\"","v":"Chart A17 IDP Strategic Objective - Capital Expenditure"},"Table A6"]
["Chart A18 ",{"$f":"A174&\"Debt (borrowing to Total Revenue)\"","v":"Chart A18 Debt (borrowing to Total Revenue)"},"Table A8"]
["Chart A19 ",{"$f":"A175&\"Debtors' trend analysis\"","v":"Chart A19 Debtors' trend analysis"},"Table A8"]
["Chart A20 ",{"$f":"A176&\"Distribution losses\"","v":"Chart A20 Distribution losses"},"Table A8"]
["Chart A21 ",{"$f":"A177&\"Borrowed funding of capital expenditure\"","v":"Chart A21 Borrowed funding of capital expenditure"},"Table A8"]
["Chart A22 ",{"$f":"A178&\"Expenditure analysis (% of Revenue)\"","v":"Chart A22 Expenditure analysis (% of Revenue)"},"Table A8"]
["Chart A23 ",{"$f":"A179&\"Increases in service charges\"","v":"Chart A23 Increases in service charges"},"Table A10"]

{"sheet":"Lookup and lists","index":3,"n_rows":308,"n_cols":30,"rows_kept":308,"cut":false,"hidden":true,"merged":[]}
["Description",2013,2014,2015,2016,2017,2018,2019,2020,2021,2022,2023,2024,2025,2026,null,"Lists",null,null,null,null,null,null,null,"Grants:","National - opex","Provincial - opex","National - capex","Provincial - capex"]
[{"$f":"'Template names'!C2","v":"Prior year -1"},{"$f":"B1-2&\"/\"&RIGHT(B1,2)-1","v":"2011/12"},"2012/13","2013/14","2014/15","2015/16","2016/17","2017/18","2018/19",{"$f":"J1-2&\"/\"&RIGHT(J1,2)-1","v":"2019/20"},"2020/21","2021/22","2022/23","2023/24","2024/25",null,"Yes","<1","<4","Market","Land & impr.","Yes","Uniform","Yrs",null,"Local Government Equitable Share","Health subsidy"," Municipal Infrastructure Grant (MIG)","Agriculture"]
[{"$f":"'Template names'!C3","v":"Prior year -2"},{"$f":"B1-3&\"/\"&RIGHT(B1,2)-2","v":"2010/11"},"2011/12","2012/13","2013/14","2014/15","2015/16","2016/17","2017/18",{"$f":"J1-3&\"/\"&RIGHT(J1,2)-2","v":"2018/19"},"2019/20","2020/21","2021/22","2022/23","2023/24",null,"No",1,4,"Dep.Replace","Land only","No","Variable","Mths",null,"RSC Levy Replacement ","Ambulance subsidy"," Public Transport and Systems","Education"]
[{"$f":"'Template names'!C4","v":"Prior year -3"},{"$f":"B1-4&\"/\"&RIGHT(B1,2)-3","v":"2009/10"},"2010/11","2011/12","2012/13","2013/14","2014/15","2015/16","2016/17",{"$f":"J1-4&\"/\"&RIGHT(J1,2)-3","v":"2017/18"},"2018/19","2019/20","2020/21","2021/22","2022/23",null,null,2,5,"Other","Other",null,null,null,null,"Finance Management ","Housing","Rural Transport Services and Infrastructure","Health"]
[{"$f":"'Template names'!C5","v":"Year in which budget is being prepared"},{"$f":"\"Current Year \"& B1-1&\"/\"&RIGHT(B1,2)","v":"Current Year 2012/13"},"Current Year 2013/14","Current Year 2014/15","Current Year 2015/16","Current Year 2016/17","Current Year 2017/18","Current Year 2018/19","Current Year 2019/20",{"$f":"\"Current Year \"& J1-1&\"/\"&RIGHT(J1,2)","v":"Current Year 2020/21"},"Current Year 2021/22","Current Year 2022/23","Current Year 2023/24","Current Year 2024/25","Current Year 2025/26",null,null,3,6,null,null,null,null,null,null,"Municipal Systems Improvement","Sport and Recreation","Regional Bulk Infrastructure","Housing and Local Government "]
[{"$f":"'Template names'!C6","v":"Year in which budget is being prepared"},{"$f":"B1-1&\"/\"&RIGHT(B1,2)","v":"2012/13"},"2013/14","2014/15","2015/16","2016/17","2017/18","2018/19","2019/20",{"$f":"J1-1&\"/\"&RIGHT(J1,2)","v":"2020/21"},"2021/22","2022/23","2023/24","2024/25","2025/26",null,null,4,"6-10",null,null,null,null,null,null,"Water Services Operating Subsidy ",null,"Rural Households Infrastructure ","Other Departments"]
[{"$f":"'Template names'!C7","v":"MTREF name"},{"$f":"B1&\"/\"&RIGHT(B1,2)+1&\" Medium Term Revenue & Expenditure Framework\"","v":"2013/14 Medium Term Revenue & Expenditure Framework"},"2014/15 Medium Term Revenue & Expenditure Framework","2015/16 Medium Term Revenue & Expenditure Framework","2016/17 Medium Term Revenue & Expenditure Framework","2017/18 Medium Term Revenue & Expenditure Framework","2018/19 Medium Term Revenue & Expenditure Framework","2019/20 Medium Term Revenue & Expenditure Framework","2020/21 Medium Term Revenue & Expenditure Framework",{"$f":"J1&\"/\"&RIGHT(J1,2)+1&\" Medium Term Revenue & Expenditure Framework\"","v":"2021/22 Medium Term Revenue & Expenditure Framework"},"2022/23 Medium Term Revenue & Expenditure Framework","2023/24 Medium Term Revenue & Expenditure Framework","2024/25 Medium Term Revenue & Expenditure Framework","2025/26 Medium Term Revenue & Expenditure Framework","2026/27 Medium Term Revenue & Expenditure Framework",null,null,5,">10",null,null,null,null,null,null,"Energy Efficiency  and Demand Management",null,"Neighbourhood Development Partnership","Public Works, Roads, Transport "]
[{"$f":"'Template names'!C15","v":"1st year of MTREF"},{"$f":"\"Budget Year \"&B1&\"/\"&RIGHT(B1,2)+1","v":"Budget Year 2013/14"},"Budget Year 2014/15","Budget Year 2015/16","Budget Year 2016/17","Budget Year 2017/18","Budget Year 2018/19","Budget Year 2019/20","Budget Year 2020/21",{"$f":"\"Budget Year \"&J1&\"/\"&RIGHT(J1,2)+1","v":"Budget Year 2021/22"},"Budget Year 2022/23","Budget Year 2023/24","Budget Year 2024/25","Budget Year 2025/26","Budget Year 2026/27",null,null,">5",null,null,null,null,null,null,null,"Integrated National Electrification Programme",null,"2010 FIFA World Cup Stadiums Development","Sport and Recreation"]
[{"$f":"'Template names'!C16","v":"2nd year of MTREF"},{"$f":"\"Budget Year +1 \"&B1+1&\"/\"&RIGHT(B1,2)+2","v":"Budget Year +1 2014/15"},"Budget Year +1 2015/16","Budget Year +1 2016/17","Budget Year +1 2017/18","Budget Year +1 2018/19","Budget Year +1 2019/20","Budget Year +1 2020/21","Budget Year +1 2021/22",{"$f":"\"Budget Year +1 \"&J1+1&\"/\"&RIGHT(J1,2)+2","v":"Budget Year +1 2022/23"},"Budget Year +1 2023/24","Budget Year +1 2024/25","Budget Year +1 2025/26","Budget Year +1 2026/27","Budget Year +1 2027/28",null,null,null,null,null,null,null,null,null,null,"Municipal Drought Relief "]
[{"$f":"'Template names'!C17","v":"3rd year of MTREF"},{"$f":"\"Budget Year +2 \"&B1+2&\"/\"&RIGHT(B1,2)+3","v":"Budget Year +2 2015/16"},"Budget Year +2 2016/17","Budget Year +2 2017/18","Budget Year +2 2018/19","Budget Year +2 2019/20","Budget Year +2 2020/21","Budget Year +2 2021/22","Budget Year +2 2022/23",{"$f":"\"Budget Year +2 \"&J1+2&\"/\"&RIGHT(J1,2)+3","v":"Budget Year +2 2023/24"},"Budget Year +2 2024/25","Budget Year +2 2025/26","Budget Year +2 2026/27","Budget Year +2 2027/28","Budget Year +2 2028/29",null,null,null,null,null,null,null,null,null,null,"2010 FIFA World Cup Operating"]
[{"$f":"'Template names'!C18","v":"1st yr of long term forecast"},{"$f":"\"Forecast \"&B1+3&\"/\"&RIGHT(B1,2)+4","v":"Forecast 2016/17"},"Forecast 2017/18","Forecast 2018/19","Forecast 2019/20","Forecast 2020/21","Forecast 2021/22","Forecast 2022/23","Forecast 2023/24",{"$f":"\"Forecast \"&J1+3&\"/\"&RIGHT(J1,2)+4","v":"Forecast 2024/25"},"Forecast 2025/26","Forecast 2026/27","Forecast 2027/28","Forecast 2028/29","Forecast 2029/30",null,null,null,null,null,null,null,null,null,null,"Electricity Demand Side Management"]
[{"$f":"'Template names'!C19","v":"Next yr of long term forecast"},{"$f":"\"Forecast \"&B1+4&\"/\"&RIGHT(B1,2)+5","v":"Forecast 2017/18"},"Forecast 2018/19","Forecast 2019/20","Forecast 2020/21","Forecast 2021/22","Forecast 2022/23","Forecast 2023/24","Forecast 2024/25",{"$f":"\"Forecast \"&J1+4&\"/\"&RIGHT(J1,2)+5","v":"Forecast 2025/26"},"Forecast 2026/27","Forecast 2027/28","Forecast 2028/29","Forecast 2029/30","Forecast 2030/31",null,null,null,null,null,null,null,null,null,null,"EPWP Incentive"]
[{"$f":"'Template names'!C20","v":"Next yr of long term forecast"},{"$f":"\"Forecast \"&B1+5&\"/\"&RIGHT(B1,2)+6","v":"Forecast 2018/19"},"Forecast 2019/20","Forecast 2020/21","Forecast 2021/22","Forecast 2022/23","Forecast 2023/24","Forecast 2024/25","Forecast 2025/26",{"$f":"\"Forecast \"&J1+5&\"/\"&RIGHT(J1,2)+6","v":"Forecast 2026/27"},"Forecast 2027/28","Forecast 2028/29","Forecast 2029/30","Forecast 2030/31","Forecast 2031/32"]
[{"$f":"'Template names'!C21","v":"Next yr of long term forecast"},{"$f":"\"Forecast \"&B1+6&\"/\"&RIGHT(B1,2)+7","v":"Forecast 2019/20"},"Forecast 2020/21","Forecast 2021/22","Forecast 2022/23","Forecast 2023/24","Forecast 2024/25","Forecast 2025/26","Forecast 2026/27",{"$f":"\"Forecast \"&J1+6&\"/\"&RIGHT(J1,2)+7","v":"Forecast 2027/28"},"Forecast 2028/29","Forecast 2029/30","Forecast 2030/31","Forecast 2031/32","Forecast 2032/33",null,null,null,null,null,null,null,null,null,null,"Asset Class","Asset sub-class old","Asset sub-class","IUDF","MTSF"]
[{"$f":"'Template names'!C22","v":"Next yr of long term forecast"},{"$f":"\"Forecast \"&B1+7&\"/\"&RIGHT(B1,2)+8","v":"Forecast 2020/21"},"Forecast 2021/22","Forecast 2022/23","Forecast 2023/24","Forecast 2024/25","Forecast 2025/26","Forecast 2026/27","Forecast 2027/28",{"$f":"\"Forecast \"&J1+7&\"/\"&RIGHT(J1,2)+8","v":"Forecast 2028/29"},"Forecast 2029/30","Forecast 2030/31","Forecast 2031/32","Forecast 2032/33","Forecast 2033/34"]
[{"$f":"'Template names'!C23","v":"Next yr of long term forecast"},{"$f":"\"Forecast \"&B1+8&\"/\"&RIGHT(B1,2)+9","v":"Forecast 2021/22"},"Forecast 2022/23","Forecast 2023/24","Forecast 2024/25","Forecast 2025/26","Forecast 2026/27","Forecast 2027/28","Forecast 2028/29",{"$f":"\"Forecast \"&J1+8&\"/\"&RIGHT(J1,2)+9","v":"Forecast 2029/30"},"Forecast 2030/31","Forecast 2031/32","Forecast 2032/33","Forecast 2033/34","Forecast 2034/35",null,null,null,null,null,null,null,null,null,null,"Roads Infrastructure","Roads, Pavements & Bridges","Roads","Spatial integration","Quality basic education"]
[{"$f":"'Template names'!C24","v":"Next yr of long term forecast"},{"$f":"\"Forecast \"&B1+9&\"/\"&RIGHT(B1,2)+10","v":"Forecast 2022/23"},"Forecast 2023/24","Forecast 2024/25","Forecast 2025/26","Forecast 2026/27","Forecast 2027/28","Forecast 2028/29","Forecast 2029/30",{"$f":"\"Forecast \"&J1+9&\"/\"&RIGHT(J1,2)+10","v":"Forecast 2030/31"},"Forecast 2031/32","Forecast 2032/33","Forecast 2033/34","Forecast 2034/35","Forecast 2035/36",null,null,null,null,null,null,null,null,null,null,"Storm water Infrastructure","Storm water","Road Structures","Inclusion and access","A long and healthy life for all South Africans"]
[{"$f":"'Template names'!C25","v":"Next yr of long term forecast"},{"$f":"\"Forecast \"&B1+10&\"/\"&RIGHT(B1,2)+11","v":"Forecast 2023/24"},"Forecast 2024/25","Forecast 2025/26","Forecast 2026/27","Forecast 2027/28","Forecast 2028/29","Forecast 2029/30","Forecast 2030/31",{"$f":"\"Forecast \"&J1+10&\"/\"&RIGHT(J1,2)+11","v":"Forecast 2031/32"},"Forecast 2032/33","Forecast 2033/34","Forecast 2034/35","Forecast 2035/36","Forecast 2036/37",null,null,null,null,null,null,null,null,null,null,"Electrical Infrastructure","Generation","Road Furniture","Growth","All people in South Africa are and feel safe"]
[{"$f":"'Template names'!C26","v":"Next yr of long term forecast"},{"$f":"\"Forecast \"&B1+11&\"/\"&RIGHT(B1,2)+12","v":"Forecast 2024/25"},"Forecast 2025/26","Forecast 2026/27","Forecast 2027/28","Forecast 2028/29","Forecast 2029/30","Forecast 2030/31","Forecast 2031/32",{"$f":"\"Forecast \"&J1+11&\"/\"&RIGHT(J1,2)+12","v":"Forecast 2032/33"},"Forecast 2033/34","Forecast 2034/35","Forecast 2035/36","Forecast 2036/37","Forecast 2037/38",null,null,null,null,null,null,null,null,null,null,"Water Supply Infrastructure","Transmission & Reticulation","Capital Spares","Governance","Decent employment through inclusive growth"]
[{"$f":"'Template names'!C27","v":"Next yr of long term forecast"},{"$f":"\"Forecast \"&B1+12&\"/\"&RIGHT(B1,2)+13","v":"Forecast 2025/26"},"Forecast 2026/27","Forecast 2027/28","Forecast 2028/29","Forecast 2029/30","Forecast 2030/31","Forecast 2031/32","Forecast 2032/33",{"$f":"\"Forecast \"&J1+12&\"/\"&RIGHT(J1,2)+13","v":"Forecast 2033/34"},"Forecast 2034/35","Forecast 2035/36","Forecast 2036/37","Forecast 2037/38","Forecast 2038/39",null,null,null,null,null,null,null,null,null,null,"Sanitation Infrastructure","Street Lighting","Drainage Collection",null,"A skilled and capable workforce to support an inclusive growth path"]
[{"$f":"'Template names'!C28","v":"Next yr of long term forecast"},{"$f":"\"Forecast \"&B1+13&\"/\"&RIGHT(B1,2)+14","v":"Forecast 2026/27"},"Forecast 2027/28","Forecast 2028/29","Forecast 2029/30","Forecast 2030/31","Forecast 2031/32","Forecast 2032/33","Forecast 2033/34",{"$f":"\"Forecast \"&J1+13&\"/\"&RIGHT(J1,2)+14","v":"Forecast 2034/35"},"Forecast 2035/36","Forecast 2036/37","Forecast 2037/38","Forecast 2038/39","Forecast 2039/40",null,null,null,null,null,null,null,null,null,null,"Solid Waste Infrastructure","Dams & Reservoirs","Storm water Conveyance",null,"An efficient, competitive and responsive economic infrastructure network"]
[{"$f":"'Template names'!C29","v":"Next yr of long term forecast"},{"$f":"\"Forecast \"&B1+14&\"/\"&RIGHT(B1,2)+15","v":"Forecast 2027/28"},"Forecast 2028/29","Forecast 2029/30","Forecast 2030/31","Forecast 2031/32","Forecast 2032/33","Forecast 2033/34","Forecast 2034/35",{"$f":"\"Forecast \"&J1+14&\"/\"&RIGHT(J1,2)+15","v":"Forecast 2035/36"},"Forecast 2036/37","Forecast 2037/38","Forecast 2038/39","Forecast 2039/40","Forecast 2040/41",null,null,null,null,null,null,null,null,null,null,"Rail Infrastructure","Water purification","Attenuation",null,"Vibrant, equitable, sustainable rural communities contributing towards food security for all"]
["Adjustments Budget",{"$f":"\"Annual target \" & B1&\"/\"&RIGHT(B1,2)+1","v":"Annual target 2013/14"},"Annual target 2014/15","Annual target 2015/16","Annual target 2016/17","Annual target 2017/18","Annual target 2018/19","Annual target 2019/20","Annual target 2020/21",{"$f":"\"Annual target \" & J1&\"/\"&RIGHT(J1,2)+1","v":"Annual target 2021/22"},"Annual target 2022/23","Annual target 2023/24","Annual target 2024/25","Annual target 2025/26","Annual target 2026/27",null,null,null,null,null,null,null,null,null,null,"Coastal Infrastructure","Reticulation","Power Plants",null,"Sustainable human settlements and improved quality of household life"]
[{"$f":"A23","v":"Adjustments Budget"},{"$f":"\"Revised target \"& B1&\"/\"&RIGHT(B1,2)+1","v":"Revised target 2013/14"},"Revised target 2014/15","Revised target 2015/16","Revised target 2016/17","Revised target 2017/18","Revised target 2018/19","Revised target 2019/20","Revised target 2020/21",{"$f":"\"Revised target \"& J1&\"/\"&RIGHT(J1,2)+1","v":"Revised target 2021/22"},"Revised target 2022/23","Revised target 2023/24","Revised target 2024/25","Revised target 2025/26","Revised target 2026/27",null,null,null,null,null,null,null,null,null,null,"Information and Communication Infrastructure","Sewerage purification","HV Substations",null,"Responsive, accountable, effective and efficient local government"]
["NOTE: This sheet should not be directly amended - select headings from sheet 'S'",null,null,null,null,null,null,null,null,null,null,null,null,null,null,null,null,null,null,null,null,null,null,null,null,"Community Facilities","Waste Management","HV Switching Station",null,"Protect and enhance our environmental assets and natural resources"]
[null,null,null,null,null,null,null,null,null,null,null,null,null,null,null,null,null,null,null,null,null,null,null,null,null,"Sport and Recreation Facilities","Transportation","HV Transmission Conductors",null,"Create a better South Africa and contribute to a better Africa and a better world"]
["Name link",1,null,null,null,null,null,null,null,null,null,null,null,null,null,null,null,null,null,null,null,null,null,null,null,"Heritage assets","Gas","MV Substations",null,"An efficient, effective and development-oriented public service"]
["Name of Muni",{"$f":"INDEX(B29:B307,B27,1)","v":"Choose name from list"},null,null,null,null,null,null,null,null,null,null,null,null,null,null,null,null,null,null,null,null,null,null,null,"Revenue Generating","Parks & gardens","MV Switching Stations",null,"A comprehensive, responsive and sustainable social protection system"]
[null,"Choose name from list","Set name on 'Instructions' sheet",null,null,null,null,null,null,null,null,null,null,null,null,null,null,null,null,null,null,null,null,null,null,"Non-revenue Generating","Sportsfields & stadia","MV Networks",null,"A diverse, socially cohesive society with a common national identity"]
[null,"BUF Buffalo City","EC EASTERN CAPE",null,null,null,null,null,null,null,null,null,null,null,null,null,null,null,null,null,null,null,null,null,null,"Operational Buildings","Swimming pools","LV Networks"]
[null,"NMA Nelson Mandela Bay","EC EASTERN CAPE",null,null,null,null,null,null,null,null,null,null,null,null,null,null,null,null,null,null,null,null,null,null,"Housing","Community halls","Capital Spares"]
[null,"EC101 Dr Beyers Naude","EC EASTERN CAPE",null,null,null,null,null,null,null,null,null,null,null,null,null,null,null,null,null,null,null,null,null,null,"Biological or Cultivated Assets","Libraries","Dams and Weirs"]
[null,"EC102 Blue Crane Route","EC EASTERN CAPE",null,null,null,null,null,null,null,null,null,null,null,null,null,null,null,null,null,null,null,null,null,null,"Servitudes","Recreational facilities","Boreholes"]
[null,"EC104 Makana","EC EASTERN CAPE",null,null,null,null,null,null,null,null,null,null,null,null,null,null,null,null,null,null,null,null,null,null,"Licences and Rights","Fire, safety & emergency","Reservoirs"]
[null,"EC105 Ndlambe","EC EASTERN CAPE",null,null,null,null,null,null,null,null,null,null,null,null,null,null,null,null,null,null,null,null,null,null,"Computer Equipment","Security and policing","Pump Stations"]
[null,"EC106 Sundays River Valley","EC EASTERN CAPE",null,null,null,null,null,null,null,null,null,null,null,null,null,null,null,null,null,null,null,null,null,null,"Furniture and Office Equipment","Buses","Water Treatment Works"]
[null,"EC108 Kouga","EC EASTERN CAPE",null,null,null,null,null,null,null,null,null,null,null,null,null,null,null,null,null,null,null,null,null,null,"Machinery and Equipment","Clinics","Bulk Mains"]
[null,"EC109 Kou-Kamma","EC EASTERN CAPE",null,null,null,null,null,null,null,null,null,null,null,null,null,null,null,null,null,null,null,null,null,null,"Transport Assets","Museums & Art Galleries","Distribution"]
[null,"DC10 Sarah Baartman","EC EASTERN CAPE",null,null,null,null,null,null,null,null,null,null,null,null,null,null,null,null,null,null,null,null,null,null,"Land","Cemeteries","Distribution Points"]
[null,"EC121 Mbhashe","EC EASTERN CAPE",null,null,null,null,null,null,null,null,null,null,null,null,null,null,null,null,null,null,null,null,null,null,"Zoo's, Marine and Non-biological Animals","Social rental housing","PRV Stations"]
[null,"EC122 Mnquma","EC EASTERN CAPE",null,null,null,null,null,null,null,null,null,null,null,null,null,null,null,null,null,null,null,null,null,null,null,"Buildings","Capital Spares"]
[null,"EC123 Great Kei","EC EASTERN CAPE",null,null,null,null,null,null,null,null,null,null,null,null,null,null,null,null,null,null,null,null,null,null,null,"Housing development","Pump Station"]
[null,"EC124 Amahlathi","EC EASTERN CAPE",null,null,null,null,null,null,null,null,null,null,null,null,null,null,null,null,null,null,null,null,null,null,null,"General vehicles","Reticulation"]
[null,"EC126 Ngqushwa","EC EASTERN CAPE",null,null,null,null,null,null,null,null,null,null,null,null,null,null,null,null,null,null,null,null,null,null,null,"Specialised vehicles - Refuse","Waste Water Treatment Works"]
[null,"EC129 Raymond Mhlaba","EC EASTERN CAPE",null,null,null,null,null,null,null,null,null,null,null,null,null,null,null,null,null,null,null,null,null,null,null,"Specialised vehicles - Fire","Outfall Sewers"]
[null,"DC12 Amathole","EC EASTERN CAPE",null,null,null,null,null,null,null,null,null,null,null,null,null,null,null,null,null,null,null,null,null,null,null,"Specialised vehicles - Conservancy","Toilet Facilities"]
[null,"EC131 Inxuba Yethemba","EC EASTERN CAPE",null,null,null,null,null,null,null,null,null,null,null,null,null,null,null,null,null,null,null,null,null,null,null,"Specialised vehicles - Ambulances","Capital Spares"]
[null,"EC135 Intsika Yethu","EC EASTERN CAPE",null,null,null,null,null,null,null,null,null,null,null,null,null,null,null,null,null,null,null,null,null,null,null,"Plant & equipment","Landfill Sites"]
[null,"EC136 Emalahleni (Ec)","EC EASTERN CAPE",null,null,null,null,null,null,null,null,null,null,null,null,null,null,null,null,null,null,null,null,null,null,null,"Computers - hardware/equipment","Waste Transfer Stations"]
[null,"EC137 Engcobo","EC EASTERN CAPE",null,null,null,null,null,null,null,null,null,null,null,null,null,null,null,null,null,null,null,null,null,null,null,"Furniture and other office equipment","Waste Processing Facilities"]
[null,"EC138 Sakhisizwe","EC EASTERN CAPE",null,null,null,null,null,null,null,null,null,null,null,null,null,null,null,null,null,null,null,null,null,null,null,"Abattoirs","Waste Drop-off Points"]
[null,"EC139 Enoch Mgijima","EC EASTERN CAPE",null,null,null,null,null,null,null,null,null,null,null,null,null,null,null,null,null,null,null,null,null,null,null,"Markets","Waste Separation Facilities"]
[null,"DC13 Chris Hani","EC EASTERN CAPE",null,null,null,null,null,null,null,null,null,null,null,null,null,null,null,null,null,null,null,null,null,null,null,"Civic Land and Buildings","Electricity Generation Facilities"]
[null,"EC141 Elundini","EC EASTERN CAPE",null,null,null,null,null,null,null,null,null,null,null,null,null,null,null,null,null,null,null,null,null,null,null,"Other Buildings","Capital Spares"]
[null,"EC142 Senqu","EC EASTERN CAPE",null,null,null,null,null,null,null,null,null,null,null,null,null,null,null,null,null,null,null,null,null,null,null,"Other Land","Rail Lines"]
[null,"EC145 Walter Sisulu","EC EASTERN CAPE",null,null,null,null,null,null,null,null,null,null,null,null,null,null,null,null,null,null,null,null,null,null,null,"Surplus Assets - (Investment or Inventory)","Rail Structures"]
[null,"DC14 Joe Gqabi","EC EASTERN CAPE",null,null,null,null,null,null,null,null,null,null,null,null,null,null,null,null,null,null,null,null,null,null,null,"Computers - software & programming","Rail Furniture"]
[null,"EC153 Ngquza Hills","EC EASTERN CAPE",null,null,null,null,null,null,null,null,null,null,null,null,null,null,null,null,null,null,null,null,null,null,null,"Other","Drainage Collection"]
[null,"EC154 Port St Johns","EC EASTERN CAPE",null,null,null,null,null,null,null,null,null,null,null,null,null,null,null,null,null,null,null,null,null,null,null,null,"Storm water Conveyance"]
[null,"EC155 Nyandeni","EC EASTERN CAPE",null,null,null,null,null,null,null,null,null,null,null,null,null,null,null,null,null,null,null,null,null,null,"SA16 - Investments",null,"Attenuation"]
[null,"EC156 Mhlontlo","EC EASTERN CAPE",null,null,null,null,null,null,null,null,null,null,null,null,null,null,null,null,null,null,null,null,null,null,"Security","Interest rate","MV Substations"]
[null,"EC157 King Sabata Dalindyebo","EC EASTERN CAPE",null,null,null,null,null,null,null,null,null,null,null,null,null,null,null,null,null,null,null,null,null,null,"Yes","Fixed","LV Networks"]
[null,"DC15 O .R. Tambo","EC EASTERN CAPE",null,null,null,null,null,null,null,null,null,null,null,null,null,null,null,null,null,null,null,null,null,null,"No","Variable","Capital Spares"]
[null,"EC441 Matatiele","EC EASTERN CAPE",null,null,null,null,null,null,null,null,null,null,null,null,null,null,null,null,null,null,null,null,null,null,null,null,"Sand Pumps"]
[null,"EC442 Umzimvubu","EC EASTERN CAPE",null,null,null,null,null,null,null,null,null,null,null,null,null,null,null,null,null,null,null,null,null,null,null,null,"Piers"]
[null,"EC443 Mbizana","EC EASTERN CAPE",null,null,null,null,null,null,null,null,null,null,null,null,null,null,null,null,null,null,null,null,null,null,"SA36, SA37 - Capital projects",null,"Revetments"]
[null,"EC444 Ntabankulu","EC EASTERN CAPE",null,null,null,null,null,null,null,null,null,null,null,null,null,null,null,null,null,null,null,null,null,null,"Yes",null,"Promenades"]
[null,"DC44 Alfred Nzo","EC EASTERN CAPE",null,null,null,null,null,null,null,null,null,null,null,null,null,null,null,null,null,null,null,null,null,null,"No",null,"Capital Spares"]
[null,"MAN Mangaung","FS FREE STATE",null,null,null,null,null,null,null,null,null,null,null,null,null,null,null,null,null,null,null,null,null,null,null,null,"Data Centres"]
[null,"FS161 Letsemeng","FS FREE STATE",null,null,null,null,null,null,null,null,null,null,null,null,null,null,null,null,null,null,null,null,null,null,null,null,"Core Layers"]
[null,"FS162 Kopanong","FS FREE STATE",null,null,null,null,null,null,null,null,null,null,null,null,null,null,null,null,null,null,null,null,null,null,null,null,"Distribution Layers"]
[null,"FS163 Mohokare","FS FREE STATE",null,null,null,null,null,null,null,null,null,null,null,null,null,null,null,null,null,null,null,null,null,null,null,null,"Capital Spares"]
[null,"DC16 Xhariep","FS FREE STATE",null,null,null,null,null,null,null,null,null,null,null,null,null,null,null,null,null,null,null,null,null,null,null,null,"Halls"]
[null,"FS181 Masilonyana","FS FREE STATE",null,null,null,null,null,null,null,null,null,null,null,null,null,null,null,null,null,null,null,null,null,null,null,null,"Centres"]
[null,"FS182 Tokologo","FS FREE STATE",null,null,null,null,null,null,null,null,null,null,null,null,null,null,null,null,null,null,null,null,null,null,null,null,"Crèches"]
[null,"FS183 Tswelopele","FS FREE STATE",null,null,null,null,null,null,null,null,null,null,null,null,null,null,null,null,null,null,null,null,null,null,null,null,"Clinics/Care Centres"]
[null,"FS184 Matjhabeng","FS FREE STATE",null,null,null,null,null,null,null,null,null,null,null,null,null,null,null,null,null,null,null,null,null,null,null,null,"Fire/Ambulance Stations"]
[null,"FS185 Nala","FS FREE STATE",null,null,null,null,null,null,null,null,null,null,null,null,null,null,null,null,null,null,null,null,null,null,null,null,"Testing Stations"]
[null,"DC18 Lejweleputswa","FS FREE STATE",null,null,null,null,null,null,null,null,null,null,null,null,null,null,null,null,null,null,null,null,null,null,null,null,"Museums"]
[null,"FS191 Setsoto","FS FREE STATE",null,null,null,null,null,null,null,null,null,null,null,null,null,null,null,null,null,null,null,null,null,null,null,null,"Galleries"]
[null,"FS192 Dihlabeng","FS FREE STATE",null,null,null,null,null,null,null,null,null,null,null,null,null,null,null,null,null,null,null,null,null,null,null,null,"Theatres"]
[null,"FS193 Nketoana","FS FREE STATE",null,null,null,null,null,null,null,null,null,null,null,null,null,null,null,null,null,null,null,null,null,null,null,null,"Libraries"]
[null,"FS194 Maluti-a-Phofung","FS FREE STATE",null,null,null,null,null,null,null,null,null,null,null,null,null,null,null,null,null,null,null,null,null,null,null,null,"Cemeteries/Crematoria"]
[null,"FS195 Phumelela","FS FREE STATE",null,null,null,null,null,null,null,null,null,null,null,null,null,null,null,null,null,null,null,null,null,null,null,null,"Police"]
[null,"FS196 Mantsopa","FS FREE STATE",null,null,null,null,null,null,null,null,null,null,null,null,null,null,null,null,null,null,null,null,null,null,null,null,"Purls"]
[null,"DC19 Thabo Mofutsanyana","FS FREE STATE",null,null,null,null,null,null,null,null,null,null,null,null,null,null,null,null,null,null,null,null,null,null,null,null,"Public Open Space"]
[null,"FS201 Moqhaka","FS FREE STATE",null,null,null,null,null,null,null,null,null,null,null,null,null,null,null,null,null,null,null,null,null,null,null,null,"Nature Reserves"]
[null,"FS203 Ngwathe","FS FREE STATE",null,null,null,null,null,null,null,null,null,null,null,null,null,null,null,null,null,null,null,null,null,null,null,null,"Public Ablution Facilities"]
[null,"FS204 Metsimaholo","FS FREE STATE",null,null,null,null,null,null,null,null,null,null,null,null,null,null,null,null,null,null,null,null,null,null,null,null,"Markets"]
[null,"FS205 Mafube","FS FREE STATE",null,null,null,null,null,null,null,null,null,null,null,null,null,null,null,null,null,null,null,null,null,null,null,null,"Stalls"]
[null,"DC20 Fezile Dabi","FS FREE STATE",null,null,null,null,null,null,null,null,null,null,null,null,null,null,null,null,null,null,null,null,null,null,null,null,"Abattoirs"]
[null,"EKU City of Ekurhuleni","GT GAUTENG",null,null,null,null,null,null,null,null,null,null,null,null,null,null,null,null,null,null,null,null,null,null,null,null,"Airports"]
[null,"JHB City Of Johannesburg","GT GAUTENG",null,null,null,null,null,null,null,null,null,null,null,null,null,null,null,null,null,null,null,null,null,null,null,null,"Taxi Ranks/Bus Terminals"]
[null,"TSH City Of Tshwane","GT GAUTENG",null,null,null,null,null,null,null,null,null,null,null,null,null,null,null,null,null,null,null,null,null,null,null,null,"Capital Spares"]
[null,"GT421 Emfuleni","GT GAUTENG",null,null,null,null,null,null,null,null,null,null,null,null,null,null,null,null,null,null,null,null,null,null,null,null,"Indoor Facilities"]
[null,"GT422 Midvaal","GT GAUTENG",null,null,null,null,null,null,null,null,null,null,null,null,null,null,null,null,null,null,null,null,null,null,null,null,"Outdoor Facilities"]
[null,"GT423 Lesedi","GT GAUTENG",null,null,null,null,null,null,null,null,null,null,null,null,null,null,null,null,null,null,null,null,null,null,null,null,"Capital Spares"]
[null,"DC42 Sedibeng","GT GAUTENG",null,null,null,null,null,null,null,null,null,null,null,null,null,null,null,null,null,null,null,null,null,null,null,null,"Monuments"]
[null,"GT481 Mogale City","GT GAUTENG",null,null,null,null,null,null,null,null,null,null,null,null,null,null,null,null,null,null,null,null,null,null,null,null,"Historic Buildings"]
[null,"GT484 Merafong City","GT GAUTENG",null,null,null,null,null,null,null,null,null,null,null,null,null,null,null,null,null,null,null,null,null,null,null,null,"Works of Art"]
[null,"GT485 Rand West City","GT GAUTENG",null,null,null,null,null,null,null,null,null,null,null,null,null,null,null,null,null,null,null,null,null,null,null,null,"Conservation Areas"]
[null,"DC48 West Rand","GT GAUTENG",null,null,null,null,null,null,null,null,null,null,null,null,null,null,null,null,null,null,null,null,null,null,null,null,"Other Heritage"]
[null,"ETH eThekwini","KZN KWAZULU-NATAL",null,null,null,null,null,null,null,null,null,null,null,null,null,null,null,null,null,null,null,null,null,null,null,null,"Improved Property"]
[null,"KZN212 Umdoni","KZN KWAZULU-NATAL",null,null,null,null,null,null,null,null,null,null,null,null,null,null,null,null,null,null,null,null,null,null,null,null,"Unimproved Property"]
[null,"KZN213 Umzumbe","KZN KWAZULU-NATAL",null,null,null,null,null,null,null,null,null,null,null,null,null,null,null,null,null,null,null,null,null,null,null,null,"Municipal Offices"]
[null,"KZN214 uMuziwabantu","KZN KWAZULU-NATAL",null,null,null,null,null,null,null,null,null,null,null,null,null,null,null,null,null,null,null,null,null,null,null,null,"Pay/Enquiry Points"]
[null,"KZN216 Ray Nkonyeni","KZN KWAZULU-NATAL",null,null,null,null,null,null,null,null,null,null,null,null,null,null,null,null,null,null,null,null,null,null,null,null,"Building Plan Offices"]
[null,"DC21 Ugu","KZN KWAZULU-NATAL",null,null,null,null,null,null,null,null,null,null,null,null,null,null,null,null,null,null,null,null,null,null,null,null,"Workshops"]
[null,"KZN221 uMshwathi","KZN KWAZULU-NATAL",null,null,null,null,null,null,null,null,null,null,null,null,null,null,null,null,null,null,null,null,null,null,null,null,"Yards"]
[null,"KZN222 uMngeni","KZN KWAZULU-NATAL",null,null,null,null,null,null,null,null,null,null,null,null,null,null,null,null,null,null,null,null,null,null,null,null,"Stores"]
[null,"KZN223 Mpofana","KZN KWAZULU-NATAL",null,null,null,null,null,null,null,null,null,null,null,null,null,null,null,null,null,null,null,null,null,null,null,null,"Laboratories"]
[null,"KZN224 Impendle","KZN KWAZULU-NATAL",null,null,null,null,null,null,null,null,null,null,null,null,null,null,null,null,null,null,null,null,null,null,null,null,"Training Centres"]
[null,"KZN225 Msunduzi","KZN KWAZULU-NATAL",null,null,null,null,null,null,null,null,null,null,null,null,null,null,null,null,null,null,null,null,null,null,null,null,"Manufacturing Plant"]
[null,"KZN226 Mkhambathini","KZN KWAZULU-NATAL",null,null,null,null,null,null,null,null,null,null,null,null,null,null,null,null,null,null,null,null,null,null,null,null,"Depots"]
[null,"KZN227 Richmond","KZN KWAZULU-NATAL",null,null,null,null,null,null,null,null,null,null,null,null,null,null,null,null,null,null,null,null,null,null,null,null,"Capital Spares"]
[null,"DC22 uMgungundlovu","KZN KWAZULU-NATAL",null,null,null,null,null,null,null,null,null,null,null,null,null,null,null,null,null,null,null,null,null,null,null,null,"Staff Housing"]
[null,"KZN235 Okhahlamba","KZN KWAZULU-NATAL",null,null,null,null,null,null,null,null,null,null,null,null,null,null,null,null,null,null,null,null,null,null,null,null,"Social Housing"]
[null,"KZN237 Inkosi Langalibalele","KZN KWAZULU-NATAL",null,null,null,null,null,null,null,null,null,null,null,null,null,null,null,null,null,null,null,null,null,null,null,null,"Capital Spares"]
[null,"KZN238 Alfred Duma","KZN KWAZULU-NATAL",null,null,null,null,null,null,null,null,null,null,null,null,null,null,null,null,null,null,null,null,null,null,null,null,"Water Rights"]
[null,"DC23 Uthukela","KZN KWAZULU-NATAL",null,null,null,null,null,null,null,null,null,null,null,null,null,null,null,null,null,null,null,null,null,null,null,null,"Effluent Licenses"]
[null,"KZN241 Endumeni","KZN KWAZULU-NATAL",null,null,null,null,null,null,null,null,null,null,null,null,null,null,null,null,null,null,null,null,null,null,null,null,"Solid Waste Licenses"]
[null,"KZN242 Nquthu","KZN KWAZULU-NATAL",null,null,null,null,null,null,null,null,null,null,null,null,null,null,null,null,null,null,null,null,null,null,null,null,"Computer Software and Applications"]
[null,"KZN244 Msinga","KZN KWAZULU-NATAL",null,null,null,null,null,null,null,null,null,null,null,null,null,null,null,null,null,null,null,null,null,null,null,null,"Load Settlement Software Applications"]
[null,"KZN245 Umvoti","KZN KWAZULU-NATAL",null,null,null,null,null,null,null,null,null,null,null,null,null,null,null,null,null,null,null,null,null,null,null,null,"Unspecified"]
[null,"DC24 Umzinyathi","KZN KWAZULU-NATAL"]
[null,"KZN252 Newcastle","KZN KWAZULU-NATAL"]
[null,"KZN253 Emadlangeni","KZN KWAZULU-NATAL"]
[null,"KZN254 Dannhauser","KZN KWAZULU-NATAL"]
[null,"DC25 Amajuba","KZN KWAZULU-NATAL"]
[null,"KZN261 eDumbe","KZN KWAZULU-NATAL"]
[null,"KZN262 uPhongolo","KZN KWAZULU-NATAL"]
[null,"KZN263 Abaqulusi","KZN KWAZULU-NATAL"]
[null,"KZN265 Nongoma","KZN KWAZULU-NATAL"]
[null,"KZN266 Ulundi","KZN KWAZULU-NATAL"]
[null,"DC26 Zululand","KZN KWAZULU-NATAL"]
[null,"KZN271 Umhlabuyalingana","KZN KWAZULU-NATAL"]
[null,"KZN272 Jozini","KZN KWAZULU-NATAL"]
[null,"KZN275 Mtubatuba","KZN KWAZULU-NATAL"]
[null,"KZN276 Hlabisa Big Five","KZN KWAZULU-NATAL"]
[null,"DC27 Umkhanyakude","KZN KWAZULU-NATAL"]
[null,"KZN281 Mfolozi","KZN KWAZULU-NATAL"]
[null,"KZN282 uMhlathuze","KZN KWAZULU-NATAL"]
[null,"KZN284 uMlalazi","KZN KWAZULU-NATAL"]
[null,"KZN285 Mthonjaneni","KZN KWAZULU-NATAL"]
[null,"KZN286 Nkandla","KZN KWAZULU-NATAL"]
[null,"DC28 King Cetshwayo","KZN KWAZULU-NATAL"]
[null,"KZN291 Mandeni","KZN KWAZULU-NATAL"]
[null,"KZN292 KwaDukuza","KZN KWAZULU-NATAL"]
[null,"KZN293 Ndwedwe","KZN KWAZULU-NATAL"]
[null,"KZN294 Maphumulo","KZN KWAZULU-NATAL"]
[null,"DC29 iLembe","KZN KWAZULU-NATAL"]
[null,"KZN433 Greater Kokstad","KZN KWAZULU-NATAL"]
[null,"KZN434 Ubuhlebezwe","KZN KWAZULU-NATAL"]
[null,"KZN435 Umzimkhulu","KZN KWAZULU-NATAL"]
[null,"KZN436 Dr Nkosazana Dlamini Zuma","KZN KWAZULU-NATAL"]
[null,"DC43 Harry Gwala","KZN KWAZULU-NATAL"]
[null,"LIM331 Greater Giyani","LIM LIMPOPO"]
[null,"LIM332 Greater Letaba","LIM LIMPOPO"]
[null,"LIM333 Greater Tzaneen","LIM LIMPOPO"]
[null,"LIM334 Ba-Phalaborwa","LIM LIMPOPO"]
[null,"LIM335 Maruleng","LIM LIMPOPO"]
[null,"DC33 Mopani","LIM LIMPOPO"]
[null,"LIM341 Musina","LIM LIMPOPO"]
[null,"LIM343 Thulamela","LIM LIMPOPO"]
[null,"LIM344 Makhado","LIM LIMPOPO"]
[null,"LIM345 Collins Chabane","LIM LIMPOPO"]
[null,"DC34 Vhembe","LIM LIMPOPO"]
[null,"LIM351 Blouberg","LIM LIMPOPO"]
[null,"LIM353 Molemole","LIM LIMPOPO"]
[null,"LIM354 Polokwane","LIM LIMPOPO"]
[null,"LIM355 Lepelle-Nkumpi","LIM LIMPOPO"]
[null,"DC35 Capricorn","LIM LIMPOPO"]
[null,"LIM361 Thabazimbi","LIM LIMPOPO"]
[null,"LIM362 Lephalale","LIM LIMPOPO"]
[null,"LIM366 Bela Bela","LIM LIMPOPO"]
[null,"LIM367 Mogalakwena","LIM LIMPOPO"]
[null,"LIM368 Modimolle-Mookgopong","LIM LIMPOPO"]
[null,"DC36 Waterberg","LIM LIMPOPO"]
[null,"LIM471 Ephraim Mogale","LIM LIMPOPO"]
[null,"LIM472 Elias Motsoaledi","LIM LIMPOPO"]
[null,"LIM473 Makhuduthamaga","LIM LIMPOPO"]
[null,"LIM476 Tubatse Fetakgomo","LIM LIMPOPO"]
[null,"DC47 Sekhukhune","LIM LIMPOPO"]
[null,"MP301 Albert Luthuli","MP MPUMALANGA"]
[null,"MP302 Msukaligwa","MP MPUMALANGA"]
[null,"MP303 Mkhondo","MP MPUMALANGA"]
[null,"MP304 Pixley Ka Seme (MP)","MP MPUMALANGA"]
[null,"MP305 Lekwa","MP MPUMALANGA"]
[null,"MP306 Dipaleseng","MP MPUMALANGA"]
[null,"MP307 Govan Mbeki","MP MPUMALANGA"]
[null,"DC30 Gert Sibande","MP MPUMALANGA"]
[null,"MP311 Victor Khanye","MP MPUMALANGA"]
[null,"MP312 Emalahleni (Mp)","MP MPUMALANGA"]
[null,"MP313 Steve Tshwete","MP MPUMALANGA"]
[null,"MP314 Emakhazeni","MP MPUMALANGA"]
[null,"MP315 Thembisile Hani","MP MPUMALANGA"]
[null,"MP316 Dr J.S. Moroka","MP MPUMALANGA"]
[null,"DC31 Nkangala","MP MPUMALANGA"]
[null,"MP321 Thaba Chweu","MP MPUMALANGA"]
[null,"MP324 Nkomazi","MP MPUMALANGA"]
[null,"MP325 Bushbuckridge","MP MPUMALANGA"]
[null,"MP326 City of Mbombela","MP MPUMALANGA"]
[null,"DC32 Ehlanzeni","MP MPUMALANGA"]
[null,"NC451 Joe Morolong","NC NORTHERN CAPE"]
[null,"NC452 Ga-Segonyana","NC NORTHERN CAPE"]
[null,"NC453 Gamagara","NC NORTHERN CAPE"]
[null,"DC45 John Taolo Gaetsewe","NC NORTHERN CAPE"]
[null,"NC061 Richtersveld","NC NORTHERN CAPE"]
[null,"NC062 Nama Khoi","NC NORTHERN CAPE"]
[null,"NC064 Kamiesberg","NC NORTHERN CAPE"]
[null,"NC065 Hantam","NC NORTHERN CAPE"]
[null,"NC066 Karoo Hoogland","NC NORTHERN CAPE"]
[null,"NC067 Khai-Ma","NC NORTHERN CAPE"]
[null,"DC6 Namakwa","NC NORTHERN CAPE"]
[null,"NC071 Ubuntu","NC NORTHERN CAPE"]
[null,"NC072 Umsobomvu","NC NORTHERN CAPE"]
[null,"NC073 Emthanjeni","NC NORTHERN CAPE"]
[null,"NC074 Kareeberg","NC NORTHERN CAPE"]
[null,"NC075 Renosterberg","NC NORTHERN CAPE"]
[null,"NC076 Thembelihle","NC NORTHERN CAPE"]
[null,"NC077 Siyathemba","NC NORTHERN CAPE"]
[null,"NC078 Siyancuma","NC NORTHERN CAPE"]
[null,"DC7 Pixley Ka Seme (Nc)","NC NORTHERN CAPE"]
[null,"NC082 !Kai! Garib","NC NORTHERN CAPE"]
[null,"NC084 !Kheis","NC NORTHERN CAPE"]
[null,"NC085 Tsantsabane","NC NORTHERN CAPE"]
[null,"NC086 Kgatelopele","NC NORTHERN CAPE"]
[null,"NC087 Dawid Kruiper","NC NORTHERN CAPE"]
[null,"DC8 Z F Mgcawu","NC NORTHERN CAPE"]
[null,"NC091 Sol Plaatje","NC NORTHERN CAPE"]
[null,"NC092 Dikgatlong","NC NORTHERN CAPE"]
[null,"NC093 Magareng","NC NORTHERN CAPE"]
[null,"NC094 Phokwane","NC NORTHERN CAPE"]
[null,"DC9 Frances Baard","NC NORTHERN CAPE"]
[null,"NW371 Moretele","NW NORTH WEST"]
[null,"NW372 Madibeng","NW NORTH WEST"]
[null,"NW373 Rustenburg","NW NORTH WEST"]
[null,"NW374 Kgetlengrivier","NW NORTH WEST"]
[null,"NW375 Moses Kotane","NW NORTH WEST"]
[null,"DC37 Bojanala Platinum","NW NORTH WEST"]
[null,"NW381 Ratlou","NW NORTH WEST"]
[null,"NW382 Tswaing","NW NORTH WEST"]
[null,"NW383 Mafikeng","NW NORTH WEST"]
[null,"NW384 Ditsobotla","NW NORTH WEST"]
[null,"NW385 Ramotshere Moiloa","NW NORTH WEST"]
[null,"DC38 Ngaka Modiri Molema","NW NORTH WEST"]
[null,"NW392 Naledi (Nw)","NW NORTH WEST"]
[null,"NW393 Mamusa","NW NORTH WEST"]
[null,"NW394 Greater Taung","NW NORTH WEST"]
[null,"NW396 Lekwa-Teemane","NW NORTH WEST"]
[null,"NW397 Kagisano-Molopo","NW NORTH WEST"]
[null,"DC39 Dr Ruth Segomotsi Mompati","NW NORTH WEST"]
[null,"NW403 City Of Matlosana","NW NORTH WEST"]
[null,"NW404 Maquassi Hills","NW NORTH WEST"]
[null,"NW405 J B Marks","NW NORTH WEST"]
[null,"DC40 Dr Kenneth Kaunda","NW NORTH WEST"]
[null,"CPT Cape Town","WC WESTERN CAPE"]
[null,"WC011 Matzikama","WC WESTERN CAPE"]
[null,"WC012 Cederberg","WC WESTERN CAPE"]
[null,"WC013 Bergrivier","WC WESTERN CAPE"]
[null,"WC014 Saldanha Bay","WC WESTERN CAPE"]
[null,"WC015 Swartland","WC WESTERN CAPE"]
[null,"DC1 West Coast","WC WESTERN CAPE"]
[null,"WC022 Witzenberg","WC WESTERN CAPE"]
[null,"WC023 Drakenstein","WC WESTERN CAPE"]
[null,"WC024 Stellenbosch","WC WESTERN CAPE"]
[null,"WC025 Breede Valley","WC WESTERN CAPE"]
[null,"WC026 Langeberg","WC WESTERN CAPE"]
[null,"DC2 Cape Winelands DM","WC WESTERN CAPE"]
[null,"WC031 Theewaterskloof","WC WESTERN CAPE"]
[null,"WC032 Overstrand","WC WESTERN CAPE"]
[null,"WC033 Cape Agulhas","WC WESTERN CAPE"]
[null,"WC034 Swellendam","WC WESTERN CAPE"]
[null,"DC3 Overberg","WC WESTERN CAPE"]
[null,"WC041 Kannaland","WC WESTERN CAPE"]
[null,"WC042 Hessequa","WC WESTERN CAPE"]
[null,"WC043 Mossel Bay","WC WESTERN CAPE"]
[null,"WC044 George","WC WESTERN CAPE"]
[null,"WC045 Oudtshoorn","WC WESTERN CAPE"]
[null,"WC047 Bitou","WC WESTERN CAPE"]
[null,"WC048 Knysna","WC WESTERN CAPE"]
[null,"DC4 Garden Route","WC WESTERN CAPE"]
[null,"WC051 Laingsburg","WC WESTERN CAPE"]
[null,"WC052 Prince Albert","WC WESTERN CAPE"]
[null,"WC053 Beaufort West","WC WESTERN CAPE"]
[null,"DC5 Central Karoo","WC WESTERN CAPE"]
[]
[]
[]
[]
[]
[]
[]
[]
[]
[]
[]
[]
[]
[]
[]
[]
[]
[]
[]
[]
[]
[null,{"$f":"COUNTA(B30:B307)","v":257}]

{"sheet":"Org structure","index":4,"n_rows":166,"n_cols":5,"rows_kept":166,"cut":false,"hidden":false,"merged":[]}
["Organisational Structure Votes",null,"Organisational Structure Sub-Votes",null,"Display Sub-Votes"]
[{"$f":"B2&\" - \"&C2","v":"Vote 1 - Executive & Council"},"Vote 1","Executive & Council"]
[{"$f":"B13&\" - \"& C13","v":"Vote 2 - Planning and Economic Development"},1.1000000000000001,"[Name of sub-vote]",{"$f":"CONCATENATE(B3, \" - \", C3)","v":"1.1 - [Name of sub-vote]"},"1.1 - [Name of sub-vote]"]
[{"$f":"B24&\" - \"&C24","v":"Vote 3 - Budget and Treasury"},1.2,"[Name of sub-vote]","1.2 - [Name of sub-vote]"]
[{"$f":"B35&\" - \"&C35","v":"Vote 4 - Corporate Services"},1.3,"[Name of sub-vote]","1.3 - [Name of sub-vote]"]
[{"$f":"B46&\" - \"&C46","v":"Vote 5 - Engineering Services"},1.4,"[Name of sub-vote]","1.4 - [Name of sub-vote]"]
[{"$f":"B57&\" - \"&C57","v":"Vote 6 - Community Services"},1.5,"[Name of sub-vote]","1.5 - [Name of sub-vote]"]
[{"$f":"B68&\" - \"&C68","v":"Vote 7 - Electrical Engineering"},1.6,"[Name of sub-vote]","1.6 - [Name of sub-vote]"]
[{"$f":"B79&\" - \"&C79","v":"Vote 8 - Office of the Speaker"},1.7,"[Name of sub-vote]","1.7 - [Name of sub-vote]"]
[{"$f":"B90&\" - \"&C90","v":"Vote 9 - COMMUNITY & SOCIAL SERVICES"},1.8,"[Name of sub-vote]","1.8 - [Name of sub-vote]"]
[{"$f":"B101&\" - \"&C101","v":"Vote 10 - Office of the Municipal Manager"},1.9,"[Name of sub-vote]","1.9 - [Name of sub-vote]"]
[{"$f":"B112&\" - \"&C112","v":"Vote 11 - [NAME OF VOTE 11]"},"1.10","[Name of sub-vote]","1.10 - [Name of sub-vote]"]
[{"$f":"B123&\" - \"&C123","v":"Vote 12 - [NAME OF VOTE 12]"},"Vote 2","Planning and Economic Development"]
[{"$f":"B134&\" - \"&C134","v":"Vote 13 - [NAME OF VOTE 13]"},2.1,"[Name of sub-vote]",{"$f":"CONCATENATE(B14, \" - \", C14)","v":"2.1 - [Name of sub-vote]"},"2.1 - [Name of sub-vote]"]
[{"$f":"B145&\" - \"&C145","v":"Vote 14 - [NAME OF VOTE 14]"},2.2000000000000002,"[Name of sub-vote]","2.2 - [Name of sub-vote]"]
[{"$f":"B156&\" - \"&C156","v":"Vote 15 - [NAME OF VOTE 15]"},2.2999999999999998,"[Name of sub-vote]","2.3 - [Name of sub-vote]"]
[null,2.4,"[Name of sub-vote]","2.4 - [Name of sub-vote]"]
[null,2.5,"[Name of sub-vote]","2.5 - [Name of sub-vote]"]
[null,2.6,"[Name of sub-vote]","2.6 - [Name of sub-vote]"]
[null,2.7,"[Name of sub-vote]","2.7 - [Name of sub-vote]"]
[null,2.8,"[Name of sub-vote]","2.8 - [Name of sub-vote]"]
[null,2.9,"[Name of sub-vote]","2.9 - [Name of sub-vote]"]
[null,"2.10","[Name of sub-vote]","2.10 - [Name of sub-vote]"]
[null,"Vote 3","Budget and Treasury"]
[null,3.1,"[Name of sub-vote]",{"$f":"CONCATENATE(B25, \" - \", C25)","v":"3.1 - [Name of sub-vote]"},"3.1 - [Name of sub-vote]"]
[null,3.2,"[Name of sub-vote]","3.2 - [Name of sub-vote]"]
[null,3.3,"[Name of sub-vote]","3.3 - [Name of sub-vote]"]
[null,3.4,"[Name of sub-vote]","3.4 - [Name of sub-vote]"]
[null,3.5,"[Name of sub-vote]","3.5 - [Name of sub-vote]"]
[null,3.6,"[Name of sub-vote]","3.6 - [Name of sub-vote]"]
[null,3.7,"[Name of sub-vote]","3.7 - [Name of sub-vote]"]
[null,3.8,"[Name of sub-vote]","3.8 - [Name of sub-vote]"]
[null,3.9,"[Name of sub-vote]","3.9 - [Name of sub-vote]"]
[null,"3.10","[Name of sub-vote]","3.10 - [Name of sub-vote]"]
[null,"Vote 4","Corporate Services"]
[null,4.0999999999999996,"[Name of sub-vote]",{"$f":"CONCATENATE(B36, \" - \", C36)","v":"4.1 - [Name of sub-vote]"},"4.1 - [Name of sub-vote]"]
[null,4.2,"[Name of sub-vote]","4.2 - [Name of sub-vote]"]
[null,4.3,"[Name of sub-vote]","4.3 - [Name of sub-vote]"]
[null,4.4000000000000004,"[Name of sub-vote]","4.4 - [Name of sub-vote]"]
[null,4.5,"[Name of sub-vote]","4.5 - [Name of sub-vote]"]
[null,4.5999999999999996,"[Name of sub-vote]","4.6 - [Name of sub-vote]"]
[null,4.7,"[Name of sub-vote]","4.7 - [Name of sub-vote]"]
[null,4.8,"[Name of sub-vote]","4.8 - [Name of sub-vote]"]
[null,4.9000000000000004,"[Name of sub-vote]","4.9 - [Name of sub-vote]"]
[null,"4.10","[Name of sub-vote]","4.10 - [Name of sub-vote]"]
[null,"Vote 5","Engineering Services"]
[null,5.0999999999999996,"[Name of sub-vote]",{"$f":"CONCATENATE(B47, \" - \", C47)","v":"5.1 - [Name of sub-vote]"},"5.1 - [Name of sub-vote]"]
[null,5.2,"[Name of sub-vote]","5.2 - [Name of sub-vote]"]
[null,5.3,"[Name of sub-vote]","5.3 - [Name of sub-vote]"]
[null,5.4,"[Name of sub-vote]","5.4 - [Name of sub-vote]"]
[null,5.5,"[Name of sub-vote]","5.5 - [Name of sub-vote]"]
[null,5.6,"[Name of sub-vote]","5.6 - [Name of sub-vote]"]
[null,5.7,"[Name of sub-vote]","5.7 - [Name of sub-vote]"]
[null,5.8,"[Name of sub-vote]","5.8 - [Name of sub-vote]"]
[null,5.9,"[Name of sub-vote]","5.9 - [Name of sub-vote]"]
[null,"5.10","[Name of sub-vote]","5.10 - [Name of sub-vote]"]
[null,"Vote 6","Community Services"]
[null,6.1,"[Name of sub-vote]",{"$f":"CONCATENATE(B58, \" - \", C58)","v":"6.1 - [Name of sub-vote]"},"6.1 - [Name of sub-vote]"]
[null,6.2,"[Name of sub-vote]","6.2 - [Name of sub-vote]"]
[null,6.3,"[Name of sub-vote]","6.3 - [Name of sub-vote]"]
[null,6.4,"[Name of sub-vote]","6.4 - [Name of sub-vote]"]
[null,6.5,"[Name of sub-vote]","6.5 - [Name of sub-vote]"]
[null,6.6,"[Name of sub-vote]","6.6 - [Name of sub-vote]"]
[null,6.7,"[Name of sub-vote]","6.7 - [Name of sub-vote]"]
[null,6.8,"[Name of sub-vote]","6.8 - [Name of sub-vote]"]
[null,6.9,"[Name of sub-vote]","6.9 - [Name of sub-vote]"]
[null,"6.10","[Name of sub-vote]","6.10 - [Name of sub-vote]"]
[null,"Vote 7","Electrical Engineering"]
[null,7.1,"[Name of sub-vote]",{"$f":"CONCATENATE(B69, \" - \", C69)","v":"7.1 - [Name of sub-vote]"},"7.1 - [Name of sub-vote]"]
[null,7.2,"[Name of sub-vote]","7.2 - [Name of sub-vote]"]
[null,7.3,"[Name of sub-vote]","7.3 - [Name of sub-vote]"]
[null,7.4,"[Name of sub-vote]","7.4 - [Name of sub-vote]"]
[null,7.5,"[Name of sub-vote]","7.5 - [Name of sub-vote]"]
[null,7.6,"[Name of sub-vote]","7.6 - [Name of sub-vote]"]
[null,7.7,"[Name of sub-vote]","7.7 - [Name of sub-vote]"]
[null,7.8,"[Name of sub-vote]","7.8 - [Name of sub-vote]"]
[null,7.9,"[Name of sub-vote]","7.9 - [Name of sub-vote]"]
[null,"7.10","[Name of sub-vote]","7.10 - [Name of sub-vote]"]
[null,"Vote 8","Office of the Speaker"]
[null,8.1,"[Name of sub-vote]",{"$f":"CONCATENATE(B80, \" - \", C80)","v":"8.1 - [Name of sub-vote]"},"8.1 - [Name of sub-vote]"]
[null,8.1999999999999993,"[Name of sub-vote]","8.2 - [Name of sub-vote]"]
[null,8.3000000000000007,"[Name of sub-vote]","8.3 - [Name of sub-vote]"]
[null,8.4,"[Name of sub-vote]","8.4 - [Name of sub-vote]"]
[null,8.5,"[Name of sub-vote]","8.5 - [Name of sub-vote]"]
[null,8.6,"[Name of sub-vote]","8.6 - [Name of sub-vote]"]
[null,8.6999999999999993,"[Name of sub-vote]","8.7 - [Name of sub-vote]"]
[null,8.8000000000000007,"[Name of sub-vote]","8.8 - [Name of sub-vote]"]
[null,8.9,"[Name of sub-vote]","8.9 - [Name of sub-vote]"]
[null,"8.10","[Name of sub-vote]","8.10 - [Name of sub-vote]"]
[null,"Vote 9","COMMUNITY & SOCIAL SERVICES"]
[null,9.1,"[Name of sub-vote]",{"$f":"CONCATENATE(B91, \" - \", C91)","v":"9.1 - [Name of sub-vote]"},"9.1 - [Name of sub-vote]"]
[null,9.1999999999999993,"[Name of sub-vote]","9.2 - [Name of sub-vote]"]
[null,9.3000000000000007,"[Name of sub-vote]","9.3 - [Name of sub-vote]"]
[null,9.4,"[Name of sub-vote]","9.4 - [Name of sub-vote]"]
[null,9.5,"[Name of sub-vote]","9.5 - [Name of sub-vote]"]
[null,9.6,"[Name of sub-vote]","9.6 - [Name of sub-vote]"]
[null,9.6999999999999993,"[Name of sub-vote]","9.7 - [Name of sub-vote]"]
[null,9.8000000000000007,"[Name of sub-vote]","9.8 - [Name of sub-vote]"]
[null,9.9,"[Name of sub-vote]","9.9 - [Name of sub-vote]"]
[null,"9.10","[Name of sub-vote]","9.10 - [Name of sub-vote]"]
[null,"Vote 10","Office of the Municipal Manager"]
[null,10.1,"[Name of sub-vote]",{"$f":"CONCATENATE(B102, \" - \", C102)","v":"10.1 - [Name of sub-vote]"},"10.1 - [Name of sub-vote]"]
[null,10.199999999999999,"[Name of sub-vote]","10.2 - [Name of sub-vote]"]
[null,10.3,"[Name of sub-vote]","10.3 - [Name of sub-vote]"]
[null,10.4,"[Name of sub-vote]","10.4 - [Name of sub-vote]"]
[null,10.5,"[Name of sub-vote]","10.5 - [Name of sub-vote]"]
[null,10.6,"[Name of sub-vote]","10.6 - [Name of sub-vote]"]
[null,10.7,"[Name of sub-vote]","10.7 - [Name of sub-vote]"]
[null,10.8,"[Name of sub-vote]","10.8 - [Name of sub-vote]"]
[null,10.9,"[Name of sub-vote]","10.9 - [Name of sub-vote]"]
[null,"10.10","[Name of sub-vote]","10.10 - [Name of sub-vote]"]
[null,"Vote 11","[NAME OF VOTE 11]"]
[null,11.1,"[Name of sub-vote]",{"$f":"CONCATENATE(B113, \" - \", C113)","v":"11.1 - [Name of sub-vote]"},"11.1 - [Name of sub-vote]"]
[null,11.2,"[Name of sub-vote]","11.2 - [Name of sub-vote]"]
[null,11.3,"[Name of sub-vote]","11.3 - [Name of sub-vote]"]
[null,11.4,"[Name of sub-vote]","11.4 - [Name of sub-vote]"]
[null,11.5,"[Name of sub-vote]","11.5 - [Name of sub-vote]"]
[null,11.6,"[Name of sub-vote]","11.6 - [Name of sub-vote]"]
[null,11.7,"[Name of sub-vote]","11.7 - [Name of sub-vote]"]
[null,11.8,"[Name of sub-vote]","11.8 - [Name of sub-vote]"]
[null,11.9,"[Name of sub-vote]","11.9 - [Name of sub-vote]"]
[null,"11.10","[Name of sub-vote]","11.10 - [Name of sub-vote]"]
[null,"Vote 12","[NAME OF VOTE 12]"]
[null,12.1,"[Name of sub-vote]",{"$f":"CONCATENATE(B124, \" - \", C124)","v":"12.1 - [Name of sub-vote]"},"12.1 - [Name of sub-vote]"]
[null,12.2,"[Name of sub-vote]","12.2 - [Name of sub-vote]"]
[null,12.3,"[Name of sub-vote]","12.3 - [Name of sub-vote]"]
[null,12.4,"[Name of sub-vote]","12.4 - [Name of sub-vote]"]
[null,12.5,"[Name of sub-vote]","12.5 - [Name of sub-vote]"]
[null,12.6,"[Name of sub-vote]","12.6 - [Name of sub-vote]"]
[null,12.7,"[Name of sub-vote]","12.7 - [Name of sub-vote]"]
[null,12.8,"[Name of sub-vote]","12.8 - [Name of sub-vote]"]
[null,12.9,"[Name of sub-vote]","12.9 - [Name of sub-vote]"]
[null,"12.10","[Name of sub-vote]","12.10 - [Name of sub-vote]"]
[null,"Vote 13","[NAME OF VOTE 13]"]
[null,13.1,"[Name of sub-vote]",{"$f":"CONCATENATE(B135, \" - \", C135)","v":"13.1 - [Name of sub-vote]"},"13.1 - [Name of sub-vote]"]
[null,13.2,"[Name of sub-vote]","13.2 - [Name of sub-vote]"]
[null,13.3,"[Name of sub-vote]","13.3 - [Name of sub-vote]"]
[null,13.4,"[Name of sub-vote]","13.4 - [Name of sub-vote]"]
[null,13.5,"[Name of sub-vote]","13.5 - [Name of sub-vote]"]
[null,13.6,"[Name of sub-vote]","13.6 - [Name of sub-vote]"]
[null,13.7,"[Name of sub-vote]","13.7 - [Name of sub-vote]"]
[null,13.8,"[Name of sub-vote]","13.8 - [Name of sub-vote]"]
[null,13.9,"[Name of sub-vote]","13.9 - [Name of sub-vote]"]
[null,"13.10","[Name of sub-vote]","13.10 - [Name of sub-vote]"]
[null,"Vote 14","[NAME OF VOTE 14]"]
[null,14.1,"[Name of sub-vote]",{"$f":"CONCATENATE(B146, \" - \", C146)","v":"14.1 - [Name of sub-vote]"},"14.1 - [Name of sub-vote]"]
[null,14.2,"[Name of sub-vote]","14.2 - [Name of sub-vote]"]
[null,14.3,"[Name of sub-vote]","14.3 - [Name of sub-vote]"]
[null,14.4,"[Name of sub-vote]","14.4 - [Name of sub-vote]"]
[null,14.5,"[Name of sub-vote]","14.5 - [Name of sub-vote]"]
[null,14.6,"[Name of sub-vote]","14.6 - [Name of sub-vote]"]
[null,14.7,"[Name of sub-vote]","14.7 - [Name of sub-vote]"]
[null,14.8,"[Name of sub-vote]","14.8 - [Name of sub-vote]"]
[null,14.9,"[Name of sub-vote]","14.9 - [Name of sub-vote]"]
[null,"14.10","[Name of sub-vote]","14.10 - [Name of sub-vote]"]
[null,"Vote 15","[NAME OF VOTE 15]"]
[null,15.1,"[Name of sub-vote]",{"$f":"CONCATENATE(B157, \" - \", C157)","v":"15.1 - [Name of sub-vote]"},"15.1 - [Name of sub-vote]"]
[null,15.2,"[Name of sub-vote]","15.2 - [Name of sub-vote]"]
[null,15.3,"[Name of sub-vote]","15.3 - [Name of sub-vote]"]
[null,15.4,"[Name of sub-vote]","15.4 - [Name of sub-vote]"]
[null,15.5,"[Name of sub-vote]","15.5 - [Name of sub-vote]"]
[null,15.6,"[Name of sub-vote]","15.6 - [Name of sub-vote]"]
[null,15.7,"[Name of sub-vote]","15.7 - [Name of sub-vote]"]
[null,15.8,"[Name of sub-vote]","15.8 - [Name of sub-vote]"]
[null,15.9,"[Name of sub-vote]","15.9 - [Name of sub-vote]"]
[null,"15.10","[Name of sub-vote]","15.10 - [Name of sub-vote]"]

{"sheet":"Contacts","index":5,"n_rows":140,"n_cols":3,"rows_kept":140,"cut":false,"hidden":false,"merged":[[7,2,7,3],[13,0,13,1],[29,0,29,1],[10,2,10,3],[12,2,12,3],[84,2,84,3],[30,2,30,3],[29,2,29,3],[48,0,48,1],[100,2,100,3],[39,2,39,3],[48,2,48,3],[57,2,57,3],[92,0,92,1],[39,0,39,1],[132,0,132,1],[132,2,132,3],[76,0,76,1],[57,0,57,1],[76,2,76,3],[92,2,92,3],[67,2,67,3],[124,0,124,1],[124,2,124,3],[116,0,116,1],[116,2,116,3],[108,0,108,1],[108,2,108,3],[100,0,100,1],[58,2,58,3],[84,0,84,1]]}
[{"$f":"muni&\" - \"&\" Contact Information\"","v":"Choose name from list -  Contact Information"}]
[]
["A. GENERAL INFORMATION"]
["Municipality",{"$f":"muni","v":"Choose name from list"},{"$f":"IF(B4=\"Choose name from List\",\"Set name on 'Instructions' sheet\", \"\")","v":"Set name on 'Instructions' sheet"}]
[]
["Grade",null,"1 Grade in terms of the Remuneration of Public Office Bearers Act."]
[]
["Province",{"$f":"IF(B4>\" \",VLOOKUP(B4,'Lookup and lists'!B29:C307,2, FALSE),\" \")","v":"Set name on 'Instructions' sheet"}]
[]
["Web Address"]
[]
["e-mail Address"]
[]
["B. CONTACT INFORMATION"]
["Postal address:"]
["P.O. Box"]
["City / Town"]
["Postal Code"]
[]
["Street address"]
["Building"]
["Street No. & Name"]
["City / Town"]
["Postal Code"]
[]
["General Contacts"]
["Telephone number"]
["Fax number"]
[]
["C. POLITICAL LEADERSHIP"]
["Speaker:",null,"Secretary/PA to the Speaker:"]
["ID Number",null,"ID Number"]
["Title",null,"Title"]
["Name",null,"Name"]
["Telephone number",null,"Telephone number"]
["Cell number",null,"Cell number"]
["Fax number",null,"Fax number"]
["E-mail address",null,"E-mail address"]
[]
["Mayor/Executive Mayor:",null,"Secretary/PA to the Mayor/Executive Mayor:"]
["ID Number",null,"ID Number"]
["Title",null,"Title"]
["Name",null,"Name"]
["Telephone number",null,"Telephone number"]
["Cell number",null,"Cell number"]
["Fax number",null,"Fax number"]
["E-mail address",null,"E-mail address"]
[]
["Deputy Mayor/Executive Mayor:",null,"Secretary/PA to the Deputy Mayor/Executive Mayor:"]
["ID Number",null,"ID Number"]
["Title",null,"Title"]
["Name",null,"Name"]
["Telephone number",null,"Telephone number"]
["Cell number",null,"Cell number"]
["Fax number",null,"Fax number"]
["E-mail address",null,"E-mail address"]
[]
["D. MANAGEMENT LEADERSHIP"]
["Municipal Manager:",null,"Secretary/PA to the Municipal Manager:"]
["ID Number",null,"ID Number"]
["Title",null,"Title"]
["Name",null,"Name"]
["Telephone number",null,"Telephone number"]
["Cell number",null,"Cell number"]
["Fax number",null,"Fax number"]
["E-mail address",null,"E-mail address"]
[]
["Chief Financial Officer",null,"Secretary/PA to the Chief Financial Officer"]
["ID Number",null,"ID Number"]
["Title",null,"Title"]
["Name","","Name"]
["Telephone number",null,"Telephone number"]
["Cell number",null,"Cell number"]
["Fax number",null,"Fax number"]
["E-mail address",null,"E-mail address"]
[]
["Official responsible for submitting financial information",null,"Official responsible for submitting financial information"]
["ID Number",null,"ID Number"]
["Title",null,"Title"]
["Name",null,"Name"]
["Telephone number",null,"Telephone number"]
["Cell number",null,"Cell number"]
["Fax number",null,"Fax number"]
["E-mail address",null,"E-mail address"]
["Official responsible for submitting financial information",null,"Official responsible for submitting financial information"]
["ID Number",null,"ID Number"]
["Title",null,"Title"]
["Name",null,"Name"]
["Telephone number",null,"Telephone number"]
["Cell number",null,"Cell number"]
["Fax number",null,"Fax number"]
["E-mail address",null,"E-mail address"]
["Official responsible for submitting financial information",null,"Official responsible for submitting financial information"]
["ID Number",null,"ID Number"]
["Title",null,"Title"]
["Name",null,"Name"]
["Telephone number",null,"Telephone number"]
["Cell number",null,"Cell number"]
["Fax number",null,"Fax number"]
["E-mail address",null,"E-mail address"]
["Official responsible for submitting financial information",null,"Official responsible for submitting financial information"]
["ID Number",null,"ID Number"]
["Title",null,"Title"]
["Name",null,"Name"]
["Telephone number",null,"Telephone number"]
["Cell number",null,"Cell number"]
["Fax number",null,"Fax number"]
["E-mail address",null,"E-mail address"]
["Official responsible for submitting financial information",null,"Official responsible for submitting financial information"]
["ID Number",null,"ID Number"]
["Title",null,"Title"]
["Name",null,"Name"]
["Telephone number",null,"Telephone number"]
["Cell number",null,"Cell number"]
["Fax number",null,"Fax number"]
["E-mail address",null,"E-mail address"]
["Official responsible for submitting financial information",null,"Official responsible for submitting financial information"]
["ID Number",null,"ID Number"]
["Title",null,"Title"]
["Name",null,"Name"]
["Telephone number",null,"Telephone number"]
["Cell number",null,"Cell number"]
["Fax number",null,"Fax number"]
["E-mail address",null,"E-mail address"]
["Official responsible for submitting financial information",null,"Official responsible for submitting financial information"]
["ID Number",null,"ID Number"]
["Title",null,"Title"]
["Name",null,"Name"]
["Telephone number",null,"Telephone number"]
["Cell number",null,"Cell number"]
["Fax number",null,"Fax number"]
["E-mail address",null,"E-mail address"]
["Official responsible for submitting financial information"]
["ID Number"]
["Title"]
["Name"]
["Telephone number"]
["Cell number"]
["Fax number"]
["E-mail address"]

{"sheet":"A1-Sum","index":6,"n_rows":65,"n_cols":11,"rows_kept":65,"cut":false,"hidden":false,"merged":[[1,8,1,10],[1,4,1,7],[0,0,0,2]]}
[{"$f":"muni&\" - \"&Approve1","v":"Choose name from list - Table A1 Budget Summary"}]
[{"$f":"desc","v":"Description"},{"$f":"head1b","v":"2017/18"},{"$f":"head1A","v":"2018/19"},{"$f":"Head1","v":"2019/20"},{"$f":"Head2","v":"Current Year 2020/21"},null,null,null,{"$f":"Head3","v":"2021/22 Medium Term Revenue & Expenditure Framework"}]
["R thousands",{"$f":"Head5","v":"Audited Outcome"},{"$f":"Head5","v":"Audited Outcome"},{"$f":"Head5","v":"Audited Outcome"},{"$f":"Head6","v":"Original Budget"},{"$f":"Head7","v":"Adjusted Budget"},{"$f":"Head8","v":"Full Year Forecast"},{"$f":"Head5b","v":"Pre-audit outcome"},{"$f":"Head9","v":"Budget Year 2021/22"},{"$f":"Head10","v":"Budget Year +1 2022/23"},{"$f":"Head11","v":"Budget Year +2 2023/24"}]
["Financial Performance"]
["Property rates",{"$f":"'A4-FinPerf RE'!C5","v":99289522.359999985},{"$f":"'A4-FinPerf RE'!D5","v":109163925},{"$f":"'A4-FinPerf RE'!E5","v":114746520.21000001},{"$f":"'A4-FinPerf RE'!F5","v":132500000},{"$f":"'A4-FinPerf RE'!G5","v":132500000},{"$f":"'A4-FinPerf RE'!H5","v":132500000},{"$f":"'A4-FinPerf RE'!I5","v":132500000},{"$f":"'A4-FinPerf RE'!J5","v":137500000},{"$f":"'A4-FinPerf RE'!K5","v":143275000},{"$f":"'A4-FinPerf RE'!L5","v":149579106}]
["Service charges",{"$f":"SUM('A4-FinPerf RE'!C6:C9)","v":483013588},{"$f":"SUM('A4-FinPerf RE'!D6:D9)","v":486306408.30000001},{"$f":"SUM('A4-FinPerf RE'!E6:E9)","v":556451662.50999999},{"$f":"SUM('A4-FinPerf RE'!F6:F9)","v":606617132},{"$f":"SUM('A4-FinPerf RE'!G6:G9)","v":616159132},{"$f":"SUM('A4-FinPerf RE'!H6:H9)","v":616159132},{"$f":"SUM('A4-FinPerf RE'!I6:I9)","v":621559132},{"$f":"SUM('A4-FinPerf RE'!J6:J9)","v":705528611},{"$f":"SUM('A4-FinPerf RE'!K6:K9)","v":776411072},{"$f":"SUM('A4-FinPerf RE'!L6:L9)","v":842620899}]
["Investment revenue",{"$f":"'A4-FinPerf RE'!C12","v":4427275},{"$f":"'A4-FinPerf RE'!D12","v":9615814.7599999998},{"$f":"'A4-FinPerf RE'!E12","v":8677864.5099999998},{"$f":"'A4-FinPerf RE'!F12","v":4301000},{"$f":"'A4-FinPerf RE'!G12","v":4301000},{"$f":"'A4-FinPerf RE'!H12","v":4301000},{"$f":"'A4-FinPerf RE'!I12","v":4301000},{"$f":"'A4-FinPerf RE'!J12","v":3500000},{"$f":"'A4-FinPerf RE'!K12","v":3647000},{"$f":"'A4-FinPerf RE'!L12","v":3807470}]
["Transfers recognised - operational",{"$f":"'A4-FinPerf RE'!C18","v":349037100},{"$f":"'A4-FinPerf RE'!D18","v":369600820.95999998},{"$f":"'A4-FinPerf RE'!E18","v":418870589.58999997},{"$f":"'A4-FinPerf RE'!F18","v":443963950},{"$f":"'A4-FinPerf RE'!G18","v":530963950},{"$f":"'A4-FinPerf RE'!H18","v":530963950},{"$f":"'A4-FinPerf RE'!I18","v":530963950},{"$f":"'A4-FinPerf RE'!J18","v":514088050},{"$f":"'A4-FinPerf RE'!K18","v":479030200},{"$f":"'A4-FinPerf RE'!L18","v":473161852}]
["Other own revenue",{"$f":"'A4-FinPerf RE'!C11+'A4-FinPerf RE'!C13+'A4-FinPerf RE'!C14+'A4-FinPerf RE'!C15+'A4-FinPerf RE'!C16+'A4-FinPerf RE'!C17+'A4-FinPerf RE'!C19+'A4-FinPerf RE'!C20","v":104007218.50999999},{"$f":"'A4-FinPerf RE'!D11+'A4-FinPerf RE'!D13+'A4-FinPerf RE'!D14+'A4-FinPerf RE'!D15+'A4-FinPerf RE'!D16+'A4-FinPerf RE'!D17+'A4-FinPerf RE'!D19+'A4-FinPerf RE'!D20","v":85377889.390000001},{"$f":"'A4-FinPerf RE'!E11+'A4-FinPerf RE'!E13+'A4-FinPerf RE'!E14+'A4-FinPerf RE'!E15+'A4-FinPerf RE'!E16+'A4-FinPerf RE'!E17+'A4-FinPerf RE'!E19+'A4-FinPerf RE'!E20","v":132340935.54000002},{"$f":"'A4-FinPerf RE'!F11+'A4-FinPerf RE'!F13+'A4-FinPerf RE'!F14+'A4-FinPerf RE'!F15+'A4-FinPerf RE'!F16+'A4-FinPerf RE'!F17+'A4-FinPerf RE'!F19+'A4-FinPerf RE'!F20","v":129325100},{"$f":"'A4-FinPerf RE'!G11+'A4-FinPerf RE'!G13+'A4-FinPerf RE'!G14+'A4-FinPerf RE'!G15+'A4-FinPerf RE'!G16+'A4-FinPerf RE'!G17+'A4-FinPerf RE'!G19+'A4-FinPerf RE'!G20","v":94555233},{"$f":"'A4-FinPerf RE'!H11+'A4-FinPerf RE'!H13+'A4-FinPerf RE'!H14+'A4-FinPerf RE'!H15+'A4-FinPerf RE'!H16+'A4-FinPerf RE'!H17+'A4-FinPerf RE'!H19+'A4-FinPerf RE'!H20","v":94555233},{"$f":"'A4-FinPerf RE'!I11+'A4-FinPerf RE'!I13+'A4-FinPerf RE'!I14+'A4-FinPerf RE'!I15+'A4-FinPerf RE'!I16+'A4-FinPerf RE'!I17+'A4-FinPerf RE'!I19+'A4-FinPerf RE'!I20","v":94555233},{"$f":"'A4-FinPerf RE'!J11+'A4-FinPerf RE'!J13+'A4-FinPerf RE'!J14+'A4-FinPerf RE'!J15+'A4-FinPerf RE'!J16+'A4-FinPerf RE'!J17+'A4-FinPerf RE'!J19+'A4-FinPerf RE'!J20","v":93325103},{"$f":"'A4-FinPerf RE'!K11+'A4-FinPerf RE'!K13+'A4-FinPerf RE'!K14+'A4-FinPerf RE'!K15+'A4-FinPerf RE'!K16+'A4-FinPerf RE'!K17+'A4-FinPerf RE'!K19+'A4-FinPerf RE'!K20","v":97244770},{"$f":"'A4-FinPerf RE'!L11+'A4-FinPerf RE'!L13+'A4-FinPerf RE'!L14+'A4-FinPerf RE'!L15+'A4-FinPerf RE'!L16+'A4-FinPerf RE'!L17+'A4-FinPerf RE'!L19+'A4-FinPerf RE'!L20","v":101523558}]
[{"$f":"'A4-FinPerf RE'!A21","v":"Total Revenue (excluding capital transfers and contributions)"},{"$f":"SUM(B5:B9)","v":1039774703.87},1060064858.41,1231087572.3599999,1316707182,1378479315,1378479315,1383879315,1453941764,1499608042,1570692885]
["Employee costs",{"$f":"'A4-FinPerf RE'!C24","v":267621581},{"$f":"'A4-FinPerf RE'!D24","v":214266310},{"$f":"'A4-FinPerf RE'!E24","v":311114595.24000001},{"$f":"'A4-FinPerf RE'!F24","v":345564119},{"$f":"'A4-FinPerf RE'!G24","v":339639118},{"$f":"'A4-FinPerf RE'!H24","v":339639118},{"$f":"'A4-FinPerf RE'!I24","v":339639118},{"$f":"'A4-FinPerf RE'!J24","v":349870066},{"$f":"'A4-FinPerf RE'!K24","v":364564780},{"$f":"'A4-FinPerf RE'!L24","v":380605749}]
["Remuneration of councillors",{"$f":"'A4-FinPerf RE'!C25","v":24432411.039999999},{"$f":"'A4-FinPerf RE'!D25","v":26136302.579999998},{"$f":"'A4-FinPerf RE'!E25","v":26976533.73},{"$f":"'A4-FinPerf RE'!F25","v":29034983},{"$f":"'A4-FinPerf RE'!G25","v":29034983},{"$f":"'A4-FinPerf RE'!H25","v":29034983},{"$f":"'A4-FinPerf RE'!I25","v":29034983},{"$f":"'A4-FinPerf RE'!J25","v":28405898},{"$f":"'A4-FinPerf RE'!K25","v":29598958},{"$f":"'A4-FinPerf RE'!L25","v":30901317}]
["Depreciation & asset impairment",{"$f":"'A4-FinPerf RE'!C27","v":130493937.2},{"$f":"'A4-FinPerf RE'!D27","v":132641263.49000001},{"$f":"'A4-FinPerf RE'!E27","v":107614714.91000001},{"$f":"'A4-FinPerf RE'!F27","v":132970807},{"$f":"'A4-FinPerf RE'!G27","v":132970807},{"$f":"'A4-FinPerf RE'!H27","v":132970807},{"$f":"'A4-FinPerf RE'!I27","v":132970807},{"$f":"'A4-FinPerf RE'!J27","v":129972562},{"$f":"'A4-FinPerf RE'!K27","v":135431430},{"$f":"'A4-FinPerf RE'!L27","v":141390421}]
["Finance charges",{"$f":"'A4-FinPerf RE'!C28","v":11974271.189999999},{"$f":"'A4-FinPerf RE'!D28","v":11973760},{"$f":"'A4-FinPerf RE'!E28","v":14906807.83},{"$f":"'A4-FinPerf RE'!F28","v":15728808},{"$f":"'A4-FinPerf RE'!G28","v":16728808},{"$f":"'A4-FinPerf RE'!H28","v":16728808},{"$f":"'A4-FinPerf RE'!I28","v":16728808},{"$f":"'A4-FinPerf RE'!J28","v":17826562},{"$f":"'A4-FinPerf RE'!K28","v":18575280},{"$f":"'A4-FinPerf RE'!L28","v":19392600}]
["Inventory consumed and bulk purchases",{"$f":"'A4-FinPerf RE'!C29+'A4-FinPerf RE'!C30","v":384782777.31},{"$f":"'A4-FinPerf RE'!D29+'A4-FinPerf RE'!D30","v":464167679.95999998},{"$f":"'A4-FinPerf RE'!E29+'A4-FinPerf RE'!E30","v":427059194.61000001},{"$f":"'A4-FinPerf RE'!F29+'A4-FinPerf RE'!F30","v":463508585},{"$f":"'A4-FinPerf RE'!G29+'A4-FinPerf RE'!G30","v":477046665},{"$f":"'A4-FinPerf RE'!H29+'A4-FinPerf RE'!H30","v":477046665},{"$f":"'A4-FinPerf RE'!I29+'A4-FinPerf RE'!I30","v":477046665},{"$f":"'A4-FinPerf RE'!J29+'A4-FinPerf RE'!J30","v":528796568},{"$f":"'A4-FinPerf RE'!K29+'A4-FinPerf RE'!K30","v":556193263},{"$f":"'A4-FinPerf RE'!L29+'A4-FinPerf RE'!L30","v":603854201}]
["Transfers and grants",{"$f":"'A4-FinPerf RE'!C32","v":112420696.40000001},{"$f":"'A4-FinPerf RE'!D32","v":57132145},{"$f":"'A4-FinPerf RE'!E32","v":36987650.100000001},{"$f":"'A4-FinPerf RE'!F32","v":30919000},{"$f":"'A4-FinPerf RE'!G32","v":31351814},{"$f":"'A4-FinPerf RE'!H32","v":31351814},{"$f":"'A4-FinPerf RE'!I32","v":31351814},{"$f":"'A4-FinPerf RE'!J32","v":32118000},{"$f":"'A4-FinPerf RE'!K32","v":7871670},{"$f":"'A4-FinPerf RE'!L32","v":8130053}]
["Other expenditure",{"$f":"'A4-FinPerf RE'!C26+'A4-FinPerf RE'!C31+'A4-FinPerf RE'!C33+'A4-FinPerf RE'!C34","v":293285096.63999999},{"$f":"'A4-FinPerf RE'!D26+'A4-FinPerf RE'!D31+'A4-FinPerf RE'!D33+'A4-FinPerf RE'!D34","v":292670337.56999999},{"$f":"'A4-FinPerf RE'!E26+'A4-FinPerf RE'!E31+'A4-FinPerf RE'!E33+'A4-FinPerf RE'!E34","v":181692880.86000001},{"$f":"'A4-FinPerf RE'!F26+'A4-FinPerf RE'!F31+'A4-FinPerf RE'!F33+'A4-FinPerf RE'!F34","v":269628739},{"$f":"'A4-FinPerf RE'!G26+'A4-FinPerf RE'!G31+'A4-FinPerf RE'!G33+'A4-FinPerf RE'!G34","v":253948855},{"$f":"'A4-FinPerf RE'!H26+'A4-FinPerf RE'!H31+'A4-FinPerf RE'!H33+'A4-FinPerf RE'!H34","v":253948855},{"$f":"'A4-FinPerf RE'!I26+'A4-FinPerf RE'!I31+'A4-FinPerf RE'!I33+'A4-FinPerf RE'!I34","v":253948855},{"$f":"'A4-FinPerf RE'!J26+'A4-FinPerf RE'!J31+'A4-FinPerf RE'!J33+'A4-FinPerf RE'!J34","v":235182985},{"$f":"'A4-FinPerf RE'!K26+'A4-FinPerf RE'!K31+'A4-FinPerf RE'!K33+'A4-FinPerf RE'!K34","v":245060857},{"$f":"'A4-FinPerf RE'!L26+'A4-FinPerf RE'!L31+'A4-FinPerf RE'!L33+'A4-FinPerf RE'!L34","v":255843688}]
[{"$f":"'A4-FinPerf RE'!A35","v":"Total Expenditure"},{"$f":"SUM(B11:B17)","v":1225010770.78},{"$f":"SUM(C11:C17)","v":1198987798.5999999},1106352377.2800002,1287355041,1280721050,1280721050,1280721050,1322172641,1357296238,1440118029]
[{"$f":"'A4-FinPerf RE'!A37","v":"Surplus/(Deficit)"},{"$f":"B10-B18","v":-185236066.90999997},-138922940.18999994,124735195.07999969,29352141,97758265,97758265,103158265,131769123,142311804,130574856]
[{"$f":"'A4-FinPerf RE'!A38","v":"Transfers and subsidies - capital (monetary allocations) (National / Provincial and District)"},{"$f":"'A4-FinPerf RE'!C38","v":96944900},{"$f":"'A4-FinPerf RE'!D38","v":76150621.189999998},{"$f":"'A4-FinPerf RE'!E38","v":77869317.109999999},{"$f":"'A4-FinPerf RE'!F38","v":88938050},{"$f":"'A4-FinPerf RE'!G38","v":88938050},{"$f":"'A4-FinPerf RE'!H38","v":88938050},{"$f":"'A4-FinPerf RE'!I38","v":88938050},{"$f":"'A4-FinPerf RE'!J38","v":94753950},{"$f":"'A4-FinPerf RE'!K38","v":102603800},{"$f":"'A4-FinPerf RE'!L38","v":107290150}]
[{"$f":"'A4-FinPerf RE'!A39&\" & \"&'A4-FinPerf RE'!A40","v":"Transfers and subsidies - capital (monetary allocations) (National / Provincial Departmental Agencies, Households, Non-profit Institutions, Private Enterprises, Public Corporatons, Higher Educational Institutions) & Transfers and subsidies - capital (in-kind - all) "},{"$f":"'A4-FinPerf RE'!C39+'A4-FinPerf RE'!C40","v":0},{"$f":"'A4-FinPerf RE'!D39+'A4-FinPerf RE'!D40","v":0},{"$f":"'A4-FinPerf RE'!E39+'A4-FinPerf RE'!E40","v":10000000},{"$f":"'A4-FinPerf RE'!F39+'A4-FinPerf RE'!F40","v":0},{"$f":"'A4-FinPerf RE'!G39+'A4-FinPerf RE'!G40","v":0},{"$f":"'A4-FinPerf RE'!H39+'A4-FinPerf RE'!H40","v":0},{"$f":"'A4-FinPerf RE'!I39+'A4-FinPerf RE'!I40","v":0},{"$f":"'A4-FinPerf RE'!J39+'A4-FinPerf RE'!J40","v":0},{"$f":"'A4-FinPerf RE'!K39+'A4-FinPerf RE'!K40","v":0},{"$f":"'A4-FinPerf RE'!L39+'A4-FinPerf RE'!L40","v":1}]
[{"$f":"'A4-FinPerf RE'!A41","v":"Surplus/(Deficit) after capital transfers & contributions"},{"$f":"B19+SUM(B20:B21)","v":-88291166.909999967},{"$f":"C19+SUM(C20:C21)","v":-62772318.99999994},null,118290191,186696315,186696315,192096315,226523073,244915604,237865007]
[{"$f":"'A4-FinPerf RE'!A46","v":"Share of surplus/ (deficit) of associate"},{"$f":"'A4-FinPerf RE'!C46","v":0},{"$f":"'A4-FinPerf RE'!D46","v":0},{"$f":"'A4-FinPerf RE'!E46","v":0},{"$f":"'A4-FinPerf RE'!F46","v":0},{"$f":"'A4-FinPerf RE'!G46","v":0},{"$f":"'A4-FinPerf RE'!H46","v":0},{"$f":"'A4-FinPerf RE'!I46","v":0},{"$f":"'A4-FinPerf RE'!J46","v":0},{"$f":"'A4-FinPerf RE'!K46","v":0},{"$f":"'A4-FinPerf RE'!L46","v":0}]
[{"$f":"'A4-FinPerf RE'!A47","v":"Surplus/(Deficit) for the year"},{"$f":"B22+B23","v":-88291166.909999967},{"$f":"C22+C23","v":-62772318.99999994},0,118290191,186696315,186696315,192096315,226523073,244915604,237865007]
[]
["Capital expenditure & funds sources"]
["Capital expenditure",{"$f":"'A5-Capex'!C63","v":126531358},{"$f":"'A5-Capex'!D63","v":103482439},{"$f":"'A5-Capex'!E63","v":190258111.34},{"$f":"'A5-Capex'!F63","v":130973034},{"$f":"'A5-Capex'!G63","v":161492943},{"$f":"'A5-Capex'!H63","v":161492943},{"$f":"'A5-Capex'!I63","v":161492943},{"$f":"'A5-Capex'!J63","v":130857450},{"$f":"'A5-Capex'!K63","v":160103800},{"$f":"'A5-Capex'!L63","v":176675282}]
["Transfers recognised - capital",{"$f":"'A5-Capex'!C70","v":96944900},{"$f":"'A5-Capex'!D70","v":86451929},{"$f":"'A5-Capex'!E70","v":99549850.989999995},{"$f":"'A5-Capex'!F70","v":88938034},{"$f":"'A5-Capex'!G70","v":97289054},{"$f":"'A5-Capex'!H70","v":97289054},{"$f":"'A5-Capex'!I70","v":97289054},{"$f":"'A5-Capex'!J70","v":94753950},{"$f":"'A5-Capex'!K70","v":102603800},{"$f":"'A5-Capex'!L70","v":107290191}]
[]
[{"$f":"'A5-Capex'!A72","v":"Borrowing"},{"$f":"'A5-Capex'!C72","v":12113986},{"$f":"'A5-Capex'!D72","v":17030510},{"$f":"'A5-Capex'!E72","v":32847672.039999999},{"$f":"'A5-Capex'!F72","v":22000000},{"$f":"'A5-Capex'!G72","v":34828543},{"$f":"'A5-Capex'!H72","v":34828543},{"$f":"'A5-Capex'!I72","v":34828543},{"$f":"'A5-Capex'!J72","v":0},{"$f":"'A5-Capex'!K72","v":0},{"$f":"'A5-Capex'!L72","v":56}]
[{"$f":"'A5-Capex'!A73","v":"Internally generated funds"},{"$f":"'A5-Capex'!C73","v":17472472},{"$f":"'A5-Capex'!D73","v":0},{"$f":"'A5-Capex'!E73","v":57860588.310000002},{"$f":"'A5-Capex'!F73","v":20035000},{"$f":"'A5-Capex'!G73","v":29375346},{"$f":"'A5-Capex'!H73","v":29375346},{"$f":"'A5-Capex'!I73","v":29375346},{"$f":"'A5-Capex'!J73","v":36103500},{"$f":"'A5-Capex'!K73","v":57500000},{"$f":"'A5-Capex'!L73","v":69385035}]
["Total sources of capital funds",{"$f":"+B28+B30+B31","v":126531358},{"$f":"+C28+C30+C31","v":103482439},190258111.34,130973034,161492943,161492943,161492943,130857450,160103800,176675282]
[]
["Financial position"]
[{"$f":"'A6-FinPos'!A12","v":"Total current assets"},{"$f":"'A6-FinPos'!C12","v":441830127},{"$f":"'A6-FinPos'!D12","v":473169178.84000003},{"$f":"'A6-FinPos'!E12","v":679168794.19999993},{"$f":"'A6-FinPos'!F12","v":465244041},{"$f":"'A6-FinPos'!G12","v":455244040},{"$f":"'A6-FinPos'!H12","v":455244040},{"$f":"'A6-FinPos'!I12","v":455244040},{"$f":"'A6-FinPos'!J12","v":587244041},{"$f":"'A6-FinPos'!K12","v":612364291},{"$f":"'A6-FinPos'!L12","v":629809269}]
[{"$f":"'A6-FinPos'!A24","v":"Total non current assets"},{"$f":"'A6-FinPos'!C24","v":1696376440.0300002},{"$f":"'A6-FinPos'!D24","v":1671375273},{"$f":"'A6-FinPos'!E24","v":1690419002.4700003},{"$f":"'A6-FinPos'!F24","v":1977531938},{"$f":"'A6-FinPos'!G24","v":2008051887},{"$f":"'A6-FinPos'!H24","v":2008051887},{"$f":"'A6-FinPos'!I24","v":2008051887},{"$f":"'A6-FinPos'!J24","v":2821424602},{"$f":"'A6-FinPos'!K24","v":3333223494},{"$f":"'A6-FinPos'!L24","v":3536675971}]
[{"$f":"'A6-FinPos'!A34","v":"Total current liabilities"},{"$f":"'A6-FinPos'!C34","v":287027105},{"$f":"'A6-FinPos'!D34","v":330258143},{"$f":"'A6-FinPos'!E34","v":335036243.71999997},{"$f":"'A6-FinPos'!F34","v":318852673},{"$f":"'A6-FinPos'!G34","v":332830069},{"$f":"'A6-FinPos'!H34","v":332830069},{"$f":"'A6-FinPos'!I34","v":275723989},{"$f":"'A6-FinPos'!J34","v":82175175},{"$f":"'A6-FinPos'!K34","v":84445657},{"$f":"'A6-FinPos'!L34","v":-215639003}]
[{"$f":"'A6-FinPos'!A39","v":"Total non current liabilities"},{"$f":"'A6-FinPos'!C39","v":181507281},{"$f":"'A6-FinPos'!D39","v":196474919},{"$f":"'A6-FinPos'!E39","v":204135550.01999998},{"$f":"'A6-FinPos'!F39","v":232079631},{"$f":"'A6-FinPos'!G39","v":232079688},{"$f":"'A6-FinPos'!H39","v":232079688},{"$f":"'A6-FinPos'!I39","v":232079688},{"$f":"'A6-FinPos'!J39","v":233360365},{"$f":"'A6-FinPos'!K39","v":236404157},{"$f":"'A6-FinPos'!L39","v":246484180}]
["Community wealth/Equity",{"$f":"'A6-FinPos'!C48","v":1669672181.0899999},{"$f":"'A6-FinPos'!D48","v":1617811389.8399999},{"$f":"'A6-FinPos'!E48","v":1830416003.1900001},{"$f":"'A6-FinPos'!F48","v":1891843675},{"$f":"'A6-FinPos'!G48","v":1898386170},{"$f":"'A6-FinPos'!H48","v":1898386170},{"$f":"'A6-FinPos'!I48","v":0},{"$f":"'A6-FinPos'!J48","v":3093133103},{"$f":"'A6-FinPos'!K48","v":3624737971},{"$f":"'A6-FinPos'!L48","v":4135640054}]
[]
["Cash flows"]
["Net cash from (used) operating",{"$f":"'A7-CFlow'!C17","v":119277967},{"$f":"'A7-CFlow'!D17","v":143031413},{"$f":"'A7-CFlow'!E17","v":181782418.49999988},{"$f":"'A7-CFlow'!F17","v":1261310008},{"$f":"'A7-CFlow'!G17","v":102304273},{"$f":"'A7-CFlow'!H17","v":102304273},{"$f":"'A7-CFlow'!I17","v":102304273},{"$f":"'A7-CFlow'!J17","v":139305597},{"$f":"'A7-CFlow'!K17","v":149915639},{"$f":"'A7-CFlow'!L17","v":162520863}]
["Net cash from (used) investing",{"$f":"'A7-CFlow'!C27","v":-122314811},{"$f":"'A7-CFlow'!D27","v":-142853946},{"$f":"'A7-CFlow'!E27","v":-153383488.67000002},{"$f":"'A7-CFlow'!F27","v":-128700833},{"$f":"'A7-CFlow'!G27","v":-152904284},{"$f":"'A7-CFlow'!H27","v":-152904284},{"$f":"'A7-CFlow'!I27","v":-152904284},{"$f":"'A7-CFlow'!J27","v":-130407450},{"$f":"'A7-CFlow'!K27","v":-138803802},{"$f":"'A7-CFlow'!L27","v":-149075194}]
["Net cash from (used) financing",{"$f":"'A7-CFlow'!C36","v":-21312438},{"$f":"'A7-CFlow'!D36","v":34364879},{"$f":"'A7-CFlow'!E36","v":-216174.21000000089},{"$f":"'A7-CFlow'!F36","v":29675955},{"$f":"'A7-CFlow'!G36","v":29675952},{"$f":"'A7-CFlow'!H36","v":29675952},{"$f":"'A7-CFlow'!I36","v":29675952},{"$f":"'A7-CFlow'!J36","v":-8898147},{"$f":"'A7-CFlow'!K36","v":-9683837},{"$f":"'A7-CFlow'!L36","v":-13314839}]
[{"$f":"LEFT('A7-CFlow'!A40,37)","v":"Cash/cash equivalents at the year end"},{"$f":"'A7-CFlow'!C40","v":7489881},{"$f":"'A7-CFlow'!D40","v":42033011},{"$f":"'A7-CFlow'!E40","v":70215766.169999868},{"$f":"'A7-CFlow'!F40","v":1205795982},{"$f":"'A7-CFlow'!G40","v":49291708},{"$f":"'A7-CFlow'!H40","v":49291708},{"$f":"'A7-CFlow'!I40","v":49291708},{"$f":"'A7-CFlow'!J40","v":34000000},{"$f":"'A7-CFlow'!K40","v":35428000},{"$f":"'A7-CFlow'!L40","v":35558830}]
[]
["Cash backing/surplus reconciliation"]
[{"$f":"'A8-ResRecon'!A4","v":"Cash and investments available"},{"$f":"'A8-ResRecon'!C8","v":34378063},{"$f":"'A8-ResRecon'!D8","v":73558093.840000004},{"$f":"'A8-ResRecon'!E8","v":91329164.519999996},{"$f":"'A8-ResRecon'!F8","v":65995950},{"$f":"'A8-ResRecon'!G8","v":55995976},{"$f":"'A8-ResRecon'!H8","v":55995976},{"$f":"'A8-ResRecon'!I8","v":55995976},{"$f":"'A8-ResRecon'!J8","v":52482970},{"$f":"'A8-ResRecon'!K8","v":54366127},{"$f":"'A8-ResRecon'!L8","v":54971129}]
[{"$f":"'A8-ResRecon'!A10","v":"Application of cash and investments"},{"$f":"'A8-ResRecon'!C18","v":-75830731},{"$f":"'A8-ResRecon'!D18","v":-54983760},{"$f":"'A8-ResRecon'!E18","v":-193105881.08999997},{"$f":"'A8-ResRecon'!F18","v":-59668070},{"$f":"'A8-ResRecon'!G18","v":-55772730},{"$f":"'A8-ResRecon'!H18","v":-55772730},{"$f":"'A8-ResRecon'!I18","v":-53564730},{"$f":"'A8-ResRecon'!J18","v":-372596590},{"$f":"'A8-ResRecon'!K18","v":-390362176},{"$f":"'A8-ResRecon'!L18","v":-859085779}]
["Balance - surplus (shortfall)",{"$f":"B48-B49","v":110208794},{"$f":"C48-C49","v":128541853.84},284435045.60999995,125664020,111768706,111768706,109560706,425079560,444728303,914056908]
[]
["Asset management"]
["Asset register summary (WDV)",{"$f":"'A9-Asset'!C165","v":1669489042.0299997},{"$f":"'A9-Asset'!D165","v":1639850190},{"$f":"'A9-Asset'!E165","v":1569928216.3200006},{"$f":"'A9-Asset'!F165","v":1955535988},{"$f":"'A9-Asset'!G165","v":1982055911},{"$f":"'A9-Asset'!H165","v":1982055911},{"$f":"'A9-Asset'!H165","v":1982055911},{"$f":"'A9-Asset'!I165","v":2802941632},{"$f":"'A9-Asset'!J165","v":3314285367},{"$f":"'A9-Asset'!K165","v":3517263679}]
[{"$f":"'A9-Asset'!A168","v":"Depreciation"},{"$f":"'A9-Asset'!C168","v":130493937.2},{"$f":"'A9-Asset'!D168","v":128241991.15000001},{"$f":"'A9-Asset'!E168","v":98378041.760000005},{"$f":"'A9-Asset'!F168","v":132970807},{"$f":"'A9-Asset'!G168","v":132970807},{"$f":"'A9-Asset'!H168","v":132970807},{"$f":"'A9-Asset'!H168","v":132970807},{"$f":"'A9-Asset'!I168","v":129972562},{"$f":"'A9-Asset'!J168","v":135431430},{"$f":"'A9-Asset'!K168","v":141390421}]
["Renewal and Upgrading of Existing Assets",{"$f":"'A9-Asset'!C37+'A9-Asset'!C69","v":99363728},{"$f":"'A9-Asset'!D37+'A9-Asset'!D69","v":17531610},{"$f":"'A9-Asset'!E37+'A9-Asset'!E69","v":82302328.060000002},{"$f":"'A9-Asset'!F37+'A9-Asset'!F69","v":106938034},{"$f":"'A9-Asset'!G37+'A9-Asset'!G69","v":125961405},{"$f":"'A9-Asset'!H37+'A9-Asset'!H69","v":125961405},{"$f":"'A9-Asset'!H37+'A9-Asset'!H69","v":125961405},{"$f":"'A9-Asset'!I37+'A9-Asset'!I69","v":105153950},{"$f":"'A9-Asset'!J37+'A9-Asset'!J69","v":137703800},{"$f":"'A9-Asset'!K37+'A9-Asset'!K69","v":143390209}]
["Repairs and Maintenance",{"$f":"'A9-Asset'!C169","v":59154216.310000002},{"$f":"'A9-Asset'!D169","v":107508345},{"$f":"'A9-Asset'!E169","v":36103874.400000006},{"$f":"'A9-Asset'!F169","v":56241085},{"$f":"'A9-Asset'!G169","v":65967085},{"$f":"'A9-Asset'!H169","v":65967085},{"$f":"'A9-Asset'!H169","v":65967085},{"$f":"'A9-Asset'!I169","v":137360644},{"$f":"'A9-Asset'!J169","v":143585709},{"$f":"'A9-Asset'!K169","v":150564327}]
[]
["Free services"]
["Cost of Free Basic Services provided",{"$f":"'A10-SerDel'!C60","v":0},{"$f":"'A10-SerDel'!D60","v":0},{"$f":"'A10-SerDel'!E60","v":0},{"$f":"'A10-SerDel'!F60","v":0},{"$f":"'A10-SerDel'!G60","v":0},{"$f":"'A10-SerDel'!H60","v":0},{"$f":"'A10-SerDel'!I60","v":0},{"$f":"'A10-SerDel'!I60","v":0},{"$f":"'A10-SerDel'!J60","v":0},{"$f":"'A10-SerDel'!K60","v":0}]
["Revenue cost of free services provided",{"$f":"'A10-SerDel'!C79","v":0},{"$f":"'A10-SerDel'!D79","v":0},{"$f":"'A10-SerDel'!E79","v":0},{"$f":"'A10-SerDel'!F79","v":0},{"$f":"'A10-SerDel'!G79","v":0},{"$f":"'A10-SerDel'!H79","v":0},{"$f":"'A10-SerDel'!I79","v":0},{"$f":"'A10-SerDel'!I79","v":0},{"$f":"'A10-SerDel'!J79","v":0},{"$f":"'A10-SerDel'!K79","v":0}]
["Households below minimum service level"]
[{"$f":"'A10-SerDel'!A5","v":"Water:"},{"$f":"'A10-SerDel'!C14","v":23511},{"$f":"'A10-SerDel'!D14","v":150561},{"$f":"'A10-SerDel'!E14","v":0},{"$f":"'A10-SerDel'!F14","v":150561},{"$f":"'A10-SerDel'!G14","v":150561},{"$f":"'A10-SerDel'!H14","v":150561},{"$f":"'A10-SerDel'!I14","v":23511},{"$f":"'A10-SerDel'!I14","v":23511},{"$f":"'A10-SerDel'!J14","v":23511},{"$f":"'A10-SerDel'!K14","v":23511}]
[{"$f":"'A10-SerDel'!A16","v":"Sanitation/sewerage:"},{"$f":"'A10-SerDel'!C26","v":27058},{"$f":"'A10-SerDel'!D26","v":150561},{"$f":"'A10-SerDel'!E26","v":0},{"$f":"'A10-SerDel'!F26","v":150561},{"$f":"'A10-SerDel'!G26","v":150561},{"$f":"'A10-SerDel'!H26","v":150561},{"$f":"'A10-SerDel'!I26","v":27058},{"$f":"'A10-SerDel'!I26","v":27058},{"$f":"'A10-SerDel'!J26","v":27058},{"$f":"'A10-SerDel'!K26","v":27058}]
[{"$f":"'A10-SerDel'!A28","v":"Energy:"},{"$f":"'A10-SerDel'!C35","v":0},{"$f":"'A10-SerDel'!D35","v":150561},{"$f":"'A10-SerDel'!E35","v":0},{"$f":"'A10-SerDel'!F35","v":150561},{"$f":"'A10-SerDel'!G35","v":150561},{"$f":"'A10-SerDel'!H35","v":150561},{"$f":"'A10-SerDel'!I35","v":0},{"$f":"'A10-SerDel'!I35","v":0},{"$f":"'A10-SerDel'!J35","v":0},{"$f":"'A10-SerDel'!K35","v":0}]
[{"$f":"'A10-SerDel'!A37","v":"Refuse:"},{"$f":"'A10-SerDel'!C45","v":99992},{"$f":"'A10-SerDel'!D45","v":99992},{"$f":"'A10-SerDel'!E45","v":0},{"$f":"'A10-SerDel'!F45","v":99992},{"$f":"'A10-SerDel'!G45","v":99992},{"$f":"'A10-SerDel'!H45","v":99992},{"$f":"'A10-SerDel'!I45","v":150561},{"$f":"'A10-SerDel'!I45","v":150561},{"$f":"'A10-SerDel'!J45","v":150561},{"$f":"'A10-SerDel'!K45","v":150561}]

{"sheet":"A2-FinPerf SC","index":7,"n_rows":58,"n_cols":11,"rows_kept":58,"cut":false,"hidden":false,"merged":[[53,0,53,10],[1,5,1,7],[1,8,1,10]]}
[{"$f":"muni&\" - \"&Approve3","v":"Choose name from list - Table A2 Budgeted Financial Performance (revenue and expenditure by functional classification)"}]
[{"$f":"\"Functional Classification \"&desc","v":"Functional Classification Description"},{"$f":"head27","v":"Ref"},{"$f":"head1b","v":"2017/18"},{"$f":"head1A","v":"2018/19"},{"$f":"Head1","v":"2019/20"},{"$f":"Head2","v":"Current Year 2020/21"},null,null,{"$f":"Head3","v":"2021/22 Medium Term Revenue & Expenditure Framework"}]
["R thousand",1,{"$f":"Head5","v":"Audited Outcome"},{"$f":"Head5","v":"Audited Outcome"},{"$f":"Head5","v":"Audited Outcome"},{"$f":"Head6","v":"Original Budget"},{"$f":"Head7","v":"Adjusted Budget"},{"$f":"Head8","v":"Full Year Forecast"},{"$f":"Head9","v":"Budget Year 2021/22"},{"$f":"Head10","v":"Budget Year +1 2022/23"},{"$f":"Head11","v":"Budget Year +2 2023/24"}]
["Revenue - Functional"]
["Governance and administration",null,{"$f":"SUM(C6:C8)","v":364427892},{"$f":"SUM(D6:D8)","v":468166271.77999997},573827117.91000009,552813082,646043213,646043213,575471457,606399306,604742202]
["Executive and council",null,{"$f":"A2A!C6","v":0},{"$f":"A2A!D6","v":0},{"$f":"A2A!E6","v":298000},{"$f":"A2A!F6","v":1100},{"$f":"A2A!G6","v":1100},{"$f":"A2A!H6","v":1100},{"$f":"A2A!I6","v":1100},{"$f":"A2A!J6","v":1147},{"$f":"A2A!K6","v":1197}]
["Finance and administration",null,{"$f":"A2A!C9","v":364427892},{"$f":"A2A!D9","v":468166271.77999997},{"$f":"A2A!E9","v":573529117.91000009},{"$f":"A2A!F9","v":552811982},{"$f":"A2A!G9","v":646042113},{"$f":"A2A!H9","v":646042113},{"$f":"A2A!I9","v":575470357},{"$f":"A2A!J9","v":606398159},{"$f":"A2A!K9","v":604741005}]
["Internal audit",null,{"$f":"A2A!C23","v":0},{"$f":"A2A!D23","v":0},{"$f":"A2A!E23","v":0},{"$f":"A2A!F23","v":0},{"$f":"A2A!G23","v":0},{"$f":"A2A!H23","v":0},{"$f":"A2A!I23","v":0},{"$f":"A2A!J23","v":0},{"$f":"A2A!K23","v":0}]
["Community and public safety",null,{"$f":"SUM(C10:C14)","v":56107950.849999994},{"$f":"SUM(D10:D14)","v":35072212.840000004},27834887.599999998,40390127,40390127,40390127,40390127,42086516,43938324]
["Community and social services",null,{"$f":"A2A!C26","v":45523.5},{"$f":"A2A!D26","v":9603},{"$f":"A2A!E26","v":32515},{"$f":"A2A!F26","v":56136},{"$f":"A2A!G26","v":56136},{"$f":"A2A!H26","v":56136},{"$f":"A2A!I26","v":56136},{"$f":"A2A!J26","v":58495},{"$f":"A2A!K26","v":61070}]
["Sport and recreation",null,{"$f":"A2A!C48","v":149130},{"$f":"A2A!D48","v":0},{"$f":"A2A!E48","v":359180.41},{"$f":"A2A!F48","v":660766},{"$f":"A2A!G48","v":660766},{"$f":"A2A!H48","v":660766},{"$f":"A2A!I48","v":660766},{"$f":"A2A!J48","v":688519},{"$f":"A2A!K48","v":718814}]
["Public safety",null,{"$f":"A2A!C54","v":45442703},{"$f":"A2A!D54","v":31736170},{"$f":"A2A!E54","v":25556445},{"$f":"A2A!F54","v":38001000},{"$f":"A2A!G54","v":38001000},{"$f":"A2A!H54","v":38001000},{"$f":"A2A!I54","v":38001000},{"$f":"A2A!J54","v":39597042},{"$f":"A2A!K54","v":41339312}]
["Housing",null,{"$f":"A2A!C63","v":1822418.98},{"$f":"A2A!D63","v":2724137.92},{"$f":"A2A!E63","v":1866536.49},{"$f":"A2A!F63","v":1659225},{"$f":"A2A!G63","v":1659225},{"$f":"A2A!H63","v":1659225},{"$f":"A2A!I63","v":1659225},{"$f":"A2A!J63","v":1728914},{"$f":"A2A!K63","v":1804985}]
["Health",null,{"$f":"A2A!C66","v":8648175.3699999992},{"$f":"A2A!D66","v":602301.92000000004},{"$f":"A2A!E66","v":20210.7},{"$f":"A2A!F66","v":13000},{"$f":"A2A!G66","v":13000},{"$f":"A2A!H66","v":13000},{"$f":"A2A!I66","v":13000},{"$f":"A2A!J66","v":13546},{"$f":"A2A!K66","v":14143}]
["Economic and environmental services",null,{"$f":"SUM(C16:C18)","v":196404602},{"$f":"SUM(D16:D18)","v":129228294.29000001},107011252.08999999,152700516,116700517,116700517,122822518,132054946,138046189]
["Planning and development",null,{"$f":"A2A!C75","v":11015460},{"$f":"A2A!D75","v":3372625},{"$f":"A2A!E75","v":355705.99},{"$f":"A2A!F75","v":400125},{"$f":"A2A!G75","v":400125},{"$f":"A2A!H75","v":400125},{"$f":"A2A!I75","v":400126},{"$f":"A2A!J75","v":416933},{"$f":"A2A!K75","v":435278}]
["Road transport",null,{"$f":"A2A!C86","v":185389142},{"$f":"A2A!D86","v":125855669.29000001},{"$f":"A2A!E86","v":106655546.09999999},{"$f":"A2A!F86","v":152300391},{"$f":"A2A!G86","v":116300392},{"$f":"A2A!H86","v":116300392},{"$f":"A2A!I86","v":122422392},{"$f":"A2A!J86","v":131638013},{"$f":"A2A!K86","v":137610911}]
["Environmental protection",null,{"$f":"A2A!C91","v":0},{"$f":"A2A!D91","v":0},{"$f":"A2A!E91","v":0},{"$f":"A2A!F91","v":0},{"$f":"A2A!G91","v":0},{"$f":"A2A!H91","v":0},{"$f":"A2A!I91","v":0},{"$f":"A2A!J91","v":0},{"$f":"A2A!K91","v":0}]
["Trading services",null,{"$f":"SUM(C20:C23)","v":519779159.01999998},{"$f":"SUM(D20:D23)","v":503748700.69},610283631.87,659741507,664283509,664283509,810011612,{"$f":"SUM(J20:J23)","v":821671074},891256321]
["Energy sources",null,{"$f":"A2A!C99","v":457445097.01999998},{"$f":"A2A!D99","v":452008851},{"$f":"A2A!E99","v":577155264.62},{"$f":"A2A!F99","v":586201000},{"$f":"A2A!G99","v":590743000},{"$f":"A2A!H99","v":590743000},{"$f":"A2A!I99","v":735641250},{"$f":"A2A!J99","v":752995601},{"$f":"A2A!K99","v":819559128}]
["Water management",null,{"$f":"A2A!C103","v":0},{"$f":"A2A!D103","v":0},{"$f":"A2A!E103","v":0},{"$f":"A2A!F103","v":0},{"$f":"A2A!G103","v":1},{"$f":"A2A!H103","v":1},{"$f":"A2A!I103","v":1},{"$f":"A2A!J103","v":2},{"$f":"A2A!K103","v":2}]
["Waste water management",null,{"$f":"A2A!C107","v":1425748},{"$f":"A2A!D107","v":0},{"$f":"A2A!E107","v":0},{"$f":"A2A!F107","v":0},{"$f":"A2A!G107","v":0},{"$f":"A2A!H107","v":0},{"$f":"A2A!I107","v":0},{"$f":"A2A!J107","v":0},{"$f":"A2A!K107","v":0}]
["Waste management",null,{"$f":"A2A!C112","v":60908314},{"$f":"A2A!D112","v":51739849.689999998},{"$f":"A2A!E112","v":33128367.25},{"$f":"A2A!F112","v":73540507},{"$f":"A2A!G112","v":73540508},{"$f":"A2A!H112","v":73540508},{"$f":"A2A!I112","v":74370361},{"$f":"A2A!J112","v":68675471},{"$f":"A2A!K112","v":71697191}]
["Other",4,{"$f":"A2A!C117","v":0},{"$f":"A2A!D117","v":0},{"$f":"A2A!E117","v":0},{"$f":"A2A!F117","v":0},{"$f":"A2A!G117","v":0},{"$f":"A2A!H117","v":0},{"$f":"A2A!I117","v":0},{"$f":"A2A!J117","v":0},{"$f":"A2A!K117","v":0}]
[{"$f":"\"Total \"&A4","v":"Total Revenue - Functional"},2,{"$f":"C5+C9+C15+C19+C24","v":1136719603.8699999},{"$f":"D5+D9+D15+D19+D24","v":1136215479.5999999},{"$f":"E5+E9+E15+E19+E24","v":1318956889.4700003},1405645232,1467417366,1467417366,{"$f":"I5+I9+I15+I19+I24","v":1548695714},1602211842,1677983036]
[]
["Expenditure - Functional"]
["Governance and administration",null,{"$f":"SUM(C29:C31)","v":359621877.42999995},{"$f":"SUM(D29:D31)","v":383658892.27000004},277922868.60999995,288154389,300918491,300918491,316742137,329622756,343683451]
["Executive and council",null,{"$f":"A2A!C128","v":34109919.440000005},{"$f":"A2A!D128","v":42526739.659999996},{"$f":"A2A!E128","v":47362541.409999996},{"$f":"A2A!F128","v":44674724},{"$f":"A2A!G128","v":44774387},{"$f":"A2A!H128","v":44774387},{"$f":"A2A!I128","v":47525810},{"$f":"A2A!J128","v":49406034},{"$f":"A2A!K128","v":51458517}]
["Finance and administration",null,{"$f":"A2A!C131","v":320880909.92999995},{"$f":"A2A!D131","v":336837691.65000004},{"$f":"A2A!E131","v":225722018.63},{"$f":"A2A!F131","v":237609210},{"$f":"A2A!G131","v":250323649},{"$f":"A2A!H131","v":250323649},{"$f":"A2A!I131","v":263481478},{"$f":"A2A!J131","v":274241000},{"$f":"A2A!K131","v":285986273}]
["Internal audit",null,{"$f":"A2A!C145","v":4631048.0599999996},{"$f":"A2A!D145","v":4294460.96},{"$f":"A2A!E145","v":4838308.57},{"$f":"A2A!F145","v":5870455},{"$f":"A2A!G145","v":5820455},{"$f":"A2A!H145","v":5820455},{"$f":"A2A!I145","v":5734849},{"$f":"A2A!J145","v":5975722},{"$f":"A2A!K145","v":6238661}]
["Community and public safety",null,{"$f":"SUM(C33:C37)","v":40981172.890000001},{"$f":"SUM(D33:D37)","v":58016588.240000002},76939452.909999996,120243047,120352998,120352998,87148830,90624254,94418074]
["Community and social services",null,{"$f":"A2A!C148","v":11652126.029999999},{"$f":"A2A!D148","v":10934244.24},{"$f":"A2A!E148","v":13453079.92},{"$f":"A2A!F148","v":13290578},{"$f":"A2A!G148","v":13470578},{"$f":"A2A!H148","v":13470578},{"$f":"A2A!I148","v":14064027},{"$f":"A2A!J148","v":14650792},{"$f":"A2A!K148","v":15291322}]
["Sport and recreation",null,{"$f":"A2A!C170","v":3186009.59},{"$f":"A2A!D170","v":13223660},{"$f":"A2A!E170","v":22565404.379999999},{"$f":"A2A!F170","v":25601180},{"$f":"A2A!G170","v":26279558},{"$f":"A2A!H170","v":26279558},{"$f":"A2A!I170","v":28000708},{"$f":"A2A!J170","v":29008030},{"$f":"A2A!K170","v":30107645}]
["Public safety",null,{"$f":"A2A!C176","v":22286815},{"$f":"A2A!D176","v":16742070},{"$f":"A2A!E176","v":18165575.59},{"$f":"A2A!F176","v":51032724},{"$f":"A2A!G176","v":50235198},{"$f":"A2A!H176","v":50235198},{"$f":"A2A!I176","v":18297616},{"$f":"A2A!J176","v":19053890},{"$f":"A2A!K176","v":19879440}]
["Housing",null,{"$f":"A2A!C185","v":3100429.96},{"$f":"A2A!D185","v":7917952},{"$f":"A2A!E185","v":12113183.550000001},{"$f":"A2A!F185","v":18596061},{"$f":"A2A!G185","v":18645160},{"$f":"A2A!H185","v":18645160},{"$f":"A2A!I185","v":15936528},{"$f":"A2A!J185","v":16605872},{"$f":"A2A!K185","v":17336537}]
["Health",null,{"$f":"A2A!C188","v":755792.31},{"$f":"A2A!D188","v":9198662},{"$f":"A2A!E188","v":10642209.470000001},{"$f":"A2A!F188","v":11722504},{"$f":"A2A!G188","v":11722504},{"$f":"A2A!H188","v":11722504},{"$f":"A2A!I188","v":10849951},{"$f":"A2A!J188","v":11305670},{"$f":"A2A!K188","v":11803130}]
["Economic and environmental services",null,{"$f":"SUM(C39:C41)","v":287838164.62},{"$f":"SUM(D39:D41)","v":157357878.38999999},145494753.62,215242849,185144739,185144739,194796743,204438526,215055346]
["Planning and development",null,{"$f":"A2A!C197","v":19315113.289999999},{"$f":"A2A!D197","v":15559417.92},{"$f":"A2A!E197","v":15835955.4},{"$f":"A2A!F197","v":28248926},{"$f":"A2A!G197","v":31860280},{"$f":"A2A!H197","v":31860280},{"$f":"A2A!I197","v":29816905},{"$f":"A2A!J197","v":31065649},{"$f":"A2A!K197","v":32428897}]
["Road transport",null,{"$f":"A2A!C208","v":268523051.32999998},{"$f":"A2A!D208","v":141798460.47},{"$f":"A2A!E208","v":129658798.22},{"$f":"A2A!F208","v":186993923},{"$f":"A2A!G208","v":153284459},{"$f":"A2A!H208","v":153284459},{"$f":"A2A!I208","v":164979838},{"$f":"A2A!J208","v":173372877},{"$f":"A2A!K208","v":182626449}]
["Environmental protection",null,{"$f":"A2A!C213","v":0},{"$f":"A2A!D213","v":0},{"$f":"A2A!E213","v":0},{"$f":"A2A!F213","v":0},{"$f":"A2A!G213","v":0},{"$f":"A2A!H213","v":0},{"$f":"A2A!I213","v":0},{"$f":"A2A!J213","v":0},{"$f":"A2A!K213","v":0}]
["Trading services",null,{"$f":"SUM(C43:C46)","v":536569555.84000003},{"$f":"SUM(D43:D46)","v":599954439.70000005},605995302.13999999,{"$f":"SUM(F43:F46)","v":663714756},674304822,674304822,723484931,732610702,{"$f":"SUM(K43:K46)","v":786961157}]
["Energy sources",null,{"$f":"A2A!C221","v":448420239.68000001},{"$f":"A2A!D221","v":511714738.88},{"$f":"A2A!E221","v":520103946.25999999},{"$f":"A2A!F221","v":572684922},{"$f":"A2A!G221","v":583826089},{"$f":"A2A!H221","v":583826089},{"$f":"A2A!I221","v":628353359},{"$f":"A2A!J221","v":642482423},{"$f":"A2A!K221","v":693056217}]
["Water management",null,{"$f":"A2A!C225","v":0},{"$f":"A2A!D225","v":0},{"$f":"A2A!E225","v":0},{"$f":"A2A!F225","v":0},{"$f":"A2A!G225","v":0},{"$f":"A2A!H225","v":0},{"$f":"A2A!I225","v":0},{"$f":"A2A!J225","v":0},{"$f":"A2A!K225","v":0}]
["Waste water management",null,{"$f":"A2A!C229","v":5972911},{"$f":"A2A!D229","v":3852436},{"$f":"A2A!E229","v":4297092.04},{"$f":"A2A!F229","v":5125814},{"$f":"A2A!G229","v":5125814},{"$f":"A2A!H229","v":5125814},{"$f":"A2A!I229","v":8780470},{"$f":"A2A!J229","v":8983100},{"$f":"A2A!K229","v":9204285}]
["Waste management",null,{"$f":"A2A!C234","v":82176405.159999996},{"$f":"A2A!D234","v":84387264.819999993},{"$f":"A2A!E234","v":81594263.840000004},{"$f":"A2A!F234","v":85904020},{"$f":"A2A!G234","v":85352919},{"$f":"A2A!H234","v":85352919},{"$f":"A2A!I234","v":86351102},{"$f":"A2A!J234","v":81145179},{"$f":"A2A!K234","v":84700655}]
["Other",4,{"$f":"A2A!C239","v":0},{"$f":"A2A!D239","v":0},{"$f":"A2A!E239","v":0},{"$f":"A2A!F239","v":0},{"$f":"A2A!G239","v":0},{"$f":"A2A!H239","v":0},{"$f":"A2A!I239","v":0},{"$f":"A2A!J239","v":0},{"$f":"A2A!K239","v":0}]
[{"$f":"\"Total \"&A27","v":"Total Expenditure - Functional"},3,{"$f":"C28+C32+C38+C42+C47","v":1225010770.78},{"$f":"D28+D32+D38+D42+D47","v":1198987798.6000001},{"$f":"E28+E32+E38+E42+E47","v":1106352377.28},{"$f":"F28+F32+F38+F42+F47","v":1287355041},1280721050,1280721050,1322172641,1357296238,1440118028]
[{"$f":"result","v":"Surplus/(Deficit) for the year"},null,{"$f":"C25-C48","v":-88291166.910000086},{"$f":"D25-D48","v":-62772319.000000238},212604512.1900003,118290191,186696316,186696316,226523073,244915604,237865008]
[{"$f":"head27a","v":"References"}]
["1. Government Finance Statistics Functions and Sub-functions are standardised to assist the compilation of national and international accounts for comparison purposes"]
["2. Total Revenue by functional classification must reconcile to Total Operating Revenue shown in Budgeted Financial Performance (revenue and expenditure)"]
["3. Total Expenditure by Functional Classification must reconcile to Total Operating Expenditure shown in Budgeted Financial Performance (revenue and expenditure)"]
["4. All amounts must be classified under a functional classification . The GFS function 'Other' is only for Abbatoirs, Air Transport,  Forestry, Licensing and Regulation, Markets and Tourism - and if used must be supported by footnotes. Nothing else may be placed under 'Other'. Assign associate share to relevant classification."]
[]
[]
["check oprev balance",null,{"$f":"C25-'A4-FinPerf RE'!C59","v":0},{"$f":"D25-'A4-FinPerf RE'!D59","v":0},{"$f":"E25-'A4-FinPerf RE'!E59","v":0},{"$f":"F25-'A4-FinPerf RE'!F59","v":0},{"$f":"G25-'A4-FinPerf RE'!G59","v":1},{"$f":"H25-'A4-FinPerf RE'!H59","v":1},{"$f":"I25-'A4-FinPerf RE'!J59","v":0},{"$f":"J25-'A4-FinPerf RE'!K59","v":0},{"$f":"K25-'A4-FinPerf RE'!L59","v":0}]
["check opexp balance",null,{"$f":"C48-'A4-FinPerf RE'!C35","v":0},{"$f":"D48-'A4-FinPerf RE'!D35","v":0},{"$f":"E48-'A4-FinPerf RE'!E35","v":0},{"$f":"F48-'A4-FinPerf RE'!F35","v":0},{"$f":"G48-'A4-FinPerf RE'!G35","v":0},{"$f":"H48-'A4-FinPerf RE'!H35","v":0},{"$f":"I48-'A4-FinPerf RE'!J35","v":0},{"$f":"J48-'A4-FinPerf RE'!K35","v":0},{"$f":"K48-'A4-FinPerf RE'!L35","v":-1}]

{"sheet":"A2A","index":8,"n_rows":256,"n_cols":11,"rows_kept":256,"cut":false,"hidden":false,"merged":[[1,5,1,7],[1,8,1,10],[251,0,251,10]]}
[{"$f":"muni&\" - \"&Approve3","v":"Choose name from list - Table A2 Budgeted Financial Performance (revenue and expenditure by functional classification)"}]
[{"$f":"\"Functional Classification \"&desc","v":"Functional Classification Description"},{"$f":"head27","v":"Ref"},{"$f":"head1b","v":"2017/18"},{"$f":"head1A","v":"2018/19"},{"$f":"Head1","v":"2019/20"},{"$f":"Head2","v":"Current Year 2020/21"},null,null,{"$f":"Head3","v":"2021/22 Medium Term Revenue & Expenditure Framework"}]
["R thousand",1,{"$f":"Head5","v":"Audited Outcome"},{"$f":"Head5","v":"Audited Outcome"},{"$f":"Head5","v":"Audited Outcome"},{"$f":"Head6","v":"Original Budget"},{"$f":"Head7","v":"Adjusted Budget"},{"$f":"Head8","v":"Full Year Forecast"},{"$f":"Head9","v":"Budget Year 2021/22"},{"$f":"Head10","v":"Budget Year +1 2022/23"},{"$f":"Head11","v":"Budget Year +2 2023/24"}]
["Revenue - Functional"]
["Municipal governance and administration",null,{"$f":"C6+C9+C23","v":364427892},468166271.77999997,573827117.91000009,552813082,646043213,646043213,575471457,606399306,604742202]
["Executive and council",null,{"$f":"SUM(C7:C8)","v":0},{"$f":"SUM(D7:D8)","v":0},298000,1100,1100,1100,1100,1147,1197]
["Mayor and Council",null,0,0,0,0,0,0,0,0,0]
["Municipal Manager, Town Secretary and Chief Executive",null,0,0,298000,1100,1100,1100,1100,1147,1197]
["Finance and administration",null,{"$f":"SUM(C10:C22)","v":364427892},468166271.77999997,573529117.91000009,552811982,646042113,646042113,575470357,606398159,604741005]
["Administrative and Corporate Support",null,52717840.630000003,76582673.439999998,0,0,0,0,0,0,0]
["Asset Management",null,0,0,0,0,0,0,0,0,1]
["Finance",null,311710051.37,377972911.76999998,572128627.84000003,551611853,644841984,644841984,575470228,606398024,604740862]
["Fleet Management",null,0,0,0,0,0,0,0,0,0]
["Human Resources",null,0,13499700.07,1400490.07,1200000,1200000,1200000,0,0,1]
["Information Technology",null,0,110986.5,0,0,0,0,0,0,0]
["Legal Services",null,0,0,0,129,129,129,129,135,141]
["Marketing, Customer Relations, Publicity and Media Co-ordination",null,0,0,0,0,0,0,0,0,0]
["Property Services",null,0,0,0,0,0,0,0,0,0]
["Risk Management",null,0,0,0,0,0,0,0,0,0]
["Security Services",null,0,0,0,0,0,0,0,0,0]
["Supply Chain Management ",null,0,0,0,0,0,0,0,0,0]
["Valuation Service",null,0,0,0,0,0,0,0,0,0]
["Internal audit",null,{"$f":"SUM(C24:C24)","v":0},0,0,0,0,0,0,0,0]
["Governance Function",null,0,0,0,0,0,0,0,0,0]
["Community and public safety",null,{"$f":"C26+C48+C54+C63+C66","v":56107950.849999994},35072212.840000004,27834887.599999998,40390127,40390127,40390127,40390127,42086516,43938324]
["Community and social services",null,{"$f":"SUM(C27:C47)","v":45523.5},{"$f":"SUM(D27:D47)","v":9603},32515,56136,56136,56136,56136,58495,61070]
["Aged Care",null,0,0,0,0,0,0,0,0,0]
["Agricultural",null,0,0,0,0,0,0,0,0,0]
["Animal Care and Diseases",null,0,0,0,0,0,0,0,0,0]
["Cemeteries, Funeral Parlours and Crematoriums",null,0,0,0,0,0,0,0,0,0]
["Child Care Facilities",null,0,0,0,0,0,0,0,0,0]
["Community Halls and Facilities",null,45523.5,0,0,0,0,0,0,0,0]
["Consumer Protection",null,0,0,0,0,0,0,0,0,0]
["Cultural Matters",null,0,0,0,0,0,0,0,0,0]
["Disaster Management",null,0,0,0,0,0,0,0,0,0]
["Education",null,0,0,0,0,0,0,0,0,0]
["Indigenous and Customary Law",null,0,0,0,0,0,0,0,0,0]
["Industrial Promotion",null,0,0,0,0,0,0,0,0,0]
["Language Policy",null,0,0,0,0,0,0,0,0,0]
["Libraries and Archives",null,0,9603,32515,56136,56136,56136,56136,58495,61070]
["Literacy Programmes",null,0,0,0,0,0,0,0,0,0]
["Media Services",null,0,0,0,0,0,0,0,0,0]
["Museums and Art Galleries",null,0,0,0,0,0,0,0,0,0]
["Population Development",null,0,0,0,0,0,0,0,0,0]
["Provincial Cultural Matters",null,0,0,0,0,0,0,0,0,0]
["Theatres",null,0,0,0,0,0,0,0,0,0]
["Zoo's",null,0,0,0,0,0,0,0,0,0]
["Sport and recreation",null,{"$f":"SUM(C49:C53)","v":149130},{"$f":"SUM(D49:D53)","v":0},359180.41,660766,660766,660766,660766,688519,718814]
["Beaches and Jetties ",null,0,0,0,0,0,0,0,0,0]
["Casinos, Racing, Gambling, Wagering",null,0,0,0,0,0,0,0,0,0]
["Community Parks (including Nurseries)",null,149130,0,0,0,0,0,0,0,0]
["Recreational Facilities",null,0,0,359180.41,660766,660766,660766,660766,688519,718814]
["Sports Grounds and Stadiums",null,0,0,0,0,0,0,0,0,0]
["Public safety",null,{"$f":"SUM(C55:C62)","v":45442703},31736170,25556445,38001000,38001000,38001000,38001000,39597042,41339312]
["Civil Defence",null,0,0,0,0,0,0,0,0,0]
["Cleansing",null,0,0,0,0,0,0,0,0,0]
["Control of Public Nuisances",null,0,31736170,25556445,38001000,38001000,38001000,38001000,39597042,41339312]
["Fencing and Fences ",null,0,0,0,0,0,0,0,0,0]
["Fire Fighting and Protection",null,45442703,0,0,0,0,0,0,0,0]
["Licensing and Control of Animals",null,0,0,0,0,0,0,0,0,0]
["Police Forces, Traffic and Street Parking Control",null,0,0,0,0,0,0,0,0,0]
["Pounds",null,0,0,0,0,0,0,0,0,0]
["Housing",null,{"$f":"SUM(C64:C65)","v":1822418.98},{"$f":"SUM(D64:D65)","v":2724137.92},1866536.49,1659225,1659225,1659225,1659225,1728914,1804985]
["Housing",null,1822418.98,2724137.92,1866536.49,1659225,1659225,1659225,1659225,1728914,1804985]
["Informal Settlements",null,0,0,0,0,0,0,0,0,0]
["Health",null,{"$f":"SUM(C67:C73)","v":8648175.3699999992},{"$f":"SUM(D67:D73)","v":602301.92000000004},20210.7,13000,13000,13000,13000,13546,14143]
["Ambulance",null,0,0,0,0,0,0,0,0,0]
["Health Services",null,8648175.3699999992,602301.92000000004,20210.7,13000,13000,13000,13000,13546,14143]
["Laboratory Services",null,0,0,0,0,0,0,0,0,0]
["Food Control",null,0,0,0,0,0,0,0,0,0]
["Health Surveillance and Prevention of Communicable Diseases including immunizations",null,0,0,0,0,0,0,0,0,0]
["Vector Control",null,0,0,0,0,0,0,0,0,0]
["Chemical Safety",null,0,0,0,0,0,0,0,0,0]
["Economic and environmental services",null,{"$f":"C75+C86+C91","v":196404602},129228294.29000001,107011252.08999999,152700516,116700517,116700517,122822518,132054946,138046189]
["Planning and development",null,{"$f":"SUM(C76:C85)","v":11015460},{"$f":"SUM(D76:D85)","v":3372625},355705.99,400125,400125,400125,400126,416933,435278]
["Billboards",null,0,0,0,0,0,0,1,2,2]
["Corporate Wide Strategic Planning (IDPs, LEDs)",null,11015460,3139120,72920,200125,200125,200125,200125,208531,217706]
["Central City Improvement District",null,0,0,0,0,0,0,0,0,0]
["Development Facilitation",null,0,0,0,0,0,0,0,0,0]
["Economic Development/Planning",null,0,0,0,0,0,0,0,0,0]
["Regional Planning and Development",null,0,0,0,0,0,0,0,0,0]
["Town Planning, Building Regulations and Enforcement, and City Engineer",null,0,233505,282785.99,200000,200000,200000,200000,208400,217570]
["Project Management Unit",null,0,0,0,0,0,0,0,0,0]
["Provincial Planning",null,0,0,0,0,0,0,0,0,0]
["Support to Local Municipalities",null,0,0,0,0,0,0,0,0,0]
["Road transport",null,{"$f":"SUM(C87:C90)","v":185389142},125855669.29000001,106655546.09999999,152300391,116300392,116300392,122422392,131638013,137610911]
["Public Transport",null,0,0,0,0,0,0,0,0,0]
["Road and Traffic Regulation",null,0,0,0,0,0,0,0,0,0]
["Roads",null,185389142,125855669.29000001,106655546.09999999,152300391,116300392,116300392,122422392,131638013,137610911]
["Taxi Ranks",null,0,0,0,0,0,0,0,0,0]
["Environmental protection",null,{"$f":"SUM(C92:C97)","v":0},{"$f":"SUM(D92:D97)","v":0},0,0,0,0,0,0,0]
["Biodiversity and Landscape",null,0,0,0,0,0,0,0,0,0]
["Coastal Protection",null,0,0,0,0,0,0,0,0,0]
["Indigenous Forests",null,0,0,0,0,0,0,0,0,0]
["Nature Conservation",null,0,0,0,0,0,0,0,0,0]
["Pollution Control",null,0,0,0,0,0,0,0,0,0]
["Soil Conservation",null,0,0,0,0,0,0,0,0,0]
["Trading services",null,{"$f":"C99+C103+C107+C112","v":519779159.01999998},{"$f":"D99+D103+D107+D112","v":503748700.69},610283631.87,659741507,664283509,664283509,810011612,821671074,{"$f":"K99+K103+K107+K112","v":891256321}]
["Energy sources",null,{"$f":"SUM(C100:C102)","v":457445097.01999998},{"$f":"SUM(D100:D102)","v":452008851},577155264.62,586201000,590743000,590743000,735641250,752995601,819559128]
["Electricity ",null,457445097.01999998,452008851,577155264.62,586201000,590743000,590743000,735641250,752995601,819559128]
["Street Lighting and Signal Systems",null,0,0,0,0,0,0,0,0,0]
["Nonelectric Energy",null,0,0,0,0,0,0,0,0,0]
["Water management",null,{"$f":"SUM(C104:C106)","v":0},{"$f":"SUM(D104:D106)","v":0},0,0,1,1,1,2,2]
["Water Treatment",null,0,0,0,0,1,1,1,2,2]
["Water Distribution",null,0,0,0,0,0,0,0,0,0]
["Water Storage",null,0,0,0,0,0,0,0,0,0]
["Waste water management",null,{"$f":"SUM(C108:C111)","v":1425748},{"$f":"SUM(D108:D111)","v":0},0,0,0,0,0,0,0]
["Public Toilets",null,1425748,0,0,0,0,0,0,0,0]
["Sewerage",null,0,0,0,0,0,0,0,0,0]
["Storm Water Management",null,0,0,0,0,0,0,0,0,0]
["Waste Water Treatment",null,0,0,0,0,0,0,0,0,0]
["Waste management",null,{"$f":"SUM(C113:C116)","v":60908314},{"$f":"SUM(D113:D116)","v":51739849.689999998},33128367.25,73540507,73540508,73540508,74370361,68675471,71697191]
["Recycling",null,0,0,0,0,0,0,0,0,0]
["Solid Waste Disposal (Landfill Sites)",null,60908314,0,0,0,0,0,0,0,0]
["Solid Waste Removal",null,0,51739849.689999998,33128367.25,73540507,73540508,73540508,74370361,68675471,71697191]
["Street Cleaning",null,0,0,0,0,0,0,0,0,0]
["Other",null,{"$f":"SUM(C118:C123)","v":0},{"$f":"SUM(D118:D123)","v":0},0,0,0,0,0,0,0]
["Abattoirs",null,0,0,0,0,0,0,0,0,0]
["Air Transport",null,0,0,0,0,0,0,0,0,0]
["Forestry ",null,0,0,0,0,0,0,0,0,0]
["Licensing and Regulation",null,0,0,0,0,0,0,0,0,0]
["Markets",null,0,0,0,0,0,0,0,0,0]
["Tourism",null,0,0,0,0,0,0,0,0,0]
[{"$f":"\"Total \"&A4","v":"Total Revenue - Functional"},2,{"$f":"C5+C25+C74+C98+C117","v":1136719603.8699999},1136215479.5999999,1318956889.4700003,1405645232,1467417366,1467417366,1548695714,1602211842,1677983036]
[]
["Expenditure - Functional"]
[{"$f":"A5","v":"Municipal governance and administration"},null,{"$f":"C128+C131+C145","v":359621877.42999995},383658892.27000004,277922868.60999995,288154389,300918491,300918491,316742137,329622756,343683451]
["Executive and council",null,{"$f":"SUM(C129:C130)","v":34109919.440000005},42526739.659999996,47362541.409999996,44674724,44774387,44774387,47525810,49406034,51458517]
["Mayor and Council",null,33039732.510000002,26136302.579999998,27192533.379999999,29534983,29639983,29639983,28905898,30119958,31445242]
["Municipal Manager, Town Secretary and Chief Executive",null,1070186.93,16390437.08,20170008.030000001,15139741,15134404,15134404,18619912,19286076,20013275]
["Finance and administration",null,{"$f":"SUM(C132:C144)","v":320880909.92999995},336837691.65000004,225722018.63,237609210,250323649,250323649,263481478,274241000,285986273]
["Administrative and Corporate Support",null,35759,204217612.77000001,27717877.75,27393800,26718238,26718238,31248354,32555228,33981834]
["Asset Management",null,28182464.52,7831239,8896676.5299999993,6105960,5650709,5650709,6848340,7135984,7449971]
["Finance",null,259411020.19,32871271.579999998,97189138.920000002,102133089,109348183,109348183,116272988,121067068,126300401]
["Fleet Management",null,9419096.9499999993,14882296,18731808.82,37088599,36576499,36576499,29043172,30263000,31594580]
["Human Resources",null,2998587.9,10138781.800000001,10366525.41,17230604,17378064,17378064,20890371,21767779,22725568]
["Information Technology",null,3586418.47,25149509.739999998,11015762.6,15465345,16610345,16610345,17667418,18197589,18776332]
["Legal Services",null,17072219.449999999,20662405,25904474.07,13604572,19654572,19654572,22084330,23011882,24024412]
["Marketing, Customer Relations, Publicity and Media Co-ordination",null,0,8052100,3489090.81,3883421,4103421,4103421,4652696,4848121,5061444]
["Property Services",null,0,6849848,16053700.23,7481318,7471318,7471318,7465766,7779346,8121661]
["Risk Management",null,175343.45,1998596.76,1981241.55,2266056,2266056,2266056,2283280,2379188,2483875]
["Security Services",null,0,0,0,0,0,0,0,0,0]
["Supply Chain Management ",null,0,4184031,4375721.9400000004,4956446,4546244,4546244,5024763,5235815,5466195]
["Valuation Service",null,0,0,0,0,0,0,0,0,0]
["Internal audit",null,{"$f":"SUM(C146:C146)","v":4631048.0599999996},4294460.96,4838308.57,5870455,5820455,5820455,5734849,5975722,6238661]
["Governance Function",null,4631048.0599999996,4294460.96,4838308.57,5870455,5820455,5820455,5734849,5975722,6238661]
["Community and public safety",null,{"$f":"C148+C170+C176+C185+C188","v":40981172.890000001},58016588.240000002,76939452.909999996,120243047,120352998,120352998,87148830,90624254,94418074]
["Community and social services",null,{"$f":"SUM(C149:C169)","v":11652126.029999999},{"$f":"SUM(D149:D169)","v":10934244.24},13453079.92,13290578,13470578,13470578,14064027,14650792,15291322]
["Aged Care",null,0,0,0,0,0,0,0,0,0]
["Agricultural",null,0,0,0,0,0,0,0,0,0]
["Animal Care and Diseases",null,0,0,0,0,0,0,0,0,0]
["Cemeteries, Funeral Parlours and Crematoriums",null,0,0,0,0,0,0,0,0,0]
["Child Care Facilities",null,0,0,0,0,0,0,0,0,0]
["Community Halls and Facilities",null,11010031,0,0,0,0,0,32727,32727,32727]
["Consumer Protection",null,0,0,0,0,0,0,0,0,0]
["Cultural Matters",null,0,0,0,0,0,0,0,0,0]
["Disaster Management",null,641115.03,2074940.24,3813595.18,2711398,2891398,2891398,3400046,3542854,3698746]
["Education",null,0,0,0,0,0,0,0,0,0]
[{"$f":"A37","v":"Indigenous and Customary Law"},null,0,0,0,0,0,0,0,0,0]
["Industrial Promotion",null,0,0,0,0,0,0,0,0,0]
["Language Policy",null,0,0,0,0,0,0,0,0,0]
["Libraries and Archives",null,980,8859304,9639484.7400000002,10579180,10579180,10579180,10631254,11075211,11559849]
["Literacy Programmes",null,0,0,0,0,0,0,0,0,0]
["Media Services",null,0,0,0,0,0,0,0,0,0]
["Museums and Art Galleries",null,0,0,0,0,0,0,0,0,0]
["Population Development",null,0,0,0,0,0,0,0,0,0]
["Provincial Cultural Matters",null,0,0,0,0,0,0,0,0,0]
["Theatres",null,0,0,0,0,0,0,0,0,0]
["Zoo's",null,0,0,0,0,0,0,0,0,0]
["Sport and recreation",null,{"$f":"SUM(C171:C175)","v":3186009.59},13223660,22565404.379999999,25601180,26279558,26279558,28000708,29008030,30107645]
["Beaches and Jetties ",null,0,0,0,0,0,0,0,0,0]
["Casinos, Racing, Gambling, Wagering",null,0,0,0,0,0,0,0,0,0]
["Community Parks (including Nurseries)",null,3186009.59,0,0,0,0,0,0,0,0]
["Recreational Facilities",null,0,13223660,22565404.379999999,25601180,26279558,26279558,28000708,29008030,30107645]
["Sports Grounds and Stadiums",null,0,0,0,0,0,0,0,0,0]
["Public safety",null,{"$f":"SUM(C177:C184)","v":22286815},16742070,18165575.59,51032724,50235198,50235198,18297616,19053890,19879440]
["Civil Defence",null,0,0,0,0,0,0,0,0,0]
["Cleansing",null,0,0,0,0,0,0,0,0,0]
[{"$f":"A57","v":"Control of Public Nuisances"},null,15787821,16742070,18165575.59,51032724,50235198,50235198,18297616,19053890,19879440]
["Fencing and Fences ",null,0,0,0,0,0,0,0,0,0]
["Fire Fighting and Protection",null,6498994,0,0,0,0,0,0,0,0]
["Licensing and Control of Animals",null,0,0,0,0,0,0,0,0,0]
["Police Forces, Traffic and Street Parking Control",null,0,0,0,0,0,0,0,0,0]
["Pounds",null,0,0,0,0,0,0,0,0,0]
[{"$f":"A63","v":"Housing"},null,{"$f":"SUM(C186:C187)","v":3100429.96},7917952,12113183.550000001,18596061,18645160,18645160,15936528,16605872,17336537]
["Housing",null,3100429.96,7917952,12113183.550000001,18596061,18645160,18645160,15936528,16605872,17336537]
["Informal Settlements",null,0,0,0,0,0,0,0,0,0]
["Health",null,{"$f":"SUM(C189:C195)","v":755792.31},{"$f":"SUM(D189:D195)","v":9198662},10642209.470000001,11722504,11722504,11722504,10849951,11305670,11803130]
["Ambulance",null,0,0,0,0,0,0,0,0,0]
["Health Services",null,755792.31,9198662,10642209.470000001,11722504,11722504,11722504,10849951,11305670,11803130]
["Laboratory Services",null,0,0,0,0,0,0,0,0,0]
["Food Control",null,0,0,0,0,0,0,0,0,0]
["Health Surveillance and Prevention of Communicable Diseases including immunizations",null,0,0,0,0,0,0,0,0,0]
["Vector Control",null,0,0,0,0,0,0,0,0,0]
["Chemical Safety",null,0,0,0,0,0,0,0,0,0]
["Economic and environmental services",null,{"$f":"C197+C208+C213","v":287838164.62},157357878.38999999,145494753.62,215242849,185144739,185144739,194796743,204438526,215055346]
["Planning and development",null,{"$f":"SUM(C198:C207)","v":19315113.289999999},{"$f":"SUM(D198:D207)","v":15559417.92},15835955.4,28248926,31860280,31860280,29816905,31065649,32428897]
["Billboards",null,0,0,0,0,0,0,0,0,0]
["Corporate Wide Strategic Planning (IDPs, LEDs)",null,17721905.34,9193476.9199999999,9336842.7400000002,19361812,24058697,24058697,20962946,21843409,22804640]
["Central City Improvement District",null,0,0,0,0,0,0,0,0,0]
["Development Facilitation",null,0,0,0,0,0,0,0,0,0]
["Economic Development/Planning",null,0,2400975,2015107.4,2396635,2475635,2475635,2015597,2097227,2186337]
["Regional Planning and Development",null,0,0,0,0,0,0,0,0,0]
["Town Planning, Building Regulations and Enforcement, and City Engineer",null,1593207.95,2004742,4484005.26,6490479,5325948,5325948,6838362,7125013,7437920]
["Project Management Unit",null,0,0,0,0,0,0,0,0,0]
["Provincial Planning",null,0,0,0,0,0,0,0,0,0]
["Support to Local Municipalities",null,0,1960224,0,0,0,0,0,0,0]
["Road transport",null,{"$f":"SUM(C209:C212)","v":268523051.32999998},141798460.47,129658798.22,186993923,153284459,153284459,164979838,173372877,182626449]
["Public Transport",null,0,0,0,0,0,0,0,0,0]
["Road and Traffic Regulation",null,0,0,0,0,0,0,0,0,0]
["Roads",null,268523051.32999998,141798460.47,129658798.22,186993923,153284459,153284459,164979838,173372877,182626449]
["Taxi Ranks",null,0,0,0,0,0,0,0,0,0]
["Environmental protection",null,{"$f":"SUM(C214:C219)","v":0},{"$f":"SUM(D214:D219)","v":0},0,0,0,0,0,0,0]
["Biodiversity and Landscape",null,0,0,0,0,0,0,0,0,0]
["Coastal Protection",null,0,0,0,0,0,0,0,0,0]
["Indigenous Forests",null,0,0,0,0,0,0,0,0,0]
[{"$f":"A95","v":"Nature Conservation"},null,0,0,0,0,0,0,0,0,0]
["Pollution Control",null,0,0,0,0,0,0,0,0,0]
["Soil Conservation",null,0,0,0,0,0,0,0,0,0]
["Trading services",null,{"$f":"C221+C225+C229+C234","v":536569555.84000003},{"$f":"D221+D225+D229+D234","v":599954439.70000005},605995302.13999999,663714756,674304822,674304822,723484931,732610702,786961157]
["Energy sources",null,{"$f":"SUM(C222:C224)","v":448420239.68000001},{"$f":"SUM(D222:D224)","v":511714738.88},520103946.25999999,572684922,583826089,583826089,628353359,642482423,693056217]
["Electricity ",null,448420239.68000001,511714738.88,520103946.25999999,572684922,583826089,583826089,628353359,642482423,693056217]
["Street Lighting and Signal Systems",null,0,0,0,0,0,0,0,0,0]
["Nonelectric Energy",null,0,0,0,0,0,0,0,0,0]
["Water management",null,{"$f":"SUM(C226:C228)","v":0},{"$f":"SUM(D226:D228)","v":0},0,0,0,0,0,0,0]
["Water Treatment",null,0,0,0,0,0,0,0,0,0]
["Water Distribution",null,0,0,0,0,0,0,0,0,0]
["Water Storage",null,0,0,0,0,0,0,0,0,0]
["Waste water management",null,{"$f":"SUM(C230:C233)","v":5972911},{"$f":"SUM(D230:D233)","v":3852436},4297092.04,5125814,5125814,5125814,8780470,8983100,9204285]
["Public Toilets",null,5972911,3852436,4297092.04,5125814,5125814,5125814,8780470,8983100,9204285]
["Sewerage",null,0,0,0,0,0,0,0,0,0]
["Storm Water Management",null,0,0,0,0,0,0,0,0,0]
["Waste Water Treatment",null,0,0,0,0,0,0,0,0,0]
["Waste management",null,{"$f":"SUM(C235:C238)","v":82176405.159999996},{"$f":"SUM(D235:D238)","v":84387264.819999993},81594263.840000004,85904020,85352919,85352919,86351102,81145179,84700655]
["Recycling",null,0,0,0,0,0,0,0,0,0]
["Solid Waste Disposal (Landfill Sites)",null,8072300.1600000001,0,0,0,0,0,0,0,0]
["Solid Waste Removal",null,74104105,58863825.75,55068903.07,57506939,57139536,57139536,57478530,51059945,53291668]
["Street Cleaning",null,0,25523439.07,26525360.77,28397081,28213383,28213383,28872572,30085234,31408987]
["Other",null,{"$f":"SUM(C240:C245)","v":0},{"$f":"SUM(D240:D245)","v":0},0,0,0,0,0,0,0]
["Abattoirs",null,0,0,0,0,0,0,0,0,0]
["Air Transport",null,0,0,0,0,0,0,0,0,0]
["Forestry ",null,0,0,0,0,0,0,0,0,0]
["Licensing and Regulation",null,0,0,0,0,0,0,0,0,0]
["Markets",null,0,0,0,0,0,0,0,0,0]
["Tourism",null,0,0,0,0,0,0,0,0,0]
[{"$f":"\"Total \"&A126","v":"Total Expenditure - Functional"},3,{"$f":"C127+C147+C196+C220+C239","v":1225010770.78},1198987798.6000001,1106352377.28,1287355041,1280721050,1280721050,1322172641,1357296238,1440118028]
[{"$f":"result","v":"Surplus/(Deficit) for the year"},null,{"$f":"C124-C246","v":-88291166.910000086},-62772319.000000238,212604512.1900003,118290191,186696316,186696316,226523073,244915604,237865008]
[{"$f":"head27a","v":"References"}]
["1. Government Finance Statistics Functions and Sub-functions are standardised to assist national and international accounts and comparison"]
["2. Total Revenue by Functional Classification must reconcile to total operating revenue shown in Financial Performance (revenue and expenditure)"]
["3. Total Expenditure by Functional Classification must reconcile to total operating expenditure shown in Financial Performance (revenue and expenditure)"]
["4. All amounts must be classified under a Functional classification. The GFS function 'Other' is only for Abbatoirs, Air Transport,  Forestry, Licensing and Regulation, Markets and Tourism - and if used must be supported by footnotes. Nothing else may be placed under 'Other'. Assign associate share to relevant classification"]
[]
[]
["check oprev balance",null,{"$f":"C124-'A4-FinPerf RE'!C59","v":0},{"$f":"D124-'A4-FinPerf RE'!D59","v":0},{"$f":"E124-'A4-FinPerf RE'!E59","v":0},{"$f":"F124-'A4-FinPerf RE'!F59","v":0},{"$f":"G124-'A4-FinPerf RE'!G59","v":1},{"$f":"H124-'A4-FinPerf RE'!H59","v":1},{"$f":"I124-'A4-FinPerf RE'!J59","v":0},{"$f":"J124-'A4-FinPerf RE'!K59","v":0},{"$f":"K124-'A4-FinPerf RE'!L59","v":0}]
["check opexp balance",null,{"$f":"C246-'A4-FinPerf RE'!C35","v":0},{"$f":"D246-'A4-FinPerf RE'!D35","v":0},{"$f":"E246-'A4-FinPerf RE'!E35","v":0},{"$f":"F246-'A4-FinPerf RE'!F35","v":0},{"$f":"G246-'A4-FinPerf RE'!G35","v":0},{"$f":"H246-'A4-FinPerf RE'!H35","v":0},{"$f":"I246-'A4-FinPerf RE'!J35","v":0},{"$f":"J246-'A4-FinPerf RE'!K35","v":0},{"$f":"K246-'A4-FinPerf RE'!L35","v":-1}]

{"sheet":"A3-FinPerf V","index":9,"n_rows":45,"n_cols":23,"rows_kept":45,"cut":false,"hidden":false,"merged":[[1,5,1,7],[1,8,1,10],[1,11,1,22]]}
[{"$f":"muni&\" - \"&Approve2","v":"Choose name from list - Table A3 Budgeted Financial Performance (revenue and expenditure by municipal vote)"}]
[{"$f":"Vdesc","v":"Vote Description"},{"$f":"head27","v":"Ref"},{"$f":"head1b","v":"2017/18"},{"$f":"head1A","v":"2018/19"},{"$f":"Head1","v":"2019/20"},{"$f":"Head2","v":"Current Year 2020/21"},null,null,{"$f":"Head3","v":"2021/22 Medium Term Revenue & Expenditure Framework"},null,null,{"$f":"Head4","v":"LTFS"}]
["R thousand",null,{"$f":"Head5","v":"Audited Outcome"},{"$f":"Head5","v":"Audited Outcome"},{"$f":"Head5","v":"Audited Outcome"},{"$f":"Head6","v":"Original Budget"},{"$f":"Head7","v":"Adjusted Budget"},{"$f":"Head8","v":"Full Year Forecast"},{"$f":"Head9","v":"Budget Year 2021/22"},{"$f":"Head10","v":"Budget Year +1 2022/23"},{"$f":"Head11","v":"Budget Year +2 2023/24"},{"$f":"Head12","v":"Forecast 2024/25"},{"$f":"Head13","v":"Forecast 2025/26"},{"$f":"Head14","v":"Forecast 2026/27"},{"$f":"Head15","v":"Forecast 2027/28"},{"$f":"Head16","v":"Forecast 2028/29"},{"$f":"Head17","v":"Forecast 2029/30"},{"$f":"Head18","v":"Forecast 2030/31"},{"$f":"Head19","v":"Forecast 2031/32"},{"$f":"Head20","v":"Forecast 2032/33"},{"$f":"Head21","v":"Forecast 2033/34"},{"$f":"Head22","v":"Forecast 2034/35"},{"$f":"Head23","v":"Forecast 2035/36"}]
["Revenue by Vote",1]
[{"$f":"A3A!A5","v":"Vote 1 - Executive & Council"},null,{"$f":"A3A!C5","v":52717840.630000003},{"$f":"A3A!D5","v":76693659.939999998},{"$f":"A3A!E5","v":0},{"$f":"A3A!F5","v":0},{"$f":"A3A!G5","v":0},{"$f":"A3A!H5","v":0},{"$f":"A3A!I5","v":0},{"$f":"A3A!J5","v":0},{"$f":"A3A!K5","v":0}]
[{"$f":"A3A!A16","v":"Vote 2 - Planning and Economic Development"},null,{"$f":"A3A!C16","v":1833578.98},{"$f":"A3A!D16","v":2957642.92},{"$f":"A3A!E16","v":355705.99},{"$f":"A3A!F16","v":400125},{"$f":"A3A!G16","v":400125},{"$f":"A3A!H16","v":400125},{"$f":"A3A!I16","v":400126},{"$f":"A3A!J16","v":416933},{"$f":"A3A!K16","v":435278}]
[{"$f":"A3A!A27","v":"Vote 3 - Budget and Treasury"},null,{"$f":"A3A!C27","v":445240576.37},{"$f":"A3A!D27","v":391472611.83999997},{"$f":"A3A!E27","v":572128627.84000003},{"$f":"A3A!F27","v":551611853},{"$f":"A3A!G27","v":644841984},{"$f":"A3A!H27","v":644841984},{"$f":"A3A!I27","v":575470228},{"$f":"A3A!J27","v":606398024},{"$f":"A3A!K27","v":604740863}]
[{"$f":"A3A!A38","v":"Vote 4 - Corporate Services"},null,{"$f":"A3A!C38","v":0},{"$f":"A3A!D38","v":36842335},{"$f":"A3A!E38","v":1400490.07},{"$f":"A3A!F38","v":1200000},{"$f":"A3A!G38","v":1200000},{"$f":"A3A!H38","v":1200000},{"$f":"A3A!I38","v":0},{"$f":"A3A!J38","v":0},{"$f":"A3A!K38","v":1}]
[{"$f":"A3A!A49","v":"Vote 5 - Engineering Services"},null,{"$f":"A3A!C49","v":101742000},{"$f":"A3A!D49","v":92348531.290000007},{"$f":"A3A!E49","v":93962050.599999994},{"$f":"A3A!F49","v":95278325},{"$f":"A3A!G49","v":95278327},{"$f":"A3A!H49","v":95278327},{"$f":"A3A!I49","v":101400327},{"$f":"A3A!J49","v":109733023},{"$f":"A3A!K49","v":114742099}]
[{"$f":"A3A!A60","v":"Vote 6 - Community Services"},null,{"$f":"A3A!C60","v":81017333.890000001},{"$f":"A3A!D60","v":74287164.219999999},{"$f":"A3A!E60","v":73656750.349999994},{"$f":"A3A!F60","v":170952700},{"$f":"A3A!G60","v":134952701},{"$f":"A3A!H60","v":134952701},{"$f":"A3A!I60","v":135782554},{"$f":"A3A!J60","v":132666979},{"$f":"A3A!K60","v":138504329}]
[{"$f":"A3A!A71","v":"Vote 7 - Electrical Engineering"},null,{"$f":"A3A!C71","v":454168274},{"$f":"A3A!D71","v":461613534.38999999},{"$f":"A3A!E71","v":577155264.62},{"$f":"A3A!F71","v":586201000},{"$f":"A3A!G71","v":590743000},{"$f":"A3A!H71","v":590743000},{"$f":"A3A!I71","v":735641250},{"$f":"A3A!J71","v":752995601},{"$f":"A3A!K71","v":819559128}]
[{"$f":"A3A!A82","v":"Vote 8 - Office of the Speaker"},null,{"$f":"A3A!C82","v":0},{"$f":"A3A!D82","v":0},{"$f":"A3A!E82","v":0},{"$f":"A3A!F82","v":0},{"$f":"A3A!G82","v":0},{"$f":"A3A!H82","v":0},{"$f":"A3A!I82","v":0},{"$f":"A3A!J82","v":0},{"$f":"A3A!K82","v":0}]
[{"$f":"A3A!A93","v":"Vote 9 - COMMUNITY & SOCIAL SERVICES"},null,{"$f":"A3A!C93","v":0},{"$f":"A3A!D93","v":0},{"$f":"A3A!E93","v":0},{"$f":"A3A!F93","v":0},{"$f":"A3A!G93","v":0},{"$f":"A3A!H93","v":0},{"$f":"A3A!I93","v":0},{"$f":"A3A!J93","v":0},{"$f":"A3A!K93","v":0}]
[{"$f":"A3A!A104","v":"Vote 10 - Office of the Municipal Manager"},null,{"$f":"A3A!C104","v":0},{"$f":"A3A!D104","v":0},{"$f":"A3A!E104","v":298000},{"$f":"A3A!F104","v":1229},{"$f":"A3A!G104","v":1229},{"$f":"A3A!H104","v":1229},{"$f":"A3A!I104","v":1229},{"$f":"A3A!J104","v":1282},{"$f":"A3A!K104","v":1338}]
[{"$f":"A3A!A115","v":"Vote 11 - [NAME OF VOTE 11]"},null,{"$f":"A3A!C115","v":0},{"$f":"A3A!D115","v":0},{"$f":"A3A!E115","v":0},{"$f":"A3A!F115","v":0},{"$f":"A3A!G115","v":0},{"$f":"A3A!H115","v":0},{"$f":"A3A!I115","v":0},{"$f":"A3A!J115","v":0},{"$f":"A3A!K115","v":0},{"$f":"A5A!L115","v":0}]
[{"$f":"A3A!A126","v":"Vote 12 - [NAME OF VOTE 12]"},null,{"$f":"A3A!C126","v":0},{"$f":"A3A!D126","v":0},{"$f":"A3A!E126","v":0},{"$f":"A3A!F126","v":0},{"$f":"A3A!G126","v":0},{"$f":"A3A!H126","v":0},{"$f":"A3A!I126","v":0},{"$f":"A3A!J126","v":0},{"$f":"A3A!K126","v":0},{"$f":"A5A!L126","v":0}]
[{"$f":"A3A!A137","v":"Vote 13 - [NAME OF VOTE 13]"},null,{"$f":"A3A!C137","v":0},{"$f":"A3A!D137","v":0},{"$f":"A3A!E137","v":0},{"$f":"A3A!F137","v":0},{"$f":"A3A!G137","v":0},{"$f":"A3A!H137","v":0},{"$f":"A3A!I137","v":0},{"$f":"A3A!J137","v":0},{"$f":"A3A!K137","v":0},{"$f":"A5A!L137","v":0}]
[{"$f":"A3A!A148","v":"Vote 14 - [NAME OF VOTE 14]"},null,{"$f":"A3A!C148","v":0},{"$f":"A3A!D148","v":0},{"$f":"A3A!E148","v":0},{"$f":"A3A!F148","v":0},{"$f":"A3A!G148","v":0},{"$f":"A3A!H148","v":0},{"$f":"A3A!I148","v":0},{"$f":"A3A!J148","v":0},{"$f":"A3A!K148","v":0},{"$f":"A5A!L148","v":0}]
[{"$f":"A3A!A159","v":"Vote 15 - [NAME OF VOTE 15]"},null,{"$f":"A3A!C159","v":0},{"$f":"A3A!D159","v":0},{"$f":"A3A!E159","v":0},{"$f":"A3A!F159","v":0},{"$f":"A3A!G159","v":0},{"$f":"A3A!H159","v":0},{"$f":"A3A!I159","v":0},{"$f":"A3A!J159","v":0},{"$f":"A3A!K159","v":0},{"$f":"A5A!L159","v":0}]
["Total Revenue by Vote",2,{"$f":"SUM(C5:C19)","v":1136719603.8699999},{"$f":"SUM(D5:D19)","v":1136215479.5999999},1318956889.4700003,1405645232,1467417366,1467417366,1548695714,1602211842,1677983036]
[]
["Expenditure by Vote to be appropriated",1]
[{"$f":"A3A!A173","v":"Vote 1 - Executive & Council"},null,{"$f":"A3A!C173","v":346769164.67000002},{"$f":"A3A!D173","v":281786216.05000001},{"$f":"A3A!E173","v":0},{"$f":"A3A!F173","v":0},{"$f":"A3A!G173","v":0},{"$f":"A3A!H173","v":0},{"$f":"A3A!I173","v":0},{"$f":"A3A!J173","v":0},{"$f":"A3A!K173","v":0}]
[{"$f":"A3A!A184","v":"Vote 2 - Planning and Economic Development"},null,{"$f":"A3A!C184","v":4054727.78},{"$f":"A3A!D184","v":30327217.920000002},{"$f":"A3A!E184","v":27696566.359999999},{"$f":"A3A!F184","v":31351190},{"$f":"A3A!G184","v":34702544},{"$f":"A3A!H184","v":34702544},{"$f":"A3A!I184","v":32421715},{"$f":"A3A!J184","v":33779872},{"$f":"A3A!K184","v":35262560}]
[{"$f":"A3A!A195","v":"Vote 3 - Budget and Treasury"},null,{"$f":"A3A!C195","v":287720462.70999998},{"$f":"A3A!D195","v":59768837.579999998},{"$f":"A3A!E195","v":110504122.43000001},{"$f":"A3A!F195","v":113337111},{"$f":"A3A!G195","v":119686752},{"$f":"A3A!H195","v":119686752},{"$f":"A3A!I195","v":128287707},{"$f":"A3A!J195","v":133586431},{"$f":"A3A!K195","v":139370625}]
[{"$f":"A3A!A206","v":"Vote 4 - Corporate Services"},null,{"$f":"A3A!C206","v":0},{"$f":"A3A!D206","v":18751167.800000001},{"$f":"A3A!E206","v":52589256.57},{"$f":"A3A!F206","v":63973170},{"$f":"A3A!G206","v":64810068},{"$f":"A3A!H206","v":64810068},{"$f":"A3A!I206","v":74458839},{"$f":"A3A!J206","v":77368717},{"$f":"A3A!K206","v":80545178}]
[{"$f":"A3A!A217","v":"Vote 5 - Engineering Services"},null,{"$f":"A3A!C217","v":214355149.19},{"$f":"A3A!D217","v":141798460.47},{"$f":"A3A!E217","v":119608009.93000001},{"$f":"A3A!F217","v":162934326},{"$f":"A3A!G217","v":161273441},{"$f":"A3A!H217","v":161273441},{"$f":"A3A!I217","v":158869158},{"$f":"A3A!J217","v":167005548},{"$f":"A3A!K217","v":175978961}]
[{"$f":"A3A!A228","v":"Vote 6 - Community Services"},null,{"$f":"A3A!C228","v":19782561.75},{"$f":"A3A!D228","v":137079915.81999999},{"$f":"A3A!E228","v":187459225.68000001},{"$f":"A3A!F228","v":269568063},{"$f":"A3A!G228","v":236386234},{"$f":"A3A!H228","v":236386234},{"$f":"A3A!I228","v":213892592},{"$f":"A3A!J228","v":213692444},{"$f":"A3A!K228","v":222712278}]
[{"$f":"A3A!A239","v":"Vote 7 - Electrical Engineering"},null,{"$f":"A3A!C239","v":352328704.68000001},{"$f":"A3A!D239","v":508866589.88},{"$f":"A3A!E239","v":520103946.25999999},{"$f":"A3A!F239","v":572684922},{"$f":"A3A!G239","v":583826089},{"$f":"A3A!H239","v":583826089},{"$f":"A3A!I239","v":628353359},{"$f":"A3A!J239","v":642482423},{"$f":"A3A!K239","v":693056217}]
[{"$f":"A3A!A250","v":"Vote 8 - Office of the Speaker"},null,{"$f":"A3A!C250","v":0},{"$f":"A3A!D250","v":20609393.079999998},{"$f":"A3A!E250","v":0},{"$f":"A3A!F250","v":0},{"$f":"A3A!G250","v":0},{"$f":"A3A!H250","v":0},{"$f":"A3A!I250","v":0},{"$f":"A3A!J250","v":0},{"$f":"A3A!K250","v":0}]
[{"$f":"A3A!A261","v":"Vote 9 - COMMUNITY & SOCIAL SERVICES"},null,{"$f":"A3A!C261","v":0},{"$f":"A3A!D261","v":0},{"$f":"A3A!E261","v":0},{"$f":"A3A!F261","v":0},{"$f":"A3A!G261","v":0},{"$f":"A3A!H261","v":0},{"$f":"A3A!I261","v":0},{"$f":"A3A!J261","v":0},{"$f":"A3A!K261","v":0}]
[{"$f":"A3A!A272","v":"Vote 10 - Office of the Municipal Manager"},null,{"$f":"A3A!C272","v":0},{"$f":"A3A!D272","v":0},{"$f":"A3A!E272","v":88391250.049999997},{"$f":"A3A!F272","v":73506259},{"$f":"A3A!G272","v":80035922},{"$f":"A3A!H272","v":80035922},{"$f":"A3A!I272","v":85889271},{"$f":"A3A!J272","v":89380803},{"$f":"A3A!K272","v":93192209}]
[{"$f":"A3A!A283","v":"Vote 11 - [NAME OF VOTE 11]"},null,{"$f":"A3A!C283","v":0},{"$f":"A3A!D283","v":0},{"$f":"A3A!E283","v":0},{"$f":"A3A!F283","v":0},{"$f":"A3A!G283","v":0},{"$f":"A3A!H283","v":0},{"$f":"A3A!I283","v":0},{"$f":"A3A!J283","v":0},{"$f":"A3A!K283","v":0},{"$f":"A3A!L284","v":0}]
[{"$f":"A3A!A294","v":"Vote 12 - [NAME OF VOTE 12]"},null,{"$f":"A3A!C294","v":0},{"$f":"A3A!D294","v":0},{"$f":"A3A!E294","v":0},{"$f":"A3A!F294","v":0},{"$f":"A3A!G294","v":0},{"$f":"A3A!H294","v":0},{"$f":"A3A!I294","v":0},{"$f":"A3A!J294","v":0},{"$f":"A3A!K294","v":0},{"$f":"A3A!L295","v":0}]
[{"$f":"A3A!A305","v":"Vote 13 - [NAME OF VOTE 13]"},null,{"$f":"A3A!C305","v":0},{"$f":"A3A!D305","v":0},{"$f":"A3A!E305","v":0},{"$f":"A3A!F305","v":0},{"$f":"A3A!G305","v":0},{"$f":"A3A!H305","v":0},{"$f":"A3A!I305","v":0},{"$f":"A3A!J305","v":0},{"$f":"A3A!K305","v":0},{"$f":"A3A!L306","v":0}]
[{"$f":"A3A!A316","v":"Vote 14 - [NAME OF VOTE 14]"},null,{"$f":"A3A!C316","v":0},{"$f":"A3A!D316","v":0},{"$f":"A3A!E316","v":0},{"$f":"A3A!F316","v":0},{"$f":"A3A!G316","v":0},{"$f":"A3A!H316","v":0},{"$f":"A3A!I316","v":0},{"$f":"A3A!J316","v":0},{"$f":"A3A!K316","v":0},{"$f":"A3A!L317","v":0}]
[{"$f":"A3A!A327","v":"Vote 15 - [NAME OF VOTE 15]"},null,{"$f":"A3A!C327","v":0},{"$f":"A3A!D327","v":0},{"$f":"A3A!E327","v":0},{"$f":"A3A!F327","v":0},{"$f":"A3A!G327","v":0},{"$f":"A3A!H327","v":0},{"$f":"A3A!I327","v":0},{"$f":"A3A!J327","v":0},{"$f":"A3A!K327","v":0},{"$f":"A3A!L328","v":0}]
["Total Expenditure by Vote",2,{"$f":"SUM(C23:C37)","v":1225010770.78},{"$f":"SUM(D23:D37)","v":1198987798.5999999},1106352377.28,1287355041,1280721050,1280721050,1322172641,1357296238,1440118028,{"$f":"SUM(L23:L29)","v":0},0,0,0,0,0,0,0,0,0,0,0]
[{"$f":"result","v":"Surplus/(Deficit) for the year"},2,{"$f":"C20-C38","v":-88291166.910000086},-62772319,212604512.1900003,118290191,186696316,186696316,226523073,244915604,237865008,0,0,0,0,0,0,0,0,0,0,0,0]
[{"$f":"head27a","v":"References"}]
["1. Insert 'Vote'; e.g. department, if different to functional classification structure"]
["2. Must reconcile to Budgeted Financial Performance (revenue and expenditure)"]
["3. Assign share in 'associate' to relevant Vote"]
[]
[{"$f":"\"check \"&A39","v":"check Surplus/(Deficit) for the year"},null,{"$f":"C39-A3A!C340","v":0},{"$f":"D39-A3A!D340","v":0},{"$f":"E39-A3A!E340","v":0},{"$f":"F39-A3A!F340","v":0},{"$f":"G39-A3A!G340","v":0},{"$f":"H39-A3A!H340","v":0},{"$f":"I39-A3A!I340","v":0},{"$f":"J39-A3A!J340","v":0},{"$f":"K39-A3A!K340","v":0}]

{"sheet":"A3A","index":10,"n_rows":347,"n_cols":23,"rows_kept":347,"cut":false,"hidden":false,"merged":[[1,11,1,22],[1,5,1,7],[1,8,1,10]]}
[{"$f":"muni&\" - \"&Approve2&\"A\"","v":"Choose name from list - Table A3 Budgeted Financial Performance (revenue and expenditure by municipal vote)A"}]
[{"$f":"Vdesc","v":"Vote Description"},{"$f":"head27","v":"Ref"},{"$f":"head1b","v":"2017/18"},{"$f":"head1A","v":"2018/19"},{"$f":"Head1","v":"2019/20"},{"$f":"Head2","v":"Current Year 2020/21"},null,null,{"$f":"Head3","v":"2021/22 Medium Term Revenue & Expenditure Framework"},null,null,{"$f":"Head4","v":"LTFS"}]
["R thousand",null,{"$f":"Head5","v":"Audited Outcome"},{"$f":"Head5","v":"Audited Outcome"},{"$f":"Head5","v":"Audited Outcome"},{"$f":"Head6","v":"Original Budget"},{"$f":"Head7","v":"Adjusted Budget"},{"$f":"Head8","v":"Full Year Forecast"},{"$f":"Head9","v":"Budget Year 2021/22"},{"$f":"Head10","v":"Budget Year +1 2022/23"},{"$f":"Head11","v":"Budget Year +2 2023/24"},{"$f":"Head12","v":"Forecast 2024/25"},{"$f":"Head13","v":"Forecast 2025/26"},{"$f":"Head14","v":"Forecast 2026/27"},{"$f":"Head15","v":"Forecast 2027/28"},{"$f":"Head16","v":"Forecast 2028/29"},{"$f":"Head17","v":"Forecast 2029/30"},{"$f":"Head18","v":"Forecast 2030/31"},{"$f":"Head19","v":"Forecast 2031/32"},{"$f":"Head20","v":"Forecast 2032/33"},{"$f":"Head21","v":"Forecast 2033/34"},{"$f":"Head22","v":"Forecast 2034/35"},{"$f":"Head23","v":"Forecast 2035/36"}]
["Revenue by Vote",1]
[{"$f":"'Org structure'!A2","v":"Vote 1 - Executive & Council"},null,52717840.630000003,76693659.939999998,0,0,0,0,0,0,0]
[{"$f":"'Org structure'!E3","v":"1.1 - [Name of sub-vote]"}]
[{"$f":"'Org structure'!E4","v":0}]
[{"$f":"'Org structure'!E5","v":0}]
[{"$f":"'Org structure'!E6","v":0}]
[{"$f":"'Org structure'!E7","v":0}]
[{"$f":"'Org structure'!E8","v":0}]
[{"$f":"'Org structure'!E9","v":0}]
[{"$f":"'Org structure'!E10","v":0}]
[{"$f":"'Org structure'!E11","v":0}]
[{"$f":"'Org structure'!E12","v":0}]
[{"$f":"'Org structure'!A3","v":"Vote 2 - Planning and Economic Development"},null,1833578.98,2957642.92,355705.99,400125,400125,400125,400126,416933,435278]
[{"$f":"'Org structure'!E14","v":"2.1 - [Name of sub-vote]"}]
[{"$f":"'Org structure'!E15","v":0}]
[{"$f":"'Org structure'!E16","v":0}]
[{"$f":"'Org structure'!E17","v":0}]
[{"$f":"'Org structure'!E18","v":0}]
[{"$f":"'Org structure'!E19","v":0}]
[{"$f":"'Org structure'!E20","v":0}]
[{"$f":"'Org structure'!E21","v":0}]
[{"$f":"'Org structure'!E22","v":0}]
[{"$f":"'Org structure'!E23","v":0}]
[{"$f":"'Org structure'!A4","v":"Vote 3 - Budget and Treasury"},null,445240576.37,391472611.83999997,572128627.84000003,551611853,644841984,644841984,575470228,606398024,604740863]
[{"$f":"'Org structure'!E25","v":"3.1 - [Name of sub-vote]"}]
[{"$f":"'Org structure'!E26","v":0}]
[{"$f":"'Org structure'!E27","v":0}]
[{"$f":"'Org structure'!E28","v":0}]
[{"$f":"'Org structure'!E29","v":0}]
[{"$f":"'Org structure'!E30","v":0}]
[{"$f":"'Org structure'!E31","v":0}]
[{"$f":"'Org structure'!E32","v":0}]
[{"$f":"'Org structure'!E33","v":0}]
[{"$f":"'Org structure'!E34","v":0}]
[{"$f":"'Org structure'!A5","v":"Vote 4 - Corporate Services"},null,0,36842335,1400490.07,1200000,1200000,1200000,0,0,1]
[{"$f":"'Org structure'!E36","v":"4.1 - [Name of sub-vote]"}]
[{"$f":"'Org structure'!E37","v":0}]
[{"$f":"'Org structure'!E38","v":0}]
[{"$f":"'Org structure'!E39","v":0}]
[{"$f":"'Org structure'!E40","v":0}]
[{"$f":"'Org structure'!E41","v":0}]
[{"$f":"'Org structure'!E42","v":0}]
[{"$f":"'Org structure'!E43","v":0}]
[{"$f":"'Org structure'!E44","v":0}]
[{"$f":"'Org structure'!E45","v":0}]
[{"$f":"'Org structure'!A6","v":"Vote 5 - Engineering Services"},null,101742000,92348531.290000007,93962050.599999994,95278325,95278327,95278327,101400327,109733023,114742099]
[{"$f":"'Org structure'!E47","v":"5.1 - [Name of sub-vote]"}]
[{"$f":"'Org structure'!E48","v":0}]
[{"$f":"'Org structure'!E49","v":0}]
[{"$f":"'Org structure'!E50","v":0}]
[{"$f":"'Org structure'!E51","v":0}]
[{"$f":"'Org structure'!E52","v":0}]
[{"$f":"'Org structure'!E53","v":0}]
[{"$f":"'Org structure'!E54","v":0}]
[{"$f":"'Org structure'!E55","v":0}]
[{"$f":"'Org structure'!E56","v":0}]
[{"$f":"'Org structure'!A7","v":"Vote 6 - Community Services"},null,81017333.890000001,74287164.219999999,73656750.349999994,170952700,134952701,134952701,135782554,132666979,138504329]
[{"$f":"'Org structure'!E58","v":"6.1 - [Name of sub-vote]"}]
[{"$f":"'Org structure'!E59","v":0}]
[{"$f":"'Org structure'!E60","v":0}]
[{"$f":"'Org structure'!E61","v":0}]
[{"$f":"'Org structure'!E62","v":0}]
[{"$f":"'Org structure'!E63","v":0}]
[{"$f":"'Org structure'!E64","v":0}]
[{"$f":"'Org structure'!E65","v":0}]
[{"$f":"'Org structure'!E66","v":0}]
[{"$f":"'Org structure'!E67","v":0}]
[{"$f":"'Org structure'!A8","v":"Vote 7 - Electrical Engineering"},null,454168274,461613534.38999999,577155264.62,586201000,590743000,590743000,735641250,752995601,819559128]
[{"$f":"'Org structure'!E69","v":"7.1 - [Name of sub-vote]"}]
[{"$f":"'Org structure'!E70","v":0}]
[{"$f":"'Org structure'!E71","v":0}]
[{"$f":"'Org structure'!E72","v":0}]
[{"$f":"'Org structure'!E73","v":0}]
[{"$f":"'Org structure'!E74","v":0}]
[{"$f":"'Org structure'!E75","v":0}]
[{"$f":"'Org structure'!E76","v":0}]
[{"$f":"'Org structure'!E77","v":0}]
[{"$f":"'Org structure'!E78","v":0}]
[{"$f":"'Org structure'!A9","v":"Vote 8 - Office of the Speaker"},null,0,0,0,0,0,0,0,0,0]
[{"$f":"'Org structure'!E80","v":"8.1 - [Name of sub-vote]"}]
[{"$f":"'Org structure'!E81","v":0}]
[{"$f":"'Org structure'!E82","v":0}]
[{"$f":"'Org structure'!E83","v":0}]
[{"$f":"'Org structure'!E84","v":0}]
[{"$f":"'Org structure'!E85","v":0}]
[{"$f":"'Org structure'!E86","v":0}]
[{"$f":"'Org structure'!E87","v":0}]
[{"$f":"'Org structure'!E88","v":0}]
[{"$f":"'Org structure'!E89","v":0}]
[{"$f":"'Org structure'!A10","v":"Vote 9 - COMMUNITY & SOCIAL SERVICES"},null,0,0,0,0,0,0,0,0,0]
[{"$f":"'Org structure'!E91","v":"9.1 - [Name of sub-vote]"}]
[{"$f":"'Org structure'!E92","v":0}]
[{"$f":"'Org structure'!E93","v":0}]
[{"$f":"'Org structure'!E94","v":0}]
[{"$f":"'Org structure'!E95","v":0}]
[{"$f":"'Org structure'!E96","v":0}]
[{"$f":"'Org structure'!E97","v":0}]
[{"$f":"'Org structure'!E98","v":0}]
[{"$f":"'Org structure'!E99","v":0}]
[{"$f":"'Org structure'!E100","v":0}]
[{"$f":"'Org structure'!A11","v":"Vote 10 - Office of the Municipal Manager"},null,0,0,298000,1229,1229,1229,1229,1282,1338]
[{"$f":"'Org structure'!E102","v":"10.1 - [Name of sub-vote]"}]
[{"$f":"'Org structure'!E103","v":0}]
[{"$f":"'Org structure'!E104","v":0}]
[{"$f":"'Org structure'!E105","v":0}]
[{"$f":"'Org structure'!E106","v":0}]
[{"$f":"'Org structure'!E107","v":0}]
[{"$f":"'Org structure'!E108","v":0}]
[{"$f":"'Org structure'!E109","v":0}]
[{"$f":"'Org structure'!E110","v":0}]
[{"$f":"'Org structure'!E111","v":0}]
[{"$f":"'Org structure'!A12","v":"Vote 11 - [NAME OF VOTE 11]"},null,{"$f":"SUM(C116:C125)","v":0},{"$f":"SUM(D116:D125)","v":0},0,0,0,0,0,0,0]
[{"$f":"'Org structure'!E113","v":"11.1 - [Name of sub-vote]"}]
[{"$f":"'Org structure'!E114","v":0}]
[{"$f":"'Org structure'!E115","v":0}]
[{"$f":"'Org structure'!E116","v":0}]
[{"$f":"'Org structure'!E117","v":0}]
[{"$f":"'Org structure'!E118","v":0}]
[{"$f":"'Org structure'!E119","v":0}]
[{"$f":"'Org structure'!E120","v":0}]
[{"$f":"'Org structure'!E121","v":0}]
[{"$f":"'Org structure'!E122","v":0}]
[{"$f":"'Org structure'!A13","v":"Vote 12 - [NAME OF VOTE 12]"},null,{"$f":"SUM(C127:C136)","v":0},{"$f":"SUM(D127:D136)","v":0},0,0,0,0,0,0,0]
[{"$f":"'Org structure'!E124","v":"12.1 - [Name of sub-vote]"}]
[{"$f":"'Org structure'!E125","v":0}]
[{"$f":"'Org structure'!E126","v":0}]
[{"$f":"'Org structure'!E127","v":0}]
[{"$f":"'Org structure'!E128","v":0}]
[{"$f":"'Org structure'!E129","v":0}]
[{"$f":"'Org structure'!E130","v":0}]
[{"$f":"'Org structure'!E131","v":0}]
[{"$f":"'Org structure'!E132","v":0}]
[{"$f":"'Org structure'!E133","v":0}]
[{"$f":"'Org structure'!A14","v":"Vote 13 - [NAME OF VOTE 13]"},null,{"$f":"SUM(C138:C147)","v":0},{"$f":"SUM(D138:D147)","v":0},0,0,0,0,0,0,0]
[{"$f":"'Org structure'!E135","v":"13.1 - [Name of sub-vote]"}]
[{"$f":"'Org structure'!E136","v":0}]
[{"$f":"'Org structure'!E137","v":0}]
[{"$f":"'Org structure'!E138","v":0}]
[{"$f":"'Org structure'!E139","v":0}]
[{"$f":"'Org structure'!E140","v":0}]
[{"$f":"'Org structure'!E141","v":0}]
[{"$f":"'Org structure'!E142","v":0}]
[{"$f":"'Org structure'!E143","v":0}]
[{"$f":"'Org structure'!E144","v":0}]
[{"$f":"'Org structure'!A15","v":"Vote 14 - [NAME OF VOTE 14]"},null,{"$f":"SUM(C149:C158)","v":0},{"$f":"SUM(D149:D158)","v":0},0,0,0,0,0,0,0]
[{"$f":"'Org structure'!E146","v":"14.1 - [Name of sub-vote]"}]
[{"$f":"'Org structure'!E147","v":0}]
[{"$f":"'Org structure'!E148","v":0}]
[{"$f":"'Org structure'!E149","v":0}]
[{"$f":"'Org structure'!E150","v":0}]
[{"$f":"'Org structure'!E151","v":0}]
[{"$f":"'Org structure'!E152","v":0}]
[{"$f":"'Org structure'!E153","v":0}]
[{"$f":"'Org structure'!E154","v":0}]
[{"$f":"'Org structure'!E155","v":0}]
[{"$f":"'Org structure'!A16","v":"Vote 15 - [NAME OF VOTE 15]"},null,{"$f":"SUM(C160:C169)","v":0},{"$f":"SUM(D160:D169)","v":0},0,0,0,0,0,0,0]
[{"$f":"'Org structure'!E157","v":"15.1 - [Name of sub-vote]"}]
[{"$f":"'Org structure'!E158","v":0}]
[{"$f":"'Org structure'!E159","v":0}]
[{"$f":"'Org structure'!E160","v":0}]
[{"$f":"'Org structure'!E161","v":0}]
[{"$f":"'Org structure'!E162","v":0}]
[{"$f":"'Org structure'!E163","v":0}]
[{"$f":"'Org structure'!E164","v":0}]
[{"$f":"'Org structure'!E165","v":0}]
[{"$f":"'Org structure'!E166","v":0}]
["Total Revenue by Vote",2,{"$f":"C5+C16+C27+C38+C49+C60+C71+C82+C93+C104+C115+C126+C137+C148+C159","v":1136719603.8699999},{"$f":"D5+D16+D27+D38+D49+D60+D71+D82+D93+D104+D115+D126+D137+D148+D159","v":1136215479.5999999},{"$f":"E5+E16+E27+E38+E49+E60+E71+E82+E93+E104+E115+E126+E137+E148+E159","v":1318956889.4700003},1405645232,1467417366,1467417366,{"$f":"I5+I16+I27+I38+I49+I60+I71+I82+I93+I104+I115+I126+I137+I148+I159","v":1548695714},1602211842,1677983036,{"$f":"SUM(L78:L81)","v":0},0,0,0,0,0,0,0,0,0,0,0]
[]
["Expenditure by Vote",1]
[{"$f":"A5","v":"Vote 1 - Executive & Council"},null,346769164.67000002,281786216.05000001,0,0,0,0,0,0,0]
[{"$f":"A6","v":"1.1 - [Name of sub-vote]"}]
[0]
[0]
[0]
[0]
[0]
[0]
[0]
[0]
[0]
[{"$f":"A16","v":"Vote 2 - Planning and Economic Development"},null,4054727.78,30327217.920000002,27696566.359999999,31351190,34702544,34702544,32421715,33779872,35262560]
[{"$f":"A17","v":"2.1 - [Name of sub-vote]"}]
[0]
[0]
[0]
[0]
[0]
[0]
[0]
[0]
[0]
[{"$f":"A27","v":"Vote 3 - Budget and Treasury"},null,287720462.70999998,59768837.579999998,110504122.43000001,113337111,119686752,119686752,128287707,133586431,139370625]
["3.1 - [Name of sub-vote]"]
[0]
[0]
[0]
[0]
[0]
[0]
[0]
[0]
[0]
["Vote 4 - Corporate Services",null,0,18751167.800000001,52589256.57,63973170,64810068,64810068,74458839,77368717,80545178]
[{"$f":"A39","v":"4.1 - [Name of sub-vote]"}]
[0]
[0]
[0]
[0]
[0]
[0]
[0]
[0]
[0]
[{"$f":"A49","v":"Vote 5 - Engineering Services"},null,214355149.19,141798460.47,119608009.93000001,162934326,161273441,161273441,158869158,167005548,175978961]
[{"$f":"A50","v":"5.1 - [Name of sub-vote]"}]
[0]
[0]
[0]
[0]
[0]
[0]
[0]
[0]
[0]
[{"$f":"A60","v":"Vote 6 - Community Services"},null,19782561.75,137079915.81999999,187459225.68000001,269568063,236386234,236386234,213892592,213692444,222712278]
[{"$f":"A61","v":"6.1 - [Name of sub-vote]"}]
[0]
[0]
[0]
[0]
[0]
[0]
[0]
[0]
[0]
[{"$f":"A71","v":"Vote 7 - Electrical Engineering"},null,352328704.68000001,508866589.88,520103946.25999999,572684922,583826089,583826089,628353359,642482423,693056217]
[{"$f":"A72","v":"7.1 - [Name of sub-vote]"}]
[0]
[0]
[0]
[0]
[0]
[0]
[0]
[0]
[0]
[{"$f":"A82","v":"Vote 8 - Office of the Speaker"},null,0,20609393.079999998,0,0,0,0,0,0,0]
[{"$f":"A83","v":"8.1 - [Name of sub-vote]"}]
[0]
[0]
[0]
[0]
[0]
[0]
[0]
[0]
[0]
["Vote 9 - COMMUNITY & SOCIAL SERVICES",null,0,0,0,0,0,0,0,0,0]
["9.1 - [Name of sub-vote]"]
[0]
[0]
[0]
[0]
[0]
[0]
[0]
[0]
[0]
[{"$f":"A104","v":"Vote 10 - Office of the Municipal Manager"},null,0,0,88391250.049999997,73506259,80035922,80035922,85889271,89380803,93192209]
[{"$f":"A105","v":"10.1 - [Name of sub-vote]"}]
[{"$f":"A106","v":0}]
[0]
[0]
[0]
[0]
[0]
[0]
[0]
[{"$f":"A114","v":0}]
[{"$f":"A115","v":"Vote 11 - [NAME OF VOTE 11]"},null,{"$f":"SUM(C284:C293)","v":0},0,0,0,0,0,0,0,0]
[{"$f":"A116","v":"11.1 - [Name of sub-vote]"}]
[{"$f":"A117","v":0}]
[0]
[0]
[0]
[0]
[0]
[0]
[0]
[0]
["Vote 12 - [NAME OF VOTE 12]",null,{"$f":"SUM(C295:C304)","v":0},0,0,0,0,0,0,0,0]
["12.1 - [Name of sub-vote]"]
[0]
[0]
[0]
[0]
[0]
[0]
[0]
[0]
[0]
["Vote 13 - [NAME OF VOTE 13]",null,{"$f":"SUM(C306:C315)","v":0},0,0,0,0,0,0,0,0]
["13.1 - [Name of sub-vote]"]
[0]
[0]
[0]
[0]
[0]
[0]
[0]
[0]
[0]
["Vote 14 - [NAME OF VOTE 14]",null,{"$f":"SUM(C317:C326)","v":0},0,0,0,0,0,0,0,0]
["14.1 - [Name of sub-vote]"]
[0]
[0]
[0]
[0]
[0]
[0]
[0]
[0]
[0]
["Vote 15 - [NAME OF VOTE 15]",null,{"$f":"SUM(C328:C337)","v":0},0,0,0,0,0,0,0,0]
["15.1 - [Name of sub-vote]"]
[0]
[0]
[0]
[0]
[0]
[0]
[0]
[0]
[0]
["Total Expenditure by Vote",2,{"$f":"C173+C184+C195+C206+C217+C228+C239+C250+C261+C283+C294+C305+C316+C327+C272","v":1225010770.78},{"$f":"D173+D184+D195+D206+D217+D228+D239+D250+D261+D283+D294+D305+D316+D327+D272","v":1198987798.5999999},{"$f":"E173+E184+E195+E206+E217+E228+E239+E250+E261+E283+E294+E305+E316+E327+E272","v":1106352377.28},1287355041,1280721050,1280721050,1322172641,1357296238,1440118028,{"$f":"SUM(L173:L249)","v":0},0,0,0,0,0,0,0,0,0,0,0]
[]
[{"$f":"result","v":"Surplus/(Deficit) for the year"},2,{"$f":"C170-C338","v":-88291166.910000086},-62772319,212604512.1900003,118290191,186696316,186696316,226523073,244915604,237865008,0,0,0,0,0,0,0,0,0,0,0,0]
[{"$f":"head27a","v":"References"}]
["1. Insert 'Vote'; e.g. Department, if different to Functional structure"]
["2. Must reconcile to Financial Performance ('Revenue and Expenditure by Functional Classification' and 'Revenue and Expenditure')"]
["3. Assign share in 'associate' to relevant Vote"]
[]
["check revenue",null,{"$f":"C170-'A4-FinPerf RE'!C59","v":0},{"$f":"D170-'A4-FinPerf RE'!D59","v":0},{"$f":"E170-'A4-FinPerf RE'!E59","v":0},{"$f":"F170-'A4-FinPerf RE'!F59","v":0},{"$f":"G170-'A4-FinPerf RE'!G59","v":1},{"$f":"H170-'A4-FinPerf RE'!H59","v":1},{"$f":"I170-'A4-FinPerf RE'!J59","v":0},{"$f":"J170-'A4-FinPerf RE'!K59","v":0},{"$f":"K170-'A4-FinPerf RE'!L59","v":0}]
["check expenditure",null,{"$f":"C338-'A4-FinPerf RE'!C35","v":0},{"$f":"D338-'A4-FinPerf RE'!D35","v":0},{"$f":"E338-'A4-FinPerf RE'!E35","v":0},{"$f":"F338-'A4-FinPerf RE'!F35","v":0},{"$f":"G338-'A4-FinPerf RE'!G35","v":0},{"$f":"H338-'A4-FinPerf RE'!H35","v":0},{"$f":"I338-'A4-FinPerf RE'!J35","v":0},{"$f":"J338-'A4-FinPerf RE'!K35","v":0},{"$f":"K338-'A4-FinPerf RE'!L35","v":-1}]

{"sheet":"A4-FinPerf RE","index":11,"n_rows":59,"n_cols":24,"rows_kept":59,"cut":false,"hidden":false,"merged":[[1,12,1,23],[1,9,1,11],[1,5,1,8]]}
[{"$f":"muni&\" - \"&Approve4","v":"Choose name from list - Table A4 Budgeted Financial Performance (revenue and expenditure)"}]
[{"$f":"desc","v":"Description"},{"$f":"head27","v":"Ref"},{"$f":"head1b","v":"2017/18"},{"$f":"head1A","v":"2018/19"},{"$f":"Head1","v":"2019/20"},{"$f":"Head2","v":"Current Year 2020/21"},null,null,null,{"$f":"Head3","v":"2021/22 Medium Term Revenue & Expenditure Framework"},null,null,{"$f":"Head4","v":"LTFS"}]
["R thousand",1,{"$f":"Head5","v":"Audited Outcome"},{"$f":"Head5","v":"Audited Outcome"},{"$f":"Head5","v":"Audited Outcome"},{"$f":"Head6","v":"Original Budget"},{"$f":"Head7","v":"Adjusted Budget"},{"$f":"Head8","v":"Full Year Forecast"},{"$f":"Head5b","v":"Pre-audit outcome"},{"$f":"Head9","v":"Budget Year 2021/22"},{"$f":"Head10","v":"Budget Year +1 2022/23"},{"$f":"Head11","v":"Budget Year +2 2023/24"},{"$f":"Head12","v":"Forecast 2024/25"},{"$f":"Head13","v":"Forecast 2025/26"},{"$f":"Head14","v":"Forecast 2026/27"},{"$f":"Head15","v":"Forecast 2027/28"},{"$f":"Head16","v":"Forecast 2028/29"},{"$f":"Head17","v":"Forecast 2029/30"},{"$f":"Head18","v":"Forecast 2030/31"},{"$f":"Head19","v":"Forecast 2031/32"},{"$f":"Head20","v":"Forecast 2032/33"},{"$f":"Head21","v":"Forecast 2033/34"},{"$f":"Head22","v":"Forecast 2034/35"},{"$f":"Head23","v":"Forecast 2035/36"}]
["Revenue By Source"]
["Property rates",2,{"$f":"'SA1'!C9","v":99289522.359999985},{"$f":"'SA1'!D9","v":109163925},{"$f":"'SA1'!E9","v":114746520.21000001},{"$f":"'SA1'!F9","v":132500000},{"$f":"'SA1'!G9","v":132500000},{"$f":"'SA1'!H9","v":132500000},{"$f":"'SA1'!I9","v":132500000},{"$f":"'SA1'!J9","v":137500000},{"$f":"'SA1'!K9","v":143275000},{"$f":"'SA1'!L9","v":149579106}]
["Service charges - electricity revenue",2,{"$f":"'SA1'!C15","v":452023274},{"$f":"'SA1'!D15","v":449863851},{"$f":"'SA1'!E15","v":523323295.25999999},{"$f":"'SA1'!F15","v":571201000},{"$f":"'SA1'!G15","v":580743000},{"$f":"'SA1'!H15","v":580743000},{"$f":"'SA1'!I15","v":584943000},{"$f":"'SA1'!J15","v":669621250},{"$f":"'SA1'!K15","v":738995601},{"$f":"'SA1'!L15","v":803559143}]
["Service charges - water revenue",2,{"$f":"'SA1'!C21","v":0},{"$f":"'SA1'!D21","v":0},{"$f":"'SA1'!E21","v":0},{"$f":"'SA1'!F21","v":0},{"$f":"'SA1'!G21","v":0},{"$f":"'SA1'!H21","v":0},{"$f":"'SA1'!I21","v":0},{"$f":"'SA1'!J21","v":0},{"$f":"'SA1'!K21","v":0},{"$f":"'SA1'!L21","v":4}]
["Service charges - sanitation revenue",2,{"$f":"'SA1'!C27","v":0},{"$f":"'SA1'!D27","v":0},{"$f":"'SA1'!E27","v":0},{"$f":"'SA1'!F27","v":0},{"$f":"'SA1'!G27","v":0},{"$f":"'SA1'!H27","v":0},{"$f":"'SA1'!I27","v":0},{"$f":"'SA1'!J27","v":0},{"$f":"'SA1'!K27","v":0},{"$f":"'SA1'!L27","v":1}]
["Service charges - refuse revenue",2,{"$f":"'SA1'!C34","v":30990314},{"$f":"'SA1'!D34","v":36442557.299999997},{"$f":"'SA1'!E34","v":33128367.25},{"$f":"'SA1'!F34","v":35416132},{"$f":"'SA1'!G34","v":35416132},{"$f":"'SA1'!H34","v":35416132},{"$f":"'SA1'!I34","v":36616132},{"$f":"'SA1'!J34","v":35907361},{"$f":"'SA1'!K34","v":37415471},{"$f":"'SA1'!L34","v":39061751}]
[]
["Rental of facilities and equipment",null,1781895,2132695.52,1152232.67,1170100,1170100,1170100,1170100,1170100,1219245,1272892]
["Interest earned - external investments",null,4427275,9615814.7599999998,8677864.5099999998,4301000,4301000,4301000,4301000,3500000,3647000,3807470]
["Interest earned - outstanding debtors",null,18395501.289999999,17826054,30117078.600000001,23600000,23600000,23600000,23600000,23600000,24591200,25673219]
["Dividends received",null,0,0,0,0,0,0,0,0,0,0]
["Fines, penalties and forfeits",null,46190261.659999996,42312789.009999998,26199829.77,38501136,38501136,38501136,38501136,38501136,40118185,41883385]
["Licences and permits",null,1005866,1020675,1231991.52,917000,917000,917000,917000,917000,955514,997559]
["Agency services",null,7988116,9254074,9118576.1300000008,58664291,22664291,22664291,22664291,22664291,23616192,24655304]
["Transfers and subsidies",null,349037100,369600820.95999998,418870589.58999997,443963950,530963950,530963950,530963950,514088050,479030200,473161852]
["Other revenue",2,{"$f":"'SA1'!C49","v":17574075.809999999},{"$f":"'SA1'!D49","v":12831601.859999999},{"$f":"'SA1'!E49","v":64521226.850000001},{"$f":"'SA1'!F49","v":6472573},{"$f":"'SA1'!G49","v":7702706},{"$f":"'SA1'!H49","v":7702706},{"$f":"'SA1'!I49","v":7702706},{"$f":"'SA1'!J49","v":6472576},{"$f":"'SA1'!K49","v":6744434},{"$f":"'SA1'!L49","v":7041199}]
["Gains",null,11071502.75,0,0,0,0,0,0,0,0,0]
["Total Revenue (excluding capital transfers and contributions)",null,{"$f":"SUM(C5:C9)+SUM(C11:C20)","v":1039774703.87},{"$f":"SUM(D5:D9)+SUM(D11:D20)","v":1060064858.41},1231087572.3600001,1316707182,1378479315,1378479315,1383879315,1453941764,1499608042,1570692885,{"$f":"SUM(M5:M20)","v":0},0,0,0,0,0,0,0,0,0,0,0]
[]
["Expenditure By Type"]
["Employee related costs",2,{"$f":"'SA1'!C67","v":267621581},{"$f":"'SA1'!D67","v":214266310},{"$f":"'SA1'!E67","v":311114595.24000001},{"$f":"'SA1'!F67","v":345564119},{"$f":"'SA1'!G67","v":339639118},{"$f":"'SA1'!H67","v":339639118},{"$f":"'SA1'!I67","v":339639118},{"$f":"'SA1'!J67","v":349870066},{"$f":"'SA1'!K67","v":364564780},{"$f":"'SA1'!L67","v":380605749}]
["Remuneration of councillors",null,24432411.039999999,26136302.579999998,26976533.73,29034983,29034983,29034983,29034983,28405898,29598958,30901317]
["Debt impairment",3,114324552.8,123718681.42,22971746.32,70035699,70035704,70035704,70035704,39690308,41357301,43177025]
["Depreciation & asset impairment",2,{"$f":"'SA1'!C83","v":130493937.2},{"$f":"'SA1'!D83","v":132641263.49000001},{"$f":"'SA1'!E83","v":107614714.91000001},{"$f":"'SA1'!F83","v":132970807},{"$f":"'SA1'!G83","v":132970807},{"$f":"'SA1'!H83","v":132970807},{"$f":"'SA1'!I83","v":132970807},{"$f":"'SA1'!J83","v":129972562},{"$f":"'SA1'!K83","v":135431430},{"$f":"'SA1'!L83","v":141390421}]
["Finance charges",null,11974271.189999999,11973760,14906807.83,15728808,16728808,16728808,16728808,17826562,18575280,19392600]
["Bulk purchases - electricity",2,{"$f":"'SA1'!C88","v":325455992},{"$f":"'SA1'!D88","v":348443870},{"$f":"'SA1'!E88","v":389694217.10000002},{"$f":"'SA1'!F88","v":406187500},{"$f":"'SA1'!G88","v":406187500},{"$f":"'SA1'!H88","v":406187500},{"$f":"'SA1'!I88","v":406187500},{"$f":"'SA1'!J88","v":456871250},{"$f":"'SA1'!K88","v":480289000},{"$f":"'SA1'!L88","v":523698000}]
["Inventory consumed",8,59326785.310000002,115723809.95999999,37364977.509999998,57321085,70859165,70859165,70859165,71925318,75904263,80156201]
["Contracted services",null,{"$f":"'SA1'!C127","v":48050547},{"$f":"'SA1'!D127","v":50079765.549999997},{"$f":"'SA1'!E127","v":59253544.770000003},{"$f":"'SA1'!F127","v":71525209},{"$f":"'SA1'!G127","v":63702209},{"$f":"'SA1'!H127","v":63702209},{"$f":"'SA1'!I127","v":63702209},{"$f":"'SA1'!J127","v":75215209},{"$f":"'SA1'!K127","v":78374252},{"$f":"'SA1'!L127","v":81822756}]
["Transfers and subsidies",null,{"$f":"'SA1'!C93","v":112420696.40000001},{"$f":"'SA1'!D93","v":57132145},{"$f":"'SA1'!E93","v":36987650.100000001},{"$f":"'SA1'!F93","v":30919000},{"$f":"'SA1'!G93","v":31351814},{"$f":"'SA1'!H93","v":31351814},{"$f":"'SA1'!I93","v":31351814},{"$f":"'SA1'!J93","v":32118000},{"$f":"'SA1'!K93","v":7871670},{"$f":"'SA1'!L93","v":8130053}]
["Other expenditure","4, 5",{"$f":"'SA1'!C157","v":102600554.31999999},{"$f":"'SA1'!D157","v":116035686.59999999},{"$f":"'SA1'!E157","v":95744310.390000001},{"$f":"'SA1'!F157","v":128067831},{"$f":"'SA1'!G157","v":120210942},{"$f":"'SA1'!H157","v":120210942},{"$f":"'SA1'!I157","v":120210942},{"$f":"'SA1'!J157","v":120277468},{"$f":"'SA1'!K157","v":125329304},{"$f":"'SA1'!L157","v":130843906}]
["Losses",null,28309442.52,2836204,3723279.38,0,0,0,0,0,0,1]
["Total Expenditure",null,{"$f":"SUM(C24:C34)","v":1225010770.7800002},{"$f":"SUM(D24:D34)","v":1198987798.5999999},1106352377.2800002,1287355041,1280721050,1280721050,1280721050,1322172641,1357296238,1440118029,{"$f":"SUM(M24:M34)","v":0},0,0,0,0,0,0,0,0,0,0,0]
[]
["Surplus/(Deficit)",null,{"$f":"C21-C35","v":-185236066.91000021},-138922940.18999994,124735195.07999992,29352141,97758265,97758265,103158265,131769123,142311804,130574856,{"$f":"M21+M35","v":0},0,0,0,0,0,0,0,0,0,0,0]
["Transfers and subsidies - capital (monetary allocations) (National / Provincial and District)",null,96944900,76150621.189999998,77869317.109999999,88938050,88938050,88938050,88938050,94753950,102603800,107290150]
["Transfers and subsidies - capital (monetary allocations) (National / Provincial Departmental Agencies, Households, Non-profit Institutions, Private Enterprises, Public Corporatons, Higher Educational Institutions)",6,0,0,10000000,0,0,0,0,0,0,1]
["Transfers and subsidies - capital (in-kind - all) ",null,0,0,0,0,0,0,0,0,0,0]
["Surplus/(Deficit) after capital transfers & contributions",null,{"$f":"SUM(C37:C40)","v":-88291166.910000205},-62772318.99999994,212604512.18999994,118290191,186696315,186696315,192096315,226523073,244915604,237865007]
["Taxation",null,0,0,0,0,0,0,0,0,0,0]
["Surplus/(Deficit) after taxation",null,{"$f":"C41-C42","v":-88291166.910000205},-62772318.99999994,212604512.18999994,118290191,186696315,186696315,192096315,226523073,244915604,237865007]
["Attributable to minorities",null,0,0,0,0,0,0,0,0,0,0]
["Surplus/(Deficit) attributable to municipality",null,{"$f":"SUM(C43:C44)","v":-88291166.910000205},-62772318.99999994,212604512.18999994,118290191,186696315,186696315,192096315,226523073,244915604,237865007]
["Share of surplus/ (deficit) of associate",7,0,0,0,0,0,0,0,0,0,0]
[{"$f":"result","v":"Surplus/(Deficit) for the year"},null,{"$f":"SUM(C45:C46)","v":-88291166.910000205},-62772318.99999994,212604512.18999994,118290191,186696315,186696315,192096315,226523073,244915604,237865007,{"$f":"M25+M46","v":0},0,0,0,0,0,0,0,0,0,0,0]
[{"$f":"head27a","v":"References"}]
["1. Classifications are revenue sources and expenditure type"]
["2. Detail to be provided in Table SA1"]
["3. Previously described as 'bad or doubtful debts' - amounts shown should reflect the change in the provision for debt impairment"]
["4. Expenditure type components previously shown under repairs and maintenance should be allocated back to the originating expenditure group/item; e.g. employee costs"]
["5. Repairs & maintenance detailed in Table A9 and Table SA34c"]
["6. Contributions are funds provided by external organisations to assist with infrastructure development; e.g. developer contributions (detail to be provided in Table SA1)"]
["7. Equity method ( Includes Joint Ventures)"]
["8. All materials not part of 'bulk' e.g  road making materials, pipe, cable etc."]
["check balance",null,{"$f":"C45-'A3-FinPerf V'!C39","v":-1.1920928955078125E-7},{"$f":"D45-'A3-FinPerf V'!D39","v":5.9604644775390625E-8},{"$f":"E45-'A3-FinPerf V'!E39","v":-3.5762786865234375E-7},{"$f":"F45-'A3-FinPerf V'!F39","v":0},{"$f":"G45-'A3-FinPerf V'!G39","v":-1},{"$f":"H45-'A3-FinPerf V'!H39","v":-1},null,{"$f":"J45-'A3-FinPerf V'!I39","v":0},{"$f":"K45-'A3-FinPerf V'!J39","v":0},{"$f":"L45-'A3-FinPerf V'!K39","v":-1}]
[]
["Total revenue",null,{"$f":"C21+SUM(C38:C40)","v":1136719603.8699999},1136215479.5999999,1318956889.47,1405645232,1467417365,1467417365,1472817365,1548695714,1602211842,1677983036]

{"sheet":"A5-Capex","index":12,"n_rows":85,"n_cols":12,"rows_kept":85,"cut":false,"hidden":false,"merged":[[1,9,1,11],[1,5,1,8],[82,0,82,11],[77,0,77,11],[76,0,76,11],[78,0,78,11]]}
[" "]
[{"$f":"Vdesc","v":"Vote Description"},{"$f":"head27","v":"Ref"},{"$f":"head1b","v":"2017/18"},{"$f":"head1A","v":"2018/19"},{"$f":"Head1","v":"2019/20"},{"$f":"Head2","v":"Current Year 2020/21"},null,null,null,{"$f":"Head3","v":"2021/22 Medium Term Revenue & Expenditure Framework"}]
["R thousand",1,{"$f":"Head5","v":"Audited Outcome"},{"$f":"Head5","v":"Audited Outcome"},{"$f":"Head5","v":"Audited Outcome"},{"$f":"Head6","v":"Original Budget"},{"$f":"Head7","v":"Adjusted Budget"},{"$f":"Head8","v":"Full Year Forecast"},{"$f":"Head5b","v":"Pre-audit outcome"},{"$f":"Head9","v":"Budget Year 2021/22"},{"$f":"Head10","v":"Budget Year +1 2022/23"},{"$f":"Head11","v":"Budget Year +2 2023/24"}]
["Capital expenditure - Vote"]
["Multi-year expenditure  to be appropriated",2]
[{"$f":"A5A!A6","v":"Vote 1 - Executive & Council"},null,{"$f":"A5A!C6","v":0},{"$f":"A5A!D6","v":0},{"$f":"A5A!E6","v":0},{"$f":"A5A!F6","v":0},{"$f":"A5A!G6","v":0},{"$f":"A5A!H6","v":0},{"$f":"A5A!I6","v":0},{"$f":"A5A!J6","v":0},{"$f":"A5A!K6","v":0},{"$f":"A5A!L6","v":0}]
[{"$f":"A5A!A17","v":"Vote 2 - Planning and Economic Development"},null,{"$f":"A5A!C17","v":0},{"$f":"A5A!D17","v":0},{"$f":"A5A!E17","v":0},{"$f":"A5A!F17","v":0},{"$f":"A5A!G17","v":0},{"$f":"A5A!H17","v":0},{"$f":"A5A!I17","v":0},{"$f":"A5A!J17","v":6558500},{"$f":"A5A!K17","v":4000000},{"$f":"A5A!L17","v":29085000}]
[{"$f":"A5A!A28","v":"Vote 3 - Budget and Treasury"},null,{"$f":"A5A!C28","v":0},{"$f":"A5A!D28","v":0},{"$f":"A5A!E28","v":0},{"$f":"A5A!F28","v":0},{"$f":"A5A!G28","v":0},{"$f":"A5A!H28","v":0},{"$f":"A5A!I28","v":0},{"$f":"A5A!J28","v":700000},{"$f":"A5A!K28","v":0},{"$f":"A5A!L28","v":0}]
[{"$f":"A5A!A39","v":"Vote 4 - Corporate Services"},null,{"$f":"A5A!C39","v":0},{"$f":"A5A!D39","v":0},{"$f":"A5A!E39","v":0},{"$f":"A5A!F39","v":0},{"$f":"A5A!G39","v":0},{"$f":"A5A!H39","v":0},{"$f":"A5A!I39","v":0},{"$f":"A5A!J39","v":0},{"$f":"A5A!K39","v":0},{"$f":"A5A!L39","v":0}]
[{"$f":"A5A!A50","v":"Vote 5 - Engineering Services"},null,{"$f":"A5A!C50","v":0},{"$f":"A5A!D50","v":0},{"$f":"A5A!E50","v":0},{"$f":"A5A!F50","v":0},{"$f":"A5A!G50","v":0},{"$f":"A5A!H50","v":0},{"$f":"A5A!I50","v":0},{"$f":"A5A!J50","v":106123950},{"$f":"A5A!K50","v":146103800},{"$f":"A5A!L50","v":135590150}]
[{"$f":"A5A!A61","v":"Vote 6 - Community Services"},null,{"$f":"A5A!C61","v":0},{"$f":"A5A!D61","v":0},{"$f":"A5A!E61","v":0},{"$f":"A5A!F61","v":0},{"$f":"A5A!G61","v":0},{"$f":"A5A!H61","v":0},{"$f":"A5A!I61","v":0},{"$f":"A5A!J61","v":1325000},{"$f":"A5A!K61","v":0},{"$f":"A5A!L61","v":0}]
[{"$f":"A5A!A72","v":"Vote 7 - Electrical Engineering"},null,{"$f":"A5A!C72","v":0},{"$f":"A5A!D72","v":0},{"$f":"A5A!E72","v":0},{"$f":"A5A!F72","v":0},{"$f":"A5A!G72","v":0},{"$f":"A5A!H72","v":0},{"$f":"A5A!I72","v":0},{"$f":"A5A!J72","v":14550000},{"$f":"A5A!K72","v":10000000},{"$f":"A5A!L72","v":12000000}]
[{"$f":"A5A!A83","v":"Vote 8 - Office of the Speaker"},null,{"$f":"A5A!C83","v":0},{"$f":"A5A!D83","v":0},{"$f":"A5A!E83","v":0},{"$f":"A5A!F83","v":0},{"$f":"A5A!G83","v":0},{"$f":"A5A!H83","v":0},{"$f":"A5A!I83","v":0},{"$f":"A5A!J83","v":0},{"$f":"A5A!K83","v":0},{"$f":"A5A!L83","v":0}]
[{"$f":"A5A!A94","v":"Vote 9 - COMMUNITY & SOCIAL SERVICES"},null,{"$f":"A5A!C94","v":0},{"$f":"A5A!D94","v":0},{"$f":"A5A!E94","v":0},{"$f":"A5A!F94","v":0},{"$f":"A5A!G94","v":0},{"$f":"A5A!H94","v":0},{"$f":"A5A!I94","v":0},{"$f":"A5A!J94","v":0},{"$f":"A5A!K94","v":0},{"$f":"A5A!L94","v":0}]
[{"$f":"A5A!A105","v":"Vote 10 - Office of the Municipal Manager"},null,{"$f":"A5A!C105","v":0},{"$f":"A5A!D105","v":0},{"$f":"A5A!E105","v":0},{"$f":"A5A!F105","v":0},{"$f":"A5A!G105","v":0},{"$f":"A5A!H105","v":0},{"$f":"A5A!I105","v":0},{"$f":"A5A!J105","v":0},{"$f":"A5A!K105","v":0},{"$f":"A5A!L105","v":0}]
[{"$f":"A5A!A116","v":"Vote 11 - [NAME OF VOTE 11]"},null,{"$f":"A5A!C116","v":0},{"$f":"A5A!D116","v":0},{"$f":"A5A!E116","v":0},{"$f":"A5A!F116","v":0},{"$f":"A5A!G116","v":0},{"$f":"A5A!H116","v":0},{"$f":"A5A!I116","v":0},{"$f":"A5A!J116","v":0},{"$f":"A5A!K116","v":0},{"$f":"A5A!L116","v":0}]
[{"$f":"A5A!A127","v":"Vote 12 - [NAME OF VOTE 12]"},null,{"$f":"A5A!C127","v":0},{"$f":"A5A!D127","v":0},{"$f":"A5A!E127","v":0},{"$f":"A5A!F127","v":0},{"$f":"A5A!G127","v":0},{"$f":"A5A!H127","v":0},{"$f":"A5A!I127","v":0},{"$f":"A5A!J127","v":0},{"$f":"A5A!K127","v":0},{"$f":"A5A!L127","v":0}]
[{"$f":"A5A!A138","v":"Vote 13 - [NAME OF VOTE 13]"},null,{"$f":"A5A!C138","v":0},{"$f":"A5A!D138","v":0},{"$f":"A5A!E138","v":0},{"$f":"A5A!F138","v":0},{"$f":"A5A!G138","v":0},{"$f":"A5A!H138","v":0},{"$f":"A5A!I138","v":0},{"$f":"A5A!J138","v":0},{"$f":"A5A!K138","v":0},{"$f":"A5A!L138","v":0}]
[{"$f":"A5A!A149","v":"Vote 14 - [NAME OF VOTE 14]"},null,{"$f":"A5A!C149","v":0},{"$f":"A5A!D149","v":0},{"$f":"A5A!E149","v":0},{"$f":"A5A!F149","v":0},{"$f":"A5A!G149","v":0},{"$f":"A5A!H149","v":0},{"$f":"A5A!I149","v":0},{"$f":"A5A!J149","v":0},{"$f":"A5A!K149","v":0},{"$f":"A5A!L149","v":0}]
[{"$f":"A5A!A160","v":"Vote 15 - [NAME OF VOTE 15]"},null,{"$f":"A5A!C160","v":0},{"$f":"A5A!D160","v":0},{"$f":"A5A!E160","v":0},{"$f":"A5A!F160","v":0},{"$f":"A5A!G160","v":0},{"$f":"A5A!H160","v":0},{"$f":"A5A!I160","v":0},{"$f":"A5A!J160","v":0},{"$f":"A5A!K160","v":0},{"$f":"A5A!L160","v":0}]
["Capital multi-year expenditure sub-total",7,{"$f":"SUM(C6:C20)","v":0},{"$f":"SUM(D6:D20)","v":0},0,0,0,{"$f":"SUM(H6:H20)","v":0},0,129257450,160103800,176675150]
[]
["Single-year expenditure to be appropriated",2]
[{"$f":"A6","v":"Vote 1 - Executive & Council"},null,{"$f":"A5A!C175","v":0},{"$f":"A5A!D175","v":0},{"$f":"A5A!E175","v":0},{"$f":"A5A!F175","v":0},{"$f":"A5A!G175","v":0},{"$f":"A5A!H175","v":0},{"$f":"A5A!I175","v":0},{"$f":"A5A!J175","v":0},{"$f":"A5A!K175","v":0},{"$f":"A5A!L175","v":0}]
[{"$f":"A7","v":"Vote 2 - Planning and Economic Development"},null,{"$f":"A5A!C186","v":826160},{"$f":"A5A!D186","v":0},{"$f":"A5A!E186","v":235000},{"$f":"A5A!F186","v":1235000},{"$f":"A5A!G186","v":1235000},{"$f":"A5A!H186","v":1235000},{"$f":"A5A!I186","v":1235000},{"$f":"A5A!J186","v":0},{"$f":"A5A!K186","v":0},{"$f":"A5A!L186","v":2}]
["Vote 3 - Budget and Treasury",null,{"$f":"A5A!C197","v":0},{"$f":"A5A!D197","v":0},{"$f":"A5A!E197","v":309131.63},{"$f":"A5A!F197","v":500000},{"$f":"A5A!G197","v":500000},{"$f":"A5A!H197","v":500000},{"$f":"A5A!I197","v":500000},{"$f":"A5A!J197","v":0},{"$f":"A5A!K197","v":0},{"$f":"A5A!L197","v":1}]
["Vote 4 - Corporate Services",null,{"$f":"A5A!C208","v":0},{"$f":"A5A!D208","v":0},{"$f":"A5A!E208","v":0},{"$f":"A5A!F208","v":0},{"$f":"A5A!G208","v":400000},{"$f":"A5A!H208","v":400000},{"$f":"A5A!I208","v":400000},{"$f":"A5A!J208","v":0},{"$f":"A5A!K208","v":0},{"$f":"A5A!L208","v":2}]
["Vote 5 - Engineering Services",null,{"$f":"A5A!C219","v":97207476},{"$f":"A5A!D219","v":0},{"$f":"A5A!E219","v":109509558.59},{"$f":"A5A!F219","v":96938034},{"$f":"A5A!G219","v":113545044},{"$f":"A5A!H219","v":113545044},{"$f":"A5A!I219","v":113545044},{"$f":"A5A!J219","v":0},{"$f":"A5A!K219","v":0},{"$f":"A5A!L219","v":56}]
["Vote 6 - Community Services",null,{"$f":"A5A!C230","v":0},{"$f":"A5A!D230","v":0},{"$f":"A5A!E230","v":3589484.72},{"$f":"A5A!F230","v":2300000},{"$f":"A5A!G230","v":2800000},{"$f":"A5A!H230","v":2800000},{"$f":"A5A!I230","v":2800000},{"$f":"A5A!J230","v":0},{"$f":"A5A!K230","v":0},{"$f":"A5A!L230","v":8}]
["Vote 7 - Electrical Engineering",null,{"$f":"A5A!C241","v":13444078},{"$f":"A5A!D241","v":35543715},{"$f":"A5A!E241","v":76614936.400000006},{"$f":"A5A!F241","v":30000000},{"$f":"A5A!G241","v":43012899},{"$f":"A5A!H241","v":43012899},{"$f":"A5A!I241","v":43012899},{"$f":"A5A!J241","v":1600000},{"$f":"A5A!K241","v":0},{"$f":"A5A!L241","v":62}]
["Vote 8 - Office of the Speaker",null,{"$f":"A5A!C252","v":15053644},{"$f":"A5A!D252","v":67938724},{"$f":"A5A!E252","v":0},{"$f":"A5A!F252","v":0},{"$f":"A5A!G252","v":0},{"$f":"A5A!H252","v":0},{"$f":"A5A!I252","v":0},{"$f":"A5A!J252","v":0},{"$f":"A5A!K252","v":0},{"$f":"A5A!L252","v":0}]
["Vote 9 - COMMUNITY & SOCIAL SERVICES",null,{"$f":"A5A!C263","v":0},{"$f":"A5A!D263","v":0},{"$f":"A5A!E263","v":0},{"$f":"A5A!F263","v":0},{"$f":"A5A!G263","v":0},{"$f":"A5A!H263","v":0},{"$f":"A5A!I263","v":0},{"$f":"A5A!J263","v":0},{"$f":"A5A!K263","v":0},{"$f":"A5A!L263","v":0}]
["Vote 10 - Office of the Municipal Manager",null,{"$f":"A5A!C274","v":0},{"$f":"A5A!D274","v":0},{"$f":"A5A!E274","v":0},{"$f":"A5A!F274","v":0},{"$f":"A5A!G274","v":0},{"$f":"A5A!H274","v":0},{"$f":"A5A!I274","v":0},{"$f":"A5A!J274","v":0},{"$f":"A5A!K274","v":0},{"$f":"A5A!L274","v":1}]
["Vote 11 - [NAME OF VOTE 11]",null,{"$f":"A5A!C285","v":0},{"$f":"A5A!D285","v":0},{"$f":"A5A!E285","v":0},{"$f":"A5A!F285","v":0},{"$f":"A5A!G285","v":0},{"$f":"A5A!H285","v":0},{"$f":"A5A!I285","v":0},{"$f":"A5A!J285","v":0},{"$f":"A5A!K285","v":0},{"$f":"A5A!L285","v":0}]
["Vote 12 - [NAME OF VOTE 12]",null,{"$f":"A5A!C296","v":0},{"$f":"A5A!D296","v":0},{"$f":"A5A!E296","v":0},{"$f":"A5A!F296","v":0},{"$f":"A5A!G296","v":0},{"$f":"A5A!H296","v":0},{"$f":"A5A!I296","v":0},{"$f":"A5A!J296","v":0},{"$f":"A5A!K296","v":0},{"$f":"A5A!L296","v":0}]
["Vote 13 - [NAME OF VOTE 13]",null,{"$f":"A5A!C307","v":0},{"$f":"A5A!D307","v":0},{"$f":"A5A!E307","v":0},{"$f":"A5A!F307","v":0},{"$f":"A5A!G307","v":0},{"$f":"A5A!H307","v":0},{"$f":"A5A!I307","v":0},{"$f":"A5A!J307","v":0},{"$f":"A5A!K307","v":0},{"$f":"A5A!L307","v":0}]
["Vote 14 - [NAME OF VOTE 14]",null,{"$f":"A5A!C318","v":0},{"$f":"A5A!D318","v":0},{"$f":"A5A!E318","v":0},{"$f":"A5A!F318","v":0},{"$f":"A5A!G318","v":0},{"$f":"A5A!H318","v":0},{"$f":"A5A!I318","v":0},{"$f":"A5A!J318","v":0},{"$f":"A5A!K318","v":0},{"$f":"A5A!L318","v":0}]
[{"$f":"A20","v":"Vote 15 - [NAME OF VOTE 15]"},null,{"$f":"A5A!C329","v":0},{"$f":"A5A!D329","v":0},{"$f":"A5A!E329","v":0},{"$f":"A5A!F329","v":0},{"$f":"A5A!G329","v":0},{"$f":"A5A!H329","v":0},{"$f":"A5A!I329","v":0},{"$f":"A5A!J329","v":0},{"$f":"A5A!K329","v":0},{"$f":"A5A!L329","v":0}]
["Capital single-year expenditure sub-total",null,{"$f":"SUM(C24:C38)","v":126531358},{"$f":"SUM(D24:D38)","v":103482439},190258111.34,130973034,161492943,161492943,161492943,1600000,0,132]
["Total Capital Expenditure - Vote",null,{"$f":"C39+C21","v":126531358},{"$f":"D39+D21","v":103482439},190258111.34,130973034,161492943,161492943,161492943,130857450,160103800,176675282]
[]
["Capital Expenditure - Functional"]
["Governance and administration",null,{"$f":"SUM(C44:C46)","v":0},{"$f":"SUM(D44:D46)","v":11545415},309131.63,500000,900000,900000,900000,8600000,5600000,4300004]
["Executive and council",null,0,6059,0,0,0,0,0,0,0,1]
["Finance and administration",null,0,11539356,309131.63,500000,900000,900000,900000,8600000,5600000,4300003]
["Internal audit",null,0,0,0,0,0,0,0,0,0,0]
["Community and public safety",null,{"$f":"SUM(C48:C52)","v":826160},{"$f":"SUM(D48:D52)","v":1605684},9204484.7199999988,3800000,6919990,6919990,6919990,4825000,0,24850011]
["Community and social services",null,0,0,1704484.72,0,500000,500000,500000,1325000,0,1]
["Sport and recreation",null,0,349001,1800000,2300000,2300000,2300000,2300000,0,0,5]
["Public safety",null,0,0,0,0,0,0,0,0,0,0]
["Housing",null,826160,1066513,5700000,1500000,4119990,4119990,4119990,3500000,0,24850004]
["Health",null,0,190170,0,0,0,0,0,0,0,1]
["Economic and environmental services",null,{"$f":"SUM(C54:C56)","v":112261120},{"$f":"SUM(D54:D56)","v":54245202},106564558.59,96673034,110660054,110660054,110660054,101282450,144503800,135525205]
["Planning and development",null,0,48501,235000,1235000,1235000,1235000,1235000,3058500,4000000,4235002]
["Road transport",null,112261120,54196701,106329558.59,95438034,109425054,109425054,109425054,98223950,140503800,131290203]
["Environmental protection",null,0,0,0,0,0,0,0,0,0,0]
["Trading services",null,{"$f":"SUM(C58:C61)","v":13444078},{"$f":"SUM(D58:D61)","v":36086138},74179936.400000006,30000000,43012899,43012899,43012899,16150000,10000000,12000062]
["Energy sources",null,13444078,36071006,74094936.400000006,30000000,43012899,43012899,43012899,16150000,10000000,12000061]
["Water management",null,0,0,0,0,0,0,0,0,0,0]
["Waste water management",null,0,0,0,0,0,0,0,0,0,0]
["Waste management",null,0,15132,85000,0,0,0,0,0,0,1]
["Other",null,0,0,0,0,0,0,0,0,0,0]
["Total Capital Expenditure - Functional",3,{"$f":"C43+C47+C53+C57+C62","v":126531358},{"$f":"D43+D47+D53+D57+D62","v":103482439},190258111.34,130973034,161492943,161492943,161492943,130857450,160103800,{"$f":"L43+L47+L53+L57+L62","v":176675282}]
[]
["Funded by:"]
["National Government",null,96944900,86451929,89549850.989999995,88938034,97289054,97289054,97289054,94753950,102603800,107290187]
["Provincial Government",null,0,0,0,0,0,0,0,0,0,0]
["District Municipality",null,0,0,0,0,0,0,0,0,0,0]
[{"$f":"'A4-FinPerf RE'!A39","v":"Transfers and subsidies - capital (monetary allocations) (National / Provincial Departmental Agencies, Households, Non-profit Institutions, Private Enterprises, Public Corporatons, Higher Educational Institutions)"},null,0,0,10000000,0,0,0,0,0,0,4]
["Transfers recognised - capital",4,{"$f":"SUM(C66:C69)","v":96944900},86451929,99549850.989999995,88938034,97289054,97289054,97289054,94753950,102603800,107290191]
[]
["Borrowing",6,12113986,17030510,32847672.039999999,22000000,34828543,34828543,34828543,0,0,56]
["Internally generated funds",null,17472472,0,57860588.310000002,20035000,29375346,29375346,29375346,36103500,57500000,69385035]
["Total Capital Funding",7,{"$f":"+C70+C72+C73","v":126531358},{"$f":"+D70+D72+D73","v":103482439},190258111.34,130973034,161492943,161492943,161492943,130857450,160103800,176675282]
[{"$f":"head27a","v":"References"}]
["1. Municipalities may choose to appropriate for capital expenditure for three years or for one year (if one year appropriation projected expenditure required for yr2 and yr3)."]
["2. Include capital component of PPP unitary payment. Note that capital transfers are only appropriated to municipalities for the budget year"]
["3. Capital expenditure by functional classification must reconcile to the appropriations by vote"]
["4. Must reconcile to supporting table SA20 and to Budgeted Financial Performance (revenue and expenditure)"]
[]
["6. Include finance leases and PPP capital funding component of unitary payment - total borrowing/repayments to reconcile to changes in Table SA17"]
["7. Total Capital Funding must balance with Total Capital Expenditure"]
["8. Include any capitalised interest (MFMA section 46) as part of relevant capital budget"]
[]
["check balance",null,{"$f":"IF((C63-C74)=0,0,\"Unbalanced\")","v":0},{"$f":"IF((D63-D74)=0,0,\"Unbalanced\")","v":0},0,0,0,0,0,0,0,0]

{"sheet":"A5A","index":13,"n_rows":341,"n_cols":24,"rows_kept":341,"cut":false,"hidden":false,"merged":[[1,5,1,8],[1,9,1,11],[1,13,1,16],[1,17,1,20],[1,21,1,23]]}
[{"$f":"muni&\" - \"&Approve5","v":"Choose name from list - Table A5 Budgeted Capital Expenditure by vote, functional classification and funding"}]
[{"$f":"Vdesc","v":"Vote Description"},{"$f":"head27","v":"Ref"},{"$f":"head1b","v":"2017/18"},{"$f":"head1A","v":"2018/19"},{"$f":"Head1","v":"2019/20"},{"$f":"Head2","v":"Current Year 2020/21"},null,null,null,{"$f":"Head3","v":"2021/22 Medium Term Revenue & Expenditure Framework"},null,null,null,{"$f":"\"Multi-year appropriation for \"&Head9&\n\"\n in the \"&Head2A&\" Annual Budget\"","v":"Multi-year appropriation for Budget Year 2021/22\n in the 2020/21 Annual Budget"},null,null,null,{"$f":"\"Multi-year appropriation for \"&RIGHT(Head10,7)&\n\"\n in the \"&Head2A&\" Annual Budget\"","v":"Multi-year appropriation for 2022/23\n in the 2020/21 Annual Budget"},null,null,null,"New multi-year appropriations \n(funds for new and existing projects) "]
["R thousand",1,{"$f":"Head5","v":"Audited Outcome"},{"$f":"Head5","v":"Audited Outcome"},{"$f":"Head5","v":"Audited Outcome"},{"$f":"Head6","v":"Original Budget"},{"$f":"Head7","v":"Adjusted Budget"},{"$f":"Head8","v":"Full Year Forecast"},{"$f":"Head5b","v":"Pre-audit outcome"},{"$f":"Head9","v":"Budget Year 2021/22"},{"$f":"Head10","v":"Budget Year +1 2022/23"},{"$f":"Head11","v":"Budget Year +2 2023/24"},null,{"$f":"\"Appropriation for \"&RIGHT(Head9,7)","v":"Appropriation for 2021/22"},{"$f":"\"Adjustments in \"&Head2A","v":"Adjustments in 2020/21"},{"$f":"\"Downward adjustments for \"&RIGHT(Head9,7)","v":"Downward adjustments for 2021/22"},"Appropriation carried forward",{"$f":"\"Appropriation for \"&RIGHT(Head9,7)","v":"Appropriation for 2021/22"},{"$f":"\"Adjustments in \"&Head2A","v":"Adjustments in 2020/21"},{"$f":"\"Downward adjustments for \"&RIGHT(Head9,7)","v":"Downward adjustments for 2021/22"},"Appropriation carried forward",{"$f":"Head9","v":"Budget Year 2021/22"},{"$f":"Head10","v":"Budget Year +1 2022/23"},{"$f":"Head11","v":"Budget Year +2 2023/24"}]
["Capital expenditure - Municipal Vote"]
["Multi-year expenditure appropriation",2]
[{"$f":"'Org structure'!A2","v":"Vote 1 - Executive & Council"},null,0,0,0,0,0,0,0,0,0,0,null,{"$f":"SUM(N7:N16)","v":0},0,0,0,0,0,0,0,{"$f":"SUM(V7:V16)","v":0},{"$f":"SUM(W7:W16)","v":0},{"$f":"SUM(X7:X16)","v":0}]
[{"$f":"'Org structure'!E3","v":"1.1 - [Name of sub-vote]"},null,null,null,null,null,null,null,null,{"$f":"Q7+V7","v":0},{"$f":"U7+W7","v":0},{"$f":"X7","v":0},null,null,null,null,{"$f":"SUM(N7:P7)","v":0},null,null,null,{"$f":"SUM(R7:T7)","v":0}]
[{"$f":"'Org structure'!E4","v":0},null,null,null,null,null,null,null,null,{"$f":"Q8+V8","v":0},{"$f":"U8+W8","v":0},{"$f":"X8","v":0},null,null,null,null,{"$f":"SUM(N8:P8)","v":0},null,null,null,{"$f":"SUM(R8:T8)","v":0}]
[{"$f":"'Org structure'!E5","v":0},null,null,null,null,null,null,null,null,{"$f":"Q9+V9","v":0},{"$f":"U9+W9","v":0},0,null,null,null,null,0,null,null,null,0]
[{"$f":"'Org structure'!E6","v":0},null,null,null,null,null,null,null,null,0,0,0,null,null,null,null,0,null,null,null,0]
[{"$f":"'Org structure'!E7","v":0},null,null,null,null,null,null,null,null,0,0,{"$f":"X11","v":0},null,null,null,null,0,null,null,null,0]
[{"$f":"'Org structure'!E8","v":0},null,null,null,null,null,null,null,null,0,0,0,null,null,null,null,0,null,null,null,0]
[{"$f":"'Org structure'!E9","v":0},null,null,null,null,null,null,null,null,0,0,0,null,null,null,null,0,null,null,null,0]
[{"$f":"'Org structure'!E10","v":0},null,null,null,null,null,null,null,null,0,0,0,null,null,null,null,0,null,null,null,0]
[{"$f":"'Org structure'!E11","v":0},null,null,null,null,null,null,null,null,0,0,0,null,null,null,null,0,null,null,null,0]
[{"$f":"'Org structure'!E12","v":0},null,null,null,null,null,null,null,null,0,0,0,null,null,null,null,0,null,null,null,0]
[{"$f":"'Org structure'!A3","v":"Vote 2 - Planning and Economic Development"},null,0,0,0,0,0,0,0,6558500,4000000,29085000,null,{"$f":"SUM(N18:N27)","v":0},0,0,0,0,0,0,0,0,0,0]
[{"$f":"'Org structure'!E14","v":"2.1 - [Name of sub-vote]"},null,null,null,null,null,null,null,null,{"$f":"Q18+V18","v":0},{"$f":"U18+W18","v":0},{"$f":"X18","v":0},null,null,null,null,{"$f":"SUM(N18:P18)","v":0},null,null,null,0]
[{"$f":"'Org structure'!E15","v":0},null,null,null,null,null,null,null,null,{"$f":"Q19+V19","v":0},{"$f":"U19+W19","v":0},0,null,null,null,null,0,null,null,null,0]
[{"$f":"'Org structure'!E16","v":0},null,null,null,null,null,null,null,null,0,0,0,null,null,null,null,0,null,null,null,0]
[{"$f":"'Org structure'!E17","v":0},null,null,null,null,null,null,null,null,0,{"$f":"U21+W21","v":0},0,null,null,null,null,0,null,null,null,0]
[{"$f":"'Org structure'!E18","v":0},null,null,null,null,null,null,null,null,0,0,0,null,null,null,null,0,null,null,null,0]
[{"$f":"'Org structure'!E19","v":0},null,null,null,null,null,null,null,null,0,0,0,null,null,null,null,0,null,null,null,0]
[{"$f":"'Org structure'!E20","v":0},null,null,null,null,null,null,null,null,0,0,0,null,null,null,null,0,null,null,null,0]
[{"$f":"'Org structure'!E21","v":0},null,null,null,null,null,null,null,null,0,0,0,null,null,null,null,0,null,null,null,0]
[{"$f":"'Org structure'!E22","v":0},null,null,null,null,null,null,null,null,0,0,0,null,null,null,null,0,null,null,null,0]
[{"$f":"'Org structure'!E23","v":0},null,null,null,null,null,null,null,null,0,0,0,null,null,null,null,0,null,null,null,0]
[{"$f":"'Org structure'!A4","v":"Vote 3 - Budget and Treasury"},null,0,0,0,0,0,0,0,700000,0,0,null,{"$f":"SUM(N29:N38)","v":0},0,0,0,0,0,0,0,0,0,0]
[{"$f":"'Org structure'!E25","v":"3.1 - [Name of sub-vote]"},null,null,null,null,null,null,null,null,{"$f":"Q29+V29","v":0},{"$f":"U29+W29","v":0},{"$f":"X29","v":0},null,null,null,null,{"$f":"SUM(N29:P29)","v":0},null,null,null,0]
[{"$f":"'Org structure'!E26","v":0},null,null,null,null,null,null,null,null,0,0,0,null,null,null,null,0,null,null,null,0]
[{"$f":"'Org structure'!E27","v":0},null,null,null,null,null,null,null,null,0,0,0,null,null,null,null,0,null,null,null,{"$f":"SUM(R31:T31)","v":0}]
[{"$f":"'Org structure'!E28","v":0},null,null,null,null,null,null,null,null,0,{"$f":"U32+W32","v":0},0,null,null,null,null,0,null,null,null,0]
[{"$f":"'Org structure'!E29","v":0},null,null,null,null,null,null,null,null,{"$f":"Q33+V33","v":0},0,0,null,null,null,null,0,null,null,null,0]
[{"$f":"'Org structure'!E30","v":0},null,null,null,null,null,null,null,null,0,0,0,null,null,null,null,0,null,null,null,0]
[{"$f":"'Org structure'!E31","v":0},null,null,null,null,null,null,null,null,0,0,0,null,null,null,null,0,null,null,null,0]
[{"$f":"'Org structure'!E32","v":0},null,null,null,null,null,null,null,null,0,0,0,null,null,null,null,0,null,null,null,0]
[{"$f":"'Org structure'!E33","v":0},null,null,null,null,null,null,null,null,0,0,0,null,null,null,null,0,null,null,null,0]
[{"$f":"'Org structure'!E34","v":0},null,null,null,null,null,null,null,null,0,0,0,null,null,null,null,0,null,null,null,0]
[{"$f":"'Org structure'!A5","v":"Vote 4 - Corporate Services"},null,0,0,0,0,0,0,0,0,0,0,null,{"$f":"SUM(N40:N49)","v":0},0,0,0,0,0,0,0,0,0,0]
[{"$f":"'Org structure'!E36","v":"4.1 - [Name of sub-vote]"},null,null,null,null,null,null,null,null,{"$f":"Q40+V40","v":0},{"$f":"U40+W40","v":0},{"$f":"X40","v":0},null,null,null,null,{"$f":"SUM(N40:P40)","v":0},null,null,null,0]
[{"$f":"'Org structure'!E37","v":0},null,null,null,null,null,null,null,null,0,0,0,null,null,null,null,0,null,null,null,0]
[{"$f":"'Org structure'!E38","v":0},null,null,null,null,null,null,null,null,0,0,0,null,null,null,null,0,null,null,null,0]
[{"$f":"'Org structure'!E39","v":0},null,null,null,null,null,null,null,null,0,0,0,null,null,null,null,0,null,null,null,0]
[{"$f":"'Org structure'!E40","v":0},null,null,null,null,null,null,null,null,0,0,0,null,null,null,null,0,null,null,null,0]
[{"$f":"'Org structure'!E41","v":0},null,null,null,null,null,null,null,null,0,0,0,null,null,null,null,0,null,null,null,0]
[{"$f":"'Org structure'!E42","v":0},null,null,null,null,null,null,null,null,0,0,0,null,null,null,null,0,null,null,null,0]
[{"$f":"'Org structure'!E43","v":0},null,null,null,null,null,null,null,null,0,0,0,null,null,null,null,0,null,null,null,0]
[{"$f":"'Org structure'!E44","v":0},null,null,null,null,null,null,null,null,0,0,0,null,null,null,null,0,null,null,null,0]
[{"$f":"'Org structure'!E45","v":0},null,null,null,null,null,null,null,null,0,0,0,null,null,null,null,0,null,null,null,0]
[{"$f":"'Org structure'!A6","v":"Vote 5 - Engineering Services"},null,0,0,0,0,0,0,0,106123950,146103800,135590150,null,{"$f":"SUM(N51:N60)","v":0},0,0,0,0,0,0,0,0,0,0]
[{"$f":"'Org structure'!E47","v":"5.1 - [Name of sub-vote]"},null,null,null,null,null,null,null,null,{"$f":"Q51+V51","v":0},{"$f":"U51+W51","v":0},{"$f":"X51","v":0},null,null,null,null,{"$f":"SUM(N51:P51)","v":0},null,null,null,0]
[{"$f":"'Org structure'!E48","v":0},null,null,null,null,null,null,null,null,0,0,0,null,null,null,null,0,null,null,null,0]
[{"$f":"'Org structure'!E49","v":0},null,null,null,null,null,null,null,null,0,0,0,null,null,null,null,0,null,null,null,0]
[{"$f":"'Org structure'!E50","v":0},null,null,null,null,null,null,null,null,0,0,0,null,null,null,null,0,null,null,null,0]
[{"$f":"'Org structure'!E51","v":0},null,null,null,null,null,null,null,null,0,0,0,null,null,null,null,0,null,null,null,0]
[{"$f":"'Org structure'!E52","v":0},null,null,null,null,null,null,null,null,0,0,0,null,null,null,null,0,null,null,null,0]
[{"$f":"'Org structure'!E53","v":0},null,null,null,null,null,null,null,null,0,0,0,null,null,null,null,0,null,null,null,0]
[{"$f":"'Org structure'!E54","v":0},null,null,null,null,null,null,null,null,0,0,0,null,null,null,null,0,null,null,null,0]
[{"$f":"'Org structure'!E55","v":0},null,null,null,null,null,null,null,null,0,0,0,null,null,null,null,0,null,null,null,0]
[{"$f":"'Org structure'!E56","v":0},null,null,null,null,null,null,null,null,0,0,0,null,null,null,null,0,null,null,null,0]
[{"$f":"'Org structure'!A7","v":"Vote 6 - Community Services"},null,0,0,0,0,0,0,0,1325000,0,0,null,{"$f":"SUM(N62:N71)","v":0},0,0,0,0,0,0,0,0,0,0]
[{"$f":"'Org structure'!E58","v":"6.1 - [Name of sub-vote]"},null,null,null,null,null,null,null,null,{"$f":"Q62+V62","v":0},{"$f":"U62+W62","v":0},{"$f":"X62","v":0},null,null,null,null,{"$f":"SUM(N62:P62)","v":0},null,null,null,0]
[{"$f":"'Org structure'!E59","v":0},null,null,null,null,null,null,null,null,0,0,0,null,null,null,null,0,null,null,null,0]
[{"$f":"'Org structure'!E60","v":0},null,null,null,null,null,null,null,null,0,0,0,null,null,null,null,0,null,null,null,0]
[{"$f":"'Org structure'!E61","v":0},null,null,null,null,null,null,null,null,0,0,0,null,null,null,null,0,null,null,null,0]
[{"$f":"'Org structure'!E62","v":0},null,null,null,null,null,null,null,null,0,0,0,null,null,null,null,0,null,null,null,0]
[{"$f":"'Org structure'!E63","v":0},null,null,null,null,null,null,null,null,0,0,0,null,null,null,null,0,null,null,null,0]
[{"$f":"'Org structure'!E64","v":0},null,null,null,null,null,null,null,null,0,0,0,null,null,null,null,0,null,null,null,0]
[{"$f":"'Org structure'!E65","v":0},null,null,null,null,null,null,null,null,0,0,0,null,null,null,null,0,null,null,null,0]
[{"$f":"'Org structure'!E66","v":0},null,null,null,null,null,null,null,null,0,0,0,null,null,null,null,0,null,null,null,0]
[{"$f":"'Org structure'!E67","v":0},null,null,null,null,null,null,null,null,0,0,0,null,null,null,null,0,null,null,null,0]
[{"$f":"'Org structure'!A8","v":"Vote 7 - Electrical Engineering"},null,0,0,0,0,0,0,0,14550000,10000000,12000000,null,{"$f":"SUM(N73:N82)","v":0},0,0,0,0,0,0,0,0,0,0]
[{"$f":"'Org structure'!E69","v":"7.1 - [Name of sub-vote]"},null,null,null,null,null,null,null,null,{"$f":"Q73+V73","v":0},{"$f":"U73+W73","v":0},{"$f":"X73","v":0},null,null,null,null,{"$f":"SUM(N73:P73)","v":0},null,null,null,{"$f":"SUM(R73:T73)","v":0}]
[{"$f":"'Org structure'!E70","v":0},null,null,null,null,null,null,null,null,0,0,0,null,null,null,null,0,null,null,null,0]
[{"$f":"'Org structure'!E71","v":0},null,null,null,null,null,null,null,null,0,0,0,null,null,null,null,0,null,null,null,0]
[{"$f":"'Org structure'!E72","v":0},null,null,null,null,null,null,null,null,0,0,0,null,null,null,null,0,null,null,null,0]
[{"$f":"'Org structure'!E73","v":0},null,null,null,null,null,null,null,null,0,0,0,null,null,null,null,0,null,null,null,0]
[{"$f":"'Org structure'!E74","v":0},null,null,null,null,null,null,null,null,0,0,0,null,null,null,null,0,null,null,null,0]
[{"$f":"'Org structure'!E75","v":0},null,null,null,null,null,null,null,null,0,0,0,null,null,null,null,0,null,null,null,0]
[{"$f":"'Org structure'!E76","v":0},null,null,null,null,null,null,null,null,0,0,0,null,null,null,null,0,null,null,null,0]
[{"$f":"'Org structure'!E77","v":0},null,null,null,null,null,null,null,null,0,0,0,null,null,null,null,0,null,null,null,0]
[{"$f":"'Org structure'!E78","v":0},null,null,null,null,null,null,null,null,0,0,0,null,null,null,null,0,null,null,null,0]
[{"$f":"'Org structure'!A9","v":"Vote 8 - Office of the Speaker"},null,0,0,0,0,0,0,0,0,0,0,null,{"$f":"SUM(N84:N93)","v":0},0,0,0,0,0,0,0,0,0,0]
[{"$f":"'Org structure'!E80","v":"8.1 - [Name of sub-vote]"},null,null,null,null,null,null,null,null,{"$f":"Q84+V84","v":0},{"$f":"U84+W84","v":0},{"$f":"X84","v":0},null,null,null,null,{"$f":"SUM(N84:P84)","v":0},null,null,null,0]
[{"$f":"'Org structure'!E81","v":0},null,null,null,null,null,null,null,null,0,0,0,null,null,null,null,0,null,null,null,0]
[{"$f":"'Org structure'!E82","v":0},null,null,null,null,null,null,null,null,0,0,0,null,null,null,null,0,null,null,null,0]
[{"$f":"'Org structure'!E83","v":0},null,null,null,null,null,null,null,null,0,0,0,null,null,null,null,0,null,null,null,0]
[{"$f":"'Org structure'!E84","v":0},null,null,null,null,null,null,null,null,0,0,0,null,null,null,null,0,null,null,null,0]
[{"$f":"'Org structure'!E85","v":0},null,null,null,null,null,null,null,null,0,0,0,null,null,null,null,0,null,null,null,0]
[{"$f":"'Org structure'!E86","v":0},null,null,null,null,null,null,null,null,0,0,0,null,null,null,null,0,null,null,null,0]
[{"$f":"'Org structure'!E87","v":0},null,null,null,null,null,null,null,null,0,0,0,null,null,null,null,0,null,null,null,0]
[{"$f":"'Org structure'!E88","v":0},null,null,null,null,null,null,null,null,0,0,0,null,null,null,null,0,null,null,null,0]
[{"$f":"'Org structure'!E89","v":0},null,null,null,null,null,null,null,null,0,0,0,null,null,null,null,0,null,null,null,0]
[{"$f":"'Org structure'!A10","v":"Vote 9 - COMMUNITY & SOCIAL SERVICES"},null,0,0,0,0,0,0,0,0,0,0,null,{"$f":"SUM(N95:N104)","v":0},0,0,0,0,0,0,0,0,0,0]
[{"$f":"'Org structure'!E91","v":"9.1 - [Name of sub-vote]"},null,null,null,null,null,null,null,null,{"$f":"Q95+V95","v":0},{"$f":"U95+W95","v":0},{"$f":"X95","v":0},null,null,null,null,{"$f":"SUM(N95:P95)","v":0},null,null,null,0]
[{"$f":"'Org structure'!E92","v":0},null,null,null,null,null,null,null,null,0,0,0,null,null,null,null,0,null,null,null,0]
[{"$f":"'Org structure'!E93","v":0},null,null,null,null,null,null,null,null,0,0,0,null,null,null,null,0,null,null,null,0]
[{"$f":"'Org structure'!E94","v":0},null,null,null,null,null,null,null,null,0,0,0,null,null,null,null,0,null,null,null,0]
[{"$f":"'Org structure'!E95","v":0},null,null,null,null,null,null,null,null,0,0,0,null,null,null,null,0,null,null,null,0]
[{"$f":"'Org structure'!E96","v":0},null,null,null,null,null,null,null,null,0,0,0,null,null,null,null,0,null,null,null,0]
[{"$f":"'Org structure'!E97","v":0},null,null,null,null,null,null,null,null,0,0,0,null,null,null,null,0,null,null,null,0]
[{"$f":"'Org structure'!E98","v":0},null,null,null,null,null,null,null,null,0,0,0,null,null,null,null,0,null,null,null,0]
[{"$f":"'Org structure'!E99","v":0},null,null,null,null,null,null,null,null,0,0,0,null,null,null,null,0,null,null,null,0]
[{"$f":"'Org structure'!E100","v":0},null,null,null,null,null,null,null,null,0,0,0,null,null,null,null,0,null,null,null,0]
[{"$f":"'Org structure'!A11","v":"Vote 10 - Office of the Municipal Manager"},null,0,0,0,0,0,0,0,0,0,0,null,{"$f":"SUM(N106:N115)","v":0},0,0,0,0,0,0,0,0,0,0]
[{"$f":"'Org structure'!E102","v":"10.1 - [Name of sub-vote]"},null,null,null,null,null,null,null,null,{"$f":"Q106+V106","v":0},{"$f":"U106+W106","v":0},{"$f":"X106","v":0},null,null,null,null,{"$f":"SUM(N106:P106)","v":0},null,null,null,0]
[{"$f":"'Org structure'!E103","v":0},null,null,null,null,null,null,null,null,0,0,0,null,null,null,null,0,null,null,null,0]
[{"$f":"'Org structure'!E104","v":0},null,null,null,null,null,null,null,null,0,0,0,null,null,null,null,0,null,null,null,0]
[{"$f":"'Org structure'!E105","v":0},null,null,null,null,null,null,null,null,0,0,0,null,null,null,null,0,null,null,null,0]
[{"$f":"'Org structure'!E106","v":0},null,null,null,null,null,null,null,null,0,0,0,null,null,null,null,0,null,null,null,0]
[{"$f":"'Org structure'!E107","v":0},null,null,null,null,null,null,null,null,0,0,0,null,null,null,null,0,null,null,null,0]
[{"$f":"'Org structure'!E108","v":0},null,null,null,null,null,null,null,null,0,0,0,null,null,null,null,0,null,null,null,0]
[{"$f":"'Org structure'!E109","v":0},null,null,null,null,null,null,null,null,0,0,0,null,null,null,null,0,null,null,null,0]
[{"$f":"'Org structure'!E110","v":0},null,null,null,null,null,null,null,null,0,0,0,null,null,null,null,0,null,null,null,0]
[{"$f":"'Org structure'!E111","v":0},null,null,null,null,null,null,null,null,0,0,0,null,null,null,null,0,null,null,null,0]
[{"$f":"'Org structure'!A12","v":"Vote 11 - [NAME OF VOTE 11]"},null,{"$f":"SUM(C117:C126)","v":0},0,0,0,0,0,0,0,0,0,null,{"$f":"SUM(N117:N126)","v":0},0,0,0,0,0,0,0,0,0,0]
[{"$f":"'Org structure'!E113","v":"11.1 - [Name of sub-vote]"},null,null,null,null,null,null,null,null,{"$f":"Q117+V117","v":0},{"$f":"U117+W117","v":0},{"$f":"X117","v":0},null,null,null,null,{"$f":"SUM(N117:P117)","v":0},null,null,null,0]
[{"$f":"'Org structure'!E114","v":0},null,null,null,null,null,null,null,null,0,0,0,null,null,null,null,0,null,null,null,0]
[{"$f":"'Org structure'!E115","v":0},null,null,null,null,null,null,null,null,0,0,0,null,null,null,null,0,null,null,null,0]
[{"$f":"'Org structure'!E116","v":0},null,null,null,null,null,null,null,null,0,0,0,null,null,null,null,0,null,null,null,0]
[{"$f":"'Org structure'!E117","v":0},null,null,null,null,null,null,null,null,0,0,0,null,null,null,null,0,null,null,null,0]
[{"$f":"'Org structure'!E118","v":0},null,null,null,null,null,null,null,null,0,0,0,null,null,null,null,0,null,null,null,0]
[{"$f":"'Org structure'!E119","v":0},null,null,null,null,null,null,null,null,0,0,0,null,null,null,null,0,null,null,null,0]
[{"$f":"'Org structure'!E120","v":0},null,null,null,null,null,null,null,null,0,0,0,null,null,null,null,0,null,null,null,0]
[{"$f":"'Org structure'!E121","v":0},null,null,null,null,null,null,null,null,0,0,0,null,null,null,null,0,null,null,null,0]
[{"$f":"'Org structure'!E122","v":0},null,null,null,null,null,null,null,null,0,0,0,null,null,null,null,0,null,null,null,0]
[{"$f":"'Org structure'!A13","v":"Vote 12 - [NAME OF VOTE 12]"},null,{"$f":"SUM(C128:C137)","v":0},0,0,0,0,0,0,0,0,0,null,{"$f":"SUM(N128:N137)","v":0},0,0,0,0,0,0,0,0,0,0]
[{"$f":"'Org structure'!E124","v":"12.1 - [Name of sub-vote]"},null,null,null,null,null,null,null,null,{"$f":"Q128+V128","v":0},{"$f":"U128+W128","v":0},{"$f":"X128","v":0},null,null,null,null,{"$f":"SUM(N128:P128)","v":0},null,null,null,0]
[{"$f":"'Org structure'!E125","v":0},null,null,null,null,null,null,null,null,0,0,0,null,null,null,null,0,null,null,null,0]
[{"$f":"'Org structure'!E126","v":0},null,null,null,null,null,null,null,null,0,0,0,null,null,null,null,0,null,null,null,0]
[{"$f":"'Org structure'!E127","v":0},null,null,null,null,null,null,null,null,0,0,0,null,null,null,null,0,null,null,null,0]
[{"$f":"'Org structure'!E128","v":0},null,null,null,null,null,null,null,null,0,0,0,null,null,null,null,0,null,null,null,0]
[{"$f":"'Org structure'!E129","v":0},null,null,null,null,null,null,null,null,{"$f":"Q133+V133","v":0},0,0,null,null,null,null,0,null,null,null,0]
[{"$f":"'Org structure'!E130","v":0},null,null,null,null,null,null,null,null,0,0,0,null,null,null,null,0,null,null,null,0]
[{"$f":"'Org structure'!E131","v":0},null,null,null,null,null,null,null,null,0,0,0,null,null,null,null,0,null,null,null,0]
[{"$f":"'Org structure'!E132","v":0},null,null,null,null,null,null,null,null,0,0,0,null,null,null,null,0,null,null,null,{"$f":"SUM(R136:T136)","v":0}]
[{"$f":"'Org structure'!E133","v":0},null,null,null,null,null,null,null,null,0,0,0,null,null,null,null,0,null,null,null,0]
[{"$f":"'Org structure'!A14","v":"Vote 13 - [NAME OF VOTE 13]"},null,{"$f":"SUM(C139:C148)","v":0},0,0,0,0,0,0,0,0,0,null,{"$f":"SUM(N139:N148)","v":0},0,0,0,0,0,0,0,0,0,0]
[{"$f":"'Org structure'!E135","v":"13.1 - [Name of sub-vote]"},null,null,null,null,null,null,null,null,{"$f":"Q139+V139","v":0},{"$f":"U139+W139","v":0},{"$f":"X139","v":0},null,null,null,null,{"$f":"SUM(N139:P139)","v":0},null,null,null,0]
[{"$f":"'Org structure'!E136","v":0},null,null,null,null,null,null,null,null,0,0,0,null,null,null,null,0,null,null,null,0]
[{"$f":"'Org structure'!E137","v":0},null,null,null,null,null,null,null,null,0,0,0,null,null,null,null,0,null,null,null,0]
[{"$f":"'Org structure'!E138","v":0},null,null,null,null,null,null,null,null,0,0,0,null,null,null,null,0,null,null,null,0]
[{"$f":"'Org structure'!E139","v":0},null,null,null,null,null,null,null,null,0,0,0,null,null,null,null,0,null,null,null,0]
[{"$f":"'Org structure'!E140","v":0},null,null,null,null,null,null,null,null,0,0,0,null,null,null,null,0,null,null,null,0]
[{"$f":"'Org structure'!E141","v":0},null,null,null,null,null,null,null,null,0,0,0,null,null,null,null,0,null,null,null,0]
[{"$f":"'Org structure'!E142","v":0},null,null,null,null,null,null,null,null,0,0,0,null,null,null,null,0,null,null,null,0]
[{"$f":"'Org structure'!E143","v":0},null,null,null,null,null,null,null,null,0,0,0,null,null,null,null,0,null,null,null,0]
[{"$f":"'Org structure'!E144","v":0},null,null,null,null,null,null,null,null,0,0,0,null,null,null,null,0,null,null,null,0]
[{"$f":"'Org structure'!A15","v":"Vote 14 - [NAME OF VOTE 14]"},null,{"$f":"SUM(C150:C159)","v":0},0,0,0,0,0,0,0,0,0,null,{"$f":"SUM(N150:N159)","v":0},0,0,0,0,0,0,0,0,0,0]
[{"$f":"'Org structure'!E146","v":"14.1 - [Name of sub-vote]"},null,null,null,null,null,null,null,null,{"$f":"Q150+V150","v":0},{"$f":"U150+W150","v":0},{"$f":"X150","v":0},null,null,null,null,{"$f":"SUM(N150:P150)","v":0},null,null,null,0]
[{"$f":"'Org structure'!E147","v":0},null,null,null,null,null,null,null,null,0,0,0,null,null,null,null,0,null,null,null,0]
[{"$f":"'Org structure'!E148","v":0},null,null,null,null,null,null,null,null,0,0,0,null,null,null,null,0,null,null,null,0]
[{"$f":"'Org structure'!E149","v":0},null,null,null,null,null,null,null,null,0,0,0,null,null,null,null,0,null,null,null,0]
[{"$f":"'Org structure'!E150","v":0},null,null,null,null,null,null,null,null,0,0,0,null,null,null,null,0,null,null,null,0]
[{"$f":"'Org structure'!E151","v":0},null,null,null,null,null,null,null,null,0,0,0,null,null,null,null,0,null,null,null,0]
[{"$f":"'Org structure'!E152","v":0},null,null,null,null,null,null,null,null,0,0,0,null,null,null,null,0,null,null,null,0]
[{"$f":"'Org structure'!E153","v":0},null,null,null,null,null,null,null,null,0,0,0,null,null,null,null,0,null,null,null,0]
[{"$f":"'Org structure'!E154","v":0},null,null,null,null,null,null,null,null,0,0,0,null,null,null,null,0,null,null,null,0]
[{"$f":"'Org structure'!E155","v":0},null,null,null,null,null,null,null,null,0,0,0,null,null,null,null,0,null,null,null,0]
[{"$f":"'Org structure'!A16","v":"Vote 15 - [NAME OF VOTE 15]"},null,{"$f":"SUM(C161:C170)","v":0},0,0,0,0,0,0,0,0,0,null,{"$f":"SUM(N161:N170)","v":0},0,0,0,0,0,0,0,0,0,0]
[{"$f":"'Org structure'!E157","v":"15.1 - [Name of sub-vote]"},null,null,null,null,null,null,null,null,{"$f":"Q161+V161","v":0},{"$f":"U161+W161","v":0},{"$f":"X161","v":0},null,null,null,null,{"$f":"SUM(N161:P161)","v":0},null,null,null,0]
[{"$f":"'Org structure'!E158","v":0},null,null,null,null,null,null,null,null,0,0,0,null,null,null,null,0,null,null,null,0]
[{"$f":"'Org structure'!E159","v":0},null,null,null,null,null,null,null,null,0,0,0,null,null,null,null,0,null,null,null,0]
[{"$f":"'Org structure'!E160","v":0},null,null,null,null,null,null,null,null,0,0,0,null,null,null,null,0,null,null,null,0]
[{"$f":"'Org structure'!E161","v":0},null,null,null,null,null,null,null,null,0,0,0,null,null,null,null,0,null,null,null,0]
[{"$f":"'Org structure'!E162","v":0},null,null,null,null,null,null,null,null,0,0,0,null,null,null,null,0,null,null,null,0]
[{"$f":"'Org structure'!E163","v":0},null,null,null,null,null,null,null,null,0,0,0,null,null,null,null,0,null,null,null,0]
[{"$f":"'Org structure'!E164","v":0},null,null,null,null,null,null,null,null,0,0,0,null,null,null,null,0,null,null,null,0]
[{"$f":"'Org structure'!E165","v":0},null,null,null,null,null,null,null,null,0,0,0,null,null,null,null,0,null,null,null,0]
[{"$f":"'Org structure'!E166","v":0},null,null,null,null,null,null,null,null,0,0,0,null,null,null,null,0,null,null,null,0]
["Capital multi-year expenditure sub-total",null,{"$f":"C6+C17+C28+C39+C50+C61+C72+C83+C94+C105+C116+C127+C138+C149+C160","v":0},{"$f":"D6+D17+D28+D39+D50+D61+D72+D83+D94+D105+D116+D127+D138+D149+D160","v":0},0,0,0,0,0,129257450,160103800,176675150,null,{"$f":"N6+N17+N28+N39+N50+N61+N72+N83+N94+N105+N116+N127+N138+N149+N160","v":0},0,0,0,0,0,null,0,{"$f":"V6+V17+V28+V39+V50+V61+V72+V83+V94+V105+V116+V127+V138+V149+V160","v":0},{"$f":"W6+W17+W28+W39+W50+W61+W72+W83+W94+W105+W116+W127+W138+W149+W160","v":0}]
[]
["Capital expenditure - Municipal Vote"]
["Single-year expenditure appropriation",2]
[{"$f":"A6","v":"Vote 1 - Executive & Council"},null,0,0,0,0,0,0,0,0,0,0]
[{"$f":"A7","v":"1.1 - [Name of sub-vote]"}]
[0]
[0]
[0]
[0]
[0]
[0]
[0]
[0]
[0]
["Vote 2 - Planning and Economic Development",null,826160,0,235000,1235000,1235000,1235000,1235000,0,0,2]
["2.1 - [Name of sub-vote]"]
[0]
[0]
[0]
[0]
[0]
[0]
[0]
[0]
[0]
["Vote 3 - Budget and Treasury",null,0,0,309131.63,500000,500000,500000,500000,0,0,1]
["3.1 - [Name of sub-vote]"]
[0]
[0]
[0]
[0]
[0]
[0]
[0]
[0]
[0]
["Vote 4 - Corporate Services",null,0,0,0,0,400000,400000,400000,0,0,2]
["4.1 - [Name of sub-vote]"]
[0]
[0]
[0]
[0]
[0]
[0]
[0]
[0]
[0]
["Vote 5 - Engineering Services",null,97207476,0,109509558.59,96938034,113545044,113545044,113545044,0,0,56]
["5.1 - [Name of sub-vote]"]
[0]
[0]
[0]
[0]
[0]
[0]
[0]
[0]
[0]
["Vote 6 - Community Services",null,0,0,3589484.72,2300000,2800000,2800000,2800000,0,0,8]
["6.1 - [Name of sub-vote]"]
[0]
[0]
[0]
[0]
[0]
[0]
[0]
[0]
[{"$f":"A71","v":0}]
["Vote 7 - Electrical Engineering",null,13444078,35543715,76614936.400000006,30000000,43012899,43012899,43012899,1600000,0,62]
["7.1 - [Name of sub-vote]"]
[0]
[0]
[0]
[0]
[0]
[0]
[0]
[0]
[0]
["Vote 8 - Office of the Speaker",null,15053644,67938724,0,0,0,0,0,0,0,0]
["8.1 - [Name of sub-vote]"]
[0]
[0]
[0]
[0]
[0]
[0]
[0]
[0]
[0]
["Vote 9 - COMMUNITY & SOCIAL SERVICES",null,0,0,0,0,0,0,0,0,0,0]
["9.1 - [Name of sub-vote]"]
[0]
[0]
[0]
[0]
[0]
[0]
[0]
[0]
[0]
["Vote 10 - Office of the Municipal Manager",null,0,0,0,0,0,0,0,0,0,1]
["10.1 - [Name of sub-vote]"]
[0]
[0]
[0]
[0]
[0]
[0]
[0]
[0]
[0]
["Vote 11 - [NAME OF VOTE 11]",null,{"$f":"SUM(C286:C295)","v":0},0,0,0,0,0,0,0,0,0]
["11.1 - [Name of sub-vote]"]
[0]
[0]
[0]
[0]
[0]
[0]
[0]
[0]
[0]
["Vote 12 - [NAME OF VOTE 12]",null,{"$f":"SUM(C297:C306)","v":0},0,0,0,0,0,0,0,0,0]
["12.1 - [Name of sub-vote]"]
[0]
[0]
[0]
[0]
[0]
[0]
[{"$f":"A135","v":0}]
[0]
[0]
["Vote 13 - [NAME OF VOTE 13]",null,{"$f":"SUM(C308:C317)","v":0},0,0,0,0,0,0,0,0,0]
["13.1 - [Name of sub-vote]"]
[0]
[0]
[0]
[0]
[0]
[0]
[0]
[0]
[0]
["Vote 14 - [NAME OF VOTE 14]",null,{"$f":"SUM(C319:C328)","v":0},0,0,0,0,0,0,0,0,0]
["14.1 - [Name of sub-vote]"]
[0]
[0]
[0]
[0]
[0]
[0]
[0]
[0]
[0]
["Vote 15 - [NAME OF VOTE 15]",null,{"$f":"SUM(C330:C339)","v":0},0,0,0,0,0,0,0,0,0]
["15.1 - [Name of sub-vote]"]
[0]
[0]
[0]
[0]
[0]
[0]
[0]
[0]
[0]
["Capital single-year expenditure sub-total",null,{"$f":"C175+C186+C197+C208+C219+C230+C241+C252+C263+C274+C285+C296+C307+C318+C329","v":126531358},{"$f":"D175+D186+D197+D208+D219+D230+D241+D252+D263+D274+D285+D296+D307+D318+D329","v":103482439},190258111.34,130973034,161492943,161492943,161492943,1600000,0,132]
["Total Capital Expenditure",null,{"$f":"C171+C340","v":126531358},{"$f":"D171+D340","v":103482439},190258111.34,130973034,161492943,161492943,161492943,130857450,160103800,176675282]

{"sheet":"A6-FinPos","index":15,"n_rows":55,"n_cols":12,"rows_kept":55,"cut":false,"hidden":false,"merged":[[49,0,49,11],[1,9,1,11],[1,5,1,8]]}
[{"$f":"muni&\" - \"&Approve6","v":"Choose name from list - Table A6 Budgeted Financial Position"}]
[{"$f":"desc","v":"Description"},{"$f":"head27","v":"Ref"},{"$f":"head1b","v":"2017/18"},{"$f":"head1A","v":"2018/19"},{"$f":"Head1","v":"2019/20"},{"$f":"Head2","v":"Current Year 2020/21"},null,null,null,{"$f":"Head3","v":"2021/22 Medium Term Revenue & Expenditure Framework"}]
["R thousand",null,{"$f":"Head5","v":"Audited Outcome"},{"$f":"Head5","v":"Audited Outcome"},{"$f":"Head5","v":"Audited Outcome"},{"$f":"Head6","v":"Original Budget"},{"$f":"Head7","v":"Adjusted Budget"},{"$f":"Head8","v":"Full Year Forecast"},{"$f":"Head5b","v":"Pre-audit outcome"},{"$f":"Head9","v":"Budget Year 2021/22"},{"$f":"Head10","v":"Budget Year +1 2022/23"},{"$f":"Head11","v":"Budget Year +2 2023/24"}]
["ASSETS"]
["Current assets"]
["Cash",null,7490665,42033010.840000004,70215766.209999993,44000000,34000000,34000000,34000000,34000000,35428000,35558830]
["Call investment deposits",1,0,0,0,0,0,0,0,0,0,11]
["Consumer debtors",1,{"$f":"'SA3'!C14","v":137321124},{"$f":"'SA3'!D14","v":82703229},{"$f":"'SA3'!E14","v":546854056.87999988},{"$f":"'SA3'!F14","v":99048522},{"$f":"'SA3'!G14","v":99048516},{"$f":"'SA3'!H14","v":99048516},{"$f":"'SA3'!I14","v":99048516},{"$f":"'SA3'!J14","v":132000000},{"$f":"'SA3'!K14","v":138000000},{"$f":"'SA3'!L14","v":136000319}]
["Other debtors",null,277853918,330270604,39767189.5,302706723,302706732,302706732,302706732,401755245,418628966,437049259]
["Current portion of long-term receivables",null,0,0,0,0,0,0,0,0,0,0]
["Inventory",2,19164420,18162335,22331781.609999999,19488796,19488792,19488792,19488792,19488796,20307325,21200850]
["Total current assets",null,{"$f":"SUM(C6:C11)","v":441830127},473169178.84000003,679168794.19999993,465244041,455244040,455244040,455244040,587244041,612364291,629809269]
[]
["Non current assets"]
["Long-term receivables",null,0,0,0,0,0,0,0,0,0,1]
["Investments",null,26887398,31525083,21113398.309999999,21995950,21995976,21995976,21995976,18482970,18938127,19412288]
["Investment property",null,181377053,181746803,181586803.40000001,187377053,189377060,189377060,189377060,189377053,197330889,206013451]
["Investment in Associate",null,0,0,0,0,0,0,0,0,0,0]
["Property, plant and equipment",3,{"$f":"'SA3'!C121","v":1486313521.0300002},{"$f":"'SA3'!D121","v":1456773250},{"$f":"'SA3'!E121","v":1486773372.6100001},{"$f":"'SA3'!F121","v":1766960930},{"$f":"'SA3'!G121","v":1795480855},{"$f":"'SA3'!H121","v":1795480855},{"$f":"'SA3'!I121","v":1795480855},{"$f":"'SA3'!J121","v":2612366574},{"$f":"'SA3'!K121","v":3115706157},{"$f":"'SA3'!L121","v":3309946986}]
[]
["Biological",null,0,0,0,0,0,0,0,0,0,0]
["Intangible",null,1603468,1135137,744470,1003005,1002996,1002996,1002996,1003005,1045131,1091115]
["Other non-current assets",null,195000,195000,200958.15,195000,195000,195000,195000,195000,203190,212130]
["Total non current assets",null,{"$f":"SUM(C15:C19)+SUM(C21:C23)","v":1696376440.0300002},{"$f":"SUM(D15:D19)+SUM(D21:D23)","v":1671375273},1690419002.4700003,1977531938,2008051887,2008051887,2008051887,2821424602,3333223494,3536675971]
["TOTAL ASSETS",null,{"$f":"C12+C24","v":2138206567.0300002},{"$f":"D12+D24","v":2144544451.8400002},{"$f":"E12+E24","v":2369587796.6700001},{"$f":"F12+F24","v":2442775979},2463295927,2463295927,2463295927,3408668643,3945587785,4166485240]
[]
["LIABILITIES"]
["Current liabilities"]
["Bank overdraft",1,0,0,0,0,0,0,0,0,0,0]
["Borrowing",4,{"$f":"'SA3'!C127","v":10725007},{"$f":"'SA3'!D127","v":22810651},{"$f":"'SA3'!E127","v":9851649},{"$f":"'SA3'!F127","v":12994722},{"$f":"'SA3'!G127","v":12994752},{"$f":"'SA3'!H127","v":12994752},{"$f":"'SA3'!I127","v":12994752},{"$f":"'SA3'!J127","v":1714477},{"$f":"'SA3'!K127","v":1420718},{"$f":"'SA3'!L127","v":-1673277}]
["Consumer deposits",null,26858463,27068007,27396999.460000001,27487095,27487104,27487104,-27487104,1100000,1100000,1100001]
["Trade and other payables",4,{"$f":"'SA3'!C134","v":248997911},{"$f":"'SA3'!D134","v":279430815},{"$f":"'SA3'!E134","v":296817118.98000002},{"$f":"'SA3'!F134","v":277304930},{"$f":"'SA3'!G134","v":291282277},{"$f":"'SA3'!H134","v":291282277},{"$f":"'SA3'!I134","v":291282277},{"$f":"'SA3'!J134","v":78293410},{"$f":"'SA3'!K134","v":80812824},{"$f":"'SA3'!L134","v":-216226779}]
["Provisions",null,445724,948670,970476.28,1065926,1065936,1065936,-1065936,1067288,1112115,1161052]
["Total current liabilities",null,{"$f":"SUM(C29:C33)","v":287027105},330258143,335036243.71999997,318852673,332830069,332830069,275723989,82175175,84445657,-215639003]
[]
["Non current liabilities"]
["Borrowing",null,{"$f":"'SA3'!C139","v":93059239},{"$f":"'SA3'!D139","v":114196650},{"$f":"'SA3'!E139","v":127366462},{"$f":"'SA3'!F139","v":145477166},{"$f":"'SA3'!G139","v":145477212},{"$f":"'SA3'!H139","v":145477212},{"$f":"'SA3'!I139","v":145477212},{"$f":"'SA3'!J139","v":146759262},{"$f":"'SA3'!K139","v":152923152},{"$f":"'SA3'!L139","v":159651776}]
["Provisions",null,{"$f":"'SA3'!C146","v":88448042},{"$f":"'SA3'!D146","v":82278269},{"$f":"'SA3'!E146","v":76769088.019999996},{"$f":"'SA3'!F146","v":86602465},{"$f":"'SA3'!G146","v":86602476},{"$f":"'SA3'!H146","v":86602476},{"$f":"'SA3'!I146","v":86602476},{"$f":"'SA3'!J146","v":86601103},{"$f":"'SA3'!K146","v":83481005},{"$f":"'SA3'!L146","v":86832404}]
["Total non current liabilities",null,{"$f":"SUM(C37:C38)","v":181507281},{"$f":"SUM(D37:D38)","v":196474919},{"$f":"SUM(E37:E38)","v":204135550.01999998},{"$f":"SUM(F37:F38)","v":232079631},232079688,232079688,232079688,233360365,{"$f":"SUM(K37:K38)","v":236404157},246484180]
["TOTAL LIABILITIES",null,{"$f":"C34+C39","v":468534386},{"$f":"D34+D39","v":526733062},{"$f":"E34+E39","v":539171793.74000001},{"$f":"F34+F39","v":550932304},564909757,564909757,507803677,315535540,{"$f":"K34+K39","v":320849814},30845177]
[]
["NET ASSETS",5,{"$f":"C25-C40","v":1669672181.0300002},1617811389.8400002,1830416002.9300001,1891843675,1898386170,1898386170,1955492250,3093133103,3624737971,4135640063]
[]
["COMMUNITY WEALTH/EQUITY"]
["Accumulated Surplus/(Deficit)",null,1669672181.0899999,1617811389.8399999,1830416003.1900001,1891843675,1898386170,1898386170,null,3093133103,3624737971,4135640054]
["Reserves",4,{"$f":"'SA3'!C165","v":0},{"$f":"'SA3'!D165","v":0},{"$f":"'SA3'!E165","v":0},{"$f":"'SA3'!F165","v":0},{"$f":"'SA3'!G165","v":0},{"$f":"'SA3'!H165","v":0},{"$f":"'SA3'!I165","v":0},{"$f":"'SA3'!J165","v":0},{"$f":"'SA3'!K165","v":0},{"$f":"'SA3'!L165","v":0}]
[]
["TOTAL COMMUNITY WEALTH/EQUITY",5,{"$f":"SUM(C45:C46)","v":1669672181.0899999},{"$f":"SUM(D45:D46)","v":1617811389.8399999},1830416003.1900001,1891843675,1898386170,1898386170,0,3093133103,3624737971,4135640054]
[{"$f":"head27a","v":"References"}]
["1. Detail to be provided in Table SA3"]
["2. Include completed low cost housing to be transferred to beneficiaries within 12 months"]
["3. Include 'Construction-work-in-progress' (disclosed separately in annual financial statements)"]
["4. Detail to be provided in Table SA3. Includes reserves to be funded by statute."]
["5. Net assets must balance with Total Community Wealth/Equity"]
["check balance",null,{"$f":"IF((C42-C48)=0,0,\"Unbalanced\")","v":"Unbalanced"},{"$f":"IF((D42-D48)=0,0,\"Unbalanced\")","v":"Unbalanced"},"Unbalanced",0,0,0,"Unbalanced",0,0,"Unbalanced"]

{"sheet":"A7-CFlow","index":16,"n_rows":51,"n_cols":12,"rows_kept":51,"cut":false,"hidden":false,"merged":[[1,9,1,11],[1,5,1,8]]}
[{"$f":"muni&\" - \"&Approve7","v":"Choose name from list - Table A7 Budgeted Cash Flows"}]
[{"$f":"desc","v":"Description"},{"$f":"head27","v":"Ref"},{"$f":"head1b","v":"2017/18"},{"$f":"head1A","v":"2018/19"},{"$f":"Head1","v":"2019/20"},{"$f":"Head2","v":"Current Year 2020/21"},null,null,null,{"$f":"Head3","v":"2021/22 Medium Term Revenue & Expenditure Framework"}]
["R thousand",null,{"$f":"Head5","v":"Audited Outcome"},{"$f":"Head5","v":"Audited Outcome"},{"$f":"Head5","v":"Audited Outcome"},{"$f":"Head6","v":"Original Budget"},{"$f":"Head7","v":"Adjusted Budget"},{"$f":"Head8","v":"Full Year Forecast"},{"$f":"Head5b","v":"Pre-audit outcome"},{"$f":"Head9","v":"Budget Year 2021/22"},{"$f":"Head10","v":"Budget Year +1 2022/23"},{"$f":"Head11","v":"Budget Year +2 2023/24"}]
["CASH FLOW FROM OPERATING ACTIVITIES"]
["Receipts"]
["Property rates",null,79408159,119183219,125629532,119250000,119250000,119250000,119250000,{"$f":"'SA30'!N5","v":123750000},{"$f":"'SA30'!O5","v":128947500},{"$f":"'SA30'!P5","v":134621190}]
["Service charges",null,473073828,482916173,533445052,545955418,545955432,545955432,545955432,{"$f":"'SA30'!N6+'SA30'!N7+'SA30'!N8+'SA30'!N9","v":638655346},{"$f":"'SA30'!O6+'SA30'!O7+'SA30'!O8+'SA30'!O9","v":702282973},{"$f":"'SA30'!P6+'SA30'!P7+'SA30'!P8+'SA30'!P9","v":1061667260}]
["Other revenue",null,34217947,13193096,12010084,63202590,63202596,63202596,63202596,{"$f":"'SA30'!N11+'SA30'!N15+'SA30'!N16+'SA30'!N17+'SA30'!N19","v":28579313},{"$f":"'SA30'!O11+'SA30'!O15+'SA30'!O16+'SA30'!O17+'SA30'!O19","v":29580357},{"$f":"'SA30'!P11+'SA30'!P15+'SA30'!P16+'SA30'!P17+'SA30'!P19","v":30673117}]
["Transfers and Subsidies - Operational",1,372581395,406469973,367386877,443963950,530963976,530963976,530963976,{"$f":"'SA30'!N18","v":464088050},{"$f":"'SA30'!O18","v":479030200},{"$f":"'SA30'!P18","v":473161853}]
["Transfers and Subsidies - Capital",1,113005208,87699250,87869317.090000004,88938050,88938060,88938060,88938060,{"$f":"'SA30'!N23","v":94753950},{"$f":"'SA30'!O23","v":102603800},{"$f":"'SA30'!P23","v":107290150}]
["Interest",null,4427276,9615814,8677865,0,0,0,0,{"$f":"'SA30'!N12+'SA30'!N13","v":31940000},{"$f":"'SA30'!O12+'SA30'!O13","v":33281480},{"$f":"'SA30'!P12+'SA30'!P13","v":34745865}]
["Dividends",null,0,0,0,0,0,0,0,{"$f":"'SA30'!N14","v":0},{"$f":"'SA30'!O14","v":0},{"$f":"'SA30'!P14","v":0}]
["Payments"]
["Suppliers and employees",null,-833907497,-907952256,-902352816.01999998,0,-1215857951,-1215857951,-1215857951,{"$f":"-('SA30'!N35+'SA30'!N36+'SA30'!N38+'SA30'!N39+'SA30'!N40+'SA30'!N41+'SA30'!N44+'SA30'!N50)","v":-1210036500},{"$f":"-('SA30'!O35+'SA30'!O36+'SA30'!O38+'SA30'!O39+'SA30'!O40+'SA30'!O41+'SA30'!O44+'SA30'!O50)","v":-1300926724},{"$f":"-('SA30'!P35+'SA30'!P36+'SA30'!P38+'SA30'!P39+'SA30'!P40+'SA30'!P41+'SA30'!P44+'SA30'!P50)","v":-1653747725}]
["Finance charges",null,-11107653,-10961350,-13571398,0,-16228812,-16228812,-16228812,{"$f":"-('SA30'!N37)","v":-16326562},{"$f":"-('SA30'!O37)","v":-17012277},{"$f":"-('SA30'!P37)","v":-17760818}]
["Transfers and Grants",1,-112420696,-57132506,-37312094.57,0,-13919028,-13919028,-13919028,{"$f":"-('SA30'!N42+'SA30'!N43)","v":-16098000},{"$f":"-('SA30'!O42+'SA30'!O43)","v":-7871670},{"$f":"-('SA30'!P42+'SA30'!P43)","v":-8130029}]
["NET CASH FROM/(USED) OPERATING ACTIVITIES",null,{"$f":"SUM(C6:C12)+SUM(C14:C16)","v":119277967},143031413,181782418.49999988,1261310008,102304273,102304273,102304273,139305597,149915639,162520863]
[]
["CASH FLOWS FROM INVESTING ACTIVITIES"]
["Receipts"]
["Proceeds on disposal of PPE",null,3260581,676890,0,1500000,1500000,1500000,1500000,{"$f":"'SA30'!N24+'SA30'!N25","v":0},{"$f":"'SA30'!O24+'SA30'!O25","v":0},{"$f":"'SA30'!P24+'SA30'!P25","v":1}]
[null,null,0,0,0,0,0,0,0]
["Decrease (increase) in non-current receivables",null,0,0,0,0,0,0,0,{"$f":"'SA30'!N30","v":0},{"$f":"'SA30'!O30","v":0},{"$f":"'SA30'!P30","v":0}]
["Decrease (increase) in non-current investments",null,955966,-4637684,10411685.289999999,-1262783,-1262772,-1262772,-1262772,{"$f":"'SA30'!N31","v":0},{"$f":"'SA30'!O31","v":0},{"$f":"'SA30'!P31","v":0}]
["Payments"]
["Capital assets",null,-126531358,-138893152,-163795173.96000001,-128938050,-153141512,-153141512,-153141512,{"$f":"-('SA30'!N48)","v":-130407450},{"$f":"-('SA30'!O48)","v":-138803802},{"$f":"-('SA30'!P48)","v":-149075195}]
["NET CASH FROM/(USED) INVESTING ACTIVITIES",null,{"$f":"+C21+C23+C24+C26","v":-122314811},{"$f":"+D21+D23+D24+D26","v":-142853946},-153383488.67000002,-128700833,-152904284,-152904284,-152904284,-130407450,-138803802,-149075194]
[]
["CASH FLOWS FROM FINANCING ACTIVITIES"]
["Receipts"]
["Short term loans",null,0,0,0,0,0,0,0,{"$f":"'SA30'!N26","v":0},{"$f":"'SA30'!O26","v":0},{"$f":"'SA30'!P26","v":0}]
["Borrowing long term/refinancing",null,0,40000000,20000000,30000000,30000000,30000000,30000000,{"$f":"'SA30'!N27","v":0},{"$f":"'SA30'!O27","v":0},{"$f":"'SA30'!P27","v":1}]
["Increase (decrease) in consumer deposits",null,0,0,0,0,0,0,0,{"$f":"'SA30'!N28","v":1100000},{"$f":"'SA30'!O28","v":1100000},{"$f":"'SA30'!P28","v":1100000}]
["Payments"]
["Repayment of borrowing",null,-21312438,-5635121,-20216174.210000001,-324045,-324048,-324048,-324048,{"$f":"-('SA30'!N49)","v":-9998147},{"$f":"-('SA30'!O49)","v":-10783837},{"$f":"-('SA30'!P49)","v":-14414840}]
["NET CASH FROM/(USED) FINANCING ACTIVITIES",null,{"$f":"SUM(C31:C33)+C35","v":-21312438},{"$f":"SUM(D31:D33)+D35","v":34364879},-216174.21000000089,29675955,29675952,29675952,29675952,-8898147,-9683837,-13314839]
[]
["NET INCREASE/ (DECREASE) IN CASH HELD",null,{"$f":"C17+C27+C36","v":-24349282},{"$f":"D17+D27+D36","v":34542346},28182755.619999863,1162285130,-20924059,-20924059,-20924059,0,1428000,130830]
["Cash/cash equivalents at the year begin:",2,31839163,7490665,42033010.549999997,43510852,70215767,70215767,70215767,{"$f":"'SA30'!N54","v":34000000},{"$f":"J40","v":34000000},{"$f":"K40","v":35428000}]
["Cash/cash equivalents at the year end:",2,{"$f":"C38+C39","v":7489881},{"$f":"D38+D39","v":42033011},{"$f":"E38+E39","v":70215766.169999868},{"$f":"F38+F39","v":1205795982},49291708,49291708,49291708,34000000,35428000,35558830]
[{"$f":"head27a","v":"References"}]
["1. Local/District municipalities to include transfers from/to District/Local Municipalities"]
["2. Cash equivalents includes investments with maturities of 3 months or less"]
["3. The MTREF is populated directly from SA30."]
["Total receipts",null,{"$f":"SUM(C6:C12)+SUM(C21:C23)","v":1079974394},1119754415,1135018727.0899999,1262810008,1349810064,1349810064,1349810064,1381766659,1475726310,1842159436]
["Total payments",null,{"$f":"SUM(C14:C16)+C26","v":-1083967204},{"$f":"SUM(D14:D16)+D26","v":-1114939264},-1117031482.55,-128938050,-1399147303,-1399147303,-1399147303,-1372868512,-1464614473,-1828713767]
[null,null,{"$f":"C45+C46","v":-3992810},{"$f":"D45+D46","v":4815151},17987244.539999962,1133871958,-49337239,-49337239,-49337239,8898147,11111837,13445669]
["Borrowings & investments & c.deposits",null,{"$f":"C24+C32+C33","v":955966},{"$f":"D24+D32+D33","v":35362316},30411685.289999999,28737217,28737228,28737228,28737228,1100000,1100000,1100001]
[{"$f":"A35","v":"Repayment of borrowing"},null,{"$f":"C35","v":-21312438},{"$f":"D35","v":-5635121},-20216174.210000001,-324045,-324048,-324048,{"$f":"I35","v":-324048},-9998147,-10783837,-14414840]
[null,null,{"$f":"C47+C48+C49","v":-24349282},{"$f":"D47+D48+D49","v":34542346},28182755.61999996,1162285130,-20924059,-20924059,-20924059,0,1428000,130830]
[null,null,{"$f":"C38-C50","v":0},0,-9.6857547760009766E-8,0,0,0,0,0,0,0]

{"sheet":"A8-ResRecon","index":17,"n_rows":67,"n_cols":12,"rows_kept":67,"cut":false,"hidden":false,"merged":[[1,9,1,11],[1,5,1,8]]}
[{"$f":"muni&\" - \"&Approve8","v":"Choose name from list - Table A8 Cash backed reserves/accumulated surplus reconciliation"}]
[{"$f":"desc","v":"Description"},{"$f":"head27","v":"Ref"},{"$f":"head1b","v":"2017/18"},{"$f":"head1A","v":"2018/19"},{"$f":"Head1","v":"2019/20"},{"$f":"Head2","v":"Current Year 2020/21"},null,null,null,{"$f":"Head3","v":"2021/22 Medium Term Revenue & Expenditure Framework"}]
["R thousand",null,{"$f":"Head5","v":"Audited Outcome"},{"$f":"Head5","v":"Audited Outcome"},{"$f":"Head5","v":"Audited Outcome"},{"$f":"Head6","v":"Original Budget"},{"$f":"Head7","v":"Adjusted Budget"},{"$f":"Head8","v":"Full Year Forecast"},{"$f":"Head5b","v":"Pre-audit outcome"},{"$f":"Head9","v":"Budget Year 2021/22"},{"$f":"Head10","v":"Budget Year +1 2022/23"},{"$f":"Head11","v":"Budget Year +2 2023/24"}]
["Cash and investments available"]
[{"$f":"LEFT('A7-CFlow'!A40,37)","v":"Cash/cash equivalents at the year end"},1,{"$f":"'A7-CFlow'!C40","v":7489881},{"$f":"'A7-CFlow'!D40","v":42033011},{"$f":"'A7-CFlow'!E40","v":70215766.169999868},{"$f":"'A7-CFlow'!F40","v":1205795982},{"$f":"'A7-CFlow'!G40","v":49291708},{"$f":"'A7-CFlow'!H40","v":49291708},{"$f":"'A7-CFlow'!I40","v":49291708},{"$f":"'A7-CFlow'!J40","v":34000000},{"$f":"'A7-CFlow'!K40","v":35428000},{"$f":"'A7-CFlow'!L40","v":35558830}]
["Other current investments  > 90 days",null,{"$f":"'A6-FinPos'!C6+'A6-FinPos'!C7-'A6-FinPos'!C29-'A8-ResRecon'!C5","v":784},{"$f":"'A6-FinPos'!D6+'A6-FinPos'!D7-'A6-FinPos'!D29-'A8-ResRecon'!D5","v":-0.15999999642372131},{"$f":"'A6-FinPos'!E6+'A6-FinPos'!E7-'A6-FinPos'!E29-'A8-ResRecon'!E5","v":4.0000125765800476E-2},{"$f":"'A6-FinPos'!F6+'A6-FinPos'!F7-'A6-FinPos'!F29-'A8-ResRecon'!F5","v":-1161795982},{"$f":"'A6-FinPos'!G6+'A6-FinPos'!G7-'A6-FinPos'!G29-'A8-ResRecon'!G5","v":-15291708},{"$f":"'A6-FinPos'!H6+'A6-FinPos'!H7-'A6-FinPos'!H29-'A8-ResRecon'!H5","v":-15291708},{"$f":"'A6-FinPos'!I6+'A6-FinPos'!I7-'A6-FinPos'!I29-'A8-ResRecon'!I5","v":-15291708},{"$f":"'A6-FinPos'!J6+'A6-FinPos'!J7-'A6-FinPos'!J29-'A8-ResRecon'!J5","v":0},{"$f":"'A6-FinPos'!K6+'A6-FinPos'!K7-'A6-FinPos'!K29-'A8-ResRecon'!K5","v":0},{"$f":"'A6-FinPos'!L6+'A6-FinPos'!L7-'A6-FinPos'!L29-'A8-ResRecon'!L5","v":11}]
[{"$f":"'A6-FinPos'!A14&\" - \"&'A6-FinPos'!A16","v":"Non current assets - Investments"},1,{"$f":"'A6-FinPos'!C16","v":26887398},{"$f":"'A6-FinPos'!D16","v":31525083},{"$f":"'A6-FinPos'!E16","v":21113398.309999999},{"$f":"'A6-FinPos'!F16","v":21995950},{"$f":"'A6-FinPos'!G16","v":21995976},{"$f":"'A6-FinPos'!H16","v":21995976},{"$f":"'A6-FinPos'!I16","v":21995976},{"$f":"'A6-FinPos'!J16","v":18482970},{"$f":"'A6-FinPos'!K16","v":18938127},{"$f":"'A6-FinPos'!L16","v":19412288}]
["Cash and investments available:",null,{"$f":"SUM(C5:C7)","v":34378063},{"$f":"SUM(D5:D7)","v":73558093.840000004},91329164.519999996,65995950,55995976,55995976,55995976,52482970,54366127,54971129]
[]
["Application of cash and investments"]
[{"$f":"'SA3'!A132","v":"Unspent conditional transfers"},null,{"$f":"'SA3'!C132","v":3900000},{"$f":"'SA3'!D132","v":5076496},{"$f":"'SA3'!E132","v":5455826.2000000002},{"$f":"'SA3'!F132","v":0},{"$f":"'SA3'!G132","v":0},{"$f":"'SA3'!H132","v":0},{"$f":"'SA3'!I132","v":0},{"$f":"'SA3'!J132","v":0},{"$f":"'SA3'!K132","v":0},{"$f":"'SA3'!L132","v":3}]
["Unspent borrowing",null,0,0,0,0,0,0,0,0,0,0]
["Statutory requirements",2,36353082,39744095,43987929,41982845,41982845,41982845,41982845,41982845,43746124,45670954]
["Other working capital requirements",3,{"$f":"-C32","v":-116083813},{"$f":"-D32","v":-99804351},-242549636.28999999,{"$f":"-F32","v":-101650915},-97755575,-97755575,-95547575,-414579435,-434108300,-904756736]
["Other provisions",null,0,0,0,0,0,0,0,0,0,0]
["Long term investments committed",4,{"$f":"C52","v":0},{"$f":"D52","v":0},0,0,0,0,0,0,0,0]
["Reserves to be backed by cash/investments",5,0,0,0,0,0,0,0,0,0,0]
[{"$f":"\"Total \"&A10&\":\"","v":"Total Application of cash and investments:"},null,{"$f":"SUM(C11:C17)","v":-75830731},{"$f":"SUM(D11:D17)","v":-54983760},-193105881.08999997,-59668070,-55772730,-55772730,-53564730,-372596590,-390362176,-859085779]
["Surplus(shortfall)",null,{"$f":"C8-C18","v":110208794},{"$f":"D8-D18","v":128541853.84},284435045.60999995,125664020,111768706,111768706,109560706,425079560,444728303,914056908]
[{"$f":"head27a","v":"References"}]
["1. Must reconcile with Budgeted Cash Flows"]
["2. For example: VAT, taxation"]
["3. Council approval for policy required - include sufficient working capital (e.g. allowing for a % of current debtors > 90 days as uncollectable)"]
["4. For example: sinking fund requirements for borrowing"]
["5. Council approval required for each reserve created and basis of cash backing of reserves"]
[]
[]
["Other working capital requirements"]
["Debtors",null,{"$f":"IF(ISERROR(ROUND(C35*C36,-3)),0,(ROUND(C35*C36,-3)))","v":360736000},{"$f":"IF(ISERROR(ROUND(D35*D36,-3)),0,(ROUND(D35*D36,-3)))","v":373210000},489923000,336973000,347055000,347055000,344847000,450890000,471175000,642859000]
[]
["Creditors due",null,{"$f":"'SA3'!C130+'SA3'!C131","v":244652187},{"$f":"'SA3'!D130+'SA3'!D131","v":273405649},{"$f":"'SA3'!E130+'SA3'!E131","v":247373363.71000001},{"$f":"'SA3'!F130+'SA3'!F131","v":235322085},{"$f":"'SA3'!G130+'SA3'!G131","v":249299425},{"$f":"'SA3'!H130+'SA3'!H131","v":249299425},{"$f":"'SA3'!I130+'SA3'!I131","v":249299425},{"$f":"'SA3'!J130+'SA3'!J131","v":36310565},{"$f":"'SA3'!K130+'SA3'!K131","v":37066700},{"$f":"'SA3'!L130+'SA3'!L131","v":-261897736}]
["Total",null,{"$f":"C29-C31","v":116083813},{"$f":"D29-D31","v":99804351},242549636.28999999,101650915,97755575,97755575,95547575,414579435,434108300,904756736]
[]
["Debtors collection assumptions"]
["Balance outstanding - debtors",null,{"$f":"'A6-FinPos'!C8+'A6-FinPos'!C9+'A6-FinPos'!C15","v":415175042},{"$f":"'A6-FinPos'!D8+'A6-FinPos'!D9+'A6-FinPos'!D15","v":412973833},{"$f":"'A6-FinPos'!E8+'A6-FinPos'!E9+'A6-FinPos'!E15","v":586621246.37999988},{"$f":"'A6-FinPos'!F8+'A6-FinPos'!F9+'A6-FinPos'!F15","v":401755245},{"$f":"'A6-FinPos'!G8+'A6-FinPos'!G9+'A6-FinPos'!G15","v":401755248},{"$f":"'A6-FinPos'!H8+'A6-FinPos'!H9+'A6-FinPos'!H15","v":401755248},{"$f":"'A6-FinPos'!I8+'A6-FinPos'!I9+'A6-FinPos'!I15","v":401755248},{"$f":"'A6-FinPos'!J8+'A6-FinPos'!J9+'A6-FinPos'!J15","v":533755245},{"$f":"'A6-FinPos'!K8+'A6-FinPos'!K9+'A6-FinPos'!K15","v":556628966},{"$f":"'A6-FinPos'!L8+'A6-FinPos'!L9+'A6-FinPos'!L15","v":573049579}]
["Estimate of debtors collection rate",null,{"$f":"IF(ISERROR('SA10'!D10),0,('SA10'!D10))","v":0.86887766417586709},{"$f":"IF(ISERROR('SA10'!E10),0,('SA10'!E10))","v":0.9037146128824538},{"$f":"IF(ISERROR('SA10'!F10),0,('SA10'!F10))","v":0.83516116732833179},{"$f":"IF(ISERROR('SA10'!G10),0,('SA10'!G10))","v":0.83875240189839129},{"$f":"IF(ISERROR('SA10'!H10),0,('SA10'!H10))","v":0.86384679653791241},{"$f":"IF(ISERROR('SA10'!I10),0,('SA10'!I10))","v":0.86384679653791241},{"$f":"IF(ISERROR('SA10'!J10),0,('SA10'!J10))","v":0.85834986778711908},{"$f":"IF(ISERROR('SA10'!K10),0,('SA10'!K10))","v":0.84474984952107535},{"$f":"IF(ISERROR('SA10'!L10),0,('SA10'!L10))","v":0.84647922400213715},{"$f":"IF(ISERROR('SA10'!M10),0,('SA10'!M10))","v":1.1218205481781323}]
[]
[]
[null,null,null,null,null,null,null,null,null,null,"`"]
[{"$f":"A16","v":"Long term investments committed"}]
["Balance (Insert description; eg sinking fund)",null,0,0,0,0,0,0,0,0,0,0]
[]
[]
[]
[]
[]
[]
[]
[]
[]
[]
[null,null,{"$f":"SUM(C41:C51)","v":0},{"$f":"SUM(D41:D51)","v":0},0,0,0,0,0,0,0,0]
[{"$f":"A17","v":"Reserves to be backed by cash/investments"}]
[{"$f":"'SA3'!A160","v":"Housing Development Fund"},null,{"$f":"'SA3'!C160","v":0},{"$f":"'SA3'!D160","v":0},{"$f":"'SA3'!E160","v":0},{"$f":"'SA3'!F160","v":0},{"$f":"'SA3'!G160","v":0},{"$f":"'SA3'!H160","v":0},{"$f":"'SA3'!I160","v":0},{"$f":"'SA3'!J160","v":0},{"$f":"'SA3'!K160","v":0},{"$f":"'SA3'!L160","v":0}]
[{"$f":"'SA3'!A161","v":"Capital replacement"}]
[{"$f":"'SA3'!A162","v":"Self-insurance"}]
["Other (list)"]
[]
[]
[]
[]
[]
[]
[]
[]
[]
[null,null,{"$f":"SUM(C54:C65)","v":0},0,0,0,0,0,0,0,0,0]

{"sheet":"A9-Asset","index":18,"n_rows":217,"n_cols":11,"rows_kept":217,"cut":false,"hidden":false,"merged":[[1,5,1,7],[1,8,1,10]]}
[{"$f":"muni&\" - \"&Approve9","v":"Choose name from list - Table A9 Asset Management"}]
[{"$f":"desc","v":"Description"},{"$f":"head27","v":"Ref"},{"$f":"head1b","v":"2017/18"},{"$f":"head1A","v":"2018/19"},{"$f":"Head1","v":"2019/20"},{"$f":"Head2","v":"Current Year 2020/21"},null,null,{"$f":"Head3","v":"2021/22 Medium Term Revenue & Expenditure Framework"}]
["R thousand",null,{"$f":"Head5","v":"Audited Outcome"},{"$f":"Head5","v":"Audited Outcome"},{"$f":"Head5","v":"Audited Outcome"},{"$f":"Head6","v":"Original Budget"},{"$f":"Head7","v":"Adjusted Budget"},{"$f":"Head8","v":"Full Year Forecast"},{"$f":"Head9","v":"Budget Year 2021/22"},{"$f":"Head10","v":"Budget Year +1 2022/23"},{"$f":"Head11","v":"Budget Year +2 2023/24"}]
["CAPITAL EXPENDITURE"]
["Total New Assets",1,{"$f":"C15+C18+C19+C22+C25+C26+SUM(C29:C35)","v":27167630},{"$f":"D15+D18+D19+D22+D25+D26+SUM(D29:D35)","v":85950829},107955783.28,24035000,35531538,35531538,25703500,22400000,33285073]
["Roads Infrastructure",null,{"$f":"SA34a!C7","v":6981726},{"$f":"SA34a!D7","v":53816542},{"$f":"SA34a!E7","v":42551348},{"$f":"SA34a!F7","v":1500000},{"$f":"SA34a!G7","v":1636000},{"$f":"SA34a!H7","v":1636000},{"$f":"SA34a!I7","v":500000},{"$f":"SA34a!J7","v":5000000},{"$f":"SA34a!K7","v":3000008}]
["Storm water Infrastructure",null,{"$f":"SA34a!C12","v":0},{"$f":"SA34a!D12","v":0},{"$f":"SA34a!E12","v":561967},{"$f":"SA34a!F12","v":0},{"$f":"SA34a!G12","v":0},{"$f":"SA34a!H12","v":0},{"$f":"SA34a!I12","v":0},{"$f":"SA34a!J12","v":0},{"$f":"SA34a!K12","v":2}]
["Electrical Infrastructure",null,{"$f":"SA34a!C16","v":12113986},{"$f":"SA34a!D16","v":16764784},{"$f":"SA34a!E16","v":42957028.359999999},{"$f":"SA34a!F16","v":12000000},{"$f":"SA34a!G16","v":14920140},{"$f":"SA34a!H16","v":14920140},{"$f":"SA34a!I16","v":10000000},{"$f":"SA34a!J16","v":10000000},{"$f":"SA34a!K16","v":10000016}]
["Water Supply Infrastructure",null,{"$f":"SA34a!C26","v":0},{"$f":"SA34a!D26","v":0},{"$f":"SA34a!E26","v":0},{"$f":"SA34a!F26","v":0},{"$f":"SA34a!G26","v":0},{"$f":"SA34a!H26","v":0},{"$f":"SA34a!I26","v":0},{"$f":"SA34a!J26","v":0},{"$f":"SA34a!K26","v":0}]
["Sanitation Infrastructure",null,{"$f":"SA34a!C37","v":0},{"$f":"SA34a!D37","v":0},{"$f":"SA34a!E37","v":0},{"$f":"SA34a!F37","v":0},{"$f":"SA34a!G37","v":0},{"$f":"SA34a!H37","v":0},{"$f":"SA34a!I37","v":0},{"$f":"SA34a!J37","v":0},{"$f":"SA34a!K37","v":0}]
["Solid Waste Infrastructure",null,{"$f":"SA34a!C44","v":0},{"$f":"SA34a!D44","v":1247321},{"$f":"SA34a!E44","v":0},{"$f":"SA34a!F44","v":0},{"$f":"SA34a!G44","v":0},{"$f":"SA34a!H44","v":0},{"$f":"SA34a!I44","v":0},{"$f":"SA34a!J44","v":0},{"$f":"SA34a!K44","v":0}]
["Rail Infrastructure",null,{"$f":"SA34a!C52","v":0},{"$f":"SA34a!D52","v":0},{"$f":"SA34a!E52","v":8150000.0099999998},{"$f":"SA34a!F52","v":0},{"$f":"SA34a!G52","v":5451116},{"$f":"SA34a!H52","v":5451116},{"$f":"SA34a!I52","v":0},{"$f":"SA34a!J52","v":0},{"$f":"SA34a!K52","v":15}]
["Coastal Infrastructure",null,{"$f":"SA34a!C62","v":0},{"$f":"SA34a!D62","v":0},{"$f":"SA34a!E62","v":0},{"$f":"SA34a!F62","v":0},{"$f":"SA34a!G62","v":0},{"$f":"SA34a!H62","v":0},{"$f":"SA34a!I62","v":0},{"$f":"SA34a!J62","v":0},{"$f":"SA34a!K62","v":0}]
["Information and Communication Infrastructure",null,{"$f":"SA34a!C68","v":0},{"$f":"SA34a!D68","v":0},{"$f":"SA34a!E68","v":0},{"$f":"SA34a!F68","v":0},{"$f":"SA34a!G68","v":0},{"$f":"SA34a!H68","v":0},{"$f":"SA34a!I68","v":0},{"$f":"SA34a!J68","v":0},{"$f":"SA34a!K68","v":0}]
["Infrastructure",null,{"$f":"SUM(C6:C14)","v":19095712},{"$f":"SUM(D6:D14)","v":71828647},94220343.370000005,13500000,22007256,22007256,10500000,15000000,13000041]
["Community Facilities",null,{"$f":"SA34a!C75","v":0},{"$f":"SA34a!D75","v":0},{"$f":"SA34a!E75","v":5269900},{"$f":"SA34a!F75","v":0},{"$f":"SA34a!G75","v":0},{"$f":"SA34a!H75","v":0},{"$f":"SA34a!I75","v":1000000},{"$f":"SA34a!J75","v":0},{"$f":"SA34a!K75","v":4450001}]
["Sport and Recreation Facilities",null,{"$f":"SA34a!C98","v":7522051},{"$f":"SA34a!D98","v":0},{"$f":"SA34a!E98","v":0},{"$f":"SA34a!F98","v":0},{"$f":"SA34a!G98","v":0},{"$f":"SA34a!H98","v":0},{"$f":"SA34a!I98","v":0},{"$f":"SA34a!J98","v":0},{"$f":"SA34a!K98","v":9000000}]
["Community Assets",null,{"$f":"SUM(C16:C17)","v":7522051},{"$f":"SUM(D16:D17)","v":0},5269900,0,0,0,1000000,0,13450001]
["Heritage Assets",null,{"$f":"SA34a!C103","v":0},{"$f":"SA34a!D103","v":0},{"$f":"SA34a!E103","v":0},{"$f":"SA34a!F103","v":0},{"$f":"SA34a!G103","v":0},{"$f":"SA34a!H103","v":0},{"$f":"SA34a!I103","v":0},{"$f":"SA34a!J103","v":0},{"$f":"SA34a!K103","v":0}]
["Revenue Generating",null,{"$f":"SA34a!C111","v":0},{"$f":"SA34a!D111","v":0},{"$f":"SA34a!E111","v":0},{"$f":"SA34a!F111","v":0},{"$f":"SA34a!G111","v":0},{"$f":"SA34a!H111","v":0},{"$f":"SA34a!I111","v":0},{"$f":"SA34a!J111","v":0},{"$f":"SA34a!K111","v":0}]
["Non-revenue Generating",null,{"$f":"SA34a!C114","v":0},{"$f":"SA34a!D114","v":0},{"$f":"SA34a!E114","v":0},{"$f":"SA34a!F114","v":0},{"$f":"SA34a!G114","v":0},{"$f":"SA34a!H114","v":0},{"$f":"SA34a!I114","v":0},{"$f":"SA34a!J114","v":0},{"$f":"SA34a!K114","v":0}]
["Investment properties",null,{"$f":"SUM(C20:C21)","v":0},{"$f":"SUM(D20:D21)","v":0},0,0,0,0,0,0,0]
["Operational Buildings",null,{"$f":"SA34a!C119","v":0},{"$f":"SA34a!D119","v":0},{"$f":"SA34a!E119","v":3131923.57},{"$f":"SA34a!F119","v":3800000},{"$f":"SA34a!G119","v":4419990},{"$f":"SA34a!H119","v":4419990},{"$f":"SA34a!I119","v":2000000},{"$f":"SA34a!J119","v":0},{"$f":"SA34a!K119","v":1500003}]
["Housing",null,{"$f":"SA34a!C131","v":0},{"$f":"SA34a!D131","v":0},{"$f":"SA34a!E131","v":0},{"$f":"SA34a!F131","v":0},{"$f":"SA34a!G131","v":400000},{"$f":"SA34a!H131","v":400000},{"$f":"SA34a!I131","v":0},{"$f":"SA34a!J131","v":0},{"$f":"SA34a!K131","v":2}]
["Other Assets",null,{"$f":"SUM(C23:C24)","v":0},{"$f":"SUM(D23:D24)","v":0},3131923.57,3800000,4819990,4819990,2000000,0,1500005]
["Biological or Cultivated Assets",null,{"$f":"SA34a!C136","v":0},{"$f":"SA34a!D136","v":0},{"$f":"SA34a!E136","v":0},{"$f":"SA34a!F136","v":0},{"$f":"SA34a!G136","v":0},{"$f":"SA34a!H136","v":0},{"$f":"SA34a!I136","v":0},{"$f":"SA34a!J136","v":0},{"$f":"SA34a!K136","v":0}]
["Servitudes",null,{"$f":"SA34a!C140","v":0},{"$f":"SA34a!D140","v":0},{"$f":"SA34a!E140","v":0},{"$f":"SA34a!F140","v":0},{"$f":"SA34a!G140","v":0},{"$f":"SA34a!H140","v":0},{"$f":"SA34a!I140","v":0},{"$f":"SA34a!J140","v":0},{"$f":"SA34a!K140","v":0}]
["Licences and Rights",null,{"$f":"SA34a!C141","v":0},{"$f":"SA34a!D141","v":0},{"$f":"SA34a!E141","v":0},{"$f":"SA34a!F141","v":0},{"$f":"SA34a!G141","v":0},{"$f":"SA34a!H141","v":0},{"$f":"SA34a!I141","v":0},{"$f":"SA34a!J141","v":0},{"$f":"SA34a!K141","v":0}]
["Intangible Assets",null,{"$f":"SUM(C27:C28)","v":0},{"$f":"SUM(D27:D28)","v":0},0,0,0,0,0,0,0]
["Computer Equipment",null,{"$f":"SA34a!C149","v":0},{"$f":"SA34a!D149","v":0},{"$f":"SA34a!E149","v":264520.46999999997},{"$f":"SA34a!F149","v":0},{"$f":"SA34a!G149","v":0},{"$f":"SA34a!H149","v":0},{"$f":"SA34a!I149","v":333500},{"$f":"SA34a!J149","v":0},{"$f":"SA34a!K149","v":235000}]
["Furniture and Office Equipment",null,{"$f":"SA34a!C152","v":549867},{"$f":"SA34a!D152","v":10276400},{"$f":"SA34a!E152","v":344131.63},{"$f":"SA34a!F152","v":735000},{"$f":"SA34a!G152","v":735000},{"$f":"SA34a!H152","v":735000},{"$f":"SA34a!I152","v":700000},{"$f":"SA34a!J152","v":0},{"$f":"SA34a!K152","v":300002}]
["Machinery and Equipment",null,{"$f":"SA34a!C155","v":0},{"$f":"SA34a!D155","v":345882},{"$f":"SA34a!E155","v":4724964.24},{"$f":"SA34a!F155","v":1000000},{"$f":"SA34a!G155","v":2969292},{"$f":"SA34a!H155","v":2969292},{"$f":"SA34a!I155","v":1350000},{"$f":"SA34a!J155","v":0},{"$f":"SA34a!K155","v":500022}]
["Transport Assets",null,{"$f":"SA34a!C158","v":0},{"$f":"SA34a!D158","v":3499900},{"$f":"SA34a!E158","v":0},{"$f":"SA34a!F158","v":5000000},{"$f":"SA34a!G158","v":5000000},{"$f":"SA34a!H158","v":5000000},{"$f":"SA34a!I158","v":9820000},{"$f":"SA34a!J158","v":7400000},{"$f":"SA34a!K158","v":4300002}]
["Land",null,{"$f":"SA34a!C161","v":0},{"$f":"SA34a!D161","v":0},{"$f":"SA34a!E161","v":0},{"$f":"SA34a!F161","v":0},{"$f":"SA34a!G161","v":0},{"$f":"SA34a!H161","v":0},{"$f":"SA34a!I161","v":0},{"$f":"SA34a!J161","v":0},{"$f":"SA34a!K161","v":0}]
["Zoo's, Marine and Non-biological Animals",null,{"$f":"SA34a!C164","v":0},{"$f":"SA34a!D164","v":0},{"$f":"SA34a!E164","v":0},{"$f":"SA34a!F164","v":0},{"$f":"SA34a!G164","v":0},{"$f":"SA34a!H164","v":0},{"$f":"SA34a!I164","v":0},{"$f":"SA34a!J164","v":0},{"$f":"SA34a!K164","v":0}]
[]
["Total Renewal of Existing Assets",2,{"$f":"C47+C50+C51+C54+C57+C58+SUM(C61:C67)","v":0},{"$f":"D47+D50+D51+D54+D57+D58+SUM(D61:D67)","v":0},13254834.030000001,600000,6607856,6607856,3400000,25300000,14800010]
["Roads Infrastructure",null,{"$f":"SA34b!C7","v":0},{"$f":"SA34b!D7","v":0},{"$f":"SA34b!E7","v":0},{"$f":"SA34b!F7","v":0},{"$f":"SA34b!G7","v":4300000},{"$f":"SA34b!H7","v":4300000},{"$f":"SA34b!I7","v":0},{"$f":"SA34b!J7","v":21300000},{"$f":"SA34b!K7","v":9700001}]
["Storm water Infrastructure",null,{"$f":"SA34b!C12","v":0},{"$f":"SA34b!D12","v":0},{"$f":"SA34b!E12","v":0},{"$f":"SA34b!F12","v":0},{"$f":"SA34b!G12","v":0},{"$f":"SA34b!H12","v":0},{"$f":"SA34b!I12","v":0},{"$f":"SA34b!J12","v":0},{"$f":"SA34b!K12","v":0}]
["Electrical Infrastructure",null,{"$f":"SA34b!C16","v":0},{"$f":"SA34b!D16","v":0},{"$f":"SA34b!E16","v":6404834.0300000003},{"$f":"SA34b!F16","v":600000},{"$f":"SA34b!G16","v":2307856},{"$f":"SA34b!H16","v":2307856},{"$f":"SA34b!I16","v":600000},{"$f":"SA34b!J16","v":0},{"$f":"SA34b!K16","v":9}]
["Water Supply Infrastructure",null,{"$f":"SA34b!C26","v":0},{"$f":"SA34b!D26","v":0},{"$f":"SA34b!E26","v":0},{"$f":"SA34b!F26","v":0},{"$f":"SA34b!G26","v":0},{"$f":"SA34b!H26","v":0},{"$f":"SA34b!I26","v":0},{"$f":"SA34b!J26","v":0},{"$f":"SA34b!K26","v":0}]
["Sanitation Infrastructure",null,{"$f":"SA34b!C37","v":0},{"$f":"SA34b!D37","v":0},{"$f":"SA34b!E37","v":0},{"$f":"SA34b!F37","v":0},{"$f":"SA34b!G37","v":0},{"$f":"SA34b!H37","v":0},{"$f":"SA34b!I37","v":0},{"$f":"SA34b!J37","v":0},{"$f":"SA34b!K37","v":0}]
["Solid Waste Infrastructure",null,{"$f":"SA34b!C44","v":0},{"$f":"SA34b!D44","v":0},{"$f":"SA34b!E44","v":0},{"$f":"SA34b!F44","v":0},{"$f":"SA34b!G44","v":0},{"$f":"SA34b!H44","v":0},{"$f":"SA34b!I44","v":0},{"$f":"SA34b!J44","v":0},{"$f":"SA34b!K44","v":0}]
["Rail Infrastructure",null,{"$f":"SA34b!C52","v":0},{"$f":"SA34b!D52","v":0},{"$f":"SA34b!E52","v":0},{"$f":"SA34b!F52","v":0},{"$f":"SA34b!G52","v":0},{"$f":"SA34b!H52","v":0},{"$f":"SA34b!I52","v":0},{"$f":"SA34b!J52","v":0},{"$f":"SA34b!K52","v":0}]
["Coastal Infrastructure",null,{"$f":"SA34b!C62","v":0},{"$f":"SA34b!D62","v":0},{"$f":"SA34b!E62","v":0},{"$f":"SA34b!F62","v":0},{"$f":"SA34b!G62","v":0},{"$f":"SA34b!H62","v":0},{"$f":"SA34b!I62","v":0},{"$f":"SA34b!J62","v":0},{"$f":"SA34b!K62","v":0}]
["Information and Communication Infrastructure",null,{"$f":"SA34b!C68","v":0},{"$f":"SA34b!D68","v":0},{"$f":"SA34b!E68","v":0},{"$f":"SA34b!F68","v":0},{"$f":"SA34b!G68","v":0},{"$f":"SA34b!H68","v":0},{"$f":"SA34b!I68","v":2800000},{"$f":"SA34b!J68","v":4000000},{"$f":"SA34b!K68","v":4000000}]
["Infrastructure",null,{"$f":"SUM(C38:C46)","v":0},{"$f":"SUM(D38:D46)","v":0},6404834.0300000003,600000,6607856,6607856,3400000,25300000,13700010]
["Community Facilities",null,{"$f":"SA34b!C75","v":0},{"$f":"SA34b!D75","v":0},{"$f":"SA34b!E75","v":0},{"$f":"SA34b!F75","v":0},{"$f":"SA34b!G75","v":0},{"$f":"SA34b!H75","v":0},{"$f":"SA34b!I75","v":0},{"$f":"SA34b!J75","v":0},{"$f":"SA34b!K75","v":1100000}]
["Sport and Recreation Facilities",null,{"$f":"SA34b!C98","v":0},{"$f":"SA34b!D98","v":0},{"$f":"SA34b!E98","v":0},{"$f":"SA34b!F98","v":0},{"$f":"SA34b!G98","v":0},{"$f":"SA34b!H98","v":0},{"$f":"SA34b!I98","v":0},{"$f":"SA34b!J98","v":0},{"$f":"SA34b!K98","v":0}]
["Community Assets",null,{"$f":"SUM(C48:C49)","v":0},{"$f":"SUM(D48:D49)","v":0},0,0,0,0,0,0,1100000]
["Heritage Assets",null,{"$f":"SA34b!C103","v":0},{"$f":"SA34b!D103","v":0},{"$f":"SA34b!E103","v":0},{"$f":"SA34b!F103","v":0},{"$f":"SA34b!G103","v":0},{"$f":"SA34b!H103","v":0},{"$f":"SA34b!I103","v":0},{"$f":"SA34b!J103","v":0},{"$f":"SA34b!K103","v":0}]
["Revenue Generating",null,{"$f":"SA34b!C111","v":0},{"$f":"SA34b!D111","v":0},{"$f":"SA34b!E111","v":0},{"$f":"SA34b!F111","v":0},{"$f":"SA34b!G111","v":0},{"$f":"SA34b!H111","v":0},{"$f":"SA34b!I111","v":0},{"$f":"SA34b!J111","v":0},{"$f":"SA34b!K111","v":0}]
["Non-revenue Generating",null,{"$f":"SA34b!C114","v":0},{"$f":"SA34b!D114","v":0},{"$f":"SA34b!E114","v":0},{"$f":"SA34b!F114","v":0},{"$f":"SA34b!G114","v":0},{"$f":"SA34b!H114","v":0},{"$f":"SA34b!I114","v":0},{"$f":"SA34b!J114","v":0},{"$f":"SA34b!K114","v":0}]
["Investment properties",null,{"$f":"SUM(C52:C53)","v":0},{"$f":"SUM(D52:D53)","v":0},0,0,0,0,0,0,0]
["Operational Buildings",null,{"$f":"SA34b!C119","v":0},{"$f":"SA34b!D119","v":0},{"$f":"SA34b!E119","v":0},{"$f":"SA34b!F119","v":0},{"$f":"SA34b!G119","v":0},{"$f":"SA34b!H119","v":0},{"$f":"SA34b!I119","v":0},{"$f":"SA34b!J119","v":0},{"$f":"SA34b!K119","v":0}]
["Housing",null,{"$f":"SA34b!C131","v":0},{"$f":"SA34b!D131","v":0},{"$f":"SA34b!E131","v":0},{"$f":"SA34b!F131","v":0},{"$f":"SA34b!G131","v":0},{"$f":"SA34b!H131","v":0},{"$f":"SA34b!I131","v":0},{"$f":"SA34b!J131","v":0},{"$f":"SA34b!K131","v":0}]
["Other Assets",null,{"$f":"SUM(C55:C56)","v":0},{"$f":"SUM(D55:D56)","v":0},0,0,0,0,0,0,0]
["Biological or Cultivated Assets",null,{"$f":"SA34b!C136","v":0},{"$f":"SA34b!D136","v":0},{"$f":"SA34b!E136","v":0},{"$f":"SA34b!F136","v":0},{"$f":"SA34b!G136","v":0},{"$f":"SA34b!H136","v":0},{"$f":"SA34b!I136","v":0},{"$f":"SA34b!J136","v":0},{"$f":"SA34b!K136","v":0}]
["Servitudes",null,{"$f":"SA34b!C140","v":0},{"$f":"SA34b!D140","v":0},{"$f":"SA34b!E140","v":0},{"$f":"SA34b!F140","v":0},{"$f":"SA34b!G140","v":0},{"$f":"SA34b!H140","v":0},{"$f":"SA34b!I140","v":0},{"$f":"SA34b!J140","v":0},{"$f":"SA34b!K140","v":0}]
["Licences and Rights",null,{"$f":"SA34b!C141","v":0},{"$f":"SA34b!D141","v":0},{"$f":"SA34b!E141","v":0},{"$f":"SA34b!F141","v":0},{"$f":"SA34b!G141","v":0},{"$f":"SA34b!H141","v":0},{"$f":"SA34b!I141","v":0},{"$f":"SA34b!J141","v":0},{"$f":"SA34b!K141","v":0}]
["Intangible Assets",null,{"$f":"SUM(C59:C60)","v":0},{"$f":"SUM(D59:D60)","v":0},0,0,0,0,0,0,0]
["Computer Equipment",null,{"$f":"SA34b!C149","v":0},{"$f":"SA34b!D149","v":0},{"$f":"SA34b!E149","v":0},{"$f":"SA34b!F149","v":0},{"$f":"SA34b!G149","v":0},{"$f":"SA34b!H149","v":0},{"$f":"SA34b!I149","v":0},{"$f":"SA34b!J149","v":0},{"$f":"SA34b!K149","v":0}]
["Furniture and Office Equipment",null,{"$f":"SA34b!C152","v":0},{"$f":"SA34b!D152","v":0},{"$f":"SA34b!E152","v":0},{"$f":"SA34b!F152","v":0},{"$f":"SA34b!G152","v":0},{"$f":"SA34b!H152","v":0},{"$f":"SA34b!I152","v":0},{"$f":"SA34b!J152","v":0},{"$f":"SA34b!K152","v":0}]
["Machinery and Equipment",null,{"$f":"SA34b!C155","v":0},{"$f":"SA34b!D155","v":0},{"$f":"SA34b!E155","v":6850000},{"$f":"SA34b!F155","v":0},{"$f":"SA34b!G155","v":0},{"$f":"SA34b!H155","v":0},{"$f":"SA34b!I155","v":0},{"$f":"SA34b!J155","v":0},{"$f":"SA34b!K155","v":0}]
["Transport Assets",null,{"$f":"SA34b!C158","v":0},{"$f":"SA34b!D158","v":0},{"$f":"SA34b!E158","v":0},{"$f":"SA34b!F158","v":0},{"$f":"SA34b!G158","v":0},{"$f":"SA34b!H158","v":0},{"$f":"SA34b!I158","v":0},{"$f":"SA34b!J158","v":0},{"$f":"SA34b!K158","v":0}]
["Land",null,{"$f":"SA34b!C161","v":0},{"$f":"SA34b!D161","v":0},{"$f":"SA34b!E161","v":0},{"$f":"SA34b!F161","v":0},{"$f":"SA34b!G161","v":0},{"$f":"SA34b!H161","v":0},{"$f":"SA34b!I161","v":0},{"$f":"SA34b!J161","v":0},{"$f":"SA34b!K161","v":0}]
["Zoo's, Marine and Non-biological Animals",null,{"$f":"SA34b!C164","v":0},{"$f":"SA34b!D164","v":0},{"$f":"SA34b!E164","v":0},{"$f":"SA34b!F164","v":0},{"$f":"SA34b!G164","v":0},{"$f":"SA34b!H164","v":0},{"$f":"SA34b!I164","v":0},{"$f":"SA34b!J164","v":0},{"$f":"SA34b!K164","v":0}]
[]
["Total Upgrading of Existing Assets",6,{"$f":"C79+C82+C83+C86+C89+C90+SUM(C93:C99)","v":99363728},{"$f":"D79+D82+D83+D86+D89+D90+SUM(D93:D99)","v":17531610},69047494.030000001,106338034,119353549,119353549,101753950,112403800,128590199]
["Roads Infrastructure",null,{"$f":"SA34e!C7","v":0},{"$f":"SA34e!D7","v":0},{"$f":"SA34e!E7","v":52193576.030000001},{"$f":"SA34e!F7","v":88938034},{"$f":"SA34e!G7","v":97989054},{"$f":"SA34e!H7","v":97989054},{"$f":"SA34e!I7","v":92753950},{"$f":"SA34e!J7","v":111603800},{"$f":"SA34e!K7","v":101290177}]
["Storm water Infrastructure",null,{"$f":"SA34e!C12","v":0},{"$f":"SA34e!D12","v":0},{"$f":"SA34e!E12","v":0},{"$f":"SA34e!F12","v":0},{"$f":"SA34e!G12","v":2000000},{"$f":"SA34e!H12","v":2000000},{"$f":"SA34e!I12","v":3500000},{"$f":"SA34e!J12","v":0},{"$f":"SA34e!K12","v":2}]
["Electrical Infrastructure",null,{"$f":"SA34e!C16","v":1330092},{"$f":"SA34e!D16","v":17531610},{"$f":"SA34e!E16","v":10153918},{"$f":"SA34e!F16","v":17400000},{"$f":"SA34e!G16","v":19364495},{"$f":"SA34e!H16","v":19364495},{"$f":"SA34e!I16","v":0},{"$f":"SA34e!J16","v":0},{"$f":"SA34e!K16","v":15}]
["Water Supply Infrastructure",null,{"$f":"SA34e!C26","v":0},{"$f":"SA34e!D26","v":0},{"$f":"SA34e!E26","v":0},{"$f":"SA34e!F26","v":0},{"$f":"SA34e!G26","v":0},{"$f":"SA34e!H26","v":0},{"$f":"SA34e!I26","v":0},{"$f":"SA34e!J26","v":0},{"$f":"SA34e!K26","v":0}]
["Sanitation Infrastructure",null,{"$f":"SA34e!C37","v":0},{"$f":"SA34e!D37","v":0},{"$f":"SA34e!E37","v":0},{"$f":"SA34e!F37","v":0},{"$f":"SA34e!G37","v":0},{"$f":"SA34e!H37","v":0},{"$f":"SA34e!I37","v":0},{"$f":"SA34e!J37","v":0},{"$f":"SA34e!K37","v":0}]
["Solid Waste Infrastructure",null,{"$f":"SA34e!C44","v":0},{"$f":"SA34e!D44","v":0},{"$f":"SA34e!E44","v":0},{"$f":"SA34e!F44","v":0},{"$f":"SA34e!G44","v":0},{"$f":"SA34e!H44","v":0},{"$f":"SA34e!I44","v":0},{"$f":"SA34e!J44","v":0},{"$f":"SA34e!K44","v":0}]
["Rail Infrastructure",null,{"$f":"SA34e!C52","v":0},{"$f":"SA34e!D52","v":0},{"$f":"SA34e!E52","v":0},{"$f":"SA34e!F52","v":0},{"$f":"SA34e!G52","v":0},{"$f":"SA34e!H52","v":0},{"$f":"SA34e!I52","v":0},{"$f":"SA34e!J52","v":0},{"$f":"SA34e!K52","v":0}]
["Coastal Infrastructure",null,{"$f":"SA34e!C62","v":826160},{"$f":"SA34e!D62","v":0},{"$f":"SA34e!E62","v":0},{"$f":"SA34e!F62","v":0},{"$f":"SA34e!G62","v":0},{"$f":"SA34e!H62","v":0},{"$f":"SA34e!I62","v":0},{"$f":"SA34e!J62","v":0},{"$f":"SA34e!K62","v":0}]
["Information and Communication Infrastructure",null,{"$f":"SA34e!C68","v":0},{"$f":"SA34e!D68","v":0},{"$f":"SA34e!E68","v":0},{"$f":"SA34e!F68","v":0},{"$f":"SA34e!G68","v":0},{"$f":"SA34e!H68","v":0},{"$f":"SA34e!I68","v":0},{"$f":"SA34e!J68","v":0},{"$f":"SA34e!K68","v":0}]
["Infrastructure",null,{"$f":"SUM(C70:C78)","v":2156252},17531610,62347494.030000001,106338034,119353549,119353549,96253950,111603800,101290194]
["Community Facilities",null,{"$f":"SA34e!C75","v":0},{"$f":"SA34e!D75","v":0},{"$f":"SA34e!E75","v":850000},{"$f":"SA34e!F75","v":0},{"$f":"SA34e!G75","v":0},{"$f":"SA34e!H75","v":0},{"$f":"SA34e!I75","v":2000000},{"$f":"SA34e!J75","v":0},{"$f":"SA34e!K75","v":13700001}]
["Sport and Recreation Facilities",null,{"$f":"SA34e!C98","v":97207476},{"$f":"SA34e!D98","v":0},{"$f":"SA34e!E98","v":0},{"$f":"SA34e!F98","v":0},{"$f":"SA34e!G98","v":0},{"$f":"SA34e!H98","v":0},{"$f":"SA34e!I98","v":0},{"$f":"SA34e!J98","v":0},{"$f":"SA34e!K98","v":2000001}]
["Community Assets",null,{"$f":"SUM(C80:C81)","v":97207476},0,850000,0,0,0,2000000,0,15700002]
["Heritage Assets",null,{"$f":"SA34e!C103","v":0},{"$f":"SA34e!D103","v":0},{"$f":"SA34e!E103","v":0},{"$f":"SA34e!F103","v":0},{"$f":"SA34e!G103","v":0},{"$f":"SA34e!H103","v":0},{"$f":"SA34e!I103","v":0},{"$f":"SA34e!J103","v":0},{"$f":"SA34e!K103","v":0}]
["Revenue Generating",null,{"$f":"SA34e!C111","v":0},{"$f":"SA34e!D111","v":0},{"$f":"SA34e!E111","v":0},{"$f":"SA34e!F111","v":0},{"$f":"SA34e!G111","v":0},{"$f":"SA34e!H111","v":0},{"$f":"SA34e!I111","v":0},{"$f":"SA34e!J111","v":0},{"$f":"SA34e!K111","v":0}]
["Non-revenue Generating",null,{"$f":"SA34e!C114","v":0},{"$f":"SA34e!D114","v":0},{"$f":"SA34e!E114","v":0},{"$f":"SA34e!F114","v":0},{"$f":"SA34e!G114","v":0},{"$f":"SA34e!H114","v":0},{"$f":"SA34e!I114","v":0},{"$f":"SA34e!J114","v":0},{"$f":"SA34e!K114","v":0}]
["Investment properties",null,{"$f":"SUM(C84:C85)","v":0},0,0,0,0,0,0,0,0]
["Operational Buildings",null,{"$f":"SA34e!C119","v":0},{"$f":"SA34e!D119","v":0},{"$f":"SA34e!E119","v":5700000},{"$f":"SA34e!F119","v":0},{"$f":"SA34e!G119","v":0},{"$f":"SA34e!H119","v":0},{"$f":"SA34e!I119","v":3500000},{"$f":"SA34e!J119","v":800000},{"$f":"SA34e!K119","v":11600002}]
["Housing",null,{"$f":"SA34e!C131","v":0},{"$f":"SA34e!D131","v":0},{"$f":"SA34e!E131","v":0},{"$f":"SA34e!F131","v":0},{"$f":"SA34e!G131","v":0},{"$f":"SA34e!H131","v":0},{"$f":"SA34e!I131","v":0},{"$f":"SA34e!J131","v":0},{"$f":"SA34e!K131","v":0}]
["Other Assets",null,{"$f":"SUM(C87:C88)","v":0},0,5700000,0,0,0,3500000,800000,11600002]
["Biological or Cultivated Assets",null,{"$f":"SA34e!C136","v":0},{"$f":"SA34e!D136","v":0},{"$f":"SA34e!E136","v":0},{"$f":"SA34e!F136","v":0},{"$f":"SA34e!G136","v":0},{"$f":"SA34e!H136","v":0},{"$f":"SA34e!I136","v":0},{"$f":"SA34e!J136","v":0},{"$f":"SA34e!K136","v":0}]
["Servitudes",null,{"$f":"SA34e!C140","v":0},{"$f":"SA34e!D140","v":0},{"$f":"SA34e!E140","v":0},{"$f":"SA34e!F140","v":0},{"$f":"SA34e!G140","v":0},{"$f":"SA34e!H140","v":0},{"$f":"SA34e!I140","v":0},{"$f":"SA34e!J140","v":0},{"$f":"SA34e!K140","v":0}]
["Licences and Rights",null,{"$f":"SA34e!C141","v":0},{"$f":"SA34e!D141","v":0},{"$f":"SA34e!E141","v":0},{"$f":"SA34e!F141","v":0},{"$f":"SA34e!G141","v":0},{"$f":"SA34e!H141","v":0},{"$f":"SA34e!I141","v":0},{"$f":"SA34e!J141","v":0},{"$f":"SA34e!K141","v":0}]
["Intangible Assets",null,{"$f":"SUM(C91:C92)","v":0},0,0,0,0,0,0,0,0]
["Computer Equipment",null,{"$f":"SA34e!C149","v":0},{"$f":"SA34e!D149","v":0},{"$f":"SA34e!E149","v":0},{"$f":"SA34e!F149","v":0},{"$f":"SA34e!G149","v":0},{"$f":"SA34e!H149","v":0},{"$f":"SA34e!I149","v":0},{"$f":"SA34e!J149","v":0},{"$f":"SA34e!K149","v":0}]
["Furniture and Office Equipment",null,{"$f":"SA34e!C152","v":0},{"$f":"SA34e!D152","v":0},{"$f":"SA34e!E152","v":150000},{"$f":"SA34e!F152","v":0},{"$f":"SA34e!G152","v":0},{"$f":"SA34e!H152","v":0},{"$f":"SA34e!I152","v":0},{"$f":"SA34e!J152","v":0},{"$f":"SA34e!K152","v":1}]
["Machinery and Equipment",null,{"$f":"SA34e!C155","v":0},{"$f":"SA34e!D155","v":0},{"$f":"SA34e!E155","v":0},{"$f":"SA34e!F155","v":0},{"$f":"SA34e!G155","v":0},{"$f":"SA34e!H155","v":0},{"$f":"SA34e!I155","v":0},{"$f":"SA34e!J155","v":0},{"$f":"SA34e!K155","v":0}]
["Transport Assets",null,{"$f":"SA34e!C158","v":0},{"$f":"SA34e!D158","v":0},{"$f":"SA34e!E158","v":0},{"$f":"SA34e!F158","v":0},{"$f":"SA34e!G158","v":0},{"$f":"SA34e!H158","v":0},{"$f":"SA34e!I158","v":0},{"$f":"SA34e!J158","v":0},{"$f":"SA34e!K158","v":0}]
["Land",null,{"$f":"SA34e!C161","v":0},{"$f":"SA34e!D161","v":0},{"$f":"SA34e!E161","v":0},{"$f":"SA34e!F161","v":0},{"$f":"SA34e!G161","v":0},{"$f":"SA34e!H161","v":0},{"$f":"SA34e!I161","v":0},{"$f":"SA34e!J161","v":0},{"$f":"SA34e!K161","v":0}]
["Zoo's, Marine and Non-biological Animals",null,{"$f":"SA34e!C164","v":0},{"$f":"SA34e!D164","v":0},{"$f":"SA34e!E164","v":0},{"$f":"SA34e!F164","v":0},{"$f":"SA34e!G164","v":0},{"$f":"SA34e!H164","v":0},{"$f":"SA34e!I164","v":0},{"$f":"SA34e!J164","v":0},{"$f":"SA34e!K164","v":0}]
[]
["Total Capital Expenditure",4,{"$f":"+C5+C37+C69","v":126531358},{"$f":"+D5+D37+D69","v":103482439},190258111.34,130973034,161492943,161492943,130857450,160103800,176675282]
["Roads Infrastructure",null,{"$f":"+C6+C38+C70","v":6981726},{"$f":"+D6+D38+D70","v":53816542},94744924.030000001,90438034,103925054,103925054,93253950,137903800,113990186]
["Storm water Infrastructure",null,{"$f":"+C7+C39+C71","v":0},0,561967,0,2000000,2000000,3500000,0,4]
["Electrical Infrastructure",null,13444078,34296394,59515780.390000001,30000000,36592491,36592491,10600000,10000000,10000040]
["Water Supply Infrastructure",null,0,0,0,0,0,0,0,0,0]
["Sanitation Infrastructure",null,0,0,0,0,0,0,0,0,0]
["Solid Waste Infrastructure",null,0,1247321,0,0,0,0,0,0,0]
["Rail Infrastructure",null,0,0,8150000.0099999998,0,5451116,5451116,0,0,15]
["Coastal Infrastructure",null,826160,0,0,0,0,0,0,0,0]
["Information and Communication Infrastructure",null,0,0,0,0,0,0,2800000,4000000,4000000]
["Infrastructure",null,{"$f":"SUM(C102:C110)","v":21251964},{"$f":"SUM(D102:D110)","v":89360257},162972671.43000001,120438034,147968661,147968661,110153950,151903800,127990245]
["Community Facilities",null,{"$f":"+C16+C48+C80","v":0},{"$f":"+D16+D48+D80","v":0},6119900,0,0,0,3000000,0,19250002]
["Sport and Recreation Facilities",null,{"$f":"+C17+C49+C81","v":104729527},{"$f":"+D17+D49+D81","v":0},0,0,0,0,0,0,11000001]
["Community Assets",null,{"$f":"SUM(C112:C113)","v":104729527},{"$f":"SUM(D112:D113)","v":0},6119900,0,0,0,3000000,0,30250003]
["Heritage Assets",null,{"$f":"+C19+C51+C83","v":0},{"$f":"+D19+D51+D83","v":0},0,0,0,0,0,0,0]
["Revenue Generating",null,{"$f":"+C20+C52+C84","v":0},{"$f":"+D20+D52+D84","v":0},0,0,0,0,0,0,0]
["Non-revenue Generating",null,{"$f":"+C21+C53+C85","v":0},{"$f":"+D21+D53+D85","v":0},0,0,0,0,0,0,0]
["Investment properties",null,{"$f":"SUM(C116:C117)","v":0},{"$f":"SUM(D116:D117)","v":0},0,0,0,0,0,0,0]
["Operational Buildings",null,{"$f":"+C23+C55+C87","v":0},{"$f":"+D23+D55+D87","v":0},8831923.5700000003,3800000,4419990,4419990,5500000,800000,13100005]
["Housing",null,{"$f":"+C24+C56+C88","v":0},{"$f":"+D24+D56+D88","v":0},0,0,400000,400000,0,0,2]
["Other Assets",null,{"$f":"SUM(C119:C120)","v":0},0,8831923.5700000003,3800000,4819990,4819990,5500000,800000,13100007]
["Biological or Cultivated Assets",null,{"$f":"+C26+C58+C90","v":0},{"$f":"+D26+D58+D90","v":0},0,0,0,0,0,0,0]
["Servitudes",null,{"$f":"+C27+C59+C91","v":0},{"$f":"+D27+D59+D91","v":0},0,0,0,0,0,0,0]
["Licences and Rights",null,{"$f":"+C28+C60+C92","v":0},{"$f":"+D28+D60+D92","v":0},0,0,0,0,0,0,0]
["Intangible Assets",null,{"$f":"SUM(C123:C124)","v":0},{"$f":"SUM(D123:D124)","v":0},0,0,0,0,0,0,0]
["Computer Equipment",null,{"$f":"+C30+C62+C94","v":0},{"$f":"+D30+D62+D94","v":0},264520.46999999997,0,0,0,333500,0,235000]
["Furniture and Office Equipment",null,{"$f":"+C31+C63+C95","v":549867},10276400,494131.63,735000,735000,735000,700000,0,300003]
["Machinery and Equipment",null,0,345882,11574964.24,1000000,2969292,2969292,1350000,0,500022]
["Transport Assets",null,0,3499900,0,5000000,5000000,5000000,9820000,7400000,4300002]
["Land",null,0,0,0,0,0,0,0,0,0]
["Zoo's, Marine and Non-biological Animals",null,0,0,0,0,0,0,0,0,0]
["TOTAL CAPITAL EXPENDITURE - Asset class",null,{"$f":"+C5+C37+C69","v":126531358},{"$f":"+D5+D37+D69","v":103482439},190258111.34,130973034,161492943,161492943,130857450,160103800,176675282]
[]
["ASSET REGISTER SUMMARY - PPE (WDV)",5,{"$f":"C144+C147+C148+C151+C154+C155+C158+C159+C160+C161+C162+C163+C164","v":1669489042.0299997},{"$f":"D144+D147+D148+D151+D154+D155+D158+D159+D160+D161+D162+D163+D164","v":1639850190},1569928216.3200006,1955535988,1982055911,1982055911,2802941632,3314285367,3517263679]
["Roads Infrastructure",null,498474762.45999998,53816542,472530830.60000002,838381680,851732710,851732710,931129082,1350903869,1399770259]
["Storm water Infrastructure",null,54381993.530000001,0,52562323.439999998,0,0,0,104000712,110240755,116855202]
["Electrical Infrastructure",null,503442680.56,34296394,511502732.62,602282967,604899399,604899399,949093933,1004843712,1064571550]
["Water Supply Infrastructure",null,79145.8,0,59345.8,0,0,0,0,0,0]
["Sanitation Infrastructure",null,0,0,0,0,0,0,0,0,0]
["Solid Waste Infrastructure",null,45746571.539999999,1247321,44243157.140000001,30034734,30034740,30034740,63948812,64076588,67921967]
["Rail Infrastructure",null,0,0,0,0,0,0,0,0,0]
["Coastal Infrastructure",null,0,0,0,0,0,0,0,0,0]
["Information and Communication Infrastructure",null,0,0,0,20282668,20282668,20282668,2800000,4000000,4000002]
["Infrastructure",null,{"$f":"SUM(C135:C143)","v":1102125153.8899999},{"$f":"SUM(D135:D143)","v":89360257},1080898389.6000001,1490982049,1506949517,1506949517,2050972539,2534064924,2653118980]
[]
[]
["Community Assets",null,157801501.34,0,152935240.27000001,148473115,148473104,148473104,185618468,193575576,235440115]
["Heritage Assets",null,195000,195000,200958.15,195000,195000,195000,195000,203190,212130]
[]
[]
["Investment properties",null,181377053,181746803,181586803.40000001,187377053,189377060,189377060,189377053,197330889,206013451]
[]
[]
["Other Assets",null,209762284.47999999,1353290811,135962108.75,1500000,8047162,8047162,122678837,125027166,144797117]
["Biological or Cultivated Assets",null,0,0,0,0,0,0,0,0,0]
[]
[]
["Intangible Assets",null,1603468,1135137,744470,1003005,1002996,1002996,1003005,1045131,1091115]
["Computer Equipment",null,2802472.81,0,1817728.17,7494122,7494120,7494120,1359986,1094745,1402100]
["Furniture and Office Equipment",null,2530204.87,10276400,1370649.92,1583545,1583548,1583548,1523559,897116,1273307]
["Machinery and Equipment",null,3824768.93,345882,8779851.1300000008,113058457,114927752,114927752,1315194,111521,755707]
["Transport Assets",null,7467134.71,3499900,5632016.9299999997,3869642,4005652,4005652,13817598,11749893,9023328]
["Land",null,0,0,0,0,0,0,235080393,249185216,264136329]
["Zoo's, Marine and Non-biological Animals",null,0,0,0,0,0,0,0,0,0]
["TOTAL ASSET REGISTER SUMMARY - PPE (WDV)",5,{"$f":"C144+C147+C148+C151+C154+C155+C158+C159+C160+C161+C162+C163+C164","v":1669489042.0299997},{"$f":"D144+D147+D148+D151+D154+D155+D158+D159+D160+D161+D162+D163+D164","v":1639850190},1569928216.3200006,1955535988,1982055911,1982055911,2802941632,3314285367,3517263679]
[]
["EXPENDITURE OTHER ITEMS",null,{"$f":"SUM(C168:C169)","v":189648153.50999999},{"$f":"SUM(D168:D169)","v":235750336.15000001},134481916.16000003,189211892,198937892,198937892,267333206,279017139,291954748]
["Depreciation",7,{"$f":"SA34d!C167","v":130493937.2},{"$f":"SA34d!D167","v":128241991.15000001},{"$f":"SA34d!E167","v":98378041.760000005},{"$f":"SA34d!F167","v":132970807},{"$f":"SA34d!G167","v":132970807},{"$f":"SA34d!H167","v":132970807},{"$f":"SA34d!I167","v":129972562},{"$f":"SA34d!J167","v":135431430},{"$f":"SA34d!K167","v":141390421}]
["Repairs and Maintenance by Asset Class",3,{"$f":"C179+C182+C183+C186+C189+C190+SUM(C193:C199)","v":59154216.310000002},{"$f":"D179+D182+D183+D186+D189+D190+SUM(D193:D199)","v":107508345},36103874.400000006,56241085,65967085,65967085,137360644,143585709,150564327]
["Roads Infrastructure",null,{"$f":"SA34c!C7","v":1544771},{"$f":"SA34c!D7","v":33306052},{"$f":"SA34c!E7","v":12390863.789999999},{"$f":"SA34c!F7","v":13750000},{"$f":"SA34c!G7","v":13355000},{"$f":"SA34c!H7","v":13355000},{"$f":"SA34c!I7","v":81815575},{"$f":"SA34c!J7","v":85801946},{"$f":"SA34c!K7","v":90336770}]
["Storm water Infrastructure",null,{"$f":"SA34c!C12","v":0},{"$f":"SA34c!D12","v":0},{"$f":"SA34c!E12","v":574093.92000000004},{"$f":"SA34c!F12","v":1500000},{"$f":"SA34c!G12","v":1500000},{"$f":"SA34c!H12","v":1500000},{"$f":"SA34c!I12","v":1500000},{"$f":"SA34c!J12","v":1563000},{"$f":"SA34c!K12","v":1631772}]
["Electrical Infrastructure",null,{"$f":"SA34c!C16","v":887639},{"$f":"SA34c!D16","v":10019092},{"$f":"SA34c!E16","v":9124807.3900000006},{"$f":"SA34c!F16","v":16852640},{"$f":"SA34c!G16","v":24954640},{"$f":"SA34c!H16","v":24954640},{"$f":"SA34c!I16","v":26094640},{"$f":"SA34c!J16","v":27190620},{"$f":"SA34c!K16","v":28387007}]
["Water Supply Infrastructure",null,{"$f":"SA34c!C26","v":0},{"$f":"SA34c!D26","v":0},{"$f":"SA34c!E26","v":0},{"$f":"SA34c!F26","v":0},{"$f":"SA34c!G26","v":0},{"$f":"SA34c!H26","v":0},{"$f":"SA34c!I26","v":0},{"$f":"SA34c!J26","v":0},{"$f":"SA34c!K26","v":0}]
["Sanitation Infrastructure",null,{"$f":"SA34c!C37","v":0},{"$f":"SA34c!D37","v":0},{"$f":"SA34c!E37","v":0},{"$f":"SA34c!F37","v":0},{"$f":"SA34c!G37","v":0},{"$f":"SA34c!H37","v":0},{"$f":"SA34c!I37","v":0},{"$f":"SA34c!J37","v":0},{"$f":"SA34c!K37","v":0}]
["Solid Waste Infrastructure",null,{"$f":"SA34c!C44","v":0},{"$f":"SA34c!D44","v":0},{"$f":"SA34c!E44","v":0},{"$f":"SA34c!F44","v":9900},{"$f":"SA34c!G44","v":9900},{"$f":"SA34c!H44","v":9900},{"$f":"SA34c!I44","v":9900},{"$f":"SA34c!J44","v":10316},{"$f":"SA34c!K44","v":10770}]
["Rail Infrastructure",null,{"$f":"SA34c!C52","v":30868923.190000001},{"$f":"SA34c!D52","v":513360},{"$f":"SA34c!E52","v":0},{"$f":"SA34c!F52","v":296000},{"$f":"SA34c!G52","v":296000},{"$f":"SA34c!H52","v":296000},{"$f":"SA34c!I52","v":296000},{"$f":"SA34c!J52","v":308432},{"$f":"SA34c!K52","v":322004}]
["Coastal Infrastructure",null,{"$f":"SA34c!C62","v":0},{"$f":"SA34c!D62","v":0},{"$f":"SA34c!E62","v":0},{"$f":"SA34c!F62","v":0},{"$f":"SA34c!G62","v":0},{"$f":"SA34c!H62","v":0},{"$f":"SA34c!I62","v":0},{"$f":"SA34c!J62","v":0},{"$f":"SA34c!K62","v":0}]
["Information and Communication Infrastructure",null,{"$f":"SA34c!C68","v":0},{"$f":"SA34c!D68","v":0},{"$f":"SA34c!E68","v":0},{"$f":"SA34c!F68","v":0},{"$f":"SA34c!G68","v":0},{"$f":"SA34c!H68","v":0},{"$f":"SA34c!I68","v":0},{"$f":"SA34c!J68","v":0},{"$f":"SA34c!K68","v":0}]
["Infrastructure",null,{"$f":"SUM(C170:C178)","v":33301333.190000001},{"$f":"SUM(D170:D178)","v":43838504},22089765.100000001,32408540,40115540,40115540,109716115,114874314,120688323]
["Community Facilities",null,{"$f":"SA34c!C75","v":0},{"$f":"SA34c!D75","v":14902},{"$f":"SA34c!E75","v":0},{"$f":"SA34c!F75","v":0},{"$f":"SA34c!G75","v":0},{"$f":"SA34c!H75","v":0},{"$f":"SA34c!I75","v":0},{"$f":"SA34c!J75","v":0},{"$f":"SA34c!K75","v":0}]
["Sport and Recreation Facilities",null,{"$f":"SA34c!C98","v":0},{"$f":"SA34c!D98","v":0},{"$f":"SA34c!E98","v":0},{"$f":"SA34c!F98","v":0},{"$f":"SA34c!G98","v":0},{"$f":"SA34c!H98","v":0},{"$f":"SA34c!I98","v":0},{"$f":"SA34c!J98","v":0},{"$f":"SA34c!K98","v":0}]
["Community Assets",null,{"$f":"SUM(C180:C181)","v":0},14902,0,0,0,0,0,0,0]
["Heritage Assets",null,{"$f":"SA34c!C103","v":0},{"$f":"SA34c!D103","v":0},{"$f":"SA34c!E103","v":0},{"$f":"SA34c!F103","v":0},{"$f":"SA34c!G103","v":0},{"$f":"SA34c!H103","v":0},{"$f":"SA34c!I103","v":0},{"$f":"SA34c!J103","v":0},{"$f":"SA34c!K103","v":0}]
["Revenue Generating",null,{"$f":"SA34c!C111","v":0},{"$f":"SA34c!D111","v":0},{"$f":"SA34c!E111","v":0},{"$f":"SA34c!F111","v":0},{"$f":"SA34c!G111","v":0},{"$f":"SA34c!H111","v":0},{"$f":"SA34c!I111","v":0},{"$f":"SA34c!J111","v":0},{"$f":"SA34c!K111","v":0}]
["Non-revenue Generating",null,{"$f":"SA34c!C114","v":0},{"$f":"SA34c!D114","v":0},{"$f":"SA34c!E114","v":0},{"$f":"SA34c!F114","v":0},{"$f":"SA34c!G114","v":0},{"$f":"SA34c!H114","v":0},{"$f":"SA34c!I114","v":0},{"$f":"SA34c!J114","v":0},{"$f":"SA34c!K114","v":0}]
["Investment properties",null,{"$f":"SUM(C184:C185)","v":0},0,0,0,0,0,0,0,0]
["Operational Buildings",null,{"$f":"SA34c!C119","v":17597569.620000001},{"$f":"SA34c!D119","v":2800941},{"$f":"SA34c!E119","v":1563844.64},{"$f":"SA34c!F119","v":1363363},{"$f":"SA34c!G119","v":2233363},{"$f":"SA34c!H119","v":2233363},{"$f":"SA34c!I119","v":1663363},{"$f":"SA34c!J119","v":1733231},{"$f":"SA34c!K119","v":1809496}]
["Housing",null,{"$f":"SA34c!C131","v":0},{"$f":"SA34c!D131","v":0},{"$f":"SA34c!E131","v":0},{"$f":"SA34c!F131","v":0},{"$f":"SA34c!G131","v":0},{"$f":"SA34c!H131","v":0},{"$f":"SA34c!I131","v":0},{"$f":"SA34c!J131","v":0},{"$f":"SA34c!K131","v":0}]
["Other Assets",null,{"$f":"SUM(C187:C188)","v":17597569.620000001},2800941,1563844.64,1363363,2233363,2233363,1663363,1733231,1809496]
["Biological or Cultivated Assets",null,{"$f":"SA34c!C136","v":0},{"$f":"SA34c!D136","v":0},{"$f":"SA34c!E136","v":0},{"$f":"SA34c!F136","v":0},{"$f":"SA34c!G136","v":0},{"$f":"SA34c!H136","v":0},{"$f":"SA34c!I136","v":0},{"$f":"SA34c!J136","v":0},{"$f":"SA34c!K136","v":0}]
["Servitudes",null,{"$f":"SA34c!C140","v":0},{"$f":"SA34c!D140","v":0},{"$f":"SA34c!E140","v":0},{"$f":"SA34c!F140","v":0},{"$f":"SA34c!G140","v":0},{"$f":"SA34c!H140","v":0},{"$f":"SA34c!I140","v":0},{"$f":"SA34c!J140","v":0},{"$f":"SA34c!K140","v":0}]
["Licences and Rights",null,{"$f":"SA34c!C141","v":0},{"$f":"SA34c!D141","v":0},{"$f":"SA34c!E141","v":0},{"$f":"SA34c!F141","v":0},{"$f":"SA34c!G141","v":0},{"$f":"SA34c!H141","v":0},{"$f":"SA34c!I141","v":0},{"$f":"SA34c!J141","v":0},{"$f":"SA34c!K141","v":0}]
["Intangible Assets",null,{"$f":"SUM(C191:C192)","v":0},0,0,0,0,0,0,0,0]
["Computer Equipment",null,{"$f":"SA34c!C149","v":1427860},{"$f":"SA34c!D149","v":15136449},{"$f":"SA34c!E149","v":232524.87},{"$f":"SA34c!F149","v":45000},{"$f":"SA34c!G149","v":899000},{"$f":"SA34c!H149","v":899000},{"$f":"SA34c!I149","v":545000},{"$f":"SA34c!J149","v":567890},{"$f":"SA34c!K149","v":592878}]
["Furniture and Office Equipment",null,{"$f":"SA34c!C152","v":149},{"$f":"SA34c!D152","v":79169},{"$f":"SA34c!E152","v":1042652.61},{"$f":"SA34c!F152","v":1099449},{"$f":"SA34c!G152","v":1194449},{"$f":"SA34c!H152","v":1194449},{"$f":"SA34c!I152","v":1119622},{"$f":"SA34c!J152","v":1165822},{"$f":"SA34c!K152","v":1216261}]
["Machinery and Equipment",null,{"$f":"SA34c!C155","v":14209},{"$f":"SA34c!D155","v":69927},{"$f":"SA34c!E155","v":447826.82},{"$f":"SA34c!F155","v":705075},{"$f":"SA34c!G155","v":895075},{"$f":"SA34c!H155","v":895075},{"$f":"SA34c!I155","v":2929134},{"$f":"SA34c!J155","v":2958767},{"$f":"SA34c!K155","v":2991108}]
["Transport Assets",null,{"$f":"SA34c!C158","v":6813095.5},{"$f":"SA34c!D158","v":45568453},{"$f":"SA34c!E158","v":10727260.359999999},{"$f":"SA34c!F158","v":20619658},{"$f":"SA34c!G158","v":20629658},{"$f":"SA34c!H158","v":20629658},{"$f":"SA34c!I158","v":21387410},{"$f":"SA34c!J158","v":22285685},{"$f":"SA34c!K158","v":23266261}]
["Land",null,{"$f":"SA34c!C161","v":0},{"$f":"SA34c!D161","v":0},{"$f":"SA34c!E161","v":0},{"$f":"SA34c!F161","v":0},{"$f":"SA34c!G161","v":0},{"$f":"SA34c!H161","v":0},{"$f":"SA34c!I161","v":0},{"$f":"SA34c!J161","v":0},{"$f":"SA34c!K161","v":0}]
["Zoo's, Marine and Non-biological Animals",null,{"$f":"SA34c!C164","v":0},{"$f":"SA34c!D164","v":0},{"$f":"SA34c!E164","v":0},{"$f":"SA34c!F164","v":0},{"$f":"SA34c!G164","v":0},{"$f":"SA34c!H164","v":0},{"$f":"SA34c!I164","v":0},{"$f":"SA34c!J164","v":0},{"$f":"SA34c!K164","v":0}]
[]
["TOTAL EXPENDITURE OTHER ITEMS",null,{"$f":"SUM(C168:C169)","v":189648153.50999999},235750336.15000001,134481916.16000003,189211892,198937892,198937892,267333206,279017139,291954748]
[]
["Renewal and upgrading of Existing Assets as % of total capex",null,{"$f":"IF(ISERROR((C37+C69)/C132),0,((C37+C69)/C132))","v":0.78528935096073182},{"$f":"IF(ISERROR((D37+D69)/D132),0,((D37+D69)/D132))","v":0.16941628134605524},0.43258249270078136,0.8164889422963203,0.77998086269317668,0.77998086269317668,0.80357633440052512,0.86009076611548263,0.8116031137847568]
["Renewal and upgrading of Existing Assets as % of deprecn",null,{"$f":"IF(ISERROR((C37+C69)/C168),0,((C37+C69)/C168))","v":0.76144325270614943},{"$f":"IF(ISERROR((D37+D69)/D168),0,((D37+D69)/D168))","v":0.13670725043167734},0.83659246095568962,0.80422189210297867,0.94728615883334455,0.94728615883334455,0.80904729722877977,1.0167787492164855,1.0141437304299419]
["R&M as a % of PPE",null,{"$f":"IF(ISERROR(ROUND(C169/'A6-FinPos'!C19,3)),0,(ROUND(C169/'A6-FinPos'!C19,3)))","v":0.04},{"$f":"IF(ISERROR(ROUND(D169/'A6-FinPos'!D19,3)),0,(ROUND(D169/'A6-FinPos'!D19,3)))","v":7.3999999999999996E-2},{"$f":"IF(ISERROR(ROUND(E169/'A6-FinPos'!E19,3)),0,(ROUND(E169/'A6-FinPos'!E19,3)))","v":2.4E-2},{"$f":"IF(ISERROR(ROUND(F169/'A6-FinPos'!F19,3)),0,(ROUND(F169/'A6-FinPos'!F19,3)))","v":3.2000000000000001E-2},{"$f":"IF(ISERROR(ROUND(G169/'A6-FinPos'!G19,3)),0,(ROUND(G169/'A6-FinPos'!G19,3)))","v":3.6999999999999998E-2},{"$f":"IF(ISERROR(ROUND(H169/'A6-FinPos'!H19,3)),0,(ROUND(H169/'A6-FinPos'!H19,3)))","v":3.6999999999999998E-2},{"$f":"IF(ISERROR(ROUND(I169/'A6-FinPos'!J19,3)),0,(ROUND(I169/'A6-FinPos'!J19,3)))","v":5.2999999999999999E-2},{"$f":"IF(ISERROR(ROUND(J169/'A6-FinPos'!K19,3)),0,(ROUND(J169/'A6-FinPos'!K19,3)))","v":4.5999999999999999E-2},{"$f":"IF(ISERROR(ROUND(K169/'A6-FinPos'!L19,3)),0,(ROUND(K169/'A6-FinPos'!L19,3)))","v":4.4999999999999998E-2}]
["Renewal and upgrading and R&M as a % of PPE",null,{"$f":"IF(ISERROR(ROUND((C37+C69+C169)/C165,2)),0,(ROUND((C37+C69+C169)/C165,2)))","v":0.09},{"$f":"IF(ISERROR(ROUND((D37+D69+D169)/D165,2)),0,(ROUND((D37+D69+D169)/D165,2)))","v":0.08},0.08,0.08,0.1,0.1,0.09,0.08,0.08]
[]
[{"$f":"head27a","v":"References"}]
["1. Detail of new assets provided in Table SA34a"]
["2. Detail of renewal of existing assets provided in Table SA34b"]
["3. Detail of Repairs and Maintenance by Asset Class provided in Table SA34c"]
["4. Must reconcile to total capital expenditure on Budgeted Capital Expenditure"]
["5. Must reconcile to 'Budgeted Financial Position' (written down value)"]
["6. Detail of upgrading of existing assets provided in Table SA34e"]
["7. Detail of depreciation provided in Table SA34d"]
[]
["Check balance to A6",null,{"$f":"C165-'A6-FinPos'!D17-'A6-FinPos'!D19-'A6-FinPos'!D20-'A6-FinPos'!D21-'A6-FinPos'!D22-C148","v":29638852.029999733},{"$f":"D165-'A6-FinPos'!E17-'A6-FinPos'!E19-'A6-FinPos'!E20-'A6-FinPos'!E21-'A6-FinPos'!E22-D148","v":-29449456.010000229},{"$f":"E165-'A6-FinPos'!F17-'A6-FinPos'!F19-'A6-FinPos'!F20-'A6-FinPos'!F21-'A6-FinPos'!F22-E148","v":-385613729.82999933},{"$f":"F165-'A6-FinPos'!G17-'A6-FinPos'!G19-'A6-FinPos'!G20-'A6-FinPos'!G21-'A6-FinPos'!G22-F148","v":-30519923},{"$f":"G165-'A6-FinPos'!H17-'A6-FinPos'!H19-'A6-FinPos'!H20-'A6-FinPos'!H21-'A6-FinPos'!H22-G148","v":-4000000},{"$f":"H165-'A6-FinPos'!I17-'A6-FinPos'!I19-'A6-FinPos'!I20-'A6-FinPos'!I21-'A6-FinPos'!I22-H148","v":-4000000},{"$f":"I165-'A6-FinPos'!J17-'A6-FinPos'!J19-'A6-FinPos'!J20-'A6-FinPos'!J21-'A6-FinPos'!J22-I148","v":0},{"$f":"J165-'A6-FinPos'!K17-'A6-FinPos'!K19-'A6-FinPos'!K20-'A6-FinPos'!K21-'A6-FinPos'!K22-J148","v":0},{"$f":"K165-'A6-FinPos'!L17-'A6-FinPos'!L19-'A6-FinPos'!L20-'A6-FinPos'!L21-'A6-FinPos'!L22-K148","v":-3}]

{"sheet":"A10-SerDel","index":19,"n_rows":89,"n_cols":11,"rows_kept":89,"cut":false,"hidden":false,"merged":[[1,5,1,7],[1,8,1,10],[1,0,2,0],[1,1,2,1]]}
[{"$f":"muni&\" - \"&Approve10","v":"Choose name from list - Table A10 Basic service delivery measurement"}]
[{"$f":"desc","v":"Description"},{"$f":"head27","v":"Ref"},{"$f":"head1b","v":"2017/18"},{"$f":"head1A","v":"2018/19"},{"$f":"Head1","v":"2019/20"},{"$f":"Head2","v":"Current Year 2020/21"},null,null,{"$f":"Head3","v":"2021/22 Medium Term Revenue & Expenditure Framework"}]
[null,null,{"$f":"Head5A","v":"Outcome"},{"$f":"Head5A","v":"Outcome"},{"$f":"Head5A","v":"Outcome"},{"$f":"Head6","v":"Original Budget"},{"$f":"Head7","v":"Adjusted Budget"},{"$f":"Head8","v":"Full Year Forecast"},{"$f":"Head9","v":"Budget Year 2021/22"},{"$f":"Head10","v":"Budget Year +1 2022/23"},{"$f":"Head11","v":"Budget Year +2 2023/24"}]
["Household service targets",1]
["Water:"]
["Piped water inside dwelling",null,17793,17793,0,17793,17793,17793,17793,17793,17793]
["Piped water inside yard (but not in dwelling)",null,34755,34755,0,34755,34755,34755,34755,34755,34755]
["Using public tap (at least min.service level)",2,17540,17540,0,17540,17540,17540,17540,17540,17540]
["Other water supply (at least min.service level)",4,25183,25183,0,25183,25183,25183,25183,25183,25183]
["Minimum Service Level and Above sub-total",null,95271,95271,0,95271,95271,95271,95271,95271,95271]
["Using public tap (< min.service level)",3,23511,23511,0,23511,23511,23511,23511,23511,23511]
["Other water supply (< min.service level)",{"$f":"B9","v":4},0,0,0,0,0,0,0,0,0]
["No water supply",null,0,0,0,0,0,0,0,0,0]
["Below Minimum Service Level sub-total",null,23511,150561,0,150561,150561,150561,23511,23511,23511]
["Total number of households",5,118782,118782,0,118782,118782,118782,118782,118782,118782]
["Sanitation/sewerage:"]
["Flush toilet (connected to sewerage)",null,14480,14480,0,14480,14480,14480,14480,14480,14480]
["Flush toilet (with septic tank)",null,284,284,0,284,284,284,284,284,284]
["Chemical toilet",null,0,0,0,0,0,0,0,0,0]
["Pit toilet (ventilated)",null,67104,67104,0,67104,67104,67104,67104,67104,67104]
["Other toilet provisions (> min.service level)",null,0,0,0,0,0,0,0,0,0]
[{"$f":"$A$10","v":"Minimum Service Level and Above sub-total"},null,81868,81868,0,81868,81868,81868,81868,81868,81868]
["Bucket toilet",null,0,0,0,0,0,0,0,0,0]
["Other toilet provisions (< min.service level)",null,0,0,0,0,0,0,0,0,0]
["No toilet provisions",null,27058,27058,0,27058,27058,27058,27058,27058,27058]
[{"$f":"$A$14","v":"Below Minimum Service Level sub-total"},null,27058,150561,0,150561,150561,150561,27058,27058,27058]
[{"$f":"$A$15","v":"Total number of households"},{"$f":"$B$15","v":5},108926,108926,0,108926,108926,108926,108926,108926,108926]
["Energy:"]
["Electricity (at least min.service level)",null,12900,13000,0,13200,13200,13200,13200,13500,13500]
["Electricity - prepaid (min.service level)",null,1200,1350,0,1420,1420,1420,1420,1500,1500]
[{"$f":"$A$10","v":"Minimum Service Level and Above sub-total"},null,14100,14350,0,14620,14620,14620,14620,15000,15000]
["Electricity (< min.service level)",null,0,0,0,0,0,0,0,0,0]
["Electricity - prepaid (< min. service level)",null,0,0,0,0,0,0,0,0,0]
["Other energy sources",null,0,0,0,0,0,0,0,0,0]
[{"$f":"$A$14","v":"Below Minimum Service Level sub-total"},null,0,150561,0,150561,150561,150561,0,0,0]
[{"$f":"$A$15","v":"Total number of households"},{"$f":"$B$15","v":5},14100,14350,0,14620,14620,14620,14620,15000,15000]
["Refuse:"]
["Removed at least once a week",null,8695,8695,0,8695,8695,8695,8695,8695,8695]
[{"$f":"$A$10","v":"Minimum Service Level and Above sub-total"},null,8695,8695,0,8695,8695,8695,200454,200834,200834]
["Removed less frequently than once a week",null,47822,47822,0,47822,47822,47822,52170,65000,99992]
["Using communal refuse dump",null,52170,52170,0,52170,52170,52170,47822,34992,0]
["Using own refuse dump",null,0,0,0,0,0,0,0,0,0]
["Other rubbish disposal",null,0,0,0,0,0,0,0,0,0]
["No rubbish disposal",null,0,0,0,0,0,0,0,0,0]
[{"$f":"$A$14","v":"Below Minimum Service Level sub-total"},null,99992,99992,0,99992,99992,99992,150561,150561,150561]
[{"$f":"$A$15","v":"Total number of households"},{"$f":"$B$15","v":5},108687,108687,0,108687,108687,108687,351015,351395,351395]
[]
["Households receiving Free Basic Service",7]
["Water (6 kilolitres per household per month)",null,0,0,0,0,0,0,0,0,0]
["Sanitation (free minimum level service)",null,0,0,0,0,0,0,0,0,0]
["Electricity/other energy (50kwh per household per month)",null,3500000,0,0,4000000,4000000,4000000,4000000,4000000,4000000]
["Refuse (removed at least once a week)",null,1511000,0,0,1300000,1300000,1300000,1300000,1300000,1300000]
[]
["Cost of Free Basic Services provided - Formal Settlements (R'000)",8]
["Water (6 kilolitres per indigent household per month)",null,0,0,0,0,0,0,0,0,0]
["Sanitation (free sanitation service to indigent households)",null,0,0,0,0,0,0,0,0,0]
["Electricity/other energy (50kwh per indigent household per month)",null,0,0,0,0,0,0,0,0,0]
["Refuse (removed once a week for indigent households)",null,0,0,0,0,0,0,0,0,0]
["Cost of Free Basic Services provided - Informal Formal Settlements (R'000)",null,0,0,0,0,0,0,0,0,0]
["Total cost of FBS provided  ",null,0,0,0,0,0,0,0,0,0]
[]
["Highest level of free service provided per household"]
["Property rates (R value threshold)",null,0,0,0,0,0,0,0,0,0]
["Water (kilolitres per household per month)",null,0,0,0,0,0,0,0,0,0]
["Sanitation (kilolitres per household per month)",null,0,0,0,0,0,0,0,0,0]
["Sanitation (Rand per household per month)",null,0,0,0,0,0,0,0,0,0]
["Electricity (kwh per household per month)",null,0,0,0,0,0,0,0,0,0]
["Refuse (average litres per week)",null,0,0,0,0,0,0,0,0,0]
["Revenue  cost of subsidised services provided (R'000)",9]
["Property rates (tariff adjustment) ( impermissable values per section 17 of MPRA)",null,0,0,0,0,0,0,0,0,0]
["Property rates  exemptions, reductions and rebates and impermissable values in excess of section 17 of MPRA)",null,0,0,0,0,0,0,0,0,0]
["Water (in excess of 6 kilolitres per indigent household per month)",null,0,0,0,0,0,0,0,0,0]
["Sanitation (in excess of free sanitation service to indigent households)",null,0,0,0,0,0,0,0,0,0]
["Electricity/other energy (in excess of 50 kwh per indigent household per month)",null,0,0,0,0,0,0,0,0,0]
["Refuse (in excess of one removal a week for indigent households)",null,0,0,0,0,0,0,0,0,0]
["Municipal Housing - rental rebates",null,0,0,0,0,0,0,0,0,0]
["Housing - top structure subsidies",6,0,0,0,0,0,0,0,0,0]
["Other",null,0,0,0,0,0,0,0,0,0]
["Total revenue cost of subsidised services provided ",null,0,0,0,0,0,0,0,0,0]
[{"$f":"head27a","v":"References"}]
["1. Include services provided by another entity; e.g. Eskom"]
["2. Stand distance <= 200m from dwelling"]
["3. Stand distance > 200m from dwelling"]
["4. Borehole, spring, rain-water tank etc."]
["5. Must agree to total number of households in municipal area (informal settlements receiving services must be included)"]
["6. Include value of subsidy provided by municipality above provincial subsidy level"]
["7. Show number of households receiving at least these levels of services completely free (informal settlements must be included)"]
["8. Must reflect the cost to the municipality of providing the Free Basic Service"]
["9. Reflect the cost to the municipality in terms of 'revenue foregone' of providing free services (note this will not equal 'Revenue Foregone' on SA1)"]

{"sheet":"SA1","index":20,"n_rows":182,"n_cols":12,"rows_kept":182,"cut":false,"hidden":false,"merged":[[1,9,1,11],[1,5,1,8],[1,0,2,0],[1,1,2,1]]}
[{"$f":"muni&\" - \"&TableA1","v":"Choose name from list - Supporting Table SA1 Supportinging detail to 'Budgeted Financial Performance'"}]
[{"$f":"desc","v":"Description"},{"$f":"head27","v":"Ref"},{"$f":"head1b","v":"2017/18"},{"$f":"head1A","v":"2018/19"},{"$f":"Head1","v":"2019/20"},{"$f":"Head2","v":"Current Year 2020/21"},null,null,null,{"$f":"Head3","v":"2021/22 Medium Term Revenue & Expenditure Framework"}]
[null,null,{"$f":"Head5","v":"Audited Outcome"},{"$f":"Head5","v":"Audited Outcome"},{"$f":"Head5","v":"Audited Outcome"},{"$f":"Head6","v":"Original Budget"},{"$f":"Head7","v":"Adjusted Budget"},{"$f":"Head8","v":"Full Year Forecast"},{"$f":"Head5b","v":"Pre-audit outcome"},{"$f":"Head9","v":"Budget Year 2021/22"},{"$f":"Head10","v":"Budget Year +1 2022/23"},{"$f":"Head11","v":"Budget Year +2 2023/24"}]
["R thousand"]
["REVENUE ITEMS:"]
[{"$f":"'A4-FinPerf RE'!A5","v":"Property rates"},6]
["Total Property Rates",null,137790730.63,147139436,151269813.80000001,167500000,167500000,167500000,167500000,172500000,179745000,187653786]
["Less Revenue Foregone (exemptions, reductions and rebates and impermissable values in excess of section 17 of MPRA)",null,38501208.270000003,37975511,36523293.590000004,35000000,35000000,35000000,35000000,35000000,36470000,38074680]
["Net Property Rates",null,{"$f":"C7-C8","v":99289522.359999985},{"$f":"D7-D8","v":109163925},114746520.21000001,132500000,132500000,132500000,132500000,137500000,143275000,149579106]
[]
[{"$f":"'A4-FinPerf RE'!A6","v":"Service charges - electricity revenue"},6]
[{"$f":"\"Total \"&A11","v":"Total Service charges - electricity revenue"},null,452023274,449863851,523323295.25999999,575401000,584943000,584943000,584943000,674021250,743580401,808345676]
["Less Revenue Foregone (in excess of 50 kwh per indigent household per month)",null,0,0,0,0,0,0,0,200000,208400,217570]
["Less Cost of Free Basis Services (50 kwh per indigent household per month)",null,{"$f":"'SA9'!E250","v":0},{"$f":"'SA9'!F250","v":0},{"$f":"'SA9'!G250","v":0},{"$f":"'SA9'!H250","v":4200000},{"$f":"'SA9'!I250","v":4200000},{"$f":"'SA9'!J250","v":4200000},null,{"$f":"'SA9'!K250","v":4200000},{"$f":"'SA9'!L250","v":4376400},{"$f":"'SA9'!M250","v":4568963}]
[{"$f":"\"Net \"& A11","v":"Net Service charges - electricity revenue"},null,{"$f":"C12-C13-C14","v":452023274},{"$f":"D12-D13-D14","v":449863851},523323295.25999999,571201000,580743000,580743000,584943000,669621250,738995601,803559143]
[]
[{"$f":"'A4-FinPerf RE'!A7","v":"Service charges - water revenue"},6]
[{"$f":"\"Total \"&A17","v":"Total Service charges - water revenue"},null,0,0,0,0,0,0,0,0,0,4]
["Less Revenue Foregone (in excess of 6 kilolitres per indigent household per month)",null,0,0,0,0,0,0,0,0,0,0]
["Less Cost of Free Basis Services (6 kilolitres per indigent household per month)",null,{"$f":"'SA9'!E262","v":0},{"$f":"'SA9'!F262","v":0},{"$f":"'SA9'!G262","v":0},{"$f":"'SA9'!H262","v":0},{"$f":"'SA9'!I262","v":0},{"$f":"'SA9'!J262","v":0},null,{"$f":"'SA9'!K262","v":0},{"$f":"'SA9'!L262","v":0},{"$f":"'SA9'!M262","v":0}]
[{"$f":"\"Net \"& A17","v":"Net Service charges - water revenue"},null,{"$f":"C18-C19-C20","v":0},{"$f":"D18-D19-D20","v":0},0,0,0,0,0,0,0,4]
[]
[{"$f":"'A4-FinPerf RE'!A8","v":"Service charges - sanitation revenue"}]
[{"$f":"\"Total \"&A23","v":"Total Service charges - sanitation revenue"},null,0,0,0,0,0,0,0,0,0,1]
["Less Revenue Foregone (in excess of free sanitation service to indigent households)",null,0,0,0,0,0,0,0,0,0,0]
["Less Cost of Free Basis Services (free sanitation service to indigent households)",null,{"$f":"'SA9'!E274","v":0},{"$f":"'SA9'!F274","v":0},{"$f":"'SA9'!G274","v":0},{"$f":"'SA9'!H274","v":0},{"$f":"'SA9'!I274","v":0},{"$f":"'SA9'!J274","v":0},null,{"$f":"'SA9'!K274","v":0},{"$f":"'SA9'!L274","v":0},{"$f":"'SA9'!M274","v":0}]
[{"$f":"\"Net \"& A23","v":"Net Service charges - sanitation revenue"},null,{"$f":"C24-C25-C26","v":0},{"$f":"D24-D25-D26","v":0},0,0,0,0,0,0,0,1]
[]
[{"$f":"'A4-FinPerf RE'!A9","v":"Service charges - refuse revenue"},6]
["Total refuse removal revenue",null,30990314,37605220,33128367.25,36616132,36616132,36616132,36616132,37707361,39291071,41019880]
["Total landfill revenue",null,0,0,0,0,0,0,0,0,0,0]
["Less Revenue Foregone (in excess of one removal a week to indigent households)",null,0,0,0,0,0,0,0,600000,625200,652710]
["Less Cost of Free Basis Services  (removed once a week to indigent households)",null,{"$f":"'SA9'!E286","v":0},{"$f":"'SA9'!F286","v":1162662.7},{"$f":"'SA9'!G286","v":0},{"$f":"'SA9'!H286","v":1200000},{"$f":"'SA9'!I286","v":1200000},{"$f":"'SA9'!J286","v":1200000},null,{"$f":"'SA9'!K286","v":1200000},{"$f":"'SA9'!L286","v":1250400},{"$f":"'SA9'!M286","v":1305419}]
[{"$f":"\"Net \"& A29","v":"Net Service charges - refuse revenue"},null,{"$f":"SUM(C30:C31)-C32-C33","v":30990314},{"$f":"SUM(D30:D31)-D32-D33","v":36442557.299999997},33128367.25,35416132,35416132,35416132,36616132,35907361,37415471,39061751]
[]
["Other Revenue by source"]
["Fuel Levy",null,0,0,0,0,0,0,0,0,0,0]
["Other Revenue",null,17574075.809999999,12831601.859999999,64521226.850000001,6472573,7702706,7702706,7702706,6472576,6744434,7041199]
[]
[]
[]
[]
[]
[]
[]
[]
[]
[]
["Total 'Other' Revenue",1,{"$f":"SUM(C37:C38)","v":17574075.809999999},{"$f":"SUM(D37:D38)","v":12831601.859999999},{"$f":"SUM(E37:E38)","v":64521226.850000001},6472573,7702706,7702706,7702706,6472576,6744434,7041199]
[]
["EXPENDITURE ITEMS:"]
[{"$f":"'A4-FinPerf RE'!A24","v":"Employee related costs"}]
["Basic Salaries and Wages",2,253888561,123894842,199973835.74000001,215721318,207665729,207665729,207665729,219191026,228397070,238446544]
["Pension and UIF Contributions",null,2425551,27125020,32516516.27,40325244,39166573,39166573,39166573,41165060,42894033,44781368]
["Medical Aid Contributions",null,1007527,4485967,8166005,16901173,15732036,15732036,15732036,20622070,21488213,22433697]
["Overtime",null,0,0,0,0,0,0,0,0,0,1]
["Performance Bonus",null,714863,12454206,15702057.630000001,17310648,17322648,17322648,17322648,16192602,16872710,17615126]
["Motor Vehicle Allowance",null,0,0,0,0,0,0,0,0,0,1]
["Cellphone Allowance",null,0,0,0,0,0,0,0,0,0,1]
["Housing Allowances",null,163097,1722419,1686100.63,1813189,1827949,1827949,1827949,1435237,1495538,1561340]
["Other benefits and allowances",null,2999296,37169277,44031158.659999996,41285333,45589969,45589969,45589969,46293540,48237923,50360420]
["Payments in lieu of leave",null,1049477,7389140,9038921.3100000005,12207214,12334214,12334214,12334214,4970531,5179293,5407230]
["Long service awards",null,0,25439,0,0,0,0,0,0,0,2]
["Post-retirement benefit obligations",4,0,0,0,0,0,0,0,0,0,17]
["sub-total",5,{"$f":"SUM(C53:C64)","v":262248372},{"$f":"SUM(D53:D64)","v":214266310},311114595.24000001,345564119,339639118,339639118,339639118,349870066,364564780,380605747]
["Less: Employees costs capitalised to PPE",null,-5373209,0,0,0,0,0,0,0,0,-2]
[{"$f":"\"Total \"&A52","v":"Total Employee related costs"},1,{"$f":"C65-C66","v":267621581},{"$f":"D65-D66","v":214266310},311114595.24000001,345564119,339639118,339639118,339639118,349870066,364564780,380605749]
[]
[]
[]
[]
[]
[]
[]
[]
[]
[]
[{"$f":"'A4-FinPerf RE'!A27","v":"Depreciation & asset impairment"}]
["Depreciation of Property, Plant & Equipment",null,130493937.2,128241991.15000001,98378041.760000005,132970807,132970807,132970807,132970807,129379554,134838422,140797413]
["Lease amortisation",null,0,0,0,0,0,0,0,593008,593008,593008]
["Capital asset impairment",null,0,4399272.34,9236673.1500000004,0,0,0,0,0,0,0]
[]
[{"$f":"\"Total \"&LEFT(A78,35)","v":"Total Depreciation & asset impairment"},1,{"$f":"SUM(C79:C81)","v":130493937.2},{"$f":"SUM(D79:D81)","v":132641263.49000001},107614714.91000001,132970807,132970807,132970807,132970807,129972562,135431430,141390421]
[]
["Bulk purchases - electricity"]
["Electricity bulk purchases",null,325455992,348443870,389694217.10000002,406187500,406187500,406187500,406187500,456871250,480289000,523698000]
[null,null,0,0,0,0,0,0,0,0,0,0]
["Total bulk purchases",1,{"$f":"SUM(C86:C87)","v":325455992},{"$f":"SUM(D86:D87)","v":348443870},389694217.10000002,406187500,406187500,406187500,406187500,456871250,480289000,523698000]
[]
["Transfers and grants"]
["Cash transfers and grants",null,{"$f":"'SA21'!C32","v":112420696.40000001},{"$f":"'SA21'!D32","v":40499741},{"$f":"'SA21'!E32","v":33708094.670000002},{"$f":"'SA21'!F32","v":30919000},{"$f":"'SA21'!G32","v":31351814},{"$f":"'SA21'!H32","v":31351814},{"$f":"'SA21'!I32","v":31351814},{"$f":"'SA21'!J32","v":32118000},{"$f":"'SA21'!K32","v":7871670},{"$f":"'SA21'!L32","v":8130053}]
["Non-cash transfers and grants",null,{"$f":"'SA21'!C63","v":0},{"$f":"'SA21'!D63","v":16632404},{"$f":"'SA21'!E63","v":3279555.43},{"$f":"'SA21'!F63","v":0},{"$f":"'SA21'!G63","v":0},{"$f":"'SA21'!H63","v":0},{"$f":"'SA21'!I63","v":0},{"$f":"'SA21'!J63","v":0},{"$f":"'SA21'!K63","v":0},{"$f":"'SA21'!L63","v":0}]
["Total transfers and grants",1,{"$f":"SUM(C91:C92)","v":112420696.40000001},{"$f":"SUM(D91:D92)","v":57132145},36987650.100000001,30919000,31351814,31351814,31351814,32118000,7871670,8130053]
[]
[{"$f":"'A4-FinPerf RE'!A31","v":"Contracted services"}]
["Outsourced Services",null,4078417,45140912.549999997,51959509.630000003,60301540,55911540,55911540,55911540,59001540,61479607,64184727]
["Consultants and Professional Services",null,43972130,4910793,6479885.1600000001,9214771,6431771,6431771,6431771,14564771,15176493,15844267]
["Contractors",null,0,28060,814149.98,2008898,1358898,1358898,1358898,1648898,1718152,1793762]
[]
[]
[]
[]
[]
[]
[]
[]
[]
[]
[]
[]
[]
[]
[]
[]
[]
[]
[]
[]
[]
[]
[]
[]
[]
[]
[]
[]
["Total contracted services",null,{"$f":"SUM(C96:C98)","v":48050547},{"$f":"SUM(D96:D98)","v":50079765.549999997},59253544.770000003,71525209,63702209,63702209,63702209,75215209,78374252,81822756]
[]
["Other Expenditure By Type"]
["Collection costs",null,218490.97,1215179,1181966.3500000001,1000000,1000000,1000000,1000000,1250000,1302500,1359812]
["Contributions to 'other' provisions",null,0,0,0,0,0,0,0,0,0,1]
[]
["Audit fees",null,0,5780394,6474173.21,5591809,5591809,5591809,5591809,5591809,5826665,6083040]
[]
[]
["General expenses",null,102382063.34999999,109040113.59999999,88088170.829999998,121476022,113619133,113619133,113619133,113435659,118200139,123401053]
[]
[]
[]
[]
[]
[]
[]
[]
[]
[]
[]
[]
[]
[]
[]
[]
[]
[]
[]
[]
["Total 'Other' Expenditure",1,{"$f":"+C130+C131+C133+C136","v":102600554.31999999},{"$f":"+D130+D131+D133+D136","v":116035686.59999999},95744310.390000001,128067831,120210942,120210942,120210942,120277468,125329304,130843906]
[]
["Repairs and Maintenance \nby Expenditure Item",8]
["Employee related costs",null,0,0,0,0,0,0,0,0,0,0]
["Inventory Consumed (Project Maintenance)",null,59154216.310000002,107508345,36103874.399999999,56241085,65967085,65967085,65967085,66950837,69762831,72832450]
["Contracted Services",null,0,0,0,0,0,0,0,0,0,0]
["Other Expenditure",null,0,0,0,0,0,0,0,0,0,1]
["Total Repairs and Maintenance Expenditure",9,{"$f":"SUM(C160:C163)","v":59154216.310000002},{"$f":"SUM(D160:D163)","v":107508345},36103874.399999999,56241085,65967085,65967085,65967085,66950837,69762831,72832451]
[]
[" Inventory Consumed"]
["Inventory Consumed - Water",null,{"$f":"-'SA3'!C29","v":0},{"$f":"-'SA3'!D29","v":0},{"$f":"-'SA3'!E29","v":0},{"$f":"-'SA3'!F29","v":0},{"$f":"-'SA3'!G29","v":0},{"$f":"-'SA3'!H29","v":0},{"$f":"-'SA3'!I29","v":0},{"$f":"-'SA3'!J29","v":0},{"$f":"-'SA3'!K29","v":0},{"$f":"-'SA3'!L29","v":0}]
["Inventory Consumed - Other",null,{"$f":"-'SA3'!C58-'SA3'!C67-'SA3'!C74-'SA3'!C82-'SA3'!C90","v":0},{"$f":"-'SA3'!D58-'SA3'!D67-'SA3'!D74-'SA3'!D82-'SA3'!D90","v":0},{"$f":"-'SA3'!E58-'SA3'!E67-'SA3'!E74-'SA3'!E82-'SA3'!E90","v":0},{"$f":"-'SA3'!F58-'SA3'!F67-'SA3'!F74-'SA3'!F82-'SA3'!F90","v":0},{"$f":"-'SA3'!G58-'SA3'!G67-'SA3'!G74-'SA3'!G82-'SA3'!G90","v":0},{"$f":"-'SA3'!H58-'SA3'!H67-'SA3'!H74-'SA3'!H82-'SA3'!H90","v":0},{"$f":"-'SA3'!I58-'SA3'!I67-'SA3'!I74-'SA3'!I82-'SA3'!I90","v":0},{"$f":"-'SA3'!J58-'SA3'!J67-'SA3'!J74-'SA3'!J82-'SA3'!J90","v":0},{"$f":"-'SA3'!K58-'SA3'!K67-'SA3'!K74-'SA3'!K82-'SA3'!K90","v":0},{"$f":"-'SA3'!L58-'SA3'!L67-'SA3'!L74-'SA3'!L82-'SA3'!L90","v":0}]
["Total Inventory Consumed & Other Material",null,{"$f":"SUM(C167:C168)","v":0},0,0,0,0,0,0,0,0,0]
[]
["check",null,{"$f":"C164-SA34c!C167","v":0},{"$f":"D164-SA34c!D167","v":0},{"$f":"E164-SA34c!E167","v":0},{"$f":"F164-SA34c!F167","v":0},{"$f":"G164-SA34c!G167","v":0},{"$f":"H164-SA34c!H167","v":0},null,{"$f":"J164-SA34c!I167","v":-70409807},{"$f":"K164-SA34c!J167","v":-73822878},{"$f":"L164-SA34c!K167","v":-77731876}]
[{"$f":"head27a","v":"References"}]
["1. Must reconcile with 'Budgeted Financial Performance (Revenue and Expenditure)"]
["2. Must reconcile to supporting documentation on staff salaries"]
[]
["4. Expenditure to meet any 'unfunded obligations'"]
["5 This sub-total must agree with the total on SA22, but excluding councillor and board member items"]
["6. Include a note for each revenue item that is affected by 'revenue foregone'"]
["7. Special consideration may have to be given to including 'goodwill arising' or 'joint venture' budgets where circumstances require this (include separately under relevant notes)"]
["8. Repairs and Maintenance is not a GRAP item. However to facilitate transparency, municipalities must provide a breakdown of the amounts included in the relevant GRAP items that will be spent on Repairs and Maintenance."]
["9. Must reconcile with Repairs and Maintenance by Asset Class (Total Repairs and Maintenance) on Table SA34c."]
["10. Only applicable to municipalities that have adopted the 'revaluation method' in GRAP 17. The aim is to prevent overstating 'depreciation and asset impairment'"]

{"sheet":"SA2","index":21,"n_rows":44,"n_cols":18,"rows_kept":44,"cut":false,"hidden":false,"merged":[[1,6,2,6],[1,7,2,7],[1,2,2,2],[1,3,2,3],[1,4,2,4],[1,5,2,5],[1,16,2,16],[1,17,2,17],[1,8,2,8],[1,9,2,9],[1,10,2,10],[1,11,2,11],[1,12,2,12],[1,13,2,13],[1,14,2,14],[1,15,2,15]]}
[{"$f":"muni&\" - \"&TableA2","v":"Choose name from list - Supporting Table SA2 Matrix Financial Performance Budget (revenue source/expenditure type and dept.)"}]
[{"$f":"desc","v":"Description"},{"$f":"head27","v":"Ref"},{"$f":"'A3-FinPerf V'!A5","v":"Vote 1 - Executive & Council"},{"$f":"'A3-FinPerf V'!A6","v":"Vote 2 - Planning and Economic Development"},{"$f":"'A3-FinPerf V'!A7","v":"Vote 3 - Budget and Treasury"},{"$f":"'A3-FinPerf V'!A8","v":"Vote 4 - Corporate Services"},{"$f":"'A3-FinPerf V'!A9","v":"Vote 5 - Engineering Services"},{"$f":"'A3-FinPerf V'!A10","v":"Vote 6 - Community Services"},{"$f":"'A3-FinPerf V'!A11","v":"Vote 7 - Electrical Engineering"},{"$f":"'A3-FinPerf V'!A12","v":"Vote 8 - Office of the Speaker"},{"$f":"'A3-FinPerf V'!A13","v":"Vote 9 - COMMUNITY & SOCIAL SERVICES"},{"$f":"'A3-FinPerf V'!A14","v":"Vote 10 - Office of the Municipal Manager"},{"$f":"'A3-FinPerf V'!A15","v":"Vote 11 - [NAME OF VOTE 11]"},{"$f":"'A3-FinPerf V'!A16","v":"Vote 12 - [NAME OF VOTE 12]"},{"$f":"'A3-FinPerf V'!A17","v":"Vote 13 - [NAME OF VOTE 13]"},{"$f":"'A3-FinPerf V'!A18","v":"Vote 14 - [NAME OF VOTE 14]"},{"$f":"'A3-FinPerf V'!A19","v":"Vote 15 - [NAME OF VOTE 15]"},"Total"]
["R thousand",1,"R'000","R'000","R'000","R'000","R'000","R'000",null,null,null,null,null,null,null,null,"R'000","R'000"]
[{"$f":"'A4-FinPerf RE'!A4","v":"Revenue By Source"}]
[{"$f":"'A4-FinPerf RE'!A5","v":"Property rates"},null,0,0,137500000,0,0,0,0,0,0,0,0,0,0,0,0,{"$f":"SUM(C5:Q5)","v":137500000}]
[{"$f":"'A4-FinPerf RE'!A6","v":"Service charges - electricity revenue"},null,0,0,0,0,0,0,669621250,0,0,0,0,0,0,0,0,{"$f":"SUM(C6:Q6)","v":669621250}]
[{"$f":"'A4-FinPerf RE'!A7","v":"Service charges - water revenue"},null,0,0,0,0,0,0,0,0,0,0,0,0,0,0,0,0]
[{"$f":"'A4-FinPerf RE'!A8","v":"Service charges - sanitation revenue"},null,0,0,0,0,0,0,0,0,0,0,0,0,0,0,0,0]
[{"$f":"'A4-FinPerf RE'!A9","v":"Service charges - refuse revenue"},null,0,0,0,0,0,35907361,0,0,0,0,0,0,0,0,0,35907361]
[]
[{"$f":"'A4-FinPerf RE'!A11","v":"Rental of facilities and equipment"},null,0,0,0,0,1158000,12100,0,0,0,0,0,0,0,0,0,1170100]
[{"$f":"'A4-FinPerf RE'!A12","v":"Interest earned - external investments"},null,0,0,3500000,0,0,0,0,0,0,0,0,0,0,0,0,3500000]
[{"$f":"'A4-FinPerf RE'!A13","v":"Interest earned - outstanding debtors"},null,0,0,23600000,0,0,0,0,0,0,0,0,0,0,0,0,23600000]
[{"$f":"'A4-FinPerf RE'!A14","v":"Dividends received"},null,0,0,0,0,0,0,0,0,0,0,0,0,0,0,0,0]
[{"$f":"'A4-FinPerf RE'!A15","v":"Fines, penalties and forfeits"},null,0,0,500100,0,0,38001036,0,0,0,0,0,0,0,0,0,38501136]
[{"$f":"'A4-FinPerf RE'!A16","v":"Licences and permits"},null,0,300000,100000,0,500000,16000,0,0,0,1000,0,0,0,0,0,917000]
[{"$f":"'A4-FinPerf RE'!A17","v":"Agency services"},null,0,0,0,0,0,22664291,0,0,0,0,0,0,0,0,0,22664291]
[{"$f":"'A4-FinPerf RE'!A19","v":"Other revenue"},null,0,100126,5652128,0,1327,718766,0,0,0,229,0,0,0,0,0,6472576]
[{"$f":"'A4-FinPerf RE'!A18","v":"Transfers and subsidies"},null,0,0,404618000,0,4987050,38463000,66020000,0,0,0,0,0,0,0,0,514088050]
[{"$f":"'A4-FinPerf RE'!A20","v":"Gains"},null,0,0,0,0,0,0,0,0,0,0,0,0,0,0,0,0]
[{"$f":"'A4-FinPerf RE'!A21","v":"Total Revenue (excluding capital transfers and contributions)"},null,{"$f":"SUM(C5:C9)+SUM(C11:C20)","v":0},{"$f":"SUM(D5:D9)+SUM(D11:D20)","v":400126},575470228,0,6646377,135782554,735641250,0,0,1229,0,0,0,0,0,{"$f":"SUM(R5:R9)+SUM(R11:R20)","v":1453941764}]
[]
[{"$f":"'A4-FinPerf RE'!A23","v":"Expenditure By Type"}]
[{"$f":"'A4-FinPerf RE'!A24","v":"Employee related costs"},null,0,18730364,45966494,43947327,38844564,118423533,59116524,0,0,24841260,0,0,0,0,0,{"$f":"SUM(C24:Q24)","v":349870066}]
[{"$f":"'A4-FinPerf RE'!A25","v":"Remuneration of councillors"},null,0,0,0,0,0,0,0,0,0,28405898,0,0,0,0,0,{"$f":"SUM(C25:Q25)","v":28405898}]
[{"$f":"'A4-FinPerf RE'!A26","v":"Debt impairment"},null,0,0,22500000,0,0,8000000,9190308,0,0,0,0,0,0,0,0,39690308]
[{"$f":"'A4-FinPerf RE'!A27","v":"Depreciation & asset impairment"},null,0,218565,843541,2143556,71879734,9213209,42812730,0,0,2861227,0,0,0,0,0,129972562]
[{"$f":"'A4-FinPerf RE'!A28","v":"Finance charges"},null,0,417952,0,3034505,2656516,0,11717589,0,0,0,0,0,0,0,0,17826562]
[{"$f":"'A4-FinPerf RE'!A29","v":"Bulk purchases - electricity"},null,0,0,0,0,0,0,456871250,0,0,0,0,0,0,0,0,456871250]
[{"$f":"'A4-FinPerf RE'!A30","v":"Inventory consumed"},null,0,74126,371764,1077271,39212107,3039246,26668414,0,0,1482390,0,0,0,0,0,71925318]
[{"$f":"'A4-FinPerf RE'!A31","v":"Contracted services"},null,0,1783958,12950000,3000000,1161642,55939491,80118,0,0,300000,0,0,0,0,0,75215209]
[{"$f":"'A4-FinPerf RE'!A32","v":"Transfers and subsidies"},null,0,0,6000000,0,0,8798000,16020000,0,0,1300000,0,0,0,0,0,32118000]
[{"$f":"'A4-FinPerf RE'!A33","v":"Other expenditure"},null,0,11196750,39655908,21256180,5114595,10479113,5876426,0,0,26698496,0,0,0,0,0,120277468]
[{"$f":"'A4-FinPerf RE'!A34","v":"Losses"},null,0,0,0,0,0,0,0,0,0,0,0,0,0,0,0,0]
["Total Expenditure",null,{"$f":"SUM(C24:C34)","v":0},32421715,128287707,74458839,158869158,213892592,628353359,0,0,85889271,0,0,0,0,0,1322172641]
[]
[{"$f":"'A4-FinPerf RE'!A37","v":"Surplus/(Deficit)"},null,{"$f":"C21-C35","v":0},-32021589,447182521,-74458839,-152222781,-78110038,{"$f":"I21-I35","v":107287891},0,0,-85888042,0,0,0,0,0,{"$f":"R21-R35","v":131769123}]
[{"$f":"'A4-FinPerf RE'!A38","v":"Transfers and subsidies - capital (monetary allocations) (National / Provincial and District)"},null,0,0,0,0,94753950,0,0,0,0,0,0,0,0,0,0,{"$f":"SUM(C38:Q38)","v":94753950}]
[{"$f":"'A4-FinPerf RE'!A39","v":"Transfers and subsidies - capital (monetary allocations) (National / Provincial Departmental Agencies, Households, Non-profit Institutions, Private Enterprises, Public Corporatons, Higher Educational Institutions)"},null,0,0,0,0,0,0,0,0,0,0,0,0,0,0,0,{"$f":"SUM(C39:Q39)","v":0}]
[{"$f":"'A4-FinPerf RE'!A40","v":"Transfers and subsidies - capital (in-kind - all) "},null,0,0,0,0,0,0,0,0,0,0,0,0,0,0,0,{"$f":"SUM(C40:Q40)","v":0}]
[{"$f":"'A4-FinPerf RE'!A41","v":"Surplus/(Deficit) after capital transfers & contributions"},null,{"$f":"SUM(C37:C40)","v":0},-32021589,447182521,-74458839,-57468831,-78110038,107287891,0,0,-85888042,0,0,0,0,{"$f":"SUM(Q37:Q40)","v":0},{"$f":"SUM(R37:R40)","v":226523073}]
[{"$f":"head27a","v":"References"}]
["1. Departmental columns to be based on municipal organisation structure"]
["check balance",null,null,null,null,null,null,null,null,null,null,null,null,null,null,null,null,{"$f":"'A4-FinPerf RE'!J41-'SA2'!R41","v":0}]

{"sheet":"SA3","index":22,"n_rows":184,"n_cols":12,"rows_kept":184,"cut":false,"hidden":false,"merged":[[1,0,2,0],[1,1,2,1],[1,9,1,11],[1,5,1,8]]}
[{"$f":"muni&\" - \"&TableA3","v":"Choose name from list - Supporting Table SA3 Supportinging detail to 'Budgeted Financial Position'"}]
[{"$f":"desc","v":"Description"},{"$f":"head27","v":"Ref"},{"$f":"head1b","v":"2017/18"},{"$f":"head1A","v":"2018/19"},{"$f":"Head1","v":"2019/20"},{"$f":"Head2","v":"Current Year 2020/21"},null,null,null,{"$f":"Head3","v":"2021/22 Medium Term Revenue & Expenditure Framework"}]
[null,null,{"$f":"Head5","v":"Audited Outcome"},{"$f":"Head5","v":"Audited Outcome"},{"$f":"Head5","v":"Audited Outcome"},{"$f":"Head6","v":"Original Budget"},{"$f":"Head7","v":"Adjusted Budget"},{"$f":"Head8","v":"Full Year Forecast"},{"$f":"Head5b","v":"Pre-audit outcome"},{"$f":"Head9","v":"Budget Year 2021/22"},{"$f":"Head10","v":"Budget Year +1 2022/23"},{"$f":"Head11","v":"Budget Year +2 2023/24"}]
["R thousand"]
["ASSETS"]
[]
[]
[]
[]
[]
[{"$f":"'A6-FinPos'!A8","v":"Consumer debtors"}]
[{"$f":"A11","v":"Consumer debtors"},null,137321126,82703229,925760925.05999994,491780759,491780784,491780784,491780784,132000000,138000000,136000189]
["Less: Provision for debt impairment",null,-2,0,-378906868.18000001,-392732237,-392732268,-392732268,-392732268,0,0,130]
[{"$f":"\"Total \"&A11","v":"Total Consumer debtors"},2,{"$f":"SUM(C12:C13)","v":137321124},{"$f":"SUM(D12:D13)","v":82703229},546854056.87999988,{"$f":"SUM(F12:F13)","v":99048522},99048516,99048516,99048516,132000000,138000000,136000319]
[]
["Debt impairment provision"]
["Balance at the beginning of the year",null,0,0,402174923.68000001,380597237,380597268,380597268,380597268,0,0,-29]
["Contributions to the provision",null,2,0,-26089277.920000002,12135000,12135000,12135000,12135000,0,0,-67]
["Bad debts written off",null,0,0,2821222.42,0,0,0,0,0,0,-34]
["Balance at end of year",null,{"$f":"SUM(C17:C19)","v":2},{"$f":"SUM(D17:D19)","v":0},378906868.18000001,392732237,392732268,392732268,392732268,0,0,-130]
[]
["Inventory"]
["Water"]
["  Opening Balance",null,null,{"$f":"C53","v":0},{"$f":"D53","v":0},{"$f":"E53","v":0},{"$f":"E53","v":0},{"$f":"E53","v":0},{"$f":"E53","v":0},{"$f":"G53","v":0},{"$f":"J53","v":0},{"$f":"K53","v":0}]
["  System Input Volume",null,{"$f":"(SUM(C26:C28))","v":0},{"$f":"(SUM(D26:D28))","v":0},0,0,0,0,0,0,0,0]
["      Water Treatment Works"]
["      Bulk Purchases"]
["      Natural Sources"]
["  Authorised Consumption",6,{"$f":"C30+C39","v":0},{"$f":"D30+D39","v":0},0,0,0,0,0,0,0,0]
["      Billed Authorised Consumption",null,{"$f":"C35+C31","v":0},{"$f":"D35+D31","v":0},0,0,0,0,0,0,0,0]
["         Billed Metered Consumption",null,{"$f":"SUM(C32:C34)","v":0},{"$f":"SUM(D32:D34)","v":0},0,0,0,0,0,0,0,0]
["          Free Basic Water"]
["          Subsidised Water"]
["          Revenue Water"]
["         Billed Unmetered Consumption",null,{"$f":"SUM(C36:C38)","v":0},{"$f":"SUM(D36:D38)","v":0},0,0,0,0,0,0,0,0]
["          Free Basic Water"]
["          Subsidised Water"]
["          Revenue Water"]
["     UnBilled Authorised Consumption",null,{"$f":"SUM(C40:C41)","v":0},{"$f":"SUM(D40:D41)","v":0},0,0,0,0,0,0,0,0]
["          Unbilled Metered Consumption"]
["          Unbilled Unmetered Consumption"]
["     Water Losses",null,{"$f":"C43+C46","v":0},{"$f":"D43+D46","v":0},0,0,0,0,0,0,0,0]
["         Apparent losses",null,{"$f":"SUM(C44:C45)","v":0},{"$f":"SUM(D44:D45)","v":0},0,0,0,0,0,0,0,0]
["           Unauthorised Consumption"]
["           Customer Meter Inaccuracies"]
["         Real losses",null,{"$f":"SUM(C47:C51)","v":0},{"$f":"SUM(D47:D51)","v":0},0,0,0,0,0,0,0,0]
["           Leakage on Transmission and Distribution Mains"]
["           Leakage and Overflows at Storage Tanks/Reservoirs"]
["           Leakage on Service Connections up to the point of Customer Meter"]
["           Data Transfer and Management Errors"]
["           Unavoidable Annual Real Losses"]
["  Non-revenue Water",null,{"$f":"C39+C42","v":0},{"$f":"D39+D42","v":0},0,0,0,0,0,0,0,0]
["  Closing Balance Water",null,{"$f":"C24+C25+C29+C42","v":0},{"$f":"D24+D25+D29+D42","v":0},0,0,0,0,0,0,0,0]
[]
["Agricultural"]
["  Opening Balance",null,null,{"$f":"C61","v":0},{"$f":"D61","v":0},{"$f":"E61","v":0},{"$f":"E61","v":0},{"$f":"E61","v":0},{"$f":"E61","v":0},{"$f":"G61","v":0},{"$f":"J61","v":0},{"$f":"K61","v":0}]
["      Acquisitions"]
["      Issues",7]
["      Adjustments",8]
["      Write-offs",9]
["  Closing balance - Agricultural",null,{"$f":"SUM(C56:C60)","v":0},0,0,0,0,0,0,0,0,0]
[]
["Consumables"]
["Standard Rated"]
["  Opening Balance",null,null,{"$f":"C70","v":0},{"$f":"D70","v":0},{"$f":"E70","v":0},{"$f":"E70","v":0},{"$f":"E70","v":0},{"$f":"E70","v":0},{"$f":"G70","v":0},{"$f":"J70","v":0},{"$f":"K70","v":0}]
["      Acquisitions"]
["      Issues",7]
["      Adjustments",8]
["      Write-offs",9]
["  Closing balance - Consumables Standard Rated",null,{"$f":"SUM(C65:C69)","v":0},{"$f":"SUM(D65:D69)","v":0},0,0,0,0,0,0,0,0]
["Zero Rated"]
["  Opening Balance",null,null,{"$f":"C77","v":0},{"$f":"D77","v":0},{"$f":"E77","v":0},{"$f":"E77","v":0},{"$f":"E77","v":0},{"$f":"E77","v":0},{"$f":"G77","v":0},{"$f":"J77","v":0},{"$f":"K77","v":0}]
["      Acquisitions"]
["      Issues",7]
["      Adjustments",8]
["      Write-offs",9]
["  Closing balance - Consumables Zero Rated",null,{"$f":"SUM(C72:C76)","v":0},{"$f":"SUM(D72:D76)","v":0},0,0,0,0,0,0,0,0]
[]
["Finished Goods"]
["  Opening Balance",null,null,{"$f":"C85","v":0},{"$f":"D85","v":0},{"$f":"E85","v":0},{"$f":"E85","v":0},{"$f":"E85","v":0},{"$f":"E85","v":0},{"$f":"G85","v":0},{"$f":"J85","v":0},{"$f":"K85","v":0}]
["      Acquisitions"]
["      Issues",7]
["      Adjustments",8]
["      Write-offs",9]
["  Closing balance - Finished Goods",null,{"$f":"SUM(C80:C84)","v":0},{"$f":"SUM(D80:D84)","v":0},0,0,0,0,0,0,0,0]
[]
["Materials and Supplies"]
["  Opening Balance",null,null,{"$f":"C93","v":0},{"$f":"D93","v":0},{"$f":"E93","v":0},{"$f":"E93","v":0},{"$f":"E93","v":0},{"$f":"E93","v":0},{"$f":"G93","v":0},{"$f":"J93","v":0},{"$f":"K93","v":0}]
["      Acquisitions"]
["      Issues",7]
["      Adjustments",8]
["      Write-offs",9]
["  Closing balance - Materials and Supplies",null,{"$f":"SUM(C88:C92)","v":0},{"$f":"SUM(D88:D92)","v":0},0,0,0,0,0,0,0,0]
[]
["Work-in-progress"]
["  Opening Balance",null,null,{"$f":"C99","v":0},{"$f":"D99","v":0},{"$f":"E99","v":0},{"$f":"E99","v":0},{"$f":"E99","v":0},{"$f":"E99","v":0},{"$f":"G99","v":0},{"$f":"J99","v":0},{"$f":"K99","v":0}]
["      Materials"]
["      Transfers"]
["  Closing balance - Work-in-progress",null,{"$f":"SUM(C96:C98)","v":0},{"$f":"SUM(D96:D98)","v":0},0,0,0,0,0,0,0,0]
[]
["Housing Stock"]
["  Opening Balance",null,null,{"$f":"C106","v":0},{"$f":"D106","v":0},{"$f":"E106","v":0},{"$f":"E106","v":0},{"$f":"E106","v":0},{"$f":"E106","v":0},{"$f":"G106","v":0},{"$f":"J106","v":0},{"$f":"K106","v":0}]
["      Acquisitions"]
["      Transfers"]
["      Sales"]
["  Closing Balance - Housing Stock",null,{"$f":"+SUM(C102:C105)","v":0},{"$f":"+SUM(D102:D105)","v":0},0,0,0,0,0,0,0,0]
[]
["Land"]
["  Opening Balance",null,null,{"$f":"C114","v":0},{"$f":"D114","v":0},{"$f":"E114","v":0},{"$f":"E114","v":0},{"$f":"E114","v":0},{"$f":"E114","v":0},{"$f":"G114","v":0},{"$f":"J114","v":0},{"$f":"K114","v":0}]
["      Acquisitions"]
["      Sales"]
["      Adjustments"]
["     Correction of  Prior period errors"]
["  Closing Balance - Land",null,{"$f":"SUM(C109:C113)","v":0},{"$f":"SUM(D109:D113)","v":0},0,0,0,0,0,0,0,0]
["Closing Balance - Inventory & Consumables",null,{"$f":"C53+C61+C70+C77+C85+C93+C99+C106+C114","v":0},{"$f":"D53+D61+D70+D77+D85+D93+D99+D106+D114","v":0},0,0,0,0,0,0,0,0]
[]
[{"$f":"'A6-FinPos'!A19&\" (PPE)\"","v":"Property, plant and equipment (PPE)"}]
["PPE at cost/valuation (excl. finance leases)",null,2764390228.5300002,103482439,3003706348.71,2827964194,2856484147,2856484147,2856484147,4589697106,5211326260,5530971095]
["Leases recognised as PPE",3,1,1353290811,0,0,0,0,0,40363187,42784978,45352076]
["Less: Accumulated depreciation",null,1278076708.5,0,1516932976.0999999,1061003264,1061003292,1061003292,1061003292,2017693719,2138405081,2266376185]
[{"$f":"\"Total \"&A117","v":"Total Property, plant and equipment (PPE)"},2,{"$f":"SUM(C118:C119)-C120","v":1486313521.0300002},{"$f":"SUM(D118:D119)-D120","v":1456773250},1486773372.6100001,1766960930,1795480855,1795480855,1795480855,2612366574,3115706157,3309946986]
[]
["LIABILITIES"]
[{"$f":"'A6-FinPos'!A28&\" - \"&'A6-FinPos'!A30","v":"Current liabilities - Borrowing"}]
["Short term loans (other than bank overdraft)",null,32037445,28445772,0,0,0,0,0,0,0,0]
["Current portion of long-term liabilities",null,-21312438,-5635121,9851649,12994722,12994752,12994752,12994752,1714477,1420718,-1673277]
[{"$f":"\"Total \"&A124","v":"Total Current liabilities - Borrowing"},null,{"$f":"SUM(C125:C126)","v":10725007},{"$f":"SUM(D125:D126)","v":22810651},9851649,12994722,12994752,12994752,12994752,1714477,1420718,-1673277]
[]
[{"$f":"'A6-FinPos'!A32","v":"Trade and other payables"}]
["Trade Payables",5,244652187,273398875,247373363.71000001,232200867,249299425,249299425,249299425,20290565,37066700,-261897734]
[" Other creditors",null,0,6774,0,3121218,0,0,0,16020000,0,-2]
["Unspent conditional transfers",null,3900000,5076496,5455826.2000000002,0,0,0,0,0,0,3]
["VAT",null,445724,948670,43987929.07,41982845,41982852,41982852,41982852,41982845,43746124,45670954]
[{"$f":"\"Total \"&A129","v":"Total Trade and other payables"},2,{"$f":"SUM(C130:C133)","v":248997911},279430815,296817118.98000002,277304930,291282277,291282277,291282277,78293410,80812824,{"$f":"SUM(L130:L133)","v":-216226779}]
[]
[{"$f":"'A6-FinPos'!A36&\" - \"&'A6-FinPos'!A37","v":"Non current liabilities - Borrowing"}]
["Borrowing",4,93059239,114196650,127366462,139715830,139715868,139715868,139715868,146759262,152923152,159651776]
["Finance leases (including PPP asset element)",null,0,0,0,5761336,5761344,5761344,5761344,0,0,0]
[{"$f":"\"Total \"&A136","v":"Total Non current liabilities - Borrowing"},null,{"$f":"SUM(C137:C138)","v":93059239},{"$f":"SUM(D137:D138)","v":114196650},127366462,145477166,145477212,145477212,145477212,146759262,152923152,159651776]
[]
[{"$f":"'A6-FinPos'!A38&\" - non-current\"","v":"Provisions - non-current"}]
["Retirement benefits",null,0,0,0,80444568,80444568,80444568,80444568,80444568,77065896,80135023]
[]
["Refuse landfill site rehabilitation",null,0,0,0,6157897,6157908,6157908,6157908,0,0,3]
["Other",null,88448042,82278269,76769088.019999996,0,0,0,0,6156535,6415109,6697378]
[{"$f":"\"Total \"&A141","v":"Total Provisions - non-current"},null,{"$f":"+C142+C144+C145","v":88448042},82278269,76769088.019999996,86602465,86602476,86602476,{"$f":"+I142+I144+I145","v":86602476},{"$f":"+J142+J144+J145","v":86601103},83481005,86832404]
[]
["CHANGES IN NET ASSETS"]
[{"$f":"'A6-FinPos'!A45","v":"Accumulated Surplus/(Deficit)"}]
[{"$f":"A149&\" - opening balance\"","v":"Accumulated Surplus/(Deficit) - opening balance"},null,1757963348,1680583708.8399999,1617811491,1773553484,1711689855,1711689855,1711689855,2866610030,3379822367,3897775046]
["GRAP adjustments",null,0,0,0,0,0,0,0,0,0,0]
["Restated balance",null,{"$f":"SUM(C150:C151)","v":1757963348},{"$f":"SUM(D150:D151)","v":1680583708.8399999},{"$f":"SUM(E150:E151)","v":1617811491},{"$f":"SUM(F150:F151)","v":1773553484},1711689855,1711689855,1711689855,2866610030,3379822367,3897775046]
[{"$f":"'A4-FinPerf RE'!A37","v":"Surplus/(Deficit)"},null,{"$f":"'A4-FinPerf RE'!C45","v":-88291166.910000205},{"$f":"'A4-FinPerf RE'!D45","v":-62772318.99999994},{"$f":"'A4-FinPerf RE'!E45","v":212604512.18999994},{"$f":"'A4-FinPerf RE'!F45","v":118290191},{"$f":"'A4-FinPerf RE'!G45","v":186696315},{"$f":"'A4-FinPerf RE'!H45","v":186696315},{"$f":"'A4-FinPerf RE'!I45","v":192096315},{"$f":"'A4-FinPerf RE'!J45","v":226523073},{"$f":"'A4-FinPerf RE'!K45","v":244915604},{"$f":"'A4-FinPerf RE'!L45","v":237865007}]
[null,null,0,0,0,0,0,0,0,0,0,0]
["Transfers to/from Reserves",null,0,0,0,0,0,0,0,0,0,0]
["Depreciation offsets",null,0,0,0,0,0,0,0,0,0,0]
["Other adjustments",null,0,0,0,0,0,0,0,0,0,1]
["Accumulated Surplus/(Deficit)",1,{"$f":"SUM(C152:C157)","v":1669672181.0899997},{"$f":"SUM(D152:D157)","v":1617811389.8399999},{"$f":"SUM(E152:E157)","v":1830416003.1900001},1891843675,1898386170,1898386170,1903786170,3093133103,3624737971,4135640054]
["Reserves"]
["Housing Development Fund",null,0,0,0,0,0,0,0,0,0,0]
["Capital replacement",null,0,0,0,0,0,0,0,0,0,0]
["Self-insurance",null,0,0,0,0,0,0,0,0,0,0]
["Other reserves",null,0,0,0,0,0,0,0,0,0,0]
["Revaluation",null,0,0,0,0,0,0,0,0,0,0]
["Total Reserves",2,{"$f":"SUM(C160:C164)","v":0},0,0,0,0,0,0,0,0,0]
[{"$f":"'A6-FinPos'!A48","v":"TOTAL COMMUNITY WEALTH/EQUITY"},2,{"$f":"C158+C165","v":1669672181.0899997},1617811389.8399999,1830416003.1900001,1891843675,1898386170,1898386170,1903786170,3093133103,3624737971,4135640054]
[]
[]
[]
[]
[]
[{"$f":"head27a","v":"References"}]
[{"$f":"\"1. Must reconcile with \"&'Template names'!F103","v":"1. Must reconcile with Table A4 Budgeted Financial Performance (revenue and expenditure)"}]
[{"$f":"\"2. Must reconcile with \"&'Template names'!F105","v":"2. Must reconcile with Table A6 Budgeted Financial Position"}]
["3. Leases treated as assets to be depreciated as the same as purchased/constructed assets.  Includes PPP asset element accounted for as finance leases"]
["4. Borrowing must reconcile to Table A17"]
["5. Trade Payable should only include Trade Payables from Exchance Transactions (\"True Creditors\")"]
["6. Inventory Consumed - Water - included under \"Inventory Consumed\" on Table A4 - Detail to be submitted on Table SA1"]
["7. Inventry Consumed Other - included under \"Inventory Consumed\" on Table A4 - Detail to be submitted on Table SA1"]
["8. Inventory Transfers/Adjustments (Include under gains/losses on Table A4)"]
["9. Inventory Write-offs (Include under losses on Table A4)"]
[]
["check",null,{"$f":"C166-'A6-FinPos'!C48","v":0},{"$f":"D166-'A6-FinPos'!D48","v":0},{"$f":"E166-'A6-FinPos'!E48","v":0},{"$f":"F166-'A6-FinPos'!F48","v":0},{"$f":"G166-'A6-FinPos'!G48","v":0},{"$f":"H166-'A6-FinPos'!H48","v":0},{"$f":"I166-'A6-FinPos'!I48","v":1903786170},{"$f":"J166-'A6-FinPos'!J48","v":0},{"$f":"K166-'A6-FinPos'!K48","v":0},{"$f":"L166-'A6-FinPos'!L48","v":0}]
[null,null,{"$f":"TREND(D184:H184)","v":0},{"$f":"TREND(E184:H184)","v":0},{"$f":"E169","v":0},{"$f":"H169","v":0},{"$f":"J169","v":0},{"$f":"K169","v":0},{"$f":"L169","v":0}]

{"sheet":"SA4","index":23,"n_rows":26,"n_cols":13,"rows_kept":26,"cut":false,"hidden":false,"merged":[[1,7,1,9],[1,10,1,12],[1,3,2,3]]}
[{"$f":"muni&\" - \"&TableA4","v":"Choose name from list - Supporting Table SA4 Reconciliation of IDP strategic objectives and budget (revenue)"}]
["Strategic Objective","Goal","Goal\nCode",{"$f":"head27","v":"Ref"},{"$f":"head1b","v":"2017/18"},{"$f":"head1A","v":"2018/19"},{"$f":"Head1","v":"2019/20"},{"$f":"Head2","v":"Current Year 2020/21"},null,null,{"$f":"Head3","v":"2021/22 Medium Term Revenue & Expenditure Framework"}]
["R thousand",null,null,null,{"$f":"Head5","v":"Audited Outcome"},{"$f":"Head5","v":"Audited Outcome"},{"$f":"Head5","v":"Audited Outcome"},{"$f":"Head6","v":"Original Budget"},{"$f":"Head7","v":"Adjusted Budget"},{"$f":"Head8","v":"Full Year Forecast"},{"$f":"Head9","v":"Budget Year 2021/22"},{"$f":"Head10","v":"Budget Year +1 2022/23"},{"$f":"Head11","v":"Budget Year +2 2023/24"}]
[" Enhanced sustainable environmental management and social development  ","Environmental Management ",null,null,0,0,0,0,0,0,0,0,1]
["Effective and Efficient Administration  ","Human Resource Management  ",null,null,0,0,0,1200000,1200000,1200000,0,0,1]
["Enhanced sustainable environmental management and social development  ","Free Basic Service Provision",null,null,0,0,0,-40400000,-40400000,-40400000,-41200000,-42930400,-44819341]
["Enhanced sustainable environmental management and social development  ","Solid Waste management services",null,null,0,0,0,0,0,0,0,0,-1]
["Increase Financial viability  ","Budget Management  ",null,null,0,0,0,0,0,0,0,0,19]
["Increase Financial viability  ","Expenditure Management  ",null,null,0,0,0,12500000,12500000,12500000,12500000,13025000,13598117]
["Increase Financial viability  ","Financial Reporting  ",null,null,0,0,0,1500000,1500000,1500000,1500000,1563000,1631773]
["Increase Financial viability","Revenue Management",null,null,0,0,0,1430844232,1492616365,1492616365,1575894712,1630553196,1707571375]
["Increased Investment in the GTM Economy","Tourism Development",null,null,0,0,0,0,0,0,1,2,2]
["Optimize and sustain infrastructure investment and services ","Facility Management",null,null,0,0,0,1000,1000,1000,0,0,0]
["Optimize and sustain infrastructure investment and services ","Maintenance  Office  Equipment",null,null,0,0,0,0,0,0,1000,1042,1088]
["Optimize and sustain infrastructure investment and services  ","Water Services  ",null,null,0,0,0,0,1,1,1,2,2]
[]
[]
[]
[]
[]
["Allocations to other priorities",null,null,2]
[{"$f":"'A4-FinPerf RE'!A21","v":"Total Revenue (excluding capital transfers and contributions)"},null,null,1,{"$f":"SUM(E4:E21)","v":0},0,0,1405645232,1467417366,1467417366,1548695714,1602211842,1677983036]
[{"$f":"head27a","v":"References"}]
[{"$f":"\"1. Total revenue must reconcile to \"&'Template names'!F103","v":"1. Total revenue must reconcile to Table A4 Budgeted Financial Performance (revenue and expenditure)"}]
["2. Balance of allocations not directly linked to an IDP strategic objective"]
["check op revenue balance",null,null,null,{"$f":"E22-'A4-FinPerf RE'!C59","v":-1136719603.8699999},{"$f":"F22-'A4-FinPerf RE'!D59","v":-1136215479.5999999},{"$f":"G22-'A4-FinPerf RE'!E59","v":-1318956889.47},{"$f":"H22-'A4-FinPerf RE'!F59","v":0},{"$f":"I22-'A4-FinPerf RE'!G59","v":1},{"$f":"J22-'A4-FinPerf RE'!H59","v":1},{"$f":"K22-'A4-FinPerf RE'!J59","v":0},{"$f":"L22-'A4-FinPerf RE'!K59","v":0},{"$f":"M22-'A4-FinPerf RE'!L59","v":0}]

{"sheet":"SA5","index":24,"n_rows":49,"n_cols":13,"rows_kept":49,"cut":false,"hidden":false,"merged":[[1,7,1,9],[1,10,1,12],[1,3,2,3]]}
[{"$f":"muni&\" - \"&TableA5","v":"Choose name from list - Supporting Table SA5 Reconciliation of IDP strategic objectives and budget (operating expenditure)"}]
["Strategic Objective","Goal","Goal\nCode",{"$f":"head27","v":"Ref"},{"$f":"head1b","v":"2017/18"},{"$f":"head1A","v":"2018/19"},{"$f":"Head1","v":"2019/20"},{"$f":"Head2","v":"Current Year 2020/21"},null,null,{"$f":"Head3","v":"2021/22 Medium Term Revenue & Expenditure Framework"}]
["R thousand",null,null,null,{"$f":"Head5","v":"Audited Outcome"},{"$f":"Head5","v":"Audited Outcome"},{"$f":"Head5","v":"Audited Outcome"},{"$f":"Head6","v":"Original Budget"},{"$f":"Head7","v":"Adjusted Budget"},{"$f":"Head8","v":"Full Year Forecast"},{"$f":"Head9","v":"Budget Year 2021/22"},{"$f":"Head10","v":"Budget Year +1 2022/23"},{"$f":"Head11","v":"Budget Year +2 2023/24"}]
[" Enhanced sustainable environmental management and social development  ","Disaster Management  ",null,null,0,0,0,1870000,2612000,2612000,1870000,1948540,2034277]
[" Enhanced sustainable environmental management and social development  ","Environmental Management ",null,null,0,0,0,359860,329860,329860,359860,374978,391479]
["Develop and build a skilled knowledgeable workforce  ","Capacity building  ",null,null,0,0,0,5075494,5075494,5075494,5075494,5204666,5345673]
["Effective and Efficient Administration  ","Council Support",null,null,0,0,0,2717399,3717399,3717399,4025709,4194793,4379369]
["Effective and Efficient Administration  ","Human Resource Management  ",null,null,0,0,0,3453125,4392022,4392022,1653125,1722557,1798350]
["Effective and Efficient Administration  ","Information Technology",null,null,0,0,0,3111000,3265000,3265000,3611000,3762662,3928220]
["Effective and Efficient Administration  ","Performance Monitoring and reporting Reporting  ",null,null,0,0,0,300000,300000,300000,300000,312600,326356]
["Effective and Efficient Administration  ","Risk Management  ",null,null,0,0,0,0,23268,23268,73269,76347,79706]
["Enhanced sustainable environmental management and social development  ","Free Basic Service Provision",null,null,0,0,0,4000000,4000000,4000000,4000000,4168000,4351392]
["Enhanced sustainable environmental management and social development  ","Maintenance Machinery and Equipment ",null,null,0,0,0,0,0,0,1500000,1563000,1631772]
["Enhanced sustainable environmental management and social development  ","Safety and Security  ",null,null,0,0,0,18000000,17910000,17910000,20000000,20840000,21756961]
["Enhanced sustainable environmental management and social development  ","Solid Waste management services",null,null,0,0,0,31829782,31829782,31829782,31829782,33166634,34625966]
["Enhanced sustainable environmental management and social development  ","Sports, Arts and Culture",null,null,0,0,0,1021000,1021000,1021000,1071000,1115982,1165089]
["Enhanced sustainable environmental management and social development  ","Waste Water Management Services",null,null,0,0,0,1500000,1500000,1500000,0,0,0]
["Enhanced sustainable environmental management and social development   ","Youth, Gender & Disability Support   ",null,null,0,0,0,937000,983000,983000,937000,976354,1019314]
["Improve access to sustainable and affordable basic services","Library Services  ",null,null,0,0,0,13000,13000,13000,13000,13546,14144]
["Improve access to sustainable and affordable basic services  ","Traffic Law Enforcement",null,null,0,0,0,1440673,640673,640673,440673,459183,479386]
["Improved Stakeholders satisfaction  ","Public participation  ",null,null,0,0,0,47000,47000,47000,1547000,1611974,1682901]
["Increase Financial viability  ","Asset Management  ",null,null,0,0,0,0,0,0,0,0,9]
["Increase Financial viability  ","Budget Management  ",null,null,0,0,0,51805852,50268750,50268750,49413402,51488779,53754293]
["Increase Financial viability  ","Debt Management  ",null,null,0,0,0,83058929,83058934,83058934,51825849,54002536,56378654]
["Increase Financial viability  ","Expenditure Management  ",null,null,0,0,0,861118538,839657769,839657769,903606167,945787099,1009678344]
["Increase Financial viability  ","Financial Reporting  ",null,null,0,0,0,1808800,1826269,1826269,1823800,1900438,1984066]
["Increase Financial viability","Marketing",null,null,0,0,0,100000,100000,100000,100000,104200,108785]
["Increase Financial viability","Revenue Management",null,null,0,0,0,10200000,10200000,10200000,17200000,17922400,18710988]
["Increased Investment in the GTM Economy  ","Job Creation",null,null,0,0,0,8034000,8144000,8144000,9363000,937800,979066]
["Increased Investment in the GTM Economy","Tourism Development",null,null,0,0,0,4903221,9931106,9931106,9931106,10348213,10803535]
["Integrated Developmental Planning","Spatial Planning  ",null,null,0,0,0,889150,386150,386150,889150,926495,967261]
["Optimise and sustain infrastructure investment and services","New Electricity Connections",null,null,0,0,0,15030000,10030000,10030000,16050000,31260,32653]
["Optimize and sustain infrastructure investment and services  ","Electricity infrastructure maintenance  ",null,null,0,0,0,16466063,29770877,29770877,25708063,26787803,27966473]
["Optimize and sustain infrastructure investment and services ","Facility Management",null,null,0,0,0,9021214,9729129,9729129,0,0,0]
["Optimize and sustain infrastructure investment and services  ","Fleet Management  ",null,null,0,0,0,132848142,132650669,132650669,59494918,61539240,63587626]
["Optimize and sustain infrastructure investment and services ","Maintenance  Office  Equipment",null,null,0,0,0,0,0,0,10021940,10442895,10902418]
["Optimize and sustain infrastructure investment and services  ","Maintenance Machinery and Equipment  ",null,null,0,0,0,218098,288098,288098,2442157,2451325,2461329]
["Optimize and sustain infrastructure investment and services  ","Maintenance of Municipal Buildings",null,null,0,0,0,0,0,0,32727,32727,32727]
["Optimize and sustain infrastructure investment and services  ","Maintenance of Parks and open spaces",null,null,0,0,0,1302341,2192341,2192341,1902341,1982240,2069459]
["Optimize and sustain infrastructure investment and services  ","Maintenance Office Equipment  ",null,null,0,0,0,479237,596337,596337,499410,519563,541546]
["Optimize and sustain infrastructure investment and services  ","Maintenance Traffic Signs  ",null,null,0,0,0,93000,93000,93000,93000,96906,101170]
["Optimize and sustain infrastructure investment and services  ","Public Lighting  ",null,null,0,0,0,257123,387123,387123,257123,267923,279711]
["Optimize and sustain infrastructure investment and services  ","Road Maintenance  ",null,null,0,0,0,14046000,13751000,13751000,83211576,88214580,93767560]
["Allocations to other priorities"]
[{"$f":"'A4-FinPerf RE'!A35","v":"Total Expenditure"},null,null,1,{"$f":"SUM(E4:E44)","v":0},0,0,1287355041,1280721050,1280721050,1322172641,1357296238,1440118028]
[{"$f":"head27a","v":"References"}]
[{"$f":"\"1. Total expenditure must reconcile to \"&'Template names'!F103","v":"1. Total expenditure must reconcile to Table A4 Budgeted Financial Performance (revenue and expenditure)"}]
["2. Balance of allocations not directly linked to an IDP strategic objective"]
["check op expenditure balance",null,null,null,{"$f":"E45-'A4-FinPerf RE'!C35","v":-1225010770.7800002},{"$f":"F45-'A4-FinPerf RE'!D35","v":-1198987798.5999999},{"$f":"G45-'A4-FinPerf RE'!E35","v":-1106352377.2800002},{"$f":"H45-'A4-FinPerf RE'!F35","v":0},{"$f":"I45-'A4-FinPerf RE'!G35","v":0},{"$f":"J45-'A4-FinPerf RE'!H35","v":0},{"$f":"K45-'A4-FinPerf RE'!J35","v":0},{"$f":"L45-'A4-FinPerf RE'!K35","v":0},{"$f":"M45-'A4-FinPerf RE'!L35","v":-1}]

{"sheet":"SA6","index":25,"n_rows":30,"n_cols":13,"rows_kept":30,"cut":false,"hidden":false,"merged":[[1,7,1,9],[1,10,1,12],[1,3,2,3]]}
[{"$f":"muni&\" - \"&TableA6","v":"Choose name from list - Supporting Table SA6 Reconciliation of IDP strategic objectives and budget (capital expenditure)"}]
["Strategic Objective","Goal","Goal Code",{"$f":"head27","v":"Ref"},{"$f":"head1b","v":"2017/18"},{"$f":"head1A","v":"2018/19"},{"$f":"Head1","v":"2019/20"},{"$f":"Head2","v":"Current Year 2020/21"},null,null,{"$f":"Head3","v":"2021/22 Medium Term Revenue & Expenditure Framework"}]
["R thousand",null,null,null,{"$f":"Head5","v":"Audited Outcome"},{"$f":"Head5","v":"Audited Outcome"},{"$f":"Head5","v":"Audited Outcome"},{"$f":"Head6","v":"Original Budget"},{"$f":"Head7","v":"Adjusted Budget"},{"$f":"Head8","v":"Full Year Forecast"},{"$f":"Head9","v":"Budget Year 2021/22"},{"$f":"Head10","v":"Budget Year +1 2022/23"},{"$f":"Head11","v":"Budget Year +2 2023/24"}]
[" Enhanced sustainable environmental management and social development  ","Environmental Management ",null,null,0,0,0,0,0,0,0,0,1]
["Create a stable and enabling environment by attracting suitable investors ","Building Control ",null,null,0,0,0,4442887,7902617,7902617,0,0,0]
["Effective and Efficient Administration  ","Information Technology",null,null,0,0,0,0,400000,400000,0,0,2]
["Enhanced sustainable environmental management and social development  ","Maintenance Machinery and Equipment ",null,null,0,0,0,0,0,0,0,0,3]
["Enhanced sustainable environmental management and social development  ","Safety and Security  ",null,null,0,0,0,0,476056,476056,0,0,2]
["Enhanced sustainable environmental management and social development  ","Sports, Arts and Culture",null,null,0,0,0,0,0,0,0,0,2]
["Enhanced sustainable environmental management and social development  ","Waste Water Management Services",null,null,0,0,0,0,0,0,0,0,0]
["Improve access to sustainable and affordable basic services  ","Upgrading of road network  ",null,null,0,0,0,80085977,93137246,93137246,122273950,156103800,147290179]
["Increase Financial viability  ","Asset Management  ",null,null,0,0,0,235000,235000,235000,0,0,1]
["Increase Financial viability  ","Expenditure Management  ",null,null,0,0,0,1150000,1150000,1150000,0,0,3]
["Optimise and sustain infrastructure investment and services","New Electricity Connections",null,null,0,0,0,8000000,8000010,8000010,0,0,3]
["Optimize and sustain infrastructure investment and services  ","Cemetery Management  ",null,null,0,0,0,1150000,1150000,1150000,0,0,2]
["Optimize and sustain infrastructure investment and services  ","Electricity infrastructure maintenance  ",null,null,0,0,0,3680000,5801903,5801903,0,0,7]
["Optimize and sustain infrastructure investment and services  ","Electricity Network Upgrade & Refurbishment  ",null,null,0,0,0,19550000,28995638,28995638,0,0,46]
["Optimize and sustain infrastructure investment and services  ","Fleet Management  ",null,null,0,0,0,5000000,5000000,5000000,0,0,1]
["Optimize and sustain infrastructure investment and services  ","Maintenance Machinery and Equipment  ",null,null,0,0,0,500000,1000000,1000000,0,0,2]
["Optimize and sustain infrastructure investment and services  ","Maintenance of Municipal Buildings",null,null,0,0,0,0,2000000,2000000,5783500,0,25385002]
["Optimize and sustain infrastructure investment and services","New Machinery and Equipment",null,null,0,0,0,1150000,1650000,1650000,2800000,4000000,4000009]
["Optimize and sustain infrastructure investment and services  ","Public Lighting  ",null,null,0,0,0,0,969292,969292,0,0,11]
["Optimize and sustain infrastructure investment and services","Road Maintenance",null,null,0,0,0,6029170,3625181,3625181,0,0,6]
["Allocations to other priorities",null,null,3]
["Total Capital Expenditure",null,null,1,{"$f":"SUM(E4:E24)","v":0},0,0,130973034,161492943,161492943,130857450,160103800,176675282]
[{"$f":"head27a","v":"References"}]
["1. Total capital expenditure must reconcile to Budgeted Capital Expenditure"]
["2. Goal code must be used on Table SA36"]
["3. Balance of allocations not directly linked to an IDP strategic objective"]
["check capital balance",null,null,null,{"$f":"E25-'A5-Capex'!C40","v":-126531358},{"$f":"F25-'A5-Capex'!D40","v":-103482439},{"$f":"G25-'A5-Capex'!E40","v":-190258111.34},{"$f":"H25-'A5-Capex'!F40","v":0},{"$f":"I25-'A5-Capex'!G40","v":0},{"$f":"J25-'A5-Capex'!H40","v":0},{"$f":"K25-'A5-Capex'!J40","v":0},{"$f":"L25-'A5-Capex'!K40","v":0},{"$f":"M25-'A5-Capex'!L40","v":0}]

{"sheet":"SA7","index":26,"n_rows":89,"n_cols":11,"rows_kept":89,"cut":false,"hidden":false,"merged":[[1,1,2,1],[1,0,2,0],[1,5,1,7],[1,8,1,10],[87,0,87,10],[67,0,67,10],[72,0,73,0],[72,1,73,1],[72,5,72,7],[72,8,72,10]]}
[{"$f":"muni&\" - \"&TableA7","v":"Choose name from list - Supporting Table SA7 Measureable performance objectives"}]
["Description","Unit of measurement",{"$f":"head1b","v":"2017/18"},{"$f":"head1A","v":"2018/19"},{"$f":"Head1","v":"2019/20"},{"$f":"Head2","v":"Current Year 2020/21"},null,null,{"$f":"Head3","v":"2021/22 Medium Term Revenue & Expenditure Framework"}]
[null,null,{"$f":"Head5","v":"Audited Outcome"},{"$f":"Head5","v":"Audited Outcome"},{"$f":"Head5","v":"Audited Outcome"},{"$f":"Head6","v":"Original Budget"},{"$f":"Head7","v":"Adjusted Budget"},{"$f":"Head8","v":"Full Year Forecast"},{"$f":"Head9","v":"Budget Year 2021/22"},{"$f":"Head10","v":"Budget Year +1 2022/23"},{"$f":"Head11","v":"Budget Year +2 2023/24"}]
["Vote 1 - vote name"]
["Function 1 - (name)"]
["Sub-function 1 - (name)"]
["Insert measure/s description"]
[]
["Sub-function 2 - (name)"]
["Insert measure/s description"]
[]
["Sub-function 3 - (name)"]
["Insert measure/s description"]
[]
["Function 2 - (name)"]
["Sub-function 1 - (name)"]
["Insert measure/s description"]
[]
["Sub-function 2 - (name)"]
["Insert measure/s description"]
[]
["Sub-function 3 - (name)"]
["Insert measure/s description"]
[]
["Vote 2 - vote name"]
["Function 1 - (name)"]
["Sub-function 1 - (name)"]
["Insert measure/s description"]
[]
["Sub-function 2 - (name)"]
["Insert measure/s description"]
[]
["Sub-function 3 - (name)"]
["Insert measure/s description"]
[]
["Function 2 - (name)"]
["Sub-function 1 - (name)"]
["Insert measure/s description"]
[]
["Sub-function 2 - (name)"]
["Insert measure/s description"]
[]
["Sub-function 3 - (name)"]
["Insert measure/s description"]
[]
["Vote 3 - vote name"]
["Function 1 - (name)"]
["Sub-function 1 - (name)"]
["Insert measure/s description"]
[]
["Sub-function 2 - (name)"]
["Insert measure/s description"]
[]
["Sub-function 3 - (name)"]
["Insert measure/s description"]
[]
["Function 2 - (name)"]
["Sub-function 1 - (name)"]
["Insert measure/s description"]
[]
["Sub-function 2 - (name)"]
["Insert measure/s description"]
[]
["Sub-function 3 - (name)"]
["Insert measure/s description"]
[]
["And so on for the rest of the Votes"]
["1. Include a measurable performance objective for each revenue source (within a relevant function) and each vote (MFMA s17(3)(b))"]
["2. Include all Basic Services performance targets from 'Basic Service Delivery' to ensure Table SA7 represents all strategic responsibilities"]
["3. Only include prior year comparative information for individual measures where relevant activity occurred in that year/s"]
[]
[{"$f":"muni&\" - \"&\"Entities measureable performance objectives\"","v":"Choose name from list - Entities measureable performance objectives"}]
[{"$f":"A2","v":"Description"},"Unit of measurement",{"$f":"head1b","v":"2017/18"},{"$f":"head1A","v":"2018/19"},{"$f":"Head1","v":"2019/20"},{"$f":"Head2","v":"Current Year 2020/21"},null,null,{"$f":"Head3","v":"2021/22 Medium Term Revenue & Expenditure Framework"}]
[null,null,{"$f":"Head5","v":"Audited Outcome"},{"$f":"Head5","v":"Audited Outcome"},{"$f":"Head5","v":"Audited Outcome"},{"$f":"Head6","v":"Original Budget"},{"$f":"Head7","v":"Adjusted Budget"},{"$f":"Head8","v":"Full Year Forecast"},{"$f":"Head9","v":"Budget Year 2021/22"},{"$f":"Head10","v":"Budget Year +1 2022/23"},{"$f":"Head11","v":"Budget Year +2 2023/24"}]
["Entity 1 - (name of entity)"]
["Insert measure/s description"]
[]
[]
["Entity 2 - (name of entity)"]
[{"$f":"$A$10","v":"Insert measure/s description"}]
[]
[]
["Entity 3 - (name of entity)"]
[{"$f":"$A$10","v":"Insert measure/s description"}]
[]
[]
["And so on for the rest of the Entities"]
["1. Include a measurable performance objective as agreed with the parent municipality (MFMA s87(5)(d))"]
["2. Only include prior year comparative information for individual measures where relevant activity occurred in that year/s"]

{"sheet":"SA8","index":27,"n_rows":49,"n_cols":12,"rows_kept":49,"cut":false,"hidden":false,"merged":[[28,0,30,0],[1,0,2,0],[1,9,1,11],[1,1,2,1],[1,5,1,8],[25,0,27,0]]}
[{"$f":"muni&\" - \"&TableA8","v":"Choose name from list - Supporting Table SA8 Performance indicators and benchmarks"}]
["Description of financial indicator","Basis of calculation",{"$f":"head1b","v":"2017/18"},{"$f":"head1A","v":"2018/19"},{"$f":"Head1","v":"2019/20"},{"$f":"Head2","v":"Current Year 2020/21"},null,null,null,{"$f":"Head3","v":"2021/22 Medium Term Revenue & Expenditure Framework"}]
[null,null,{"$f":"Head5","v":"Audited Outcome"},{"$f":"Head5","v":"Audited Outcome"},{"$f":"Head5","v":"Audited Outcome"},{"$f":"Head6","v":"Original Budget"},{"$f":"Head7","v":"Adjusted Budget"},{"$f":"Head8","v":"Full Year Forecast"},{"$f":"Head5b","v":"Pre-audit outcome"},{"$f":"Head9","v":"Budget Year 2021/22"},{"$f":"Head10","v":"Budget Year +1 2022/23"},{"$f":"Head11","v":"Budget Year +2 2023/24"}]
["Borrowing Management"]
[]
["Credit Rating"]
["Capital Charges to Operating Expenditure","Interest & Principal Paid /Operating Expenditure",{"$f":"IF(ISERROR(('A4-FinPerf RE'!C28-'A7-CFlow'!C35)/'A4-FinPerf RE'!C35),0,(('A4-FinPerf RE'!C28-'A7-CFlow'!C35)/'A4-FinPerf RE'!C35))","v":2.7172584914339468E-2},{"$f":"IF(ISERROR(('A4-FinPerf RE'!D28-'A7-CFlow'!D35)/'A4-FinPerf RE'!D35),0,(('A4-FinPerf RE'!D28-'A7-CFlow'!D35)/'A4-FinPerf RE'!D35))","v":1.4686455542384201E-2},{"$f":"IF(ISERROR(('A4-FinPerf RE'!E28-'A7-CFlow'!E35)/'A4-FinPerf RE'!E35),0,(('A4-FinPerf RE'!E28-'A7-CFlow'!E35)/'A4-FinPerf RE'!E35))","v":3.1746650308964744E-2},{"$f":"IF(ISERROR(('A4-FinPerf RE'!F28-'A7-CFlow'!F35)/'A4-FinPerf RE'!F35),0,(('A4-FinPerf RE'!F28-'A7-CFlow'!F35)/'A4-FinPerf RE'!F35))","v":1.2469639290440314E-2},{"$f":"IF(ISERROR(('A4-FinPerf RE'!G28-'A7-CFlow'!G35)/'A4-FinPerf RE'!G35),0,(('A4-FinPerf RE'!G28-'A7-CFlow'!G35)/'A4-FinPerf RE'!G35))","v":1.3315043115751084E-2},{"$f":"IF(ISERROR(('A4-FinPerf RE'!H28-'A7-CFlow'!H35)/'A4-FinPerf RE'!H35),0,(('A4-FinPerf RE'!H28-'A7-CFlow'!H35)/'A4-FinPerf RE'!H35))","v":1.3315043115751084E-2},{"$f":"IF(ISERROR(('A4-FinPerf RE'!I28-'A7-CFlow'!I35)/'A4-FinPerf RE'!I35),0,(('A4-FinPerf RE'!I28-'A7-CFlow'!I35)/'A4-FinPerf RE'!I35))","v":1.3315043115751084E-2},{"$f":"IF(ISERROR(('A4-FinPerf RE'!J28-'A7-CFlow'!J35)/'A4-FinPerf RE'!J35),0,(('A4-FinPerf RE'!J28-'A7-CFlow'!J35)/'A4-FinPerf RE'!J35))","v":2.1044686705175893E-2},{"$f":"IF(ISERROR(('A4-FinPerf RE'!K28-'A7-CFlow'!K35)/'A4-FinPerf RE'!K35),0,(('A4-FinPerf RE'!K28-'A7-CFlow'!K35)/'A4-FinPerf RE'!K35))","v":2.1630588944430568E-2},{"$f":"IF(ISERROR(('A4-FinPerf RE'!L28-'A7-CFlow'!L35)/'A4-FinPerf RE'!L35),0,(('A4-FinPerf RE'!L28-'A7-CFlow'!L35)/'A4-FinPerf RE'!L35))","v":2.3475464732203556E-2}]
["Capital Charges to Own Revenue","Finance charges & Repayment of borrowing /Own Revenue",{"$f":"IF(ISERROR(('A4-FinPerf RE'!C28-'A7-CFlow'!C35)/('A4-FinPerf RE'!C21-'A4-FinPerf RE'!C18)),0,(('A4-FinPerf RE'!C28-'A7-CFlow'!C35)/('A4-FinPerf RE'!C21-'A4-FinPerf RE'!C18)))","v":4.8190092740722869E-2},{"$f":"IF(ISERROR(('A4-FinPerf RE'!D28-'A7-CFlow'!D35)/('A4-FinPerf RE'!D21-'A4-FinPerf RE'!D18)),0,(('A4-FinPerf RE'!D28-'A7-CFlow'!D35)/('A4-FinPerf RE'!D21-'A4-FinPerf RE'!D18)))","v":2.5502966186381787E-2},{"$f":"IF(ISERROR(('A4-FinPerf RE'!E28-'A7-CFlow'!E35)/('A4-FinPerf RE'!E21-'A4-FinPerf RE'!E18)),0,(('A4-FinPerf RE'!E28-'A7-CFlow'!E35)/('A4-FinPerf RE'!E21-'A4-FinPerf RE'!E18)))","v":4.3243348495639572E-2},{"$f":"IF(ISERROR(('A4-FinPerf RE'!F28-'A7-CFlow'!F35)/('A4-FinPerf RE'!F21-'A4-FinPerf RE'!F18)),0,(('A4-FinPerf RE'!F28-'A7-CFlow'!F35)/('A4-FinPerf RE'!F21-'A4-FinPerf RE'!F18)))","v":1.8393557705641422E-2},{"$f":"IF(ISERROR(('A4-FinPerf RE'!G28-'A7-CFlow'!G35)/('A4-FinPerf RE'!G21-'A4-FinPerf RE'!G18)),0,(('A4-FinPerf RE'!G28-'A7-CFlow'!G35)/('A4-FinPerf RE'!G21-'A4-FinPerf RE'!G18)))","v":2.0120999222238291E-2},{"$f":"IF(ISERROR(('A4-FinPerf RE'!H28-'A7-CFlow'!H35)/('A4-FinPerf RE'!H21-'A4-FinPerf RE'!H18)),0,(('A4-FinPerf RE'!H28-'A7-CFlow'!H35)/('A4-FinPerf RE'!H21-'A4-FinPerf RE'!H18)))","v":2.0120999222238291E-2},{"$f":"IF(ISERROR(('A4-FinPerf RE'!I28-'A7-CFlow'!I35)/('A4-FinPerf RE'!I21-'A4-FinPerf RE'!I18)),0,(('A4-FinPerf RE'!I28-'A7-CFlow'!I35)/('A4-FinPerf RE'!I21-'A4-FinPerf RE'!I18)))","v":1.9993608627275696E-2},{"$f":"IF(ISERROR(('A4-FinPerf RE'!J28-'A7-CFlow'!J35)/('A4-FinPerf RE'!J21-'A4-FinPerf RE'!J18)),0,(('A4-FinPerf RE'!J28-'A7-CFlow'!J35)/('A4-FinPerf RE'!J21-'A4-FinPerf RE'!J18)))","v":2.9605361542466596E-2},{"$f":"IF(ISERROR(('A4-FinPerf RE'!K28-'A7-CFlow'!K35)/('A4-FinPerf RE'!K21-'A4-FinPerf RE'!K18)),0,(('A4-FinPerf RE'!K28-'A7-CFlow'!K35)/('A4-FinPerf RE'!K21-'A4-FinPerf RE'!K18)))","v":2.8767151109674982E-2},{"$f":"IF(ISERROR(('A4-FinPerf RE'!L28-'A7-CFlow'!L35)/('A4-FinPerf RE'!L21-'A4-FinPerf RE'!L18)),0,(('A4-FinPerf RE'!L28-'A7-CFlow'!L35)/('A4-FinPerf RE'!L21-'A4-FinPerf RE'!L18)))","v":3.0803174564996559E-2}]
["Borrowed funding of 'own' capital expenditure","Borrowing/Capital expenditure excl. transfers and grants and contributions",{"$f":"IF(ISERROR(C49/C48),0,(C49/C48))","v":0},{"$f":"IF(ISERROR(D49/D48),0,(D49/D48))","v":2.3487259042741528},{"$f":"IF(ISERROR(E49/E48),0,(E49/E48))","v":0.22048708599227368},0.7136909718092066,0.46726141464732768,0.46726141464732768,0.46726141464732768,0,0,1.4412318058356369E-8]
["Safety of Capital"]
["Gearing","Long Term Borrowing/ Funds & Reserves",{"$f":"IF(ISERROR(('A6-FinPos'!C37/'A6-FinPos'!C46)),0,(('A6-FinPos'!C37/'A6-FinPos'!C46)))","v":0},{"$f":"IF(ISERROR(('A6-FinPos'!D37/'A6-FinPos'!D46)),0,(('A6-FinPos'!D37/'A6-FinPos'!D46)))","v":0},{"$f":"IF(ISERROR(('A6-FinPos'!E37/'A6-FinPos'!E46)),0,(('A6-FinPos'!E37/'A6-FinPos'!E46)))","v":0},{"$f":"IF(ISERROR(('A6-FinPos'!F37/'A6-FinPos'!F46)),0,(('A6-FinPos'!F37/'A6-FinPos'!F46)))","v":0},{"$f":"IF(ISERROR(('A6-FinPos'!G37/'A6-FinPos'!G46)),0,(('A6-FinPos'!G37/'A6-FinPos'!G46)))","v":0},{"$f":"IF(ISERROR(('A6-FinPos'!H37/'A6-FinPos'!H46)),0,(('A6-FinPos'!H37/'A6-FinPos'!H46)))","v":0},{"$f":"IF(ISERROR(('A6-FinPos'!I37/'A6-FinPos'!I46)),0,(('A6-FinPos'!I37/'A6-FinPos'!I46)))","v":0},{"$f":"IF(ISERROR(('A6-FinPos'!J37/'A6-FinPos'!J46)),0,(('A6-FinPos'!J37/'A6-FinPos'!J46)))","v":0},{"$f":"IF(ISERROR(('A6-FinPos'!K37/'A6-FinPos'!K46)),0,(('A6-FinPos'!K37/'A6-FinPos'!K46)))","v":0},{"$f":"IF(ISERROR(('A6-FinPos'!L37/'A6-FinPos'!L46)),0,(('A6-FinPos'!L37/'A6-FinPos'!L46)))","v":0}]
["Liquidity"]
["Current Ratio","Current assets/current liabilities",{"$f":"IF(ISERROR('A6-FinPos'!C12/'A6-FinPos'!C34),0,('A6-FinPos'!C12/'A6-FinPos'!C34))","v":1.5393324160099793},{"$f":"IF(ISERROR('A6-FinPos'!D12/'A6-FinPos'!D34),0,('A6-FinPos'!D12/'A6-FinPos'!D34))","v":1.4327252449911585},{"$f":"IF(ISERROR('A6-FinPos'!E12/'A6-FinPos'!E34),0,('A6-FinPos'!E12/'A6-FinPos'!E34))","v":2.0271502171197993},{"$f":"IF(ISERROR('A6-FinPos'!F12/'A6-FinPos'!F34),0,('A6-FinPos'!F12/'A6-FinPos'!F34))","v":1.4591191493633802},{"$f":"IF(ISERROR('A6-FinPos'!G12/'A6-FinPos'!G34),0,('A6-FinPos'!G12/'A6-FinPos'!G34))","v":1.367797210654065},{"$f":"IF(ISERROR('A6-FinPos'!H12/'A6-FinPos'!H34),0,('A6-FinPos'!H12/'A6-FinPos'!H34))","v":1.367797210654065},{"$f":"IF(ISERROR('A6-FinPos'!I12/'A6-FinPos'!I34),0,('A6-FinPos'!I12/'A6-FinPos'!I34))","v":1.651086079419807},{"$f":"IF(ISERROR('A6-FinPos'!J12/'A6-FinPos'!J34),0,('A6-FinPos'!J12/'A6-FinPos'!J34))","v":7.146246308571901},{"$f":"IF(ISERROR('A6-FinPos'!K12/'A6-FinPos'!K34),0,('A6-FinPos'!K12/'A6-FinPos'!K34))","v":7.2515782664820758},{"$f":"IF(ISERROR('A6-FinPos'!L12/'A6-FinPos'!L34),0,('A6-FinPos'!L12/'A6-FinPos'!L34))","v":-2.9206649086575491}]
["Current Ratio adjusted for aged debtors","Current assets less debtors > 90 days/current liabilities",{"$f":"IF(ISERROR(('A6-FinPos'!C12-'SA8'!C45)/'A6-FinPos'!C34),0,(('A6-FinPos'!C12-'SA8'!C45)/'A6-FinPos'!C34))","v":1.5393324160099793},{"$f":"IF(ISERROR(('A6-FinPos'!D12-'SA8'!D45)/'A6-FinPos'!D34),0,(('A6-FinPos'!D12-'SA8'!D45)/'A6-FinPos'!D34))","v":1.4327252449911585},{"$f":"IF(ISERROR(('A6-FinPos'!E12-'SA8'!E45)/'A6-FinPos'!E34),0,(('A6-FinPos'!E12-'SA8'!E45)/'A6-FinPos'!E34))","v":2.0271502171197993},{"$f":"IF(ISERROR(('A6-FinPos'!F12-'SA8'!F45)/'A6-FinPos'!F34),0,(('A6-FinPos'!F12-'SA8'!F45)/'A6-FinPos'!F34))","v":1.4591191493633802},{"$f":"IF(ISERROR(('A6-FinPos'!G12-'SA8'!G45)/'A6-FinPos'!G34),0,(('A6-FinPos'!G12-'SA8'!G45)/'A6-FinPos'!G34))","v":1.367797210654065},{"$f":"IF(ISERROR(('A6-FinPos'!H12-'SA8'!H45)/'A6-FinPos'!H34),0,(('A6-FinPos'!H12-'SA8'!H45)/'A6-FinPos'!H34))","v":1.367797210654065},{"$f":"IF(ISERROR(('A6-FinPos'!I12-'SA8'!I45)/'A6-FinPos'!I34),0,(('A6-FinPos'!I12-'SA8'!I45)/'A6-FinPos'!I34))","v":1.651086079419807},{"$f":"IF(ISERROR(('A6-FinPos'!J12-'SA8'!J45)/'A6-FinPos'!J34),0,(('A6-FinPos'!J12-'SA8'!J45)/'A6-FinPos'!J34))","v":7.146246308571901},{"$f":"IF(ISERROR(('A6-FinPos'!K12-'SA8'!K45)/'A6-FinPos'!K34),0,(('A6-FinPos'!K12-'SA8'!K45)/'A6-FinPos'!K34))","v":7.2515782664820758},{"$f":"IF(ISERROR(('A6-FinPos'!L12-'SA8'!L45)/'A6-FinPos'!L34),0,(('A6-FinPos'!L12-'SA8'!L45)/'A6-FinPos'!L34))","v":-2.9206649086575491}]
["Liquidity Ratio","Monetary Assets/Current Liabilities",{"$f":"IF(ISERROR(('A6-FinPos'!C6+'A6-FinPos'!C7)/'A6-FinPos'!C34),0,(('A6-FinPos'!C6+'A6-FinPos'!C7)/'A6-FinPos'!C34))","v":2.6097413343593456E-2},{"$f":"IF(ISERROR(('A6-FinPos'!D6+'A6-FinPos'!D7)/'A6-FinPos'!D34),0,(('A6-FinPos'!D6+'A6-FinPos'!D7)/'A6-FinPos'!D34))","v":0.12727320046730839},{"$f":"IF(ISERROR(('A6-FinPos'!E6+'A6-FinPos'!E7)/'A6-FinPos'!E34),0,(('A6-FinPos'!E6+'A6-FinPos'!E7)/'A6-FinPos'!E34))","v":0.20957662798022966},{"$f":"IF(ISERROR(('A6-FinPos'!F6+'A6-FinPos'!F7)/'A6-FinPos'!F34),0,(('A6-FinPos'!F6+'A6-FinPos'!F7)/'A6-FinPos'!F34))","v":0.13799476600279276},{"$f":"IF(ISERROR(('A6-FinPos'!G6+'A6-FinPos'!G7)/'A6-FinPos'!G34),0,(('A6-FinPos'!G6+'A6-FinPos'!G7)/'A6-FinPos'!G34))","v":0.10215423174400748},{"$f":"IF(ISERROR(('A6-FinPos'!H6+'A6-FinPos'!H7)/'A6-FinPos'!H34),0,(('A6-FinPos'!H6+'A6-FinPos'!H7)/'A6-FinPos'!H34))","v":0.10215423174400748},{"$f":"IF(ISERROR(('A6-FinPos'!I6+'A6-FinPos'!I7)/'A6-FinPos'!I34),0,(('A6-FinPos'!I6+'A6-FinPos'!I7)/'A6-FinPos'!I34))","v":0.12331172243413321},{"$f":"IF(ISERROR(('A6-FinPos'!J6+'A6-FinPos'!J7)/'A6-FinPos'!J34),0,(('A6-FinPos'!J6+'A6-FinPos'!J7)/'A6-FinPos'!J34))","v":0.41375025973476781},{"$f":"IF(ISERROR(('A6-FinPos'!K6+'A6-FinPos'!K7)/'A6-FinPos'!K34),0,(('A6-FinPos'!K6+'A6-FinPos'!K7)/'A6-FinPos'!K34))","v":0.41953608105624662},{"$f":"IF(ISERROR(('A6-FinPos'!L6+'A6-FinPos'!L7)/'A6-FinPos'!L34),0,(('A6-FinPos'!L6+'A6-FinPos'!L7)/'A6-FinPos'!L34))","v":-0.16489985812075009}]
["Revenue Management"]
["Annual Debtors Collection Rate (Payment Level %)","Last 12 Mths Receipts/Last 12 Mths Billing",null,{"$f":"IF(ISERROR(('A7-CFlow'!C6+'A7-CFlow'!C7+'A7-CFlow'!C22+'A7-CFlow'!C23)/SUM('A4-FinPerf RE'!C5:C10)),0,('A7-CFlow'!C6+'A7-CFlow'!C7+'A7-CFlow'!C22+'A7-CFlow'!C23)/(SUM('A4-FinPerf RE'!C5:C10)))","v":0.94878762824817553},{"$f":"IF(ISERROR(('A7-CFlow'!D6+'A7-CFlow'!D7+'A7-CFlow'!D22+'A7-CFlow'!D23)/SUM('A4-FinPerf RE'!D5:D10)),0,('A7-CFlow'!D6+'A7-CFlow'!D7+'A7-CFlow'!D22+'A7-CFlow'!D23)/(SUM('A4-FinPerf RE'!D5:D10)))","v":1.0111324751701112},{"$f":"IF(ISERROR(('A7-CFlow'!E6+'A7-CFlow'!E7+'A7-CFlow'!E22+'A7-CFlow'!E23)/SUM('A4-FinPerf RE'!E5:E10)),0,('A7-CFlow'!E6+'A7-CFlow'!E7+'A7-CFlow'!E22+'A7-CFlow'!E23)/(SUM('A4-FinPerf RE'!E5:E10)))","v":0.98193737850887841},{"$f":"IF(ISERROR(('A7-CFlow'!F6+'A7-CFlow'!F7+'A7-CFlow'!F22+'A7-CFlow'!F23)/SUM('A4-FinPerf RE'!F5:F10)),0,('A7-CFlow'!F6+'A7-CFlow'!F7+'A7-CFlow'!F22+'A7-CFlow'!F23)/(SUM('A4-FinPerf RE'!F5:F10)))","v":0.89999999891762761},{"$f":"IF(ISERROR(('A7-CFlow'!G6+'A7-CFlow'!G7+'A7-CFlow'!G22+'A7-CFlow'!G23)/SUM('A4-FinPerf RE'!G5:G10)),0,('A7-CFlow'!G6+'A7-CFlow'!G7+'A7-CFlow'!G22+'A7-CFlow'!G23)/(SUM('A4-FinPerf RE'!G5:G10)))","v":0.88852910966696119},{"$f":"IF(ISERROR(('A7-CFlow'!H6+'A7-CFlow'!H7+'A7-CFlow'!H22+'A7-CFlow'!H23)/SUM('A4-FinPerf RE'!H5:H10)),0,('A7-CFlow'!H6+'A7-CFlow'!H7+'A7-CFlow'!H22+'A7-CFlow'!H23)/(SUM('A4-FinPerf RE'!H5:H10)))","v":0.88852910966696119},{"$f":"IF(ISERROR(('A7-CFlow'!I6+'A7-CFlow'!I7+'A7-CFlow'!I22+'A7-CFlow'!I23)/SUM('A4-FinPerf RE'!I5:I10)),0,('A7-CFlow'!I6+'A7-CFlow'!I7+'A7-CFlow'!I22+'A7-CFlow'!I23)/(SUM('A4-FinPerf RE'!I5:I10)))","v":0.88216613760205742},{"$f":"IF(ISERROR(('A7-CFlow'!J6+'A7-CFlow'!J7+'A7-CFlow'!J22+'A7-CFlow'!J23)/SUM('A4-FinPerf RE'!J5:J10)),0,('A7-CFlow'!J6+'A7-CFlow'!J7+'A7-CFlow'!J22+'A7-CFlow'!J23)/(SUM('A4-FinPerf RE'!J5:J10)))","v":0.90436473454398569},{"$f":"IF(ISERROR(('A7-CFlow'!K6+'A7-CFlow'!K7+'A7-CFlow'!K22+'A7-CFlow'!K23)/SUM('A4-FinPerf RE'!K5:K10)),0,('A7-CFlow'!K6+'A7-CFlow'!K7+'A7-CFlow'!K22+'A7-CFlow'!K23)/(SUM('A4-FinPerf RE'!K5:K10)))","v":0.90381979058610773}]
["Current Debtors Collection Rate (Cash receipts % of Ratepayer & Other revenue)",null,{"$f":"IF(ISERROR(('A7-CFlow'!C6+'A7-CFlow'!C7)/SUM('A4-FinPerf RE'!C5:C10)),0,(('A7-CFlow'!C6+'A7-CFlow'!C7)/SUM('A4-FinPerf RE'!C5:C10)))","v":0.94878762824817553},{"$f":"IF(ISERROR(('A7-CFlow'!D6+'A7-CFlow'!D7)/SUM('A4-FinPerf RE'!D5:D10)),0,(('A7-CFlow'!D6+'A7-CFlow'!D7)/SUM('A4-FinPerf RE'!D5:D10)))","v":1.0111324751701112},{"$f":"IF(ISERROR(('A7-CFlow'!E6+'A7-CFlow'!E7)/SUM('A4-FinPerf RE'!E5:E10)),0,(('A7-CFlow'!E6+'A7-CFlow'!E7)/SUM('A4-FinPerf RE'!E5:E10)))","v":0.98193737850887841},{"$f":"IF(ISERROR(('A7-CFlow'!F6+'A7-CFlow'!F7)/SUM('A4-FinPerf RE'!F5:F10)),0,(('A7-CFlow'!F6+'A7-CFlow'!F7)/SUM('A4-FinPerf RE'!F5:F10)))","v":0.89999999891762761},{"$f":"IF(ISERROR(('A7-CFlow'!G6+'A7-CFlow'!G7)/SUM('A4-FinPerf RE'!G5:G10)),0,(('A7-CFlow'!G6+'A7-CFlow'!G7)/SUM('A4-FinPerf RE'!G5:G10)))","v":0.88852910966696119},{"$f":"IF(ISERROR(('A7-CFlow'!H6+'A7-CFlow'!H7)/SUM('A4-FinPerf RE'!H5:H10)),0,(('A7-CFlow'!H6+'A7-CFlow'!H7)/SUM('A4-FinPerf RE'!H5:H10)))","v":0.88852910966696119},{"$f":"IF(ISERROR(('A7-CFlow'!I6+'A7-CFlow'!I7)/SUM('A4-FinPerf RE'!I5:I10)),0,(('A7-CFlow'!I6+'A7-CFlow'!I7)/SUM('A4-FinPerf RE'!I5:I10)))","v":0.88216613760205742},{"$f":"IF(ISERROR(('A7-CFlow'!J6+'A7-CFlow'!J7)/SUM('A4-FinPerf RE'!J5:J10)),0,(('A7-CFlow'!J6+'A7-CFlow'!J7)/SUM('A4-FinPerf RE'!J5:J10)))","v":0.90436473454398569},{"$f":"IF(ISERROR(('A7-CFlow'!K6+'A7-CFlow'!K7)/SUM('A4-FinPerf RE'!K5:K10)),0,(('A7-CFlow'!K6+'A7-CFlow'!K7)/SUM('A4-FinPerf RE'!K5:K10)))","v":0.90381979058610773},{"$f":"IF(ISERROR(('A7-CFlow'!L6+'A7-CFlow'!L7)/SUM('A4-FinPerf RE'!L5:L10)),0,(('A7-CFlow'!L6+'A7-CFlow'!L7)/SUM('A4-FinPerf RE'!L5:L10)))","v":1.2056928481873974}]
["Outstanding Debtors to Revenue","Total Outstanding Debtors to Annual Revenue",{"$f":"IF(ISERROR(('A6-FinPos'!C8+'A6-FinPos'!C9+'A6-FinPos'!C10+'A6-FinPos'!C15)/'A4-FinPerf RE'!C21),0,(('A6-FinPos'!C8+'A6-FinPos'!C9+'A6-FinPos'!C10+'A6-FinPos'!C15)/'A4-FinPerf RE'!C21))","v":0.39929327041207585},{"$f":"IF(ISERROR(('A6-FinPos'!D8+'A6-FinPos'!D9+'A6-FinPos'!D10+'A6-FinPos'!D15)/'A4-FinPerf RE'!D21),0,(('A6-FinPos'!D8+'A6-FinPos'!D9+'A6-FinPos'!D10+'A6-FinPos'!D15)/'A4-FinPerf RE'!D21))","v":0.38957411871894598},{"$f":"IF(ISERROR(('A6-FinPos'!E8+'A6-FinPos'!E9+'A6-FinPos'!E10+'A6-FinPos'!E15)/'A4-FinPerf RE'!E21),0,(('A6-FinPos'!E8+'A6-FinPos'!E9+'A6-FinPos'!E10+'A6-FinPos'!E15)/'A4-FinPerf RE'!E21))","v":0.47650651306262837},{"$f":"IF(ISERROR(('A6-FinPos'!F8+'A6-FinPos'!F9+'A6-FinPos'!F10+'A6-FinPos'!F15)/'A4-FinPerf RE'!F21),0,(('A6-FinPos'!F8+'A6-FinPos'!F9+'A6-FinPos'!F10+'A6-FinPos'!F15)/'A4-FinPerf RE'!F21))","v":0.30512117689656532},{"$f":"IF(ISERROR(('A6-FinPos'!G8+'A6-FinPos'!G9+'A6-FinPos'!G10+'A6-FinPos'!G15)/'A4-FinPerf RE'!G21),0,(('A6-FinPos'!G8+'A6-FinPos'!G9+'A6-FinPos'!G10+'A6-FinPos'!G15)/'A4-FinPerf RE'!G21))","v":0.29144815132753732},{"$f":"IF(ISERROR(('A6-FinPos'!H8+'A6-FinPos'!H9+'A6-FinPos'!H10+'A6-FinPos'!H15)/'A4-FinPerf RE'!H21),0,(('A6-FinPos'!H8+'A6-FinPos'!H9+'A6-FinPos'!H10+'A6-FinPos'!H15)/'A4-FinPerf RE'!H21))","v":0.29144815132753732},{"$f":"IF(ISERROR(('A6-FinPos'!I8+'A6-FinPos'!I9+'A6-FinPos'!I10+'A6-FinPos'!I15)/'A4-FinPerf RE'!I21),0,(('A6-FinPos'!I8+'A6-FinPos'!I9+'A6-FinPos'!I10+'A6-FinPos'!I15)/'A4-FinPerf RE'!I21))","v":0.29031089896737128},{"$f":"IF(ISERROR(('A6-FinPos'!J8+'A6-FinPos'!J9+'A6-FinPos'!J10+'A6-FinPos'!J15)/'A4-FinPerf RE'!J21),0,(('A6-FinPos'!J8+'A6-FinPos'!J9+'A6-FinPos'!J10+'A6-FinPos'!J15)/'A4-FinPerf RE'!J21))","v":0.36710909488669174},{"$f":"IF(ISERROR(('A6-FinPos'!K8+'A6-FinPos'!K9+'A6-FinPos'!K10+'A6-FinPos'!K15)/'A4-FinPerf RE'!K21),0,(('A6-FinPos'!K8+'A6-FinPos'!K9+'A6-FinPos'!K10+'A6-FinPos'!K15)/'A4-FinPerf RE'!K21))","v":0.37118296942288603},{"$f":"IF(ISERROR(('A6-FinPos'!L8+'A6-FinPos'!L9+'A6-FinPos'!L10+'A6-FinPos'!L15)/'A4-FinPerf RE'!L21),0,(('A6-FinPos'!L8+'A6-FinPos'!L9+'A6-FinPos'!L10+'A6-FinPos'!L15)/'A4-FinPerf RE'!L21))","v":0.36483871829597037}]
["Longstanding Debtors Recovered","Debtors > 12 Mths Recovered/Total Debtors > 12 Months Old"]
["Creditors Management"]
["Creditors System Efficiency","% of Creditors Paid Within Terms (within`MFMA' s 65(e))"]
["Creditors to Cash and Investments",null,{"$f":"IF(ISERROR('SA3'!C130/'A7-CFlow'!C40),0,('SA3'!C130/'A7-CFlow'!C40))","v":32.664362357693001},{"$f":"IF(ISERROR('SA3'!D130/'A7-CFlow'!D40),0,('SA3'!D130/'A7-CFlow'!D40))","v":6.5043847322762582},{"$f":"IF(ISERROR('SA3'!E130/'A7-CFlow'!E40),0,('SA3'!E130/'A7-CFlow'!E40))","v":3.5230458514271947},{"$f":"IF(ISERROR('SA3'!F130/'A7-CFlow'!F40),0,('SA3'!F130/'A7-CFlow'!F40))","v":0.19257060934542075},{"$f":"IF(ISERROR('SA3'!G130/'A7-CFlow'!G40),0,('SA3'!G130/'A7-CFlow'!G40))","v":5.0576341359483834},{"$f":"IF(ISERROR('SA3'!H130/'A7-CFlow'!H40),0,('SA3'!H130/'A7-CFlow'!H40))","v":5.0576341359483834},{"$f":"IF(ISERROR('SA3'!I130/'A7-CFlow'!I40),0,('SA3'!I130/'A7-CFlow'!I40))","v":5.0576341359483834},{"$f":"IF(ISERROR('SA3'!J130/'A7-CFlow'!J40),0,('SA3'!J130/'A7-CFlow'!J40))","v":0.59678132352941171},{"$f":"IF(ISERROR('SA3'!K130/'A7-CFlow'!K40),0,('SA3'!K130/'A7-CFlow'!K40))","v":1.0462543750705657},{"$f":"IF(ISERROR('SA3'!L130/'A7-CFlow'!L40),0,('SA3'!L130/'A7-CFlow'!L40))","v":-7.3651954802787385}]
[]
["Other Indicators"]
["Electricity Distribution Losses (2)","Total Volume Losses (kW)",0,0,0,0,0,0,0,0,0,0]
[null,"Total Cost of Losses (Rand '000)",99452443,108946468,0,129085000,129085000,129085000,0,129085000,129085000,129085000]
[null,"% Volume (units purchased and generated less units sold)/units purchased and generated"]
["Water Distribution Losses (2)","Total Volume Losses (kℓ)",0,0,0,0,0,0,0,0,0,0]
[null,"Total Cost of Losses (Rand '000)",0,0,0,0,0,0,0,0,0,0]
[null,"% Volume (units purchased and generated less units sold)/units purchased and generated"]
["Employee costs","Employee costs/(Total Revenue - capital revenue)",{"$f":"IF(ISERROR('A4-FinPerf RE'!C24/'A4-FinPerf RE'!C21),0,('A4-FinPerf RE'!C24/'A4-FinPerf RE'!C21))","v":0.25738420063877604},{"$f":"IF(ISERROR('A4-FinPerf RE'!D24/'A4-FinPerf RE'!D21),0,('A4-FinPerf RE'!D24/'A4-FinPerf RE'!D21))","v":0.20212566080284919},{"$f":"IF(ISERROR('A4-FinPerf RE'!E24/'A4-FinPerf RE'!E21),0,('A4-FinPerf RE'!E24/'A4-FinPerf RE'!E21))","v":0.25271524319231981},{"$f":"IF(ISERROR('A4-FinPerf RE'!F24/'A4-FinPerf RE'!F21),0,('A4-FinPerf RE'!F24/'A4-FinPerf RE'!F21))","v":0.26244568551309078},{"$f":"IF(ISERROR('A4-FinPerf RE'!G24/'A4-FinPerf RE'!G21),0,('A4-FinPerf RE'!G24/'A4-FinPerf RE'!G21))","v":0.24638680777012603},{"$f":"IF(ISERROR('A4-FinPerf RE'!H24/'A4-FinPerf RE'!H21),0,('A4-FinPerf RE'!H24/'A4-FinPerf RE'!H21))","v":0.24638680777012603},{"$f":"IF(ISERROR('A4-FinPerf RE'!I24/'A4-FinPerf RE'!I21),0,('A4-FinPerf RE'!I24/'A4-FinPerf RE'!I21))","v":0.24542538812353012},{"$f":"IF(ISERROR('A4-FinPerf RE'!J24/'A4-FinPerf RE'!J21),0,('A4-FinPerf RE'!J24/'A4-FinPerf RE'!J21))","v":0.24063554308905594},{"$f":"IF(ISERROR('A4-FinPerf RE'!K24/'A4-FinPerf RE'!K21),0,('A4-FinPerf RE'!K24/'A4-FinPerf RE'!K21))","v":0.24310671174701529},{"$f":"IF(ISERROR('A4-FinPerf RE'!L24/'A4-FinPerf RE'!L21),0,('A4-FinPerf RE'!L24/'A4-FinPerf RE'!L21))","v":0.24231710262060555}]
["Remuneration","Total remuneration/(Total Revenue - capital revenue)",{"$f":"IF(ISERROR('SA22'!C102/'A4-FinPerf RE'!C21),0,('SA22'!C102/'A4-FinPerf RE'!C21))","v":0.27054666072658284},{"$f":"IF(ISERROR('SA22'!D102/'A4-FinPerf RE'!D21),0,('SA22'!D102/'A4-FinPerf RE'!D21))","v":0.22678104143607009},{"$f":"IF(ISERROR('SA22'!E102/'A4-FinPerf RE'!E21),0,('SA22'!E102/'A4-FinPerf RE'!E21))","v":0.27462800905534107},{"$f":"IF(ISERROR('SA22'!F102/'A4-FinPerf RE'!F21),0,('SA22'!F102/'A4-FinPerf RE'!F21))","v":0.28449689279510593},{"$f":"IF(ISERROR('SA22'!G102/'A4-FinPerf RE'!G21),0,('SA22'!G102/'A4-FinPerf RE'!G21))","v":0.26744986086352701},{"$f":"IF(ISERROR('SA22'!H102/'A4-FinPerf RE'!H21),0,('SA22'!H102/'A4-FinPerf RE'!H21))","v":0.26744986086352701},null,{"$f":"IF(ISERROR('SA22'!I102/'A4-FinPerf RE'!J21),0,('SA22'!I102/'A4-FinPerf RE'!J21))","v":0.2601727066146784},{"$f":"IF(ISERROR('SA22'!J102/'A4-FinPerf RE'!K21),0,('SA22'!J102/'A4-FinPerf RE'!K21))","v":0.26284450800511244},{"$f":"IF(ISERROR('SA22'!K102/'A4-FinPerf RE'!L21),0,('SA22'!K102/'A4-FinPerf RE'!L21))","v":0.26199078504134182}]
["Repairs & Maintenance","R&M/(Total Revenue excluding capital revenue)",{"$f":"IF(ISERROR('A9-Asset'!C169/'A4-FinPerf RE'!C21),0,('A9-Asset'!C169/'A4-FinPerf RE'!C21))","v":5.6891378574445373E-2},{"$f":"IF(ISERROR('A9-Asset'!D169/'A4-FinPerf RE'!D21),0,('A9-Asset'!D169/'A4-FinPerf RE'!D21))","v":0.10141676157556308},{"$f":"IF(ISERROR('A9-Asset'!E169/'A4-FinPerf RE'!E21),0,('A9-Asset'!E169/'A4-FinPerf RE'!E21))","v":2.9326812495384651E-2},{"$f":"IF(ISERROR('A9-Asset'!F169/'A4-FinPerf RE'!F21),0,('A9-Asset'!F169/'A4-FinPerf RE'!F21))","v":4.2713433760248144E-2},{"$f":"IF(ISERROR('A9-Asset'!G169/'A4-FinPerf RE'!G21),0,('A9-Asset'!G169/'A4-FinPerf RE'!G21))","v":4.7854969082361601E-2},{"$f":"IF(ISERROR('A9-Asset'!H169/'A4-FinPerf RE'!H21),0,('A9-Asset'!H169/'A4-FinPerf RE'!H21))","v":4.7854969082361601E-2},null,{"$f":"IF(ISERROR('A9-Asset'!I169/'A4-FinPerf RE'!J21),0,('A9-Asset'!I169/'A4-FinPerf RE'!J21))","v":9.4474653250279705E-2},{"$f":"IF(ISERROR('A9-Asset'!J169/'A4-FinPerf RE'!K21),0,('A9-Asset'!J169/'A4-FinPerf RE'!K21))","v":9.5748825678810282E-2},{"$f":"IF(ISERROR('A9-Asset'!K169/'A4-FinPerf RE'!L21),0,('A9-Asset'!K169/'A4-FinPerf RE'!L21))","v":9.5858540162674769E-2}]
["Finance charges & Depreciation","FC&D/(Total Revenue - capital revenue)",{"$f":"IF(ISERROR(('A4-FinPerf RE'!C28+'A4-FinPerf RE'!C27)/'A4-FinPerf RE'!C21),0,(('A4-FinPerf RE'!C28+'A4-FinPerf RE'!C27)/'A4-FinPerf RE'!C21))","v":0.13701834431991761},{"$f":"IF(ISERROR(('A4-FinPerf RE'!D28+'A4-FinPerf RE'!D27)/'A4-FinPerf RE'!D21),0,(('A4-FinPerf RE'!D28+'A4-FinPerf RE'!D27)/'A4-FinPerf RE'!D21))","v":0.1364209202320972},{"$f":"IF(ISERROR(('A4-FinPerf RE'!E28+'A4-FinPerf RE'!E27)/'A4-FinPerf RE'!E21),0,(('A4-FinPerf RE'!E28+'A4-FinPerf RE'!E27)/'A4-FinPerf RE'!E21))","v":9.9522995350465382E-2},{"$f":"IF(ISERROR(('A4-FinPerf RE'!F28+'A4-FinPerf RE'!F27)/'A4-FinPerf RE'!F21),0,(('A4-FinPerf RE'!F28+'A4-FinPerf RE'!F27)/'A4-FinPerf RE'!F21))","v":0.11293294138043214},{"$f":"IF(ISERROR(('A4-FinPerf RE'!G28+'A4-FinPerf RE'!G27)/'A4-FinPerf RE'!G21),0,(('A4-FinPerf RE'!G28+'A4-FinPerf RE'!G27)/'A4-FinPerf RE'!G21))","v":0.10859765059296519},{"$f":"IF(ISERROR(('A4-FinPerf RE'!H28+'A4-FinPerf RE'!H27)/'A4-FinPerf RE'!H21),0,(('A4-FinPerf RE'!H28+'A4-FinPerf RE'!H27)/'A4-FinPerf RE'!H21))","v":0.10859765059296519},{"$f":"IF(ISERROR(('A4-FinPerf RE'!I28+'A4-FinPerf RE'!I27)/'A4-FinPerf RE'!I21),0,(('A4-FinPerf RE'!I28+'A4-FinPerf RE'!I27)/'A4-FinPerf RE'!I21))","v":0.10817389448443342},{"$f":"IF(ISERROR(('A4-FinPerf RE'!J28+'A4-FinPerf RE'!J27)/'A4-FinPerf RE'!J21),0,(('A4-FinPerf RE'!J28+'A4-FinPerf RE'!J27)/'A4-FinPerf RE'!J21))","v":0.10165408798312778},{"$f":"IF(ISERROR(('A4-FinPerf RE'!K28+'A4-FinPerf RE'!K27)/'A4-FinPerf RE'!K21),0,(('A4-FinPerf RE'!K28+'A4-FinPerf RE'!K27)/'A4-FinPerf RE'!K21))","v":0.1026979755287282},{"$f":"IF(ISERROR(('A4-FinPerf RE'!L28+'A4-FinPerf RE'!L27)/'A4-FinPerf RE'!L21),0,(('A4-FinPerf RE'!L28+'A4-FinPerf RE'!L27)/'A4-FinPerf RE'!L21))","v":0.10236439124125783}]
["IDP regulation financial viability indicators"]
["i. Debt coverage","(Total Operating Revenue - Operating Grants)/Debt service payments due within financial year)",{"$f":"IF(ISERROR(('A4-FinPerf RE'!C21-'A4-FinPerf RE'!C18)/('A7-CFlow'!D11-'A7-CFlow'!D35)),0,(('A4-FinPerf RE'!C21-'A4-FinPerf RE'!C18)/('A7-CFlow'!D11-'A7-CFlow'!D35)))","v":45.291492218018107},{"$f":"IF(ISERROR(('A4-FinPerf RE'!D21-'A4-FinPerf RE'!D18)/('A7-CFlow'!E11-'A7-CFlow'!E35)),0,(('A4-FinPerf RE'!D21-'A4-FinPerf RE'!D18)/('A7-CFlow'!E11-'A7-CFlow'!E35)))","v":23.89641795775773},{"$f":"IF(ISERROR(('A4-FinPerf RE'!E21-'A4-FinPerf RE'!E18)/('A7-CFlow'!F11-'A7-CFlow'!F35)),0,(('A4-FinPerf RE'!E21-'A4-FinPerf RE'!E18)/('A7-CFlow'!F11-'A7-CFlow'!F35)))","v":2506.4944151892491},{"$f":"IF(ISERROR(('A4-FinPerf RE'!F21-'A4-FinPerf RE'!F18)/('A7-CFlow'!G11-'A7-CFlow'!G35)),0,(('A4-FinPerf RE'!F21-'A4-FinPerf RE'!F18)/('A7-CFlow'!G11-'A7-CFlow'!G35)))","v":2693.2529501802201},{"$f":"F37","v":2693.2529501802201},{"$f":"G37","v":2693.2529501802201},{"$f":"IF(ISERROR(('A4-FinPerf RE'!I21-'A4-FinPerf RE'!I18)/('A7-CFlow'!J11-'A7-CFlow'!J35)),0,(('A4-FinPerf RE'!I21-'A4-FinPerf RE'!I18)/('A7-CFlow'!J11-'A7-CFlow'!J35)))","v":20.337459473352506},{"$f":"IF(ISERROR(('A4-FinPerf RE'!J21-'A4-FinPerf RE'!J18)/('A7-CFlow'!K11-'A7-CFlow'!K35)),0,(('A4-FinPerf RE'!J21-'A4-FinPerf RE'!J18)/('A7-CFlow'!K11-'A7-CFlow'!K35)))","v":21.328649785952976},{"$f":"IF(ISERROR(('A4-FinPerf RE'!K21-'A4-FinPerf RE'!K18)/('A7-CFlow'!L11-'A7-CFlow'!L35)),0,(('A4-FinPerf RE'!K21-'A4-FinPerf RE'!K18)/('A7-CFlow'!L11-'A7-CFlow'!L35)))","v":20.760032672436246},{"$f":"IF(ISERROR(('A4-FinPerf RE'!L21-'A4-FinPerf RE'!L18)/('A7-CFlow'!L11-'A7-CFlow'!L35)),0,(('A4-FinPerf RE'!L21-'A4-FinPerf RE'!L18)/('A7-CFlow'!L11-'A7-CFlow'!L35)))","v":22.325372123935164}]
["ii.O/S Service Debtors to Revenue","Total outstanding service debtors/annual revenue received for services",{"$f":"IF(ISERROR(('A6-FinPos'!C8+'A6-FinPos'!C9+'A6-FinPos'!C10)/SUM('A4-FinPerf RE'!C5:C11)),0,(('A6-FinPos'!C8+'A6-FinPos'!C9+'A6-FinPos'!C10)/SUM('A4-FinPerf RE'!C5:C11)))","v":0.71081270395583507},{"$f":"IF(ISERROR(('A6-FinPos'!D8+'A6-FinPos'!D9+'A6-FinPos'!D10)/SUM('A4-FinPerf RE'!D5:D11)),0,(('A6-FinPos'!D8+'A6-FinPos'!D9+'A6-FinPos'!D10)/SUM('A4-FinPerf RE'!D5:D11)))","v":0.69105043496087959},{"$f":"IF(ISERROR(('A6-FinPos'!E8+'A6-FinPos'!E9+'A6-FinPos'!E10)/SUM('A4-FinPerf RE'!E5:E11)),0,(('A6-FinPos'!E8+'A6-FinPos'!E9+'A6-FinPos'!E10)/SUM('A4-FinPerf RE'!E5:E11)))","v":0.87249332037629146},{"$f":"IF(ISERROR(('A6-FinPos'!F8+'A6-FinPos'!F9+'A6-FinPos'!F10)/SUM('A4-FinPerf RE'!F5:F11)),0,(('A6-FinPos'!F8+'A6-FinPos'!F9+'A6-FinPos'!F10)/SUM('A4-FinPerf RE'!F5:F11)))","v":0.54270184278958356},{"$f":"IF(ISERROR(('A6-FinPos'!G8+'A6-FinPos'!G9+'A6-FinPos'!G10)/SUM('A4-FinPerf RE'!G5:G11)),0,(('A6-FinPos'!G8+'A6-FinPos'!G9+'A6-FinPos'!G10)/SUM('A4-FinPerf RE'!G5:G11)))","v":0.53579565967094755},{"$f":"IF(ISERROR(('A6-FinPos'!H8+'A6-FinPos'!H9+'A6-FinPos'!H10)/SUM('A4-FinPerf RE'!H5:H11)),0,(('A6-FinPos'!H8+'A6-FinPos'!H9+'A6-FinPos'!H10)/SUM('A4-FinPerf RE'!H5:H11)))","v":0.53579565967094755},{"$f":"IF(ISERROR(('A6-FinPos'!I8+'A6-FinPos'!I9+'A6-FinPos'!I10)/SUM('A4-FinPerf RE'!I5:I11)),0,(('A6-FinPos'!I8+'A6-FinPos'!I9+'A6-FinPos'!I10)/SUM('A4-FinPerf RE'!I5:I11)))","v":0.53196464196184612},{"$f":"IF(ISERROR(('A6-FinPos'!J8+'A6-FinPos'!J9+'A6-FinPos'!J10)/SUM('A4-FinPerf RE'!J5:J11)),0,(('A6-FinPos'!J8+'A6-FinPos'!J9+'A6-FinPos'!J10)/SUM('A4-FinPerf RE'!J5:J11)))","v":0.63226256809577142},{"$f":"IF(ISERROR(('A6-FinPos'!K8+'A6-FinPos'!K9+'A6-FinPos'!K10)/SUM('A4-FinPerf RE'!K5:K11)),0,(('A6-FinPos'!K8+'A6-FinPos'!K9+'A6-FinPos'!K10)/SUM('A4-FinPerf RE'!K5:K11)))","v":0.60443669476609174},{"$f":"IF(ISERROR(('A6-FinPos'!L8+'A6-FinPos'!L9+'A6-FinPos'!L10)/SUM('A4-FinPerf RE'!L5:L11)),0,(('A6-FinPos'!L8+'A6-FinPos'!L9+'A6-FinPos'!L10)/SUM('A4-FinPerf RE'!L5:L11)))","v":0.57681450569053616}]
["iii. Cost coverage","(Available cash + Investments)/monthly fixed operational expenditure",{"$f":"IF(ISERROR('A7-CFlow'!C40/'SA8'!C46),0,('A7-CFlow'!C40/'SA8'!C46))","v":9.4834774915604492E-2},{"$f":"IF(ISERROR('A7-CFlow'!D40/'SA8'!D46),0,('A7-CFlow'!D40/'SA8'!D46))","v":0.55908151139610363},{"$f":"IF(ISERROR('A7-CFlow'!E40/'SA8'!E46),0,('A7-CFlow'!E40/'SA8'!E46))","v":0.94497424207132696},{"$f":"IF(ISERROR('A7-CFlow'!F40/'SA8'!F46),0,('A7-CFlow'!F40/'SA8'!F46))","v":13.875315860037885},{"$f":"IF(ISERROR('A7-CFlow'!G40/'SA8'!G46),0,('A7-CFlow'!G40/'SA8'!G46))","v":0.57272422993352989},{"$f":"IF(ISERROR('A7-CFlow'!H40/'SA8'!H46),0,('A7-CFlow'!H40/'SA8'!H46))","v":0.57272422993352989},{"$f":"IF(ISERROR('A7-CFlow'!I40/'SA8'!I46),0,('A7-CFlow'!I40/'SA8'!I46))","v":0.57272422993352989},{"$f":"IF(ISERROR('A7-CFlow'!J40/'SA8'!J46),0,('A7-CFlow'!J40/'SA8'!J46))","v":0.38242342195649087},{"$f":"IF(ISERROR('A7-CFlow'!K40/'SA8'!K46),0,('A7-CFlow'!K40/'SA8'!K46))","v":0.3899111066840184},{"$f":"IF(ISERROR('A7-CFlow'!L40/'SA8'!L46),0,('A7-CFlow'!L40/'SA8'!L46))","v":0.36857672803277114}]
[{"$f":"head27a","v":"References"}]
["1. Consumer debtors > 12 months old are excluded from current assets"]
["2. Only include if services provided by the municipality"]
[]
["Calculation data"]
["Debtors > 90 days"]
["Monthly fixed operational expenditure",null,{"$f":"(('A4-FinPerf RE'!C24+'A4-FinPerf RE'!C25+'A4-FinPerf RE'!C26+'A4-FinPerf RE'!C28+'A4-FinPerf RE'!C29+'A4-FinPerf RE'!C31+'SA1'!C91+'A7-CFlow'!C35)+(('A4-FinPerf RE'!C30+'A4-FinPerf RE'!C33)*'SA8'!C47))/12","v":78978212.440166667},{"$f":"(('A4-FinPerf RE'!D24+'A4-FinPerf RE'!D25+'A4-FinPerf RE'!D26+'A4-FinPerf RE'!D28+'A4-FinPerf RE'!D29+'A4-FinPerf RE'!D31+'SA1'!D91+'A7-CFlow'!D35)+(('A4-FinPerf RE'!D30+'A4-FinPerf RE'!D33)*'SA8'!D47))/12","v":75182259.014500007},{"$f":"(('A4-FinPerf RE'!E24+'A4-FinPerf RE'!E25+'A4-FinPerf RE'!E26+'A4-FinPerf RE'!E28+'A4-FinPerf RE'!E29+'A4-FinPerf RE'!E31+'SA1'!E91+'A7-CFlow'!E35)+(('A4-FinPerf RE'!E30+'A4-FinPerf RE'!E33)*'SA8'!E47))/12","v":74304423.384166658},{"$f":"(('A4-FinPerf RE'!F24+'A4-FinPerf RE'!F25+'A4-FinPerf RE'!F26+'A4-FinPerf RE'!F28+'A4-FinPerf RE'!F29+'A4-FinPerf RE'!F31+'SA1'!F91+'A7-CFlow'!F35)+(('A4-FinPerf RE'!F30+'A4-FinPerf RE'!F33)*'SA8'!F47))/12","v":86902236.61666666},{"$f":"(('A4-FinPerf RE'!G24+'A4-FinPerf RE'!G25+'A4-FinPerf RE'!G26+'A4-FinPerf RE'!G28+'A4-FinPerf RE'!G29+'A4-FinPerf RE'!G31+'SA1'!G91+'A7-CFlow'!G35)+(('A4-FinPerf RE'!G30+'A4-FinPerf RE'!G33)*'SA8'!G47))/12","v":86065344.233333334},{"$f":"(('A4-FinPerf RE'!H24+'A4-FinPerf RE'!H25+'A4-FinPerf RE'!H26+'A4-FinPerf RE'!H28+'A4-FinPerf RE'!H29+'A4-FinPerf RE'!H31+'SA1'!H91+'A7-CFlow'!H35)+(('A4-FinPerf RE'!H30+'A4-FinPerf RE'!H33)*'SA8'!H47))/12","v":86065344.233333334},{"$f":"(('A4-FinPerf RE'!I24+'A4-FinPerf RE'!I25+'A4-FinPerf RE'!I26+'A4-FinPerf RE'!I28+'A4-FinPerf RE'!I29+'A4-FinPerf RE'!I31+'SA1'!I91+'A7-CFlow'!I35)+(('A4-FinPerf RE'!I30+'A4-FinPerf RE'!I33)*'SA8'!I47))/12","v":86065344.233333334},{"$f":"(('A4-FinPerf RE'!J24+'A4-FinPerf RE'!J25+'A4-FinPerf RE'!J26+'A4-FinPerf RE'!J28+'A4-FinPerf RE'!J29+'A4-FinPerf RE'!J31+'SA1'!J91+'A7-CFlow'!J35)+(('A4-FinPerf RE'!J30+'A4-FinPerf RE'!J33)*'SA8'!J47))/12","v":88906688.36666666},{"$f":"(('A4-FinPerf RE'!K24+'A4-FinPerf RE'!K25+'A4-FinPerf RE'!K26+'A4-FinPerf RE'!K28+'A4-FinPerf RE'!K29+'A4-FinPerf RE'!K31+'SA1'!K91+'A7-CFlow'!K35)+(('A4-FinPerf RE'!K30+'A4-FinPerf RE'!K33)*'SA8'!K47))/12","v":90861735.899999991},{"$f":"(('A4-FinPerf RE'!L24+'A4-FinPerf RE'!L25+'A4-FinPerf RE'!L26+'A4-FinPerf RE'!L28+'A4-FinPerf RE'!L29+'A4-FinPerf RE'!L31+'SA1'!L91+'A7-CFlow'!L35)+(('A4-FinPerf RE'!L30+'A4-FinPerf RE'!L33)*'SA8'!L47))/12","v":96476058.566666663}]
["Fixed operational expenditure % assumption",null,0.4,{"$f":"$C$47","v":0.4},{"$f":"$C$47","v":0.4},0.4,0.4,0.4,0.4,0.4,0.4,0.4]
["Own capex",null,{"$f":"'A5-Capex'!C40-'A5-Capex'!C70-'A5-Capex'!C71","v":29586458},{"$f":"'A5-Capex'!D40-'A5-Capex'!D70-'A5-Capex'!D71","v":17030510},{"$f":"'A5-Capex'!E40-'A5-Capex'!E70-'A5-Capex'!E71","v":90708260.350000009},{"$f":"'A5-Capex'!F40-'A5-Capex'!F70-'A5-Capex'!F71","v":42035000},{"$f":"'A5-Capex'!G40-'A5-Capex'!G70-'A5-Capex'!G71","v":64203889},{"$f":"'A5-Capex'!H40-'A5-Capex'!H70-'A5-Capex'!H71","v":64203889},{"$f":"'A5-Capex'!I40-'A5-Capex'!I70-'A5-Capex'!I71","v":64203889},{"$f":"'A5-Capex'!J40-'A5-Capex'!J70-'A5-Capex'!J71","v":36103500},{"$f":"'A5-Capex'!K40-'A5-Capex'!K70-'A5-Capex'!K71","v":57500000},{"$f":"'A5-Capex'!L40-'A5-Capex'!L70-'A5-Capex'!L71","v":69385091}]
["Borrowing",null,{"$f":"'A7-CFlow'!C31+'A7-CFlow'!C32","v":0},{"$f":"'A7-CFlow'!D31+'A7-CFlow'!D32","v":40000000},{"$f":"'A7-CFlow'!E31+'A7-CFlow'!E32","v":20000000},{"$f":"'A7-CFlow'!F31+'A7-CFlow'!F32","v":30000000},{"$f":"'A7-CFlow'!G31+'A7-CFlow'!G32","v":30000000},{"$f":"'A7-CFlow'!H31+'A7-CFlow'!H32","v":30000000},{"$f":"'A7-CFlow'!I31+'A7-CFlow'!I32","v":30000000},{"$f":"'A7-CFlow'!J31+'A7-CFlow'!J32","v":0},{"$f":"'A7-CFlow'!K31+'A7-CFlow'!K32","v":0},{"$f":"'A7-CFlow'!L31+'A7-CFlow'!L32","v":1}]

{"sheet":"SA9","index":28,"n_rows":310,"n_cols":13,"rows_kept":310,"cut":false,"hidden":false,"merged":[[108,10,108,12],[1,5,2,5],[62,7,62,9],[62,10,62,12],[108,0,109,0],[108,7,108,9],[1,0,2,0],[62,0,63,0],[1,3,2,3],[1,4,2,4],[1,10,1,12],[1,1,2,1],[1,2,2,2],[246,7,246,9],[246,10,246,12],[246,0,247,0],[154,0,155,0],[154,7,154,9],[200,7,200,9],[200,10,200,12],[154,10,154,12],[200,0,201,0]]}
[{"$f":"muni&\" - \"&TableA9","v":"Choose name from list - Supporting Table SA9 Social, economic and demographic statistics and assumptions"}]
["Description of economic indicator","Ref.","Basis of calculation",{"$f":"Head44","v":"2001 Census"},"2007 Survey",{"$f":"Head45","v":"2011 Census"},{"$f":"head1b","v":"2017/18"},{"$f":"head1A","v":"2018/19"},{"$f":"Head1","v":"2019/20"},{"$f":"Head2","v":"Current Year 2020/21"},{"$f":"Head3","v":"2021/22 Medium Term Revenue & Expenditure Framework"}]
[null,null,null,null,null,null,{"$f":"Head5A","v":"Outcome"},"Outcome","Outcome",{"$f":"Head6","v":"Original Budget"},"Outcome","Outcome","Outcome"]
["Demographics"]
["Population"]
["Females aged 5 - 14"]
["Males aged 5 - 14"]
["Females aged 15 - 34"]
["Males aged 15 - 34"]
["Unemployment"]
[]
["Monthly household income (no. of households)","1, 12"]
["No income"]
["R1 - R1 600"]
["R1 601 - R3 200"]
["R3 201 - R6 400"]
["R6 401 - R12 800"]
["R12 801 - R25 600"]
["R25 601 - R51 200"]
["R52 201 - R102 400"]
["R102 401 - R204 800"]
["R204 801 - R409 600"]
["R409 601 - R819 200"]
[" > R819 200"]
[]
[]
["Poverty profiles (no. of households)"]
["< R2 060 per household per month",13]
["Insert description",2]
[]
["Household/demographics (000)"]
["Number of people in municipal area"]
["Number of poor people in municipal area"]
["Number of households in municipal area"]
["Number of poor households in municipal area"]
["Definition of poor household (R per month)"]
[]
["Housing statistics",3]
["Formal"]
["Informal"]
["Total number of households",null,null,{"$f":"SUM(D39:D40)","v":0},{"$f":"SUM(E39:E40)","v":0},0,0,0,0,0,0,0,0]
["Dwellings provided by municipality",4]
["Dwellings provided by province/s"]
["Dwellings provided by private sector",5]
["Total new housing dwellings",null,null,{"$f":"SUM(D42:D44)","v":0},{"$f":"SUM(E42:E44)","v":0},0,0,0,0,0,0,0,0]
[]
["Economic",6]
["Inflation/inflation outlook (CPIX)"]
["Interest rate - borrowing"]
["Interest rate - investment"]
["Remuneration increases"]
["Consumption growth (electricity)"]
["Consumption growth (water)"]
[]
["Collection rates",7]
["Property tax/service charges"]
["Rental of facilities & equipment"]
["Interest - external investments"]
["Interest - debtors"]
["Revenue from agency services"]
[]
["Detail on the provision of municipal services for A10"]
["Total municipal services",null,null,null,{"$f":"head1b","v":"2017/18"},{"$f":"head1A","v":"2018/19"},{"$f":"Head1","v":"2019/20"},{"$f":"Head2","v":"Current Year 2020/21"},null,null,{"$f":"Head3","v":"2021/22 Medium Term Revenue & Expenditure Framework"}]
[null,"Ref.",null,null,{"$f":"Head5A","v":"Outcome"},{"$f":"Head5A","v":"Outcome"},{"$f":"Head5A","v":"Outcome"},{"$f":"Head6","v":"Original Budget"},{"$f":"Head7","v":"Adjusted Budget"},{"$f":"Head8","v":"Full Year Forecast"},{"$f":"Head9","v":"Budget Year 2021/22"},{"$f":"Head10","v":"Budget Year +1 2022/23"},{"$f":"Head11","v":"Budget Year +2 2023/24"}]
[null,null,"Household service targets (000)"]
[null,null,"Water:"]
[null,null,"Piped water inside dwelling",null,{"$f":"E113+E159+E205","v":0},{"$f":"F113+F159+F205","v":0},0,0,0,0,0,0,0]
[null,null,"Piped water inside yard (but not in dwelling)",null,{"$f":"E114+E160+E206","v":0},0,0,0,0,0,0,0,0]
[null,8,"Using public tap (at least min.service level)",null,0,0,0,0,0,0,0,0,0]
[null,10,"Other water supply (at least min.service level)",null,0,0,0,0,0,0,0,0,0]
[null,null,"Minimum Service Level and Above sub-total",null,{"$f":"SUM(E67:E70)","v":0},{"$f":"SUM(F67:F70)","v":0},0,0,0,0,0,0,0]
[null,9,"Using public tap (< min.service level)",null,{"$f":"E118+E164+E210","v":0},0,0,0,0,0,0,0,0]
[null,10,"Other water supply (< min.service level)",null,0,0,0,0,0,0,0,0,0]
[null,null,"No water supply",null,0,0,0,0,0,0,0,0,0]
[null,null,"Below Minimum Service Level sub-total",null,{"$f":"SUM(E72:E74)","v":0},{"$f":"SUM(F72:F74)","v":0},0,0,0,0,0,0,0]
[null,null,"Total number of households",null,{"$f":"E71+E75","v":0},{"$f":"F71+F75","v":0},0,0,0,0,0,0,0]
[null,null,"Sanitation/sewerage:"]
[null,null,"Flush toilet (connected to sewerage)",null,{"$f":"E124+E170+E216","v":0},0,0,0,0,0,0,0,0]
[null,null,"Flush toilet (with septic tank)",null,{"$f":"E125+E171+E217","v":0},0,0,0,0,0,0,0,0]
[null,null,"Chemical toilet",null,{"$f":"E126+E172+E218","v":0},0,0,0,0,0,0,0,0]
[null,null,"Pit toilet (ventilated)",null,{"$f":"E127+E173+E219","v":0},0,0,0,0,0,0,0,0]
[null,null,"Other toilet provisions (> min.service level)",null,{"$f":"E128+E174+E220","v":0},0,0,0,0,0,0,0,0]
[null,null,"Minimum Service Level and Above sub-total",null,{"$f":"SUM(E78:E82)","v":0},{"$f":"SUM(F78:F82)","v":0},0,0,0,0,0,0,0]
[null,null,"Bucket toilet",null,{"$f":"E130+E176+E222","v":0},0,0,0,0,0,0,0,0]
[null,null,"Other toilet provisions (< min.service level)",null,{"$f":"E131+E177+E223","v":0},0,0,0,0,0,0,0,0]
[null,null,"No toilet provisions",null,{"$f":"E132+E178+E224","v":0},0,0,0,0,0,0,0,0]
[null,null,"Below Minimum Service Level sub-total",null,{"$f":"SUM(E84:E86)","v":0},{"$f":"SUM(F84:F86)","v":0},0,0,0,0,0,0,0]
[null,null,"Total number of households",null,{"$f":"E83+E87","v":0},{"$f":"F83+F87","v":0},0,0,0,0,0,0,0]
[null,null,"Energy:"]
[null,null,"Electricity (at least min.service level)",null,{"$f":"E136+E182+E228","v":0},0,0,0,0,0,0,0,0]
[null,null,"Electricity - prepaid (min.service level)",null,{"$f":"E137+E183+E229","v":0},0,0,0,0,0,0,0,0]
[null,null,"Minimum Service Level and Above sub-total",null,{"$f":"SUM(E90:E91)","v":0},{"$f":"SUM(F90:F91)","v":0},0,0,0,0,0,0,0]
[null,null,"Electricity (< min.service level)",null,{"$f":"E139+E185+E231","v":0},0,0,0,0,0,0,0,0]
[null,null,"Electricity - prepaid (< min. service level)",null,{"$f":"E140+E186+E232","v":0},0,0,0,0,0,0,0,0]
[null,null,"Other energy sources",null,{"$f":"E141+E187+E233","v":0},0,0,0,0,0,0,0,0]
[null,null,"Below Minimum Service Level sub-total",null,{"$f":"SUM(E93:E95)","v":0},{"$f":"SUM(F93:F95)","v":0},0,0,0,0,0,0,0]
[null,null,"Total number of households",null,{"$f":"E92+E96","v":0},{"$f":"F92+F96","v":0},0,0,0,0,0,0,0]
[null,null,"Refuse:"]
[null,null,"Removed at least once a week",null,{"$f":"E145+E191+E237","v":0},0,0,0,0,0,0,0,0]
[null,null,"Minimum Service Level and Above sub-total",null,{"$f":"SUM(E99)","v":0},{"$f":"SUM(F99)","v":0},0,0,0,0,0,0,0]
[null,null,"Removed less frequently than once a week",null,{"$f":"E147+E193+E239","v":0},0,0,0,0,0,0,0,0]
[null,null,"Using communal refuse dump",null,{"$f":"E148+E194+E240","v":0},0,0,0,0,0,0,0,0]
[null,null,"Using own refuse dump",null,{"$f":"E149+E195+E241","v":0},0,0,0,0,0,0,0,0]
[null,null,"Other rubbish disposal",null,{"$f":"E150+E196+E242","v":0},0,0,0,0,0,0,0,0]
[null,null,"No rubbish disposal",null,{"$f":"E151+E197+E243","v":0},0,0,0,0,0,0,0,0]
[null,null,"Below Minimum Service Level sub-total",null,{"$f":"SUM(E101:E105)","v":0},0,0,0,0,0,0,0,0]
[null,null,"Total number of households",null,{"$f":"E100+E106","v":0},{"$f":"F100+F106","v":0},0,0,0,0,0,0,0]
[]
["Municipal in-house services",null,null,null,{"$f":"head1b","v":"2017/18"},{"$f":"head1A","v":"2018/19"},{"$f":"Head1","v":"2019/20"},{"$f":"Head2","v":"Current Year 2020/21"},null,null,{"$f":"Head3","v":"2021/22 Medium Term Revenue & Expenditure Framework"}]
[null,"Ref.",null,null,{"$f":"Head5A","v":"Outcome"},{"$f":"Head5A","v":"Outcome"},{"$f":"Head5A","v":"Outcome"},{"$f":"Head6","v":"Original Budget"},{"$f":"Head7","v":"Adjusted Budget"},{"$f":"Head8","v":"Full Year Forecast"},{"$f":"Head9","v":"Budget Year 2021/22"},{"$f":"Head10","v":"Budget Year +1 2022/23"},{"$f":"Head11","v":"Budget Year +2 2023/24"}]
[null,null,"Household service targets (000)"]
[null,null,"Water:"]
[null,null,"Piped water inside dwelling"]
[null,null,"Piped water inside yard (but not in dwelling)"]
[null,8,"Using public tap (at least min.service level)"]
[null,10,"Other water supply (at least min.service level)"]
[null,null,"Minimum Service Level and Above sub-total",null,{"$f":"SUM(E113:E116)","v":0},{"$f":"SUM(F113:F116)","v":0},0,0,0,0,0,0,0]
[null,9,"Using public tap (< min.service level)"]
[null,10,"Other water supply (< min.service level)"]
[null,null,"No water supply"]
[null,null,"Below Minimum Service Level sub-total",null,{"$f":"SUM(E118:E120)","v":0},{"$f":"SUM(F118:F120)","v":0},0,0,0,0,0,0,0]
[null,null,"Total number of households",null,{"$f":"E117+E121","v":0},{"$f":"F117+F121","v":0},0,0,0,0,0,0,0]
[null,null,"Sanitation/sewerage:"]
[null,null,"Flush toilet (connected to sewerage)"]
[null,null,"Flush toilet (with septic tank)"]
[null,null,"Chemical toilet"]
[null,null,"Pit toilet (ventilated)"]
[null,null,"Other toilet provisions (> min.service level)"]
[null,null,"Minimum Service Level and Above sub-total",null,{"$f":"SUM(E124:E128)","v":0},{"$f":"SUM(F124:F128)","v":0},0,0,0,0,0,0,0]
[null,null,"Bucket toilet"]
[null,null,"Other toilet provisions (< min.service level)"]
[null,null,"No toilet provisions"]
[null,null,"Below Minimum Service Level sub-total",null,{"$f":"SUM(E130:E132)","v":0},{"$f":"SUM(F130:F132)","v":0},0,0,0,0,0,0,0]
[null,null,"Total number of households",null,{"$f":"E129+E133","v":0},{"$f":"F129+F133","v":0},0,0,0,0,0,0,0]
[null,null,"Energy:"]
[null,null,"Electricity (at least min.service level)"]
[null,null,"Electricity - prepaid (min.service level)"]
[null,null,"Minimum Service Level and Above sub-total",null,{"$f":"SUM(E136:E137)","v":0},{"$f":"SUM(F136:F137)","v":0},0,0,0,0,0,0,0]
[null,null,"Electricity (< min.service level)"]
[null,null,"Electricity - prepaid (< min. service level)"]
[null,null,"Other energy sources"]
[null,null,"Below Minimum Service Level sub-total",null,{"$f":"SUM(E139:E141)","v":0},{"$f":"SUM(F139:F141)","v":0},0,0,0,0,0,0,0]
[null,null,"Total number of households",null,{"$f":"E138+E142","v":0},{"$f":"F138+F142","v":0},0,0,0,0,0,0,0]
[null,null,"Refuse:"]
[null,null,"Removed at least once a week"]
[null,null,"Minimum Service Level and Above sub-total",null,{"$f":"SUM(E145)","v":0},{"$f":"SUM(F145)","v":0},0,0,0,0,0,0,0]
[null,null,"Removed less frequently than once a week"]
[null,null,"Using communal refuse dump"]
[null,null,"Using own refuse dump"]
[null,null,"Other rubbish disposal"]
[null,null,"No rubbish disposal"]
[null,null,"Below Minimum Service Level sub-total",null,{"$f":"SUM(E147:E151)","v":0},0,0,0,0,0,0,0,0]
[null,null,"Total number of households",null,{"$f":"E146+E152","v":0},{"$f":"F146+F152","v":0},0,0,0,0,0,0,0]
[]
["Municipal entity services",null,null,null,{"$f":"head1b","v":"2017/18"},{"$f":"head1A","v":"2018/19"},{"$f":"Head1","v":"2019/20"},{"$f":"Head2","v":"Current Year 2020/21"},null,null,{"$f":"Head3","v":"2021/22 Medium Term Revenue & Expenditure Framework"}]
[null,"Ref.",null,null,{"$f":"Head5A","v":"Outcome"},{"$f":"Head5A","v":"Outcome"},{"$f":"Head5A","v":"Outcome"},{"$f":"Head6","v":"Original Budget"},{"$f":"Head7","v":"Adjusted Budget"},{"$f":"Head8","v":"Full Year Forecast"},{"$f":"Head9","v":"Budget Year 2021/22"},{"$f":"Head10","v":"Budget Year +1 2022/23"},{"$f":"Head11","v":"Budget Year +2 2023/24"}]
[null,null,"Household service targets (000)"]
["Name of municipal entity",null,"Water:"]
[null,null,"Piped water inside dwelling"]
[null,null,"Piped water inside yard (but not in dwelling)"]
[null,8,"Using public tap (at least min.service level)"]
[null,10,"Other water supply (at least min.service level)"]
[null,null,"Minimum Service Level and Above sub-total",null,{"$f":"SUM(E159:E162)","v":0},{"$f":"SUM(F159:F162)","v":0},0,0,0,0,0,0,0]
[null,9,"Using public tap (< min.service level)"]
[null,10,"Other water supply (< min.service level)"]
[null,null,"No water supply"]
[null,null,"Below Minimum Service Level sub-total",null,{"$f":"SUM(E164:E166)","v":0},{"$f":"SUM(F164:F166)","v":0},0,0,0,0,0,0,0]
[null,null,"Total number of households",null,{"$f":"E163+E167","v":0},{"$f":"F163+F167","v":0},0,0,0,0,0,0,0]
["Name of municipal entity",null,"Sanitation/sewerage:"]
[null,null,"Flush toilet (connected to sewerage)"]
[null,null,"Flush toilet (with septic tank)"]
[null,null,"Chemical toilet"]
[null,null,"Pit toilet (ventilated)"]
[null,null,"Other toilet provisions (> min.service level)"]
[null,null,"Minimum Service Level and Above sub-total",null,{"$f":"SUM(E170:E174)","v":0},{"$f":"SUM(F170:F174)","v":0},0,0,0,0,0,0,0]
[null,null,"Bucket toilet"]
[null,null,"Other toilet provisions (< min.service level)"]
[null,null,"No toilet provisions"]
[null,null,"Below Minimum Service Level sub-total",null,{"$f":"SUM(E176:E178)","v":0},{"$f":"SUM(F176:F178)","v":0},0,0,0,0,0,0,0]
[null,null,"Total number of households",null,{"$f":"E175+E179","v":0},{"$f":"F175+F179","v":0},0,0,0,0,0,0,0]
["Name of municipal entity",null,"Energy:"]
[null,null,"Electricity (at least min.service level)"]
[null,null,"Electricity - prepaid (min.service level)"]
[null,null,"Minimum Service Level and Above sub-total",null,{"$f":"SUM(E182:E183)","v":0},{"$f":"SUM(F182:F183)","v":0},0,0,0,0,0,0,0]
[null,null,"Electricity (< min.service level)"]
[null,null,"Electricity - prepaid (< min. service level)"]
[null,null,"Other energy sources"]
[null,null,"Below Minimum Service Level sub-total",null,{"$f":"SUM(E185:E187)","v":0},{"$f":"SUM(F185:F187)","v":0},0,0,0,0,0,0,0]
[null,null,"Total number of households",null,{"$f":"E184+E188","v":0},{"$f":"F184+F188","v":0},0,0,0,0,0,0,0]
["Name of municipal entity",null,"Refuse:"]
[null,null,"Removed at least once a week"]
[null,null,"Minimum Service Level and Above sub-total",null,{"$f":"SUM(E191)","v":0},{"$f":"SUM(F191)","v":0},0,0,0,0,0,0,0]
[null,null,"Removed less frequently than once a week"]
[null,null,"Using communal refuse dump"]
[null,null,"Using own refuse dump"]
[null,null,"Other rubbish disposal"]
[null,null,"No rubbish disposal"]
[null,null,"Below Minimum Service Level sub-total",null,{"$f":"SUM(E193:E197)","v":0},0,0,0,0,0,0,0,0]
[null,null,"Total number of households",null,{"$f":"E192+E198","v":0},{"$f":"F192+F198","v":0},0,0,0,0,0,0,0]
[]
["Services provided by 'external mechanisms'",null,null,null,{"$f":"head1b","v":"2017/18"},{"$f":"head1A","v":"2018/19"},{"$f":"Head1","v":"2019/20"},{"$f":"Head2","v":"Current Year 2020/21"},null,null,{"$f":"Head3","v":"2021/22 Medium Term Revenue & Expenditure Framework"}]
[null,"Ref.",null,null,{"$f":"Head5A","v":"Outcome"},{"$f":"Head5A","v":"Outcome"},{"$f":"Head5A","v":"Outcome"},{"$f":"Head6","v":"Original Budget"},{"$f":"Head7","v":"Adjusted Budget"},{"$f":"Head8","v":"Full Year Forecast"},{"$f":"Head9","v":"Budget Year 2021/22"},{"$f":"Head10","v":"Budget Year +1 2022/23"},{"$f":"Head11","v":"Budget Year +2 2023/24"}]
["Names of service providers",null,"Household service targets (000)"]
[null,null,"Water:"]
[null,null,"Piped water inside dwelling"]
[null,null,"Piped water inside yard (but not in dwelling)"]
[null,8,"Using public tap (at least min.service level)"]
[null,10,"Other water supply (at least min.service level)"]
[null,null,"Minimum Service Level and Above sub-total",null,{"$f":"SUM(E205:E208)","v":0},{"$f":"SUM(F205:F208)","v":0},0,0,0,0,0,0,0]
[null,9,"Using public tap (< min.service level)"]
[null,10,"Other water supply (< min.service level)"]
[null,null,"No water supply"]
[null,null,"Below Minimum Service Level sub-total",null,{"$f":"SUM(E210:E212)","v":0},{"$f":"SUM(F210:F212)","v":0},0,0,0,0,0,0,0]
[null,null,"Total number of households",null,{"$f":"E209+E213","v":0},{"$f":"F209+F213","v":0},0,0,0,0,0,0,0]
["Names of service providers",null,"Sanitation/sewerage:"]
[null,null,"Flush toilet (connected to sewerage)"]
[null,null,"Flush toilet (with septic tank)"]
[null,null,"Chemical toilet"]
[null,null,"Pit toilet (ventilated)"]
[null,null,"Other toilet provisions (> min.service level)"]
[null,null,"Minimum Service Level and Above sub-total",null,{"$f":"SUM(E216:E220)","v":0},{"$f":"SUM(F216:F220)","v":0},0,0,0,0,0,0,0]
[null,null,"Bucket toilet"]
[null,null,"Other toilet provisions (< min.service level)"]
[null,null,"No toilet provisions"]
[null,null,"Below Minimum Service Level sub-total",null,{"$f":"SUM(E222:E224)","v":0},{"$f":"SUM(F222:F224)","v":0},0,0,0,0,0,0,0]
[null,null,"Total number of households",null,{"$f":"E221+E225","v":0},{"$f":"F221+F225","v":0},0,0,0,0,0,0,0]
["Names of service providers",null,"Energy:"]
[null,null,"Electricity (at least min.service level)"]
[null,null,"Electricity - prepaid (min.service level)"]
[null,null,"Minimum Service Level and Above sub-total",null,{"$f":"SUM(E228:E229)","v":0},{"$f":"SUM(F228:F229)","v":0},0,0,0,0,0,0,0]
[null,null,"Electricity (< min.service level)"]
[null,null,"Electricity - prepaid (< min. service level)"]
[null,null,"Other energy sources"]
[null,null,"Below Minimum Service Level sub-total",null,{"$f":"SUM(E231:E233)","v":0},{"$f":"SUM(F231:F233)","v":0},0,0,0,0,0,0,0]
[null,null,"Total number of households",null,{"$f":"E230+E234","v":0},{"$f":"F230+F234","v":0},0,0,0,0,0,0,0]
["Names of service providers",null,"Refuse:"]
[null,null,"Removed at least once a week"]
[null,null,"Minimum Service Level and Above sub-total",null,{"$f":"SUM(E237)","v":0},{"$f":"SUM(F237)","v":0},0,0,0,0,0,0,0]
[null,null,"Removed less frequently than once a week"]
[null,null,"Using communal refuse dump"]
[null,null,"Using own refuse dump"]
[null,null,"Other rubbish disposal"]
[null,null,"No rubbish disposal"]
[null,null,"Below Minimum Service Level sub-total",null,{"$f":"SUM(E239:E243)","v":0},0,0,0,0,0,0,0,0]
[null,null,"Total number of households",null,{"$f":"E238+E244","v":0},{"$f":"F238+F244","v":0},0,0,0,0,0,0,0]
[]
["Detail of Free Basic Services (FBS) provided",null,null,null,{"$f":"head1b","v":"2017/18"},{"$f":"head1A","v":"2018/19"},{"$f":"Head1","v":"2019/20"},{"$f":"Head2","v":"Current Year 2020/21"},null,null,{"$f":"Head3","v":"2021/22 Medium Term Revenue & Expenditure Framework"}]
[null,null,null,null,{"$f":"Head5A","v":"Outcome"},{"$f":"Head5A","v":"Outcome"},{"$f":"Head5A","v":"Outcome"},{"$f":"Head6","v":"Original Budget"},{"$f":"Head7","v":"Adjusted Budget"},{"$f":"Head8","v":"Full Year Forecast"},{"$f":"Head9","v":"Budget Year 2021/22"},{"$f":"Head10","v":"Budget Year +1 2022/23"},{"$f":"Head11","v":"Budget Year +2 2023/24"}]
["Electricity","Ref.","Location of households for each type of FBS"]
["List type of FBS service",null,"Formal settlements -  (50 kwh per indigent household per month Rands)",null,0,0,0,4200000,4200000,4200000,4200000,4376400,4568963]
[null,null,"Number of HH receiving this type of FBS"]
[null,null,"Informal settlements (Rands)"]
[null,null,"Number of HH receiving this type of FBS"]
[null,null,"Informal settlements targeted for upgrading (Rands)"]
[null,null,"Number of HH receiving this type of FBS"]
[null,null,"Living in informal backyard rental agreement (Rands)"]
[null,null,"Number of HH receiving this type of FBS"]
[null,null,"Other (Rands)"]
[null,null,"Number of HH receiving this type of FBS"]
[null,null,"Total cost of FBS - Electricity for informal settlements",null,{"$f":"E252+E254+E256+E258","v":0},{"$f":"F252+F254+F256+F258","v":0},0,0,0,0,0,0,0]
["Water","Ref.","Location of households for each type of FBS"]
["List type of FBS service",null,"Formal settlements -  (6 kilolitre per indigent household per month Rands)",null,0,0,0,0,0,0,0,0,0]
[null,null,"Number of HH receiving this type of FBS"]
[null,null,"Informal settlements (Rands)"]
[null,null,"Number of HH receiving this type of FBS"]
[null,null,"Informal settlements targeted for upgrading (Rands)"]
[null,null,"Number of HH receiving this type of FBS"]
[null,null,"Living in informal backyard rental agreement (Rands)"]
[null,null,"Number of HH receiving this type of FBS"]
[null,null,"Other (Rands)"]
[null,null,"Number of HH receiving this type of FBS"]
[null,null,"Total cost of FBS - Water  for informal settlements",null,{"$f":"E264+E266+E268+E270","v":0},{"$f":"F264+F266+F268+F270","v":0},0,0,0,0,0,0,0]
["Sanitation","Ref.","Location of households for each type of FBS"]
["List type of FBS service",null,"Formal settlements -  (free sanitation service to indigent households)",null,0,0,0,0,0,0,0,0,0]
[null,null,"Number of HH receiving this type of FBS"]
[null,null,"Informal settlements (Rands)"]
[null,null,"Number of HH receiving this type of FBS"]
[null,null,"Informal settlements targeted for upgrading (Rands)"]
[null,null,"Number of HH receiving this type of FBS"]
[null,null,"Living in informal backyard rental agreement (Rands)"]
[null,null,"Number of HH receiving this type of FBS"]
[null,null,"Other (Rands)"]
[null,null,"Number of HH receiving this type of FBS"]
[null,null,"Total cost of FBS - Sanitation for informal settlements",null,{"$f":"E276+E278+E280+E282","v":0},{"$f":"F276+F278+F280+F282","v":0},0,0,0,0,0,0,0]
["Refuse Removal","Ref.","Location of households for each type of FBS"]
["List type of FBS service",null,"Formal settlements -  (removed once a week to indigent households)",null,0,1162662.7,0,1200000,1200000,1200000,1200000,1250400,1305419]
[null,null,"Number of HH receiving this type of FBS"]
[null,null,"Informal settlements (Rands)"]
[null,null,"Number of HH receiving this type of FBS"]
[null,null,"Informal settlements targeted for upgrading (Rands)"]
[null,null,"Number of HH receiving this type of FBS"]
[null,null,"Living in informal backyard rental agreement (Rands)"]
[null,null,"Number of HH receiving this type of FBS"]
[null,null,"Other (Rands)"]
[null,null,"Number of HH receiving this type of FBS"]
[null,null,"Total cost of FBS - Refuse Removal for informal settlements",null,{"$f":"E288+E290+E292+E294","v":0},{"$f":"F288+F290+F292+F294","v":0},0,0,0,0,0,0,0]
[{"$f":"head27a","v":"References"}]
["1. Monthly household income threshold. Should include all sources of income."]
["2. Show the poverty analysis the municipality uses to determine its indigents policy and the provision of services"]
["3. Include total of all housing units within the municipality"]
["4. Number of subsidised dwellings to be constructed by the municipality under agency agreement with province"]
["5. Provide estimate based on building approval information. Include any non-subsidised dwellings constructed by the municipality"]
["6. Insert actual or estimated % increases assumed as a basis for budget calculations"]
["7. Insert actual or estimated % collection rate assumed as a basis for budget calculations for each revenue group"]
["8. Stand distance <= 200m from dwelling"]
["9. Stand distance > 200m from dwelling"]
["10. Borehole, spring, rain-water tank etc."]
["11. Must agree to total number of households in municipal area"]
["12. Household income categories assume an average 4 person household. Stats SA - Census 2011 Questionnaire"]
["13. Based on National poverty line of R515 per capita per month (2008 prices), assuming an average household size of 4 persons"]

{"sheet":"SA10","index":29,"n_rows":138,"n_cols":13,"rows_kept":138,"cut":false,"hidden":false,"merged":[[1,0,2,0],[1,10,1,12],[1,1,2,1],[1,2,2,2],[1,6,1,9]]}
[{"$f":"muni &\" \" & TableA10","v":"Choose name from list Supporting Table SA10 Funding measurement"}]
[{"$f":"desc","v":"Description"},"MFMA section",{"$f":"head27","v":"Ref"},{"$f":"head1b","v":"2017/18"},{"$f":"head1A","v":"2018/19"},{"$f":"Head1","v":"2019/20"},{"$f":"Head2","v":"Current Year 2020/21"},null,null,null,{"$f":"Head3","v":"2021/22 Medium Term Revenue & Expenditure Framework"}]
[null,null,null,{"$f":"Head5","v":"Audited Outcome"},{"$f":"Head5","v":"Audited Outcome"},{"$f":"Head5","v":"Audited Outcome"},{"$f":"Head6","v":"Original Budget"},{"$f":"Head7","v":"Adjusted Budget"},{"$f":"Head8","v":"Full Year Forecast"},{"$f":"Head5b","v":"Pre-audit outcome"},{"$f":"Head9","v":"Budget Year 2021/22"},{"$f":"Head10","v":"Budget Year +1 2022/23"},{"$f":"Head11","v":"Budget Year +2 2023/24"}]
["Funding measures"]
[{"$f":"LEFT('A7-CFlow'!A40,37)&\" - R'000\"","v":"Cash/cash equivalents at the year end - R'000"},"18(1)b",1,{"$f":"'A7-CFlow'!C40","v":7489881},{"$f":"'A7-CFlow'!D40","v":42033011},{"$f":"'A7-CFlow'!E40","v":70215766.169999868},{"$f":"'A7-CFlow'!F40","v":1205795982},{"$f":"'A7-CFlow'!G40","v":49291708},{"$f":"'A7-CFlow'!H40","v":49291708},{"$f":"'A7-CFlow'!I40","v":49291708},{"$f":"'A7-CFlow'!J40","v":34000000},{"$f":"'A7-CFlow'!K40","v":35428000},{"$f":"'A7-CFlow'!L40","v":35558830}]
["Cash + investments at the yr end less applications - R'000","18(1)b",2,{"$f":"'A8-ResRecon'!C8-'A8-ResRecon'!C18","v":110208794},{"$f":"'A8-ResRecon'!D8-'A8-ResRecon'!D18","v":128541853.84},{"$f":"'A8-ResRecon'!E8-'A8-ResRecon'!E18","v":284435045.60999995},{"$f":"'A8-ResRecon'!F8-'A8-ResRecon'!F18","v":125664020},{"$f":"'A8-ResRecon'!G8-'A8-ResRecon'!G18","v":111768706},{"$f":"'A8-ResRecon'!H8-'A8-ResRecon'!H18","v":111768706},{"$f":"'A8-ResRecon'!I8-'A8-ResRecon'!I18","v":109560706},{"$f":"'A8-ResRecon'!J8-'A8-ResRecon'!J18","v":425079560},{"$f":"'A8-ResRecon'!K8-'A8-ResRecon'!K18","v":444728303},{"$f":"'A8-ResRecon'!L8-'A8-ResRecon'!L18","v":914056908}]
["Cash year end/monthly employee/supplier payments","18(1)b",3,{"$f":"IF(ISERROR('SA8'!C39),0,('SA8'!C39))","v":9.4834774915604492E-2},{"$f":"IF(ISERROR('SA8'!D39),0,('SA8'!D39))","v":0.55908151139610363},{"$f":"IF(ISERROR('SA8'!E39),0,('SA8'!E39))","v":0.94497424207132696},{"$f":"IF(ISERROR('SA8'!F39),0,('SA8'!F39))","v":13.875315860037885},{"$f":"IF(ISERROR('SA8'!G39),0,('SA8'!G39))","v":0.57272422993352989},{"$f":"IF(ISERROR('SA8'!H39),0,('SA8'!H39))","v":0.57272422993352989},{"$f":"IF(ISERROR('SA8'!I39),0,('SA8'!I39))","v":0.57272422993352989},{"$f":"IF(ISERROR('SA8'!J39),0,('SA8'!J39))","v":0.38242342195649087},{"$f":"IF(ISERROR('SA8'!K39),0,('SA8'!K39))","v":0.3899111066840184},{"$f":"IF(ISERROR('SA8'!L39),0,('SA8'!L39))","v":0.36857672803277114}]
["Surplus/(Deficit) excluding depreciation offsets: R'000","18(1)",4,{"$f":"'A4-FinPerf RE'!C41+'SA3'!C156","v":-88291166.910000205},{"$f":"'A4-FinPerf RE'!D41+'SA3'!D156","v":-62772318.99999994},{"$f":"'A4-FinPerf RE'!E41+'SA3'!E156","v":212604512.18999994},{"$f":"'A4-FinPerf RE'!F41+'SA3'!F156","v":118290191},{"$f":"'A4-FinPerf RE'!G41+'SA3'!G156","v":186696315},{"$f":"'A4-FinPerf RE'!H41+'SA3'!H156","v":186696315},{"$f":"'A4-FinPerf RE'!I41+'SA3'!I156","v":192096315},{"$f":"'A4-FinPerf RE'!J41+'SA3'!J156","v":226523073},{"$f":"'A4-FinPerf RE'!K41+'SA3'!K156","v":244915604},{"$f":"'A4-FinPerf RE'!L41+'SA3'!L156","v":237865007}]
["Service charge rev % change - macro CPIX target exclusive","18(1)a,(2)",5,"N.A.",{"$f":"IF(ISERROR(E36-E61),0,(E36-E61))","v":-3.738768228138184E-2},{"$f":"IF(ISERROR(F36-F61),0,(F36-F61))","v":6.7173169149046752E-2},4.1190603652652202E-2,-4.7090002941509501E-2,-0.06,-5.2787104612516733E-2,{"$f":"IF(ISERROR(K36-K61),0,(K36-K61))","v":6.6051329592276942E-2},3.0931031283824295E-2,1.8846396838768265E-2]
["Cash receipts % of Ratepayer & Other revenue","18(1)a,(2)",6,{"$f":"IF(ISERROR(D53/D54),0,(D53/D54))","v":0.86887766417586709},{"$f":"IF(ISERROR(E53/E54),0,(E53/E54))","v":0.9037146128824538},0.83516116732833179,0.83875240189839129,0.86384679653791241,0.86384679653791241,0.85834986778711908,0.84474984952107535,0.84647922400213715,1.1218205481781323]
["Debt impairment expense as a % of total billable revenue","18(1)a,(2)",7,{"$f":"IF(ISERROR('A4-FinPerf RE'!C26/'SA10'!D43),0,('A4-FinPerf RE'!C26/'SA10'!D43))","v":0.19633168836986048},{"$f":"IF(ISERROR('A4-FinPerf RE'!D26/'SA10'!E43),0,('A4-FinPerf RE'!D26/'SA10'!E43))","v":0.20776632268877468},{"$f":"IF(ISERROR('A4-FinPerf RE'!E26/'SA10'!F43),0,('A4-FinPerf RE'!E26/'SA10'!F43))","v":3.4224982890907189E-2},{"$f":"IF(ISERROR('A4-FinPerf RE'!F26/'SA10'!G43),0,('A4-FinPerf RE'!F26/'SA10'!G43))","v":9.4755886405295767E-2},{"$f":"IF(ISERROR('A4-FinPerf RE'!G26/'SA10'!H43),0,('A4-FinPerf RE'!G26/'SA10'!H43))","v":9.3548186359396462E-2},{"$f":"IF(ISERROR('A4-FinPerf RE'!H26/'SA10'!I43),0,('A4-FinPerf RE'!H26/'SA10'!I43))","v":9.3548186359396462E-2},{"$f":"IF(ISERROR('A4-FinPerf RE'!I26/'SA10'!J43),0,('A4-FinPerf RE'!I26/'SA10'!J43))","v":9.2878265149105049E-2},{"$f":"IF(ISERROR('A4-FinPerf RE'!J26/'SA10'!K43),0,('A4-FinPerf RE'!J26/'SA10'!K43))","v":4.7080618002892434E-2},{"$f":"IF(ISERROR('A4-FinPerf RE'!K26/'SA10'!L43),0,('A4-FinPerf RE'!K26/'SA10'!L43))","v":4.4968932616389561E-2},{"$f":"IF(ISERROR('A4-FinPerf RE'!L26/'SA10'!M43),0,('A4-FinPerf RE'!L26/'SA10'!M43))","v":4.3516453116728214E-2}]
["Capital payments % of capital expenditure","18(1)c;19",8,{"$f":"IF(ISERROR(-'A7-CFlow'!C26/'A5-Capex'!C40),0,(-'A7-CFlow'!C26/'A5-Capex'!C40))","v":1},{"$f":"IF(ISERROR(-'A7-CFlow'!D26/'A5-Capex'!D40),0,(-'A7-CFlow'!D26/'A5-Capex'!D40))","v":1.3421905527371654},{"$f":"IF(ISERROR(-'A7-CFlow'!E26/'A5-Capex'!E40),0,(-'A7-CFlow'!E26/'A5-Capex'!E40))","v":0.8609103328440515},{"$f":"IF(ISERROR(-'A7-CFlow'!F26/'A5-Capex'!F40),0,(-'A7-CFlow'!F26/'A5-Capex'!F40))","v":0.98446257265445958},{"$f":"IF(ISERROR(-'A7-CFlow'!G26/'A5-Capex'!G40),0,(-'A7-CFlow'!G26/'A5-Capex'!G40))","v":0.94828609321956558},{"$f":"IF(ISERROR(-'A7-CFlow'!H26/'A5-Capex'!H40),0,(-'A7-CFlow'!H26/'A5-Capex'!H40))","v":0.94828609321956558},{"$f":"IF(ISERROR(-'A7-CFlow'!I26/'A5-Capex'!I40),0,(-'A7-CFlow'!I26/'A5-Capex'!I40))","v":0.94828609321956558},{"$f":"IF(ISERROR(-'A7-CFlow'!J26/'A5-Capex'!J40),0,(-'A7-CFlow'!J26/'A5-Capex'!J40))","v":0.99656114344273106},{"$f":"IF(ISERROR(-'A7-CFlow'!K26/'A5-Capex'!K40),0,(-'A7-CFlow'!K26/'A5-Capex'!K40))","v":0.86696132134277892},{"$f":"IF(ISERROR(-'A7-CFlow'!L26/'A5-Capex'!L40),0,(-'A7-CFlow'!L26/'A5-Capex'!L40))","v":0.84378071064858973}]
["Borrowing receipts % of capital expenditure (excl. transfers)","18(1)c",9,{"$f":"IF(ISERROR('A7-CFlow'!C32/'SA10'!D52),0,('A7-CFlow'!C32/'SA10'!D52))","v":0},{"$f":"IF(ISERROR('A7-CFlow'!D32/'SA10'!E52),0,('A7-CFlow'!D32/'SA10'!E52))","v":2.3487259042741528},{"$f":"IF(ISERROR('A7-CFlow'!E32/'SA10'!F52),0,('A7-CFlow'!E32/'SA10'!F52))","v":0.22048708599227368},{"$f":"IF(ISERROR('A7-CFlow'!F32/'SA10'!G52),0,('A7-CFlow'!F32/'SA10'!G52))","v":0.7136909718092066},{"$f":"IF(ISERROR('A7-CFlow'!G32/'SA10'!H52),0,('A7-CFlow'!G32/'SA10'!H52))","v":0.46726141464732768},{"$f":"IF(ISERROR('A7-CFlow'!H32/'SA10'!I52),0,('A7-CFlow'!H32/'SA10'!I52))","v":0.46726141464732768},{"$f":"IF(ISERROR('A7-CFlow'!I32/'SA10'!J52),0,('A7-CFlow'!I32/'SA10'!J52))","v":0.46726141464732768},{"$f":"IF(ISERROR('A7-CFlow'!J32/'SA10'!K52),0,('A7-CFlow'!J32/'SA10'!K52))","v":0},{"$f":"IF(ISERROR('A7-CFlow'!K32/'SA10'!L52),0,('A7-CFlow'!K32/'SA10'!L52))","v":0},{"$f":"IF(ISERROR('A7-CFlow'!L32/'SA10'!M52),0,('A7-CFlow'!L32/'SA10'!M52))","v":1.4412318058356369E-8}]
["Grants % of Govt. legislated/gazetted allocations","18(1)a",10,null,null,null,null,null,null,null,{"$f":"IF(ISERROR(K56/K68),0,(K56/K68))","v":0},{"$f":"IF(ISERROR(L56/L68),0,(L56/L68))","v":0},{"$f":"IF(ISERROR(M56/M68),0,(M56/M68))","v":0}]
["Current consumer debtors % change - incr(decr)","18(1)a",11,"N.A.",{"$f":"IF(ISERROR(ROUND((SUM('A6-FinPos'!D8:D10)-SUM('A6-FinPos'!C8:C10))/SUM('A6-FinPos'!C8:C10),3)),0,(ROUND((SUM('A6-FinPos'!D8:D10)-SUM('A6-FinPos'!C8:C10))/SUM('A6-FinPos'!C8:C10),3)))","v":-5.0000000000000001E-3},{"$f":"IF(ISERROR(ROUND((SUM('A6-FinPos'!E8:E10)-SUM('A6-FinPos'!D8:D10))/SUM('A6-FinPos'!D8:D10),3)),0,(ROUND((SUM('A6-FinPos'!E8:E10)-SUM('A6-FinPos'!D8:D10))/SUM('A6-FinPos'!D8:D10),3)))","v":0.42},{"$f":"IF(ISERROR(ROUND((SUM('A6-FinPos'!F8:F10)-SUM('A6-FinPos'!E8:E10))/SUM('A6-FinPos'!E8:E10),3)),0,(ROUND((SUM('A6-FinPos'!F8:F10)-SUM('A6-FinPos'!E8:E10))/SUM('A6-FinPos'!E8:E10),3)))","v":-0.315},{"$f":"IF(ISERROR(ROUND((SUM('A6-FinPos'!G8:G10)-SUM('A6-FinPos'!F8:F10))/SUM('A6-FinPos'!F8:F10),3)),0,(ROUND((SUM('A6-FinPos'!G8:G10)-SUM('A6-FinPos'!F8:F10))/SUM('A6-FinPos'!F8:F10),3)))","v":0},{"$f":"IF(ISERROR(ROUND((SUM('A6-FinPos'!H8:H10)-SUM('A6-FinPos'!G8:G10))/SUM('A6-FinPos'!G8:G10),3)),0,(ROUND((SUM('A6-FinPos'!H8:H10)-SUM('A6-FinPos'!G8:G10))/SUM('A6-FinPos'!G8:G10),3)))","v":0},{"$f":"IF(ISERROR(ROUND((SUM('A6-FinPos'!I8:I10)-SUM('A6-FinPos'!H8:H10))/SUM('A6-FinPos'!H8:H10),3)),0,(ROUND((SUM('A6-FinPos'!I8:I10)-SUM('A6-FinPos'!H8:H10))/SUM('A6-FinPos'!H8:H10),3)))","v":0},{"$f":"IF(ISERROR(ROUND((SUM('A6-FinPos'!J8:J10)-SUM('A6-FinPos'!G8:G10))/SUM('A6-FinPos'!G8:G10),3)),0,(ROUND((SUM('A6-FinPos'!J8:J10)-SUM('A6-FinPos'!G8:G10))/SUM('A6-FinPos'!G8:G10),3)))","v":0.32900000000000001},{"$f":"IF(ISERROR(ROUND((SUM('A6-FinPos'!K8:K10)-SUM('A6-FinPos'!J8:J10))/SUM('A6-FinPos'!J8:J10),3)),0,(ROUND((SUM('A6-FinPos'!K8:K10)-SUM('A6-FinPos'!J8:J10))/SUM('A6-FinPos'!J8:J10),3)))","v":4.2999999999999997E-2},{"$f":"IF(ISERROR(ROUND((SUM('A6-FinPos'!L8:L10)-SUM('A6-FinPos'!K8:K10))/SUM('A6-FinPos'!K8:K10),3)),0,(ROUND((SUM('A6-FinPos'!L8:L10)-SUM('A6-FinPos'!K8:K10))/SUM('A6-FinPos'!K8:K10),3)))","v":0.03}]
["Long term receivables % change - incr(decr)","18(1)a",12,"N.A.",{"$f":"IF(ISERROR(ROUND(('A6-FinPos'!D15-'A6-FinPos'!C15)/'A6-FinPos'!C15,3)),0,(ROUND(('A6-FinPos'!D15-'A6-FinPos'!C15)/'A6-FinPos'!C15,3)))","v":0},{"$f":"IF(ISERROR(ROUND(('A6-FinPos'!E15-'A6-FinPos'!D15)/'A6-FinPos'!D15,3)),0,(ROUND(('A6-FinPos'!E15-'A6-FinPos'!D15)/'A6-FinPos'!D15,3)))","v":0},{"$f":"IF(ISERROR(ROUND(('A6-FinPos'!F15-'A6-FinPos'!E15)/'A6-FinPos'!E15,3)),0,(ROUND(('A6-FinPos'!F15-'A6-FinPos'!E15)/'A6-FinPos'!E15,3)))","v":0},{"$f":"IF(ISERROR(ROUND(('A6-FinPos'!G15-'A6-FinPos'!F15)/'A6-FinPos'!F15,3)),0,(ROUND(('A6-FinPos'!G15-'A6-FinPos'!F15)/'A6-FinPos'!F15,3)))","v":0},{"$f":"IF(ISERROR(ROUND(('A6-FinPos'!H15-'A6-FinPos'!G15)/'A6-FinPos'!G15,3)),0,(ROUND(('A6-FinPos'!H15-'A6-FinPos'!G15)/'A6-FinPos'!G15,3)))","v":0},{"$f":"IF(ISERROR(ROUND(('A6-FinPos'!I15-'A6-FinPos'!H15)/'A6-FinPos'!H15,3)),0,(ROUND(('A6-FinPos'!I15-'A6-FinPos'!H15)/'A6-FinPos'!H15,3)))","v":0},{"$f":"IF(ISERROR(ROUND(('A6-FinPos'!J15-'A6-FinPos'!G15)/'A6-FinPos'!G15,3)),0,(ROUND(('A6-FinPos'!J15-'A6-FinPos'!G15)/'A6-FinPos'!G15,3)))","v":0},{"$f":"IF(ISERROR(ROUND(('A6-FinPos'!K15-'A6-FinPos'!J15)/'A6-FinPos'!J15,3)),0,(ROUND(('A6-FinPos'!K15-'A6-FinPos'!J15)/'A6-FinPos'!J15,3)))","v":0},{"$f":"IF(ISERROR(ROUND(('A6-FinPos'!L15-'A6-FinPos'!K15)/'A6-FinPos'!K15,3)),0,(ROUND(('A6-FinPos'!L15-'A6-FinPos'!K15)/'A6-FinPos'!K15,3)))","v":0}]
["R&M % of Property Plant & Equipment","20(1)(vi)",13,{"$f":"IF(ISERROR('A9-Asset'!C169/'A6-FinPos'!C19),0,('A9-Asset'!C169/'A6-FinPos'!C19))","v":3.9799285596895287E-2},{"$f":"IF(ISERROR('A9-Asset'!D169/'A6-FinPos'!D19),0,('A9-Asset'!D169/'A6-FinPos'!D19))","v":7.3798956014602818E-2},{"$f":"IF(ISERROR('A9-Asset'!E169/'A6-FinPos'!E19),0,('A9-Asset'!E169/'A6-FinPos'!E19))","v":2.4283374362980684E-2},{"$f":"IF(ISERROR('A9-Asset'!F169/'A6-FinPos'!F19),0,('A9-Asset'!F169/'A6-FinPos'!F19))","v":3.1829274798962304E-2},{"$f":"IF(ISERROR('A9-Asset'!G169/'A6-FinPos'!G19),0,('A9-Asset'!G169/'A6-FinPos'!G19))","v":3.6740622890128229E-2},{"$f":"IF(ISERROR('A9-Asset'!H169/'A6-FinPos'!H19),0,('A9-Asset'!H169/'A6-FinPos'!H19))","v":3.6740622890128229E-2},{"$f":"IF(ISERROR('A9-Asset'!I169/'A6-FinPos'!I19),0,('A9-Asset'!I169/'A6-FinPos'!I19))","v":7.650354144266272E-2},{"$f":"IF(ISERROR('A9-Asset'!I169/'A6-FinPos'!J19),0,('A9-Asset'!I169/'A6-FinPos'!J19))","v":5.2580922358716413E-2},{"$f":"IF(ISERROR('A9-Asset'!J169/'A6-FinPos'!K19),0,('A9-Asset'!J169/'A6-FinPos'!K19))","v":4.6084483505419348E-2},{"$f":"IF(ISERROR('A9-Asset'!K169/'A6-FinPos'!L19),0,('A9-Asset'!K169/'A6-FinPos'!L19))","v":4.5488440641749901E-2}]
["Asset renewal % of capital budget",{"$f":"B17","v":"20(1)(vi)"},14,{"$f":"IF(ISERROR(D58/D57),0,(D58/D57))","v":0},0,6.9667642218486037E-2,4.5810956780614857E-3,4.0917304974744315E-2,4.0917304974744315E-2,0,2.5982471766032429E-2,0.15802248291420939,{"$f":"IF(ISERROR(M58/M57),0,((M58/M57)))","v":8.3769556400085446E-2}]
[]
[{"$f":"head27a","v":"References"}]
["1. Positive cash balances indicative of minimum compliance - subject to 2"]
["2. Deduct cash and investment applications (defined) from cash balances"]
["3. Indicative of sufficient liquidity to meet average monthly operating payments"]
["4. Indicative of funded operational requirements"]
["5. Indicative of adherence to macro-economic targets (prior to 2003/04 revenue not available for high capacity municipalities and later for other capacity classifications)"]
["6. Realistic average cash collection forecasts as % of annual billed revenue"]
["7. Realistic average increase in debt impairment (doubtful debt) provision"]
["8. Indicative of planned capital expenditure level & cash payment timing"]
["9. Indicative of compliance with borrowing 'only' for the capital budget - should not exceed 100% unless refinancing"]
["10. Substantiation of National/Province allocations included in budget"]
["11. Indicative of realistic current arrear debtor collection targets (prior to 2003/04 revenue not available for high capacity municipalities and later for other capacity classifications)"]
["12. Indicative of realistic long term arrear debtor collection targets (prior to 2003/04 revenue not available for high capacity municipalities and later for other capacity classifications)"]
["13. Indicative of a credible allowance for repairs & maintenance of assets - functioning assets revenue protection"]
["14. Indicative of a credible allowance for asset renewal (requires analysis of asset renewal projects as % of total capital projects - detailed capital plan) - functioning assets revenue protection"]
["Supporting indicators"]
["% incr total service charges (incl prop rates)","18(1)a",null,null,{"$f":"IF(ISERROR((E44/D44)-1),0,((E44/D44)-1))","v":2.2612317718618158E-2},{"$f":"IF(ISERROR((F44/E44)-1),0,((F44/E44)-1))","v":0.12717316914904675},{"$f":"IF(ISERROR((G44/F44)-1),0,((G44/F44)-1))","v":0.1011906036526522},{"$f":"IF(ISERROR((H44/G44)-1),0,((H44/G44)-1))","v":1.2909997058490497E-2},{"$f":"IF(ISERROR((I44/H44)-1),0,((I44/H44)-1))","v":0},{"$f":"IF(ISERROR((J44/I44)-1),0,((J44/I44)-1))","v":7.2128953874832646E-3},{"$f":"IF(ISERROR((K44/H44)-1),0,((K44/H44)-1))","v":0.12605132959227694},{"$f":"IF(ISERROR((L44/K44)-1),0,((L44/K44)-1))","v":9.0931031283824293E-2},{"$f":"IF(ISERROR((M44/L44)-1),0,((M44/L44)-1))","v":7.8846396838768262E-2}]
["% incr Property Tax","18(1)a",null,null,9.9450600680682122E-2,{"$f":"IF(ISERROR((F45/E45)-1),0,((F45/E45)-1))","v":5.1139561077526485E-2},0.15471911267992255,0,0,0,{"$f":"IF(ISERROR((K45/H45)-1),0,((K45/H45)-1))","v":3.7735849056603765E-2},4.2000000000000037E-2,4.4000041877508389E-2]
[{"$f":"\"% incr \"&'A4-FinPerf RE'!A6","v":"% incr Service charges - electricity revenue"},"18(1)a",null,null,-4.7772385277665697E-3,0.16329261419139907,9.1487814843429049E-2,1.6705152827113379E-2,0,7.2321147220026916E-3,0.15304230959305576,0.10360237372992565,{"$f":"IF(ISERROR((M46/L46)-1),0,((M46/L46)-1))","v":8.7366612078114469E-2}]
[{"$f":"\"% incr \"&'A4-FinPerf RE'!A7","v":"% incr Service charges - water revenue"},"18(1)a",null,null,0,0,0,0,0,0,0,0,0]
[{"$f":"\"% incr \"&'A4-FinPerf RE'!A8","v":"% incr Service charges - sanitation revenue"},"18(1)a",null,null,0,0,0,0,0,0,0,0,0]
[{"$f":"\"% incr \"&'A4-FinPerf RE'!A9","v":"% incr Service charges - refuse revenue"},"18(1)a",null,null,0.175933786924521,-9.0942850764207939E-2,6.9057576328335424E-2,0,0,3.3882864452843053E-2,1.3870204685254794E-2,4.2000023337833259E-2,4.3999980649715775E-2]
[{"$f":"\"% incr in \"&'A4-FinPerf RE'!A10","v":"% incr in "},"18(1)a",null,null,0,0,0,0,{"$f":"IF(ISERROR((I50/H50)-1),0,((I50/H50)-1))","v":0},0,0,{"$f":"IF(ISERROR((L50/K50)-1),0,((L50/K50)-1))","v":0},0]
["Total billable revenue","18(1)a",null,{"$f":"SUM(D45:D50)","v":582303110.36000001},{"$f":"SUM(E45:E50)","v":595470333.29999995},671198182.72000003,739117132,748659132,748659132,754059132,843028611,919686072,992200005]
["Service charges",null,null,{"$f":"SUM(D45:D50)","v":582303110.36000001},{"$f":"SUM(E45:E50)","v":595470333.29999995},671198182.72000003,739117132,748659132,748659132,{"$f":"SUM(J45:J50)","v":754059132},843028611,919686072,992200005]
["Property rates",null,null,{"$f":"'A4-FinPerf RE'!C5","v":99289522.359999985},{"$f":"'A4-FinPerf RE'!D5","v":109163925},{"$f":"'A4-FinPerf RE'!E5","v":114746520.21000001},{"$f":"'A4-FinPerf RE'!F5","v":132500000},{"$f":"'A4-FinPerf RE'!G5","v":132500000},{"$f":"'A4-FinPerf RE'!H5","v":132500000},{"$f":"'A4-FinPerf RE'!I5","v":132500000},{"$f":"'A4-FinPerf RE'!J5","v":137500000},{"$f":"'A4-FinPerf RE'!K5","v":143275000},{"$f":"'A4-FinPerf RE'!L5","v":149579106}]
["Service charges - electricity revenue",null,null,{"$f":"'A4-FinPerf RE'!C6","v":452023274},{"$f":"'A4-FinPerf RE'!D6","v":449863851},{"$f":"'A4-FinPerf RE'!E6","v":523323295.25999999},{"$f":"'A4-FinPerf RE'!F6","v":571201000},{"$f":"'A4-FinPerf RE'!G6","v":580743000},{"$f":"'A4-FinPerf RE'!H6","v":580743000},{"$f":"'A4-FinPerf RE'!I6","v":584943000},{"$f":"'A4-FinPerf RE'!J6","v":669621250},{"$f":"'A4-FinPerf RE'!K6","v":738995601},{"$f":"'A4-FinPerf RE'!L6","v":803559143}]
["Service charges - water revenue",null,null,{"$f":"'A4-FinPerf RE'!C7","v":0},{"$f":"'A4-FinPerf RE'!D7","v":0},{"$f":"'A4-FinPerf RE'!E7","v":0},{"$f":"'A4-FinPerf RE'!F7","v":0},{"$f":"'A4-FinPerf RE'!G7","v":0},{"$f":"'A4-FinPerf RE'!H7","v":0},{"$f":"'A4-FinPerf RE'!I7","v":0},{"$f":"'A4-FinPerf RE'!J7","v":0},{"$f":"'A4-FinPerf RE'!K7","v":0},{"$f":"'A4-FinPerf RE'!L7","v":4}]
["Service charges - sanitation revenue",null,null,{"$f":"'A4-FinPerf RE'!C8","v":0},{"$f":"'A4-FinPerf RE'!D8","v":0},{"$f":"'A4-FinPerf RE'!E8","v":0},{"$f":"'A4-FinPerf RE'!F8","v":0},{"$f":"'A4-FinPerf RE'!G8","v":0},{"$f":"'A4-FinPerf RE'!H8","v":0},{"$f":"'A4-FinPerf RE'!I8","v":0},{"$f":"'A4-FinPerf RE'!J8","v":0},{"$f":"'A4-FinPerf RE'!K8","v":0},{"$f":"'A4-FinPerf RE'!L8","v":1}]
["Service charges - refuse removal",null,null,{"$f":"'A4-FinPerf RE'!C9","v":30990314},{"$f":"'A4-FinPerf RE'!D9","v":36442557.299999997},{"$f":"'A4-FinPerf RE'!E9","v":33128367.25},{"$f":"'A4-FinPerf RE'!F9","v":35416132},{"$f":"'A4-FinPerf RE'!G9","v":35416132},{"$f":"'A4-FinPerf RE'!H9","v":35416132},{"$f":"'A4-FinPerf RE'!I9","v":36616132},{"$f":"'A4-FinPerf RE'!J9","v":35907361},{"$f":"'A4-FinPerf RE'!K9","v":37415471},{"$f":"'A4-FinPerf RE'!L9","v":39061751}]
["Service charges - other",null,null,{"$f":"'A4-FinPerf RE'!C10","v":0},{"$f":"'A4-FinPerf RE'!D10","v":0},{"$f":"'A4-FinPerf RE'!E10","v":0},{"$f":"'A4-FinPerf RE'!F10","v":0},{"$f":"'A4-FinPerf RE'!G10","v":0},{"$f":"'A4-FinPerf RE'!H10","v":0},{"$f":"'A4-FinPerf RE'!I10","v":0},{"$f":"'A4-FinPerf RE'!J10","v":0},{"$f":"'A4-FinPerf RE'!K10","v":0},{"$f":"'A4-FinPerf RE'!L10","v":0}]
[{"$f":"'A4-FinPerf RE'!A11","v":"Rental of facilities and equipment"},null,null,{"$f":"'A4-FinPerf RE'!C11","v":1781895},{"$f":"'A4-FinPerf RE'!D11","v":2132695.52},{"$f":"'A4-FinPerf RE'!E11","v":1152232.67},{"$f":"'A4-FinPerf RE'!F11","v":1170100},{"$f":"'A4-FinPerf RE'!G11","v":1170100},{"$f":"'A4-FinPerf RE'!H11","v":1170100},{"$f":"'A4-FinPerf RE'!I11","v":1170100},{"$f":"'A4-FinPerf RE'!J11","v":1170100},{"$f":"'A4-FinPerf RE'!K11","v":1219245},{"$f":"'A4-FinPerf RE'!L11","v":1272892}]
["Capital expenditure excluding capital grant funding",null,null,{"$f":"'A5-Capex'!C40-'A5-Capex'!C70","v":29586458},{"$f":"'A5-Capex'!D40-'A5-Capex'!D70","v":17030510},{"$f":"'A5-Capex'!E40-'A5-Capex'!E70","v":90708260.350000009},{"$f":"'A5-Capex'!F40-'A5-Capex'!F70","v":42035000},{"$f":"'A5-Capex'!G40-'A5-Capex'!G70","v":64203889},{"$f":"'A5-Capex'!H40-'A5-Capex'!H70","v":64203889},{"$f":"'A5-Capex'!I40-'A5-Capex'!I70","v":64203889},{"$f":"'A5-Capex'!J40-'A5-Capex'!J70","v":36103500},{"$f":"'A5-Capex'!K40-'A5-Capex'!K70","v":57500000},{"$f":"'A5-Capex'!L40-'A5-Capex'!L70","v":69385091}]
["Cash receipts from ratepayers","18(1)a",null,{"$f":"'A7-CFlow'!C6+'A7-CFlow'!C7+'A7-CFlow'!C8","v":586699934},{"$f":"'A7-CFlow'!D6+'A7-CFlow'!D7+'A7-CFlow'!D8","v":615292488},{"$f":"'A7-CFlow'!E6+'A7-CFlow'!E7+'A7-CFlow'!E8","v":671084668},{"$f":"'A7-CFlow'!F6+'A7-CFlow'!F7+'A7-CFlow'!F8","v":728408008},{"$f":"'A7-CFlow'!G6+'A7-CFlow'!G7+'A7-CFlow'!G8","v":728408028},{"$f":"'A7-CFlow'!H6+'A7-CFlow'!H7+'A7-CFlow'!H8","v":728408028},{"$f":"'A7-CFlow'!I6+'A7-CFlow'!I7+'A7-CFlow'!I8","v":728408028},{"$f":"'A7-CFlow'!J6+'A7-CFlow'!J7+'A7-CFlow'!J8","v":790984659},{"$f":"'A7-CFlow'!K6+'A7-CFlow'!K7+'A7-CFlow'!K8","v":860810830},{"$f":"'A7-CFlow'!L6+'A7-CFlow'!L7+'A7-CFlow'!L8","v":1226961567}]
["Ratepayer & Other revenue","18(1)a",null,{"$f":"SUM('A4-FinPerf RE'!C5:C11)+'A4-FinPerf RE'!C13+SUM('A4-FinPerf RE'!C15:C17)+'A4-FinPerf RE'!C19","v":675238826.11999989},{"$f":"SUM('A4-FinPerf RE'!D5:D11)+'A4-FinPerf RE'!D13+SUM('A4-FinPerf RE'!D15:D17)+'A4-FinPerf RE'!D19","v":680848222.68999994},{"$f":"SUM('A4-FinPerf RE'!E5:E11)+'A4-FinPerf RE'!E13+SUM('A4-FinPerf RE'!E15:E17)+'A4-FinPerf RE'!E19","v":803539118.25999999},{"$f":"SUM('A4-FinPerf RE'!F5:F11)+'A4-FinPerf RE'!F13+SUM('A4-FinPerf RE'!F15:F17)+'A4-FinPerf RE'!F19","v":868442232},{"$f":"SUM('A4-FinPerf RE'!G5:G11)+'A4-FinPerf RE'!G13+SUM('A4-FinPerf RE'!G15:G17)+'A4-FinPerf RE'!G19","v":843214365},{"$f":"SUM('A4-FinPerf RE'!H5:H11)+'A4-FinPerf RE'!H13+SUM('A4-FinPerf RE'!H15:H17)+'A4-FinPerf RE'!H19","v":843214365},{"$f":"SUM('A4-FinPerf RE'!I5:I11)+'A4-FinPerf RE'!I13+SUM('A4-FinPerf RE'!I15:I17)+'A4-FinPerf RE'!I19","v":848614365},{"$f":"SUM('A4-FinPerf RE'!J5:J11)+'A4-FinPerf RE'!J13+SUM('A4-FinPerf RE'!J15:J17)+'A4-FinPerf RE'!J19","v":936353714},{"$f":"SUM('A4-FinPerf RE'!K5:K11)+'A4-FinPerf RE'!K13+SUM('A4-FinPerf RE'!K15:K17)+'A4-FinPerf RE'!K19","v":1016930842},{"$f":"SUM('A4-FinPerf RE'!L5:L11)+'A4-FinPerf RE'!L13+SUM('A4-FinPerf RE'!L15:L17)+'A4-FinPerf RE'!L19","v":1093723563}]
["Change in consumer debtors (current and non-current)",null,null,{"$f":"D84","v":86859130.023333266},{"$f":"(SUM('A6-FinPos'!D8:D10)+'A6-FinPos'!D15)-(SUM('A6-FinPos'!C8:C10)+'A6-FinPos'!C15)","v":-2201209},{"$f":"(SUM('A6-FinPos'!E8:E10)+'A6-FinPos'!E15)-(SUM('A6-FinPos'!D8:D10)+'A6-FinPos'!D15)","v":173647413.37999988},{"$f":"(SUM('A6-FinPos'!F8:F10)+'A6-FinPos'!F15)-(SUM('A6-FinPos'!E8:E10)+'A6-FinPos'!E15)","v":-184866001.37999988},{"$f":"(SUM('A6-FinPos'!G8:G10)+'A6-FinPos'!G15)-(SUM('A6-FinPos'!E8:E10)+'A6-FinPos'!E15)","v":-184865998.37999988},{"$f":"(SUM('A6-FinPos'!H8:H10)+'A6-FinPos'!H15)-(SUM('A6-FinPos'!E8:E10)+'A6-FinPos'!E15)","v":-184865998.37999988},{"$f":"(SUM('A6-FinPos'!I8:I10)+'A6-FinPos'!I15)-(SUM('A6-FinPos'!E8:E10)+'A6-FinPos'!E15)","v":-184865998.37999988},{"$f":"(SUM('A6-FinPos'!J8:J10)+'A6-FinPos'!J15)-(SUM('A6-FinPos'!F8:F10)+'A6-FinPos'!F15)","v":132000000},{"$f":"(SUM('A6-FinPos'!K8:K10)+'A6-FinPos'!K15)-(SUM('A6-FinPos'!J8:J10)+'A6-FinPos'!J15)","v":22873721},{"$f":"(SUM('A6-FinPos'!L8:L10)+'A6-FinPos'!L15)-(SUM('A6-FinPos'!K8:K10)+'A6-FinPos'!K15)","v":16420613}]
["Operating and Capital Grant Revenue","18(1)a",null,{"$f":"'A4-FinPerf RE'!C18+'A4-FinPerf RE'!C38","v":445982000},{"$f":"'A4-FinPerf RE'!D18+'A4-FinPerf RE'!D38","v":445751442.14999998},{"$f":"'A4-FinPerf RE'!E18+'A4-FinPerf RE'!E38","v":496739906.69999999},{"$f":"'A4-FinPerf RE'!F18+'A4-FinPerf RE'!F38","v":532902000},{"$f":"'A4-FinPerf RE'!G18+'A4-FinPerf RE'!G38","v":619902000},{"$f":"'A4-FinPerf RE'!H18+'A4-FinPerf RE'!H38","v":619902000},{"$f":"'A4-FinPerf RE'!I18+'A4-FinPerf RE'!I38","v":619902000},{"$f":"'A4-FinPerf RE'!J18+'A4-FinPerf RE'!J38","v":608842000},{"$f":"'A4-FinPerf RE'!K18+'A4-FinPerf RE'!K38","v":581634000},{"$f":"'A4-FinPerf RE'!L18+'A4-FinPerf RE'!L38","v":580452002}]
["Capital expenditure - total",{"$f":"B17","v":"20(1)(vi)"},null,{"$f":"'A5-Capex'!C40","v":126531358},{"$f":"'A5-Capex'!D40","v":103482439},{"$f":"'A5-Capex'!E40","v":190258111.34},{"$f":"'A5-Capex'!F40","v":130973034},{"$f":"'A5-Capex'!G40","v":161492943},{"$f":"'A5-Capex'!H40","v":161492943},{"$f":"'A5-Capex'!I40","v":161492943},{"$f":"'A5-Capex'!J40","v":130857450},{"$f":"'A5-Capex'!K40","v":160103800},{"$f":"'A5-Capex'!L40","v":176675282}]
["Capital expenditure - renewal",{"$f":"B18","v":"20(1)(vi)"},null,{"$f":"'A9-Asset'!C37","v":0},{"$f":"'A9-Asset'!D37","v":0},{"$f":"'A9-Asset'!E37","v":13254834.030000001},{"$f":"'A9-Asset'!F37","v":600000},{"$f":"'A9-Asset'!G37","v":6607856},{"$f":"'A9-Asset'!H37","v":6607856},null,{"$f":"'A9-Asset'!I37","v":3400000},{"$f":"'A9-Asset'!J37","v":25300000},{"$f":"'A9-Asset'!K37","v":14800010}]
[]
["Supporting benchmarks"]
["Growth guideline maximum",null,null,0.06,0.06,0.06,0.06,0.06,0.06,0.06,0.06,0.06,0.06]
["CPI guideline",null,null,4.2999999999999997E-2,3.9E-2,4.5999999999999999E-2,0.05,0.05,0.05,0.05,5.3999999999999999E-2,5.6000000000000001E-2,5.3999999999999999E-2]
["DoRA operating grants total MFY"]
["DoRA capital grants total MFY"]
["Provincial operating grants"]
["Provincial capital grants"]
["District Municipality grants"]
["Total gazetted/advised national, provincial and district grants",null,null,null,null,null,null,null,null,null,{"$f":"SUM(K63:K67)","v":0},{"$f":"SUM(L63:L67)","v":0},{"$f":"SUM(M63:M67)","v":0}]
["Average annual collection rate (arrears inclusive)"]
[]
["DoRA operating"]
["List operating grants"]
[]
[]
[]
[null,null,null,null,null,null,null,null,null,null,{"$f":"SUM(K72:K75)","v":0},{"$f":"SUM(L72:L75)","v":0},{"$f":"SUM(M72:M75)","v":0}]
["DoRA capital"]
["List capital grants"]
[]
[]
[]
[null,null,null,null,null,null,null,null,null,null,{"$f":"SUM(K78:K81)","v":0},{"$f":"SUM(L78:L81)","v":0},{"$f":"SUM(M78:M81)","v":0}]
["Trend"]
[{"$f":"A55","v":"Change in consumer debtors (current and non-current)"},null,null,{"$f":"TREND(E84:G84)","v":86859130.023333266},{"$f":"E55","v":-2201209},{"$f":"F55","v":173647413.37999988},{"$f":"J55","v":-184865998.37999988},{"$f":"K55","v":132000000},22873721,16420613,0,0,0]
[]
["Total Operating Revenue",null,null,{"$f":"'A1-Sum'!B10","v":1039774703.87},{"$f":"'A1-Sum'!C10","v":1060064858.41},{"$f":"'A1-Sum'!D10","v":1231087572.3599999},{"$f":"'A1-Sum'!E10","v":1316707182},{"$f":"'A1-Sum'!F10","v":1378479315},{"$f":"'A1-Sum'!G10","v":1378479315},{"$f":"'A1-Sum'!H10","v":1383879315},{"$f":"'A1-Sum'!I10","v":1453941764},{"$f":"'A1-Sum'!J10","v":1499608042},{"$f":"'A1-Sum'!K10","v":1570692885}]
["Total Operating Expenditure",null,null,{"$f":"'A1-Sum'!B18","v":1225010770.78},{"$f":"'A1-Sum'!C18","v":1198987798.5999999},{"$f":"'A1-Sum'!D18","v":1106352377.2800002},{"$f":"'A1-Sum'!E18","v":1287355041},{"$f":"'A1-Sum'!F18","v":1280721050},{"$f":"'A1-Sum'!G18","v":1280721050},{"$f":"'A1-Sum'!H18","v":1280721050},{"$f":"'A1-Sum'!I18","v":1322172641},{"$f":"'A1-Sum'!J18","v":1357296238},{"$f":"'A1-Sum'!K18","v":1440118029}]
["Operating Performance Surplus/(Deficit)",null,null,{"$f":"D86-D87","v":-185236066.90999997},{"$f":"E86-E87","v":-138922940.18999994},124735195.07999969,29352141,97758265,97758265,103158265,{"$f":"K86-K87","v":131769123},142311804,130574856]
["Cash and Cash Equivalents (30 June 2012)",null,null,null,null,null,null,null,null,null,{"$f":"'A7-CFlow'!J40","v":34000000}]
["Revenue"]
["% Increase in Total Operating Revenue",null,null,null,{"$f":"IF(ISERROR(('A1-Sum'!C10-'A1-Sum'!B10)/'A1-Sum'!B10),0,(('A1-Sum'!C10-'A1-Sum'!B10)/'A1-Sum'!B10))","v":1.951399131415759E-2},{"$f":"IF(ISERROR(('A1-Sum'!D10-'A1-Sum'!C10)/'A1-Sum'!C10),0,(('A1-Sum'!D10-'A1-Sum'!C10)/'A1-Sum'!C10))","v":0.16133231150263608},{"$f":"IF(ISERROR(('A1-Sum'!E10-'A1-Sum'!D10)/'A1-Sum'!D10),0,(('A1-Sum'!E10-'A1-Sum'!D10)/'A1-Sum'!D10))","v":6.9547944079938168E-2},{"$f":"IF(ISERROR(('A1-Sum'!F10-'A1-Sum'!E10)/'A1-Sum'!E10),0,(('A1-Sum'!F10-'A1-Sum'!E10)/'A1-Sum'!E10))","v":4.6914100450315611E-2},{"$f":"IF(ISERROR(('A1-Sum'!G10-'A1-Sum'!F10)/'A1-Sum'!F10),0,(('A1-Sum'!G10-'A1-Sum'!F10)/'A1-Sum'!F10))","v":0},{"$f":"IF(ISERROR(('A1-Sum'!H10-'A1-Sum'!G10)/'A1-Sum'!G10),0,(('A1-Sum'!H10-'A1-Sum'!G10)/'A1-Sum'!G10))","v":3.9173601962971781E-3},{"$f":"IF(ISERROR(('A1-Sum'!I10-'A1-Sum'!F10)/'A1-Sum'!F10),0,(('A1-Sum'!I10-'A1-Sum'!F10)/'A1-Sum'!F10))","v":5.4743258153278851E-2},{"$f":"IF(ISERROR(('A1-Sum'!J10-'A1-Sum'!I10)/'A1-Sum'!I10),0,(('A1-Sum'!J10-'A1-Sum'!I10)/'A1-Sum'!I10))","v":3.1408601864744291E-2},{"$f":"IF(ISERROR(('A1-Sum'!K10-'A1-Sum'!J10)/'A1-Sum'!J10),0,(('A1-Sum'!K10-'A1-Sum'!J10)/'A1-Sum'!J10))","v":4.7402281802380465E-2}]
["% Increase in Property Rates Revenue",null,null,null,{"$f":"IF(ISERROR(('A4-FinPerf RE'!D5-'A4-FinPerf RE'!C5)/'A4-FinPerf RE'!C5),0,(('A4-FinPerf RE'!D5-'A4-FinPerf RE'!C5)/'A4-FinPerf RE'!C5))","v":9.9450600680682108E-2},{"$f":"IF(ISERROR(('A4-FinPerf RE'!E5-'A4-FinPerf RE'!D5)/'A4-FinPerf RE'!D5),0,(('A4-FinPerf RE'!E5-'A4-FinPerf RE'!D5)/'A4-FinPerf RE'!D5))","v":5.1139561077526374E-2},{"$f":"IF(ISERROR(('A4-FinPerf RE'!F5-'A4-FinPerf RE'!E5)/'A4-FinPerf RE'!E5),0,(('A4-FinPerf RE'!F5-'A4-FinPerf RE'!E5)/'A4-FinPerf RE'!E5))","v":0.15471911267992247},{"$f":"IF(ISERROR(('A4-FinPerf RE'!G5-'A4-FinPerf RE'!F5)/'A4-FinPerf RE'!F5),0,(('A4-FinPerf RE'!G5-'A4-FinPerf RE'!F5)/'A4-FinPerf RE'!F5))","v":0},{"$f":"IF(ISERROR(('A4-FinPerf RE'!H5-'A4-FinPerf RE'!G5)/'A4-FinPerf RE'!G5),0,(('A4-FinPerf RE'!H5-'A4-FinPerf RE'!G5)/'A4-FinPerf RE'!G5))","v":0},{"$f":"IF(ISERROR(('A4-FinPerf RE'!I5-'A4-FinPerf RE'!H5)/'A4-FinPerf RE'!H5),0,(('A4-FinPerf RE'!I5-'A4-FinPerf RE'!H5)/'A4-FinPerf RE'!H5))","v":0},{"$f":"IF(ISERROR(('A4-FinPerf RE'!J5-'A4-FinPerf RE'!G5)/'A4-FinPerf RE'!G5),0,(('A4-FinPerf RE'!J5-'A4-FinPerf RE'!G5)/'A4-FinPerf RE'!G5))","v":3.7735849056603772E-2},{"$f":"IF(ISERROR(('A4-FinPerf RE'!K5-'A4-FinPerf RE'!J5)/'A4-FinPerf RE'!J5),0,(('A4-FinPerf RE'!K5-'A4-FinPerf RE'!J5)/'A4-FinPerf RE'!J5))","v":4.2000000000000003E-2},{"$f":"IF(ISERROR(('A4-FinPerf RE'!L5-'A4-FinPerf RE'!K5)/'A4-FinPerf RE'!K5),0,(('A4-FinPerf RE'!L5-'A4-FinPerf RE'!K5)/'A4-FinPerf RE'!K5))","v":4.4000041877508285E-2}]
["% Increase in Electricity Revenue",null,null,null,{"$f":"IF(ISERROR(('A4-FinPerf RE'!D6-'A4-FinPerf RE'!C6)/'A4-FinPerf RE'!C6),0,(('A4-FinPerf RE'!D6-'A4-FinPerf RE'!C6)/'A4-FinPerf RE'!C6))","v":-4.7772385277666035E-3},{"$f":"IF(ISERROR(('A4-FinPerf RE'!E6-'A4-FinPerf RE'!D6)/'A4-FinPerf RE'!D6),0,(('A4-FinPerf RE'!E6-'A4-FinPerf RE'!D6)/'A4-FinPerf RE'!D6))","v":0.16329261419139895},{"$f":"IF(ISERROR(('A4-FinPerf RE'!F6-'A4-FinPerf RE'!E6)/'A4-FinPerf RE'!E6),0,(('A4-FinPerf RE'!F6-'A4-FinPerf RE'!E6)/'A4-FinPerf RE'!E6))","v":9.1487814843429008E-2},{"$f":"IF(ISERROR(('A4-FinPerf RE'!G6-'A4-FinPerf RE'!F6)/'A4-FinPerf RE'!F6),0,(('A4-FinPerf RE'!G6-'A4-FinPerf RE'!F6)/'A4-FinPerf RE'!F6))","v":1.6705152827113399E-2},{"$f":"IF(ISERROR(('A4-FinPerf RE'!H6-'A4-FinPerf RE'!G6)/'A4-FinPerf RE'!G6),0,(('A4-FinPerf RE'!H6-'A4-FinPerf RE'!G6)/'A4-FinPerf RE'!G6))","v":0},{"$f":"IF(ISERROR(('A4-FinPerf RE'!I6-'A4-FinPerf RE'!H6)/'A4-FinPerf RE'!H6),0,(('A4-FinPerf RE'!I6-'A4-FinPerf RE'!H6)/'A4-FinPerf RE'!H6))","v":7.232114722002676E-3},{"$f":"IF(ISERROR(('A4-FinPerf RE'!J6-'A4-FinPerf RE'!G6)/'A4-FinPerf RE'!G6),0,(('A4-FinPerf RE'!J6-'A4-FinPerf RE'!G6)/'A4-FinPerf RE'!G6))","v":0.15304230959305579},{"$f":"IF(ISERROR(('A4-FinPerf RE'!K6-'A4-FinPerf RE'!J6)/'A4-FinPerf RE'!J6),0,(('A4-FinPerf RE'!K6-'A4-FinPerf RE'!J6)/'A4-FinPerf RE'!J6))","v":0.10360237372992569},{"$f":"IF(ISERROR(('A4-FinPerf RE'!L6-'A4-FinPerf RE'!K6)/'A4-FinPerf RE'!K6),0,(('A4-FinPerf RE'!L6-'A4-FinPerf RE'!K6)/'A4-FinPerf RE'!K6))","v":8.7366612078114386E-2}]
["% Increase in Property Rates & Services Charges",null,null,null,{"$f":"IF(ISERROR((('A1-Sum'!C5+'A1-Sum'!C6)-('A1-Sum'!B5+'A1-Sum'!B6))/('A1-Sum'!B5+'A1-Sum'!B6)),0,((('A1-Sum'!C5+'A1-Sum'!C6)-('A1-Sum'!B5+'A1-Sum'!B6))/('A1-Sum'!B5+'A1-Sum'!B6)))","v":2.2612317718618234E-2},{"$f":"IF(ISERROR((('A1-Sum'!D5+'A1-Sum'!D6)-('A1-Sum'!C5+'A1-Sum'!C6))/('A1-Sum'!C5+'A1-Sum'!C6)),0,((('A1-Sum'!D5+'A1-Sum'!D6)-('A1-Sum'!C5+'A1-Sum'!C6))/('A1-Sum'!C5+'A1-Sum'!C6)))","v":0.12717316914904664},{"$f":"IF(ISERROR((('A1-Sum'!E5+'A1-Sum'!E6)-('A1-Sum'!D5+'A1-Sum'!D6))/('A1-Sum'!D5+'A1-Sum'!D6)),0,((('A1-Sum'!E5+'A1-Sum'!E6)-('A1-Sum'!D5+'A1-Sum'!D6))/('A1-Sum'!D5+'A1-Sum'!D6)))","v":0.10119060365265223},{"$f":"IF(ISERROR((('A1-Sum'!F5+'A1-Sum'!F6)-('A1-Sum'!E5+'A1-Sum'!E6))/('A1-Sum'!E5+'A1-Sum'!E6)),0,((('A1-Sum'!F5+'A1-Sum'!F6)-('A1-Sum'!E5+'A1-Sum'!E6))/('A1-Sum'!E5+'A1-Sum'!E6)))","v":1.2909997058490589E-2},{"$f":"IF(ISERROR((('A1-Sum'!G5+'A1-Sum'!G6)-('A1-Sum'!F5+'A1-Sum'!F6))/('A1-Sum'!F5+'A1-Sum'!F6)),0,((('A1-Sum'!G5+'A1-Sum'!G6)-('A1-Sum'!F5+'A1-Sum'!F6))/('A1-Sum'!F5+'A1-Sum'!F6)))","v":0},{"$f":"IF(ISERROR((('A1-Sum'!H5+'A1-Sum'!H6)-('A1-Sum'!G5+'A1-Sum'!G6))/('A1-Sum'!G5+'A1-Sum'!G6)),0,((('A1-Sum'!H5+'A1-Sum'!H6)-('A1-Sum'!G5+'A1-Sum'!G6))/('A1-Sum'!G5+'A1-Sum'!G6)))","v":7.2128953874832317E-3},{"$f":"IF(ISERROR((('A1-Sum'!I5+'A1-Sum'!I6)-('A1-Sum'!F5+'A1-Sum'!F6))/('A1-Sum'!F5+'A1-Sum'!F6)),0,((('A1-Sum'!I5+'A1-Sum'!I6)-('A1-Sum'!F5+'A1-Sum'!F6))/('A1-Sum'!F5+'A1-Sum'!F6)))","v":0.12605132959227699},{"$f":"IF(ISERROR((('A1-Sum'!J5+'A1-Sum'!J6)-('A1-Sum'!I5+'A1-Sum'!I6))/('A1-Sum'!I5+'A1-Sum'!I6)),0,((('A1-Sum'!J5+'A1-Sum'!J6)-('A1-Sum'!I5+'A1-Sum'!I6))/('A1-Sum'!I5+'A1-Sum'!I6)))","v":9.0931031283824362E-2},{"$f":"IF(ISERROR((('A1-Sum'!K5+'A1-Sum'!K6)-('A1-Sum'!J5+'A1-Sum'!J6))/('A1-Sum'!J5+'A1-Sum'!J6)),0,((('A1-Sum'!K5+'A1-Sum'!K6)-('A1-Sum'!J5+'A1-Sum'!J6))/('A1-Sum'!J5+'A1-Sum'!J6)))","v":7.8846396838768262E-2}]
["Expenditure"]
["% Increase in Total Operating Expenditure",null,null,null,{"$f":"IF(ISERROR(('A1-Sum'!C18-'A1-Sum'!B18)/'A1-Sum'!B18),0,(('A1-Sum'!C18-'A1-Sum'!B18)/'A1-Sum'!B18))","v":-2.1243055816913742E-2},{"$f":"IF(ISERROR(('A1-Sum'!D18-'A1-Sum'!C18)/'A1-Sum'!C18),0,(('A1-Sum'!D18-'A1-Sum'!C18)/'A1-Sum'!C18))","v":-7.7261354475971808E-2},{"$f":"IF(ISERROR(('A1-Sum'!E18-'A1-Sum'!D18)/'A1-Sum'!D18),0,(('A1-Sum'!E18-'A1-Sum'!D18)/'A1-Sum'!D18))","v":0.16360308653649766},{"$f":"IF(ISERROR(('A1-Sum'!F18-'A1-Sum'!E18)/'A1-Sum'!E18),0,(('A1-Sum'!F18-'A1-Sum'!E18)/'A1-Sum'!E18))","v":-5.1531945646065168E-3},{"$f":"IF(ISERROR(('A1-Sum'!G18-'A1-Sum'!F18)/'A1-Sum'!F18),0,(('A1-Sum'!G18-'A1-Sum'!F18)/'A1-Sum'!F18))","v":0},{"$f":"IF(ISERROR(('A1-Sum'!H18-'A1-Sum'!G18)/'A1-Sum'!G18),0,(('A1-Sum'!H18-'A1-Sum'!G18)/'A1-Sum'!G18))","v":0},{"$f":"IF(ISERROR(('A1-Sum'!I18-'A1-Sum'!F18)/'A1-Sum'!F18),0,(('A1-Sum'!I18-'A1-Sum'!F18)/'A1-Sum'!F18))","v":3.2365823143142687E-2},{"$f":"IF(ISERROR(('A1-Sum'!J18-'A1-Sum'!I18)/'A1-Sum'!I18),0,(('A1-Sum'!J18-'A1-Sum'!I18)/'A1-Sum'!I18))","v":2.656506110535984E-2},{"$f":"IF(ISERROR(('A1-Sum'!K18-'A1-Sum'!J18)/'A1-Sum'!J18),0,(('A1-Sum'!K18-'A1-Sum'!J18)/'A1-Sum'!J18))","v":6.1019686551286235E-2}]
["% Increase in Employee Costs",null,null,null,{"$f":"IF(ISERROR(('A1-Sum'!C11-'A1-Sum'!B11)/'A1-Sum'!B11),0,(('A1-Sum'!C11-'A1-Sum'!B11)/'A1-Sum'!B11))","v":-0.19936834242078558},{"$f":"IF(ISERROR(('A1-Sum'!D11-'A1-Sum'!C11)/'A1-Sum'!C11),0,(('A1-Sum'!D11-'A1-Sum'!C11)/'A1-Sum'!C11))","v":0.45199959452328275},{"$f":"IF(ISERROR(('A1-Sum'!E11-'A1-Sum'!D11)/'A1-Sum'!D11),0,(('A1-Sum'!E11-'A1-Sum'!D11)/'A1-Sum'!D11))","v":0.11072937202905875},{"$f":"IF(ISERROR(('A1-Sum'!F11-'A1-Sum'!E11)/'A1-Sum'!E11),0,(('A1-Sum'!F11-'A1-Sum'!E11)/'A1-Sum'!E11))","v":-1.7145880241113805E-2},{"$f":"IF(ISERROR(('A1-Sum'!G11-'A1-Sum'!F11)/'A1-Sum'!F11),0,(('A1-Sum'!G11-'A1-Sum'!F11)/'A1-Sum'!F11))","v":0},{"$f":"IF(ISERROR(('A1-Sum'!H11-'A1-Sum'!G11)/'A1-Sum'!G11),0,(('A1-Sum'!H11-'A1-Sum'!G11)/'A1-Sum'!G11))","v":0},{"$f":"IF(ISERROR(('A1-Sum'!I11-'A1-Sum'!F11)/'A1-Sum'!F11),0,(('A1-Sum'!I11-'A1-Sum'!F11)/'A1-Sum'!F11))","v":3.0122996609595481E-2},{"$f":"IF(ISERROR(('A1-Sum'!J11-'A1-Sum'!I11)/'A1-Sum'!I11),0,(('A1-Sum'!J11-'A1-Sum'!I11)/'A1-Sum'!I11))","v":4.2000489404543685E-2},{"$f":"IF(ISERROR(('A1-Sum'!K11-'A1-Sum'!J11)/'A1-Sum'!J11),0,(('A1-Sum'!K11-'A1-Sum'!J11)/'A1-Sum'!J11))","v":4.4000325538852109E-2}]
["% Increase in Electricity Bulk Purchases",null,null,null,{"$f":"IF(ISERROR(('SA1'!D86-'SA1'!C86)/'SA1'!C86),0,(('SA1'!D86-'SA1'!C86)/'SA1'!C86))","v":7.0632830751507558E-2},{"$f":"IF(ISERROR(('SA1'!E86-'SA1'!D86)/'SA1'!D86),0,(('SA1'!E86-'SA1'!D86)/'SA1'!D86))","v":0.11838448212620306},{"$f":"IF(ISERROR(('SA1'!F86-'SA1'!E86)/'SA1'!E86),0,(('SA1'!F86-'SA1'!E86)/'SA1'!E86))","v":4.2323653203628651E-2},{"$f":"IF(ISERROR(('SA1'!G86-'SA1'!F86)/'SA1'!F86),0,(('SA1'!G86-'SA1'!F86)/'SA1'!F86))","v":0},{"$f":"IF(ISERROR(('SA1'!H86-'SA1'!G86)/'SA1'!G86),0,(('SA1'!H86-'SA1'!G86)/'SA1'!G86))","v":0},{"$f":"IF(ISERROR(('SA1'!I86-'SA1'!H86)/'SA1'!H86),0,(('SA1'!I86-'SA1'!H86)/'SA1'!H86))","v":0},{"$f":"IF(ISERROR(('SA1'!J86-'SA1'!G86)/'SA1'!G86),0,(('SA1'!J86-'SA1'!G86)/'SA1'!G86))","v":0.12477919679950762},{"$f":"IF(ISERROR(('SA1'!K86-'SA1'!J86)/'SA1'!J86),0,(('SA1'!K86-'SA1'!J86)/'SA1'!J86))","v":5.1256781861410625E-2},{"$f":"IF(ISERROR(('SA1'!L86-'SA1'!K86)/'SA1'!K86),0,(('SA1'!L86-'SA1'!K86)/'SA1'!K86))","v":9.0380999773053305E-2}]
["Average Cost Per Budgeted Employee Position (Remuneration)",null,null,null,null,{"$f":"IF(ISERROR('A1-Sum'!D11/('SA24'!D36+'SA24'!E36-'SA24'!C5)),0,('A1-Sum'!D11/('SA24'!D36+'SA24'!E36-'SA24'!C5)))","v":502608.39295638126},{"$f":"IF(ISERROR('A1-Sum'!E11/('SA24'!F36-'SA24'!F5)),0,('A1-Sum'!E11/('SA24'!F36-'SA24'!F5)))","v":505950.39385065885},null,null,null,{"$f":"IF(ISERROR('A1-Sum'!I11/('SA24'!I36-'SA24'!I5)),0,('A1-Sum'!I11/('SA24'!I36-'SA24'!I5)))","v":512254.85505124449}]
["Average Cost Per Councillor (Remuneration)",null,null,null,null,{"$f":"IF(ISERROR('A1-Sum'!D12/'SA24'!C5),0,('A1-Sum'!D12/'SA24'!C5))","v":390964.25695652177},{"$f":"IF(ISERROR('A1-Sum'!E12/'SA24'!F5),0,('A1-Sum'!E12/'SA24'!F5))","v":420796.85507246375},null,null,null,{"$f":"IF(ISERROR('A1-Sum'!I12/'SA24'!I5),0,('A1-Sum'!I12/'SA24'!I5))","v":411679.68115942029}]
["R&M % of PPE",null,null,{"$f":"'A9-Asset'!C205","v":0.04},{"$f":"'A9-Asset'!D205","v":7.3999999999999996E-2},{"$f":"'A9-Asset'!E205","v":2.4E-2},{"$f":"'A9-Asset'!F205","v":3.2000000000000001E-2},{"$f":"'A9-Asset'!G205","v":3.6999999999999998E-2},{"$f":"'A9-Asset'!H205","v":3.6999999999999998E-2},null,{"$f":"'A9-Asset'!I205","v":5.2999999999999999E-2},{"$f":"'A9-Asset'!J205","v":4.5999999999999999E-2},{"$f":"'A9-Asset'!K205","v":4.4999999999999998E-2}]
["Asset Renewal and R&M as a % of PPE",null,null,{"$f":"'A9-Asset'!C206","v":0.09},{"$f":"'A9-Asset'!D206","v":0.08},{"$f":"'A9-Asset'!E206","v":0.08},{"$f":"'A9-Asset'!F206","v":0.08},{"$f":"'A9-Asset'!G206","v":0.1},{"$f":"'A9-Asset'!H206","v":0.1},null,{"$f":"'A9-Asset'!I206","v":0.09},{"$f":"'A9-Asset'!J206","v":0.08},{"$f":"'A9-Asset'!K206","v":0.08}]
["Debt Impairment % of Total Billable Revenue",null,null,{"$f":"'SA10'!D11","v":0.19633168836986048},{"$f":"'SA10'!E11","v":0.20776632268877468},{"$f":"'SA10'!F11","v":3.4224982890907189E-2},{"$f":"'SA10'!G11","v":9.4755886405295767E-2},{"$f":"'SA10'!H11","v":9.3548186359396462E-2},{"$f":"'SA10'!I11","v":9.3548186359396462E-2},{"$f":"'SA10'!J11","v":9.2878265149105049E-2},{"$f":"'SA10'!K11","v":4.7080618002892434E-2},{"$f":"'SA10'!L11","v":4.4968932616389561E-2},{"$f":"'SA10'!M11","v":4.3516453116728214E-2}]
["Capital Revenue"]
["Internally Funded & Other (R'000)",null,null,{"$f":"'A1-Sum'!B29+'A1-Sum'!B31","v":17472472},{"$f":"'A1-Sum'!C29+'A1-Sum'!C31","v":0},{"$f":"'A1-Sum'!D29+'A1-Sum'!D31","v":57860588.310000002},{"$f":"'A1-Sum'!E29+'A1-Sum'!E31","v":20035000},{"$f":"'A1-Sum'!F29+'A1-Sum'!F31","v":29375346},{"$f":"'A1-Sum'!G29+'A1-Sum'!G31","v":29375346},{"$f":"'A1-Sum'!H29+'A1-Sum'!H31","v":29375346},{"$f":"'A1-Sum'!I29+'A1-Sum'!I31","v":36103500},{"$f":"'A1-Sum'!J29+'A1-Sum'!J31","v":57500000},{"$f":"'A1-Sum'!K29+'A1-Sum'!K31","v":69385035}]
["Borrowing (R'000)",null,null,{"$f":"'A1-Sum'!B30","v":12113986},{"$f":"'A1-Sum'!C30","v":17030510},{"$f":"'A1-Sum'!D30","v":32847672.039999999},{"$f":"'A1-Sum'!E30","v":22000000},{"$f":"'A1-Sum'!F30","v":34828543},{"$f":"'A1-Sum'!G30","v":34828543},{"$f":"'A1-Sum'!H30","v":34828543},{"$f":"'A1-Sum'!I30","v":0},{"$f":"'A1-Sum'!J30","v":0},{"$f":"'A1-Sum'!K30","v":56}]
["Grant Funding and Other (R'000)",null,null,{"$f":"'A1-Sum'!B28","v":96944900},{"$f":"'A1-Sum'!C28","v":86451929},{"$f":"'A1-Sum'!D28","v":99549850.989999995},{"$f":"'A1-Sum'!E28","v":88938034},{"$f":"'A1-Sum'!F28","v":97289054},{"$f":"'A1-Sum'!G28","v":97289054},{"$f":"'A1-Sum'!H28","v":97289054},{"$f":"'A1-Sum'!I28","v":94753950},{"$f":"'A1-Sum'!J28","v":102603800},{"$f":"'A1-Sum'!K28","v":107290191}]
["Internally Generated funds % of Non Grant Funding",null,null,{"$f":"IF(ISERROR(('A1-Sum'!B29+'A1-Sum'!B31)/('A1-Sum'!B32-'A1-Sum'!B28)),0,(('A1-Sum'!B29+'A1-Sum'!B31)/('A1-Sum'!B32-'A1-Sum'!B28)))","v":0.5905563957672797},{"$f":"IF(ISERROR(('A1-Sum'!C29+'A1-Sum'!C31)/('A1-Sum'!C32-'A1-Sum'!C28)),0,(('A1-Sum'!C29+'A1-Sum'!C31)/('A1-Sum'!C32-'A1-Sum'!C28)))","v":0},{"$f":"IF(ISERROR(('A1-Sum'!D29+'A1-Sum'!D31)/('A1-Sum'!D32-'A1-Sum'!D28)),0,(('A1-Sum'!D29+'A1-Sum'!D31)/('A1-Sum'!D32-'A1-Sum'!D28)))","v":0.63787562551352572},{"$f":"IF(ISERROR(('A1-Sum'!E29+'A1-Sum'!E31)/('A1-Sum'!E32-'A1-Sum'!E28)),0,(('A1-Sum'!E29+'A1-Sum'!E31)/('A1-Sum'!E32-'A1-Sum'!E28)))","v":0.47662662067324846},{"$f":"IF(ISERROR(('A1-Sum'!F29+'A1-Sum'!F31)/('A1-Sum'!F32-'A1-Sum'!F28)),0,(('A1-Sum'!F29+'A1-Sum'!F31)/('A1-Sum'!F32-'A1-Sum'!F28)))","v":0.45753219092382397},{"$f":"IF(ISERROR(('A1-Sum'!G29+'A1-Sum'!G31)/('A1-Sum'!G32-'A1-Sum'!G28)),0,(('A1-Sum'!G29+'A1-Sum'!G31)/('A1-Sum'!G32-'A1-Sum'!G28)))","v":0.45753219092382397},{"$f":"IF(ISERROR(('A1-Sum'!H29+'A1-Sum'!H31)/('A1-Sum'!H32-'A1-Sum'!H28)),0,(('A1-Sum'!H29+'A1-Sum'!H31)/('A1-Sum'!H32-'A1-Sum'!H28)))","v":0.45753219092382397},{"$f":"IF(ISERROR(('A1-Sum'!I29+'A1-Sum'!I31)/('A1-Sum'!I32-'A1-Sum'!I28)),0,(('A1-Sum'!I29+'A1-Sum'!I31)/('A1-Sum'!I32-'A1-Sum'!I28)))","v":1},{"$f":"IF(ISERROR(('A1-Sum'!J29+'A1-Sum'!J31)/('A1-Sum'!J32-'A1-Sum'!J28)),0,(('A1-Sum'!J29+'A1-Sum'!J31)/('A1-Sum'!J32-'A1-Sum'!J28)))","v":1},{"$f":"IF(ISERROR(('A1-Sum'!K29+'A1-Sum'!K31)/('A1-Sum'!K32-'A1-Sum'!K28)),0,(('A1-Sum'!K29+'A1-Sum'!K31)/('A1-Sum'!K32-'A1-Sum'!K28)))","v":0.99999919291018868}]
["Borrowing % of Non Grant Funding",null,null,{"$f":"IF(ISERROR('A1-Sum'!B30/('A1-Sum'!B32-'A1-Sum'!B28)),0,('A1-Sum'!B30/('A1-Sum'!B32-'A1-Sum'!B28)))","v":0.40944360423272025},{"$f":"IF(ISERROR('A1-Sum'!C30/('A1-Sum'!C32-'A1-Sum'!C28)),0,('A1-Sum'!C30/('A1-Sum'!C32-'A1-Sum'!C28)))","v":1},{"$f":"IF(ISERROR('A1-Sum'!D30/('A1-Sum'!D32-'A1-Sum'!D28)),0,('A1-Sum'!D30/('A1-Sum'!D32-'A1-Sum'!D28)))","v":0.36212437448647417},{"$f":"IF(ISERROR('A1-Sum'!E30/('A1-Sum'!E32-'A1-Sum'!E28)),0,('A1-Sum'!E30/('A1-Sum'!E32-'A1-Sum'!E28)))","v":0.52337337932675154},{"$f":"IF(ISERROR('A1-Sum'!F30/('A1-Sum'!F32-'A1-Sum'!F28)),0,('A1-Sum'!F30/('A1-Sum'!F32-'A1-Sum'!F28)))","v":0.54246780907617609},{"$f":"IF(ISERROR('A1-Sum'!G30/('A1-Sum'!G32-'A1-Sum'!G28)),0,('A1-Sum'!G30/('A1-Sum'!G32-'A1-Sum'!G28)))","v":0.54246780907617609},{"$f":"IF(ISERROR('A1-Sum'!H30/('A1-Sum'!H32-'A1-Sum'!H28)),0,('A1-Sum'!H30/('A1-Sum'!H32-'A1-Sum'!H28)))","v":0.54246780907617609},{"$f":"IF(ISERROR('A1-Sum'!I30/('A1-Sum'!I32-'A1-Sum'!I28)),0,('A1-Sum'!I30/('A1-Sum'!I32-'A1-Sum'!I28)))","v":0},{"$f":"IF(ISERROR('A1-Sum'!J30/('A1-Sum'!J32-'A1-Sum'!J28)),0,('A1-Sum'!J30/('A1-Sum'!J32-'A1-Sum'!J28)))","v":0},{"$f":"IF(ISERROR('A1-Sum'!K30/('A1-Sum'!K32-'A1-Sum'!K28)),0,('A1-Sum'!K30/('A1-Sum'!K32-'A1-Sum'!K28)))","v":8.0708981126795671E-7}]
["Grant Funding % of Total Funding",null,null,{"$f":"IF(ISERROR('A1-Sum'!B28/'A1-Sum'!B32),0,('A1-Sum'!B28/'A1-Sum'!B32))","v":0.76617291975954294},{"$f":"IF(ISERROR('A1-Sum'!C28/'A1-Sum'!C32),0,('A1-Sum'!C28/'A1-Sum'!C32))","v":0.83542608615941105},{"$f":"IF(ISERROR('A1-Sum'!D28/'A1-Sum'!D32),0,('A1-Sum'!D28/'A1-Sum'!D32))","v":0.52323577843206814},{"$f":"IF(ISERROR('A1-Sum'!E28/'A1-Sum'!E32),0,('A1-Sum'!E28/'A1-Sum'!E32))","v":0.6790560719544757},{"$f":"IF(ISERROR('A1-Sum'!F28/'A1-Sum'!F32),0,('A1-Sum'!F28/'A1-Sum'!F32))","v":0.60243532746814821},{"$f":"IF(ISERROR('A1-Sum'!G28/'A1-Sum'!G32),0,('A1-Sum'!G28/'A1-Sum'!G32))","v":0.60243532746814821},{"$f":"IF(ISERROR('A1-Sum'!H28/'A1-Sum'!H32),0,('A1-Sum'!H28/'A1-Sum'!H32))","v":0.60243532746814821},{"$f":"IF(ISERROR('A1-Sum'!I28/'A1-Sum'!I32),0,('A1-Sum'!I28/'A1-Sum'!I32))","v":0.7241005384103083},{"$f":"IF(ISERROR('A1-Sum'!J28/'A1-Sum'!J32),0,('A1-Sum'!J28/'A1-Sum'!J32))","v":0.64085799337679683},{"$f":"IF(ISERROR('A1-Sum'!K28/'A1-Sum'!K32),0,('A1-Sum'!K28/'A1-Sum'!K32))","v":0.60727335360925017}]
["Capital Expenditure"]
["Total Capital Programme (R'000)",null,null,{"$f":"'A1-Sum'!B27","v":126531358},{"$f":"'A1-Sum'!C27","v":103482439},{"$f":"'A1-Sum'!D27","v":190258111.34},{"$f":"'A1-Sum'!E27","v":130973034},{"$f":"'A1-Sum'!F27","v":161492943},{"$f":"'A1-Sum'!G27","v":161492943},{"$f":"'A1-Sum'!H27","v":161492943},{"$f":"'A1-Sum'!I27","v":130857450},{"$f":"'A1-Sum'!J27","v":160103800},{"$f":"'A1-Sum'!K27","v":176675282}]
["Asset Renewal",null,null,{"$f":"'A1-Sum'!B55","v":99363728},{"$f":"'A1-Sum'!C55","v":17531610},{"$f":"'A1-Sum'!D55","v":82302328.060000002},{"$f":"'A1-Sum'!E55","v":106938034},{"$f":"'A1-Sum'!F55","v":125961405},{"$f":"'A1-Sum'!G55","v":125961405},{"$f":"'A1-Sum'!H55","v":125961405},{"$f":"'A1-Sum'!I55","v":105153950},{"$f":"'A1-Sum'!J55","v":137703800},{"$f":"'A1-Sum'!K55","v":143390209}]
["Asset Renewal % of Total Capital Expenditure",null,null,{"$f":"IF(ISERROR('A1-Sum'!B55/'A1-Sum'!B32),0,('A1-Sum'!B55/'A1-Sum'!B32))","v":0.78528935096073182},{"$f":"IF(ISERROR('A1-Sum'!C55/'A1-Sum'!C32),0,('A1-Sum'!C55/'A1-Sum'!C32))","v":0.16941628134605524},{"$f":"IF(ISERROR('A1-Sum'!D55/'A1-Sum'!D32),0,('A1-Sum'!D55/'A1-Sum'!D32))","v":0.43258249270078136},{"$f":"IF(ISERROR('A1-Sum'!E55/'A1-Sum'!E32),0,('A1-Sum'!E55/'A1-Sum'!E32))","v":0.8164889422963203},{"$f":"IF(ISERROR('A1-Sum'!F55/'A1-Sum'!F32),0,('A1-Sum'!F55/'A1-Sum'!F32))","v":0.77998086269317668},{"$f":"IF(ISERROR('A1-Sum'!G55/'A1-Sum'!G32),0,('A1-Sum'!G55/'A1-Sum'!G32))","v":0.77998086269317668},{"$f":"IF(ISERROR('A1-Sum'!H55/'A1-Sum'!H32),0,('A1-Sum'!H55/'A1-Sum'!H32))","v":0.77998086269317668},{"$f":"IF(ISERROR('A1-Sum'!I55/'A1-Sum'!I32),0,('A1-Sum'!I55/'A1-Sum'!I32))","v":0.80357633440052512},{"$f":"IF(ISERROR('A1-Sum'!J55/'A1-Sum'!J32),0,('A1-Sum'!J55/'A1-Sum'!J32))","v":0.86009076611548263},{"$f":"IF(ISERROR('A1-Sum'!K55/'A1-Sum'!K32),0,('A1-Sum'!K55/'A1-Sum'!K32))","v":0.8116031137847568}]
["Cash"]
["Cash Receipts % of Rate Payer & Other",null,null,{"$f":"'SA10'!D10","v":0.86887766417586709},{"$f":"'SA10'!E10","v":0.9037146128824538},{"$f":"'SA10'!F10","v":0.83516116732833179},{"$f":"'SA10'!G10","v":0.83875240189839129},{"$f":"'SA10'!H10","v":0.86384679653791241},{"$f":"'SA10'!I10","v":0.86384679653791241},{"$f":"'SA10'!J10","v":0.85834986778711908},{"$f":"'SA10'!K10","v":0.84474984952107535},{"$f":"'SA10'!L10","v":0.84647922400213715},{"$f":"'SA10'!M10","v":1.1218205481781323}]
["Cash Coverage Ratio",null,null,{"$f":"'SA10'!D7","v":9.4834774915604492E-2},{"$f":"'SA10'!E7","v":0.55908151139610363},{"$f":"'SA10'!F7","v":0.94497424207132696},{"$f":"'SA10'!G7","v":13.875315860037885},{"$f":"'SA10'!H7","v":0.57272422993352989},{"$f":"'SA10'!I7","v":0.57272422993352989},{"$f":"'SA10'!J7","v":0.57272422993352989},{"$f":"'SA10'!K7","v":0.38242342195649087},{"$f":"'SA10'!L7","v":0.3899111066840184},{"$f":"'SA10'!M7","v":0.36857672803277114}]
["Borrowing"]
[]
["Credit Rating (2009/10)",null,null,null,null,null,null,null,null,null,{"$f":"'SA8'!F6","v":0}]
["Capital Charges to Operating",null,null,{"$f":"'SA8'!C7","v":2.7172584914339468E-2},{"$f":"'SA8'!D7","v":1.4686455542384201E-2},{"$f":"'SA8'!E7","v":3.1746650308964744E-2},{"$f":"'SA8'!F7","v":1.2469639290440314E-2},{"$f":"'SA8'!G7","v":1.3315043115751084E-2},{"$f":"'SA8'!H7","v":1.3315043115751084E-2},{"$f":"'SA8'!I7","v":1.3315043115751084E-2},{"$f":"'SA8'!J7","v":2.1044686705175893E-2},{"$f":"'SA8'!K7","v":2.1630588944430568E-2},{"$f":"'SA8'!L7","v":2.3475464732203556E-2}]
["Borrowing Receipts % of Capital Expenditure",null,null,{"$f":"'SA10'!D13","v":0},{"$f":"'SA10'!E13","v":2.3487259042741528},{"$f":"'SA10'!F13","v":0.22048708599227368},{"$f":"'SA10'!G13","v":0.7136909718092066},{"$f":"'SA10'!H13","v":0.46726141464732768},{"$f":"'SA10'!I13","v":0.46726141464732768},{"$f":"'SA10'!J13","v":0.46726141464732768},{"$f":"'SA10'!K13","v":0},{"$f":"'SA10'!L13","v":0},{"$f":"'SA10'!M13","v":1.4412318058356369E-8}]
["Reserves"]
["Surplus/(Deficit)",null,null,{"$f":"'A8-ResRecon'!C19","v":110208794},{"$f":"'A8-ResRecon'!D19","v":128541853.84},{"$f":"'A8-ResRecon'!E19","v":284435045.60999995},{"$f":"'A8-ResRecon'!F19","v":125664020},{"$f":"'A8-ResRecon'!G19","v":111768706},{"$f":"'A8-ResRecon'!H19","v":111768706},{"$f":"'A8-ResRecon'!I19","v":109560706},{"$f":"'A8-ResRecon'!J19","v":425079560},{"$f":"'A8-ResRecon'!K19","v":444728303},{"$f":"'A8-ResRecon'!L19","v":914056908}]
["Free Services"]
["Free Basic Services as a % of Equitable Share",null,null,{"$f":"IF(ISERROR('A10-SerDel'!C60/'SA18'!C8),0,('A10-SerDel'!C60/'SA18'!C8))","v":0},{"$f":"IF(ISERROR('A10-SerDel'!D60/'SA18'!D8),0,('A10-SerDel'!D60/'SA18'!D8))","v":0},{"$f":"IF(ISERROR('A10-SerDel'!E60/'SA18'!E8),0,('A10-SerDel'!E60/'SA18'!E8))","v":0},{"$f":"IF(ISERROR('A10-SerDel'!F60/'SA18'!F8),0,('A10-SerDel'!F60/'SA18'!F8))","v":0},{"$f":"IF(ISERROR('A10-SerDel'!G60/'SA18'!G8),0,('A10-SerDel'!G60/'SA18'!G8))","v":0},{"$f":"IF(ISERROR('A10-SerDel'!H60/'SA18'!H8),0,('A10-SerDel'!H60/'SA18'!H8))","v":0},null,{"$f":"IF(ISERROR('A10-SerDel'!I60/'SA18'!I8),0,('A10-SerDel'!I60/'SA18'!I8))","v":0},{"$f":"IF(ISERROR('A10-SerDel'!J60/'SA18'!J8),0,('A10-SerDel'!J60/'SA18'!J8))","v":0},{"$f":"IF(ISERROR('A10-SerDel'!K60/'SA18'!K8),0,('A10-SerDel'!K60/'SA18'!K8))","v":0}]
["Free Services as a % of Operating Revenue \n(excl operational transfers)",null,null,{"$f":"IF(ISERROR('A10-SerDel'!C79/('A1-Sum'!B10-'A1-Sum'!B8)),0,('A10-SerDel'!C79/('A1-Sum'!B10-'A1-Sum'!B8)))","v":0},{"$f":"IF(ISERROR('A10-SerDel'!D79/('A1-Sum'!C10-'A1-Sum'!C8)),0,('A10-SerDel'!D79/('A1-Sum'!C10-'A1-Sum'!C8)))","v":0},{"$f":"IF(ISERROR('A10-SerDel'!E79/('A1-Sum'!D10-'A1-Sum'!D8)),0,('A10-SerDel'!E79/('A1-Sum'!D10-'A1-Sum'!D8)))","v":0},{"$f":"IF(ISERROR('A10-SerDel'!F79/('A1-Sum'!E10-'A1-Sum'!E8)),0,('A10-SerDel'!F79/('A1-Sum'!E10-'A1-Sum'!E8)))","v":0},{"$f":"IF(ISERROR('A10-SerDel'!G79/('A1-Sum'!F10-'A1-Sum'!F8)),0,('A10-SerDel'!G79/('A1-Sum'!F10-'A1-Sum'!F8)))","v":0},{"$f":"IF(ISERROR('A10-SerDel'!H79/('A1-Sum'!G10-'A1-Sum'!G8)),0,('A10-SerDel'!H79/('A1-Sum'!G10-'A1-Sum'!G8)))","v":0},null,{"$f":"IF(ISERROR('A10-SerDel'!I79/('A1-Sum'!I10-'A1-Sum'!I8)),0,('A10-SerDel'!I79/('A1-Sum'!I10-'A1-Sum'!I8)))","v":0},{"$f":"IF(ISERROR('A10-SerDel'!J79/('A1-Sum'!J10-'A1-Sum'!J8)),0,('A10-SerDel'!J79/('A1-Sum'!J10-'A1-Sum'!J8)))","v":0},{"$f":"IF(ISERROR('A10-SerDel'!K79/('A1-Sum'!K10-'A1-Sum'!K8)),0,('A10-SerDel'!K79/('A1-Sum'!K10-'A1-Sum'!K8)))","v":0}]
[]
["High Level Outcome of Funding Compliance"]
["Total Operating Revenue",null,null,{"$f":"D86","v":1039774703.87},{"$f":"E86","v":1060064858.41},1231087572.3599999,1316707182,1378479315,1378479315,{"$f":"J86","v":1383879315},1453941764,1499608042,1570692885]
["Total Operating Expenditure",null,null,{"$f":"D87","v":1225010770.78},1198987798.5999999,1106352377.2800002,1287355041,1280721050,1280721050,1280721050,1322172641,1357296238,1440118029]
["Surplus/(Deficit) Budgeted Operating Statement",null,null,-185236066.90999997,-138922940.18999994,124735195.07999969,29352141,97758265,97758265,103158265,131769123,142311804,130574856]
["Surplus/(Deficit) Considering Reserves and Cash Backing",null,null,{"$f":"'A8-ResRecon'!C19","v":110208794},{"$f":"'A8-ResRecon'!D19","v":128541853.84},{"$f":"'A8-ResRecon'!E19","v":284435045.60999995},{"$f":"'A8-ResRecon'!F19","v":125664020},{"$f":"'A8-ResRecon'!G19","v":111768706},{"$f":"'A8-ResRecon'!H19","v":111768706},{"$f":"'A8-ResRecon'!I19","v":109560706},{"$f":"'A8-ResRecon'!J19","v":425079560},{"$f":"'A8-ResRecon'!K19","v":444728303},{"$f":"'A8-ResRecon'!L19","v":914056908}]
["MTREF Funded (1) / Unfunded (0)",null,15,{"$f":"IF(D133>=0,1,0)","v":1},{"$f":"IF(E133>=0,1,0)","v":1},1,1,1,1,1,1,1,1]
["MTREF Funded ü / Unfunded û",null,15,{"$f":"IF(D134=1,\"ü\",\"û\")","v":"ü"},{"$f":"IF(E134=1,\"ü\",\"û\")","v":"ü"},"ü","ü","ü","ü","ü","ü","ü","ü"]
[]
[{"$f":"head27a","v":"References"}]
["15. Subject to figures provided in Schedule."]

{"sheet":"SA11","index":30,"n_rows":73,"n_cols":11,"rows_kept":73,"cut":false,"hidden":false,"merged":[[1,5,1,7],[1,8,1,10],[1,1,3,1],[1,0,2,0]]}
[{"$f":"muni&\" - \"&TableA11","v":"Choose name from list - Supporting Table SA11 Property rates summary"}]
[{"$f":"desc","v":"Description"},{"$f":"head27","v":"Ref"},{"$f":"head1b","v":"2017/18"},{"$f":"head1A","v":"2018/19"},{"$f":"Head1","v":"2019/20"},{"$f":"Head2","v":"Current Year 2020/21"},null,null,{"$f":"Head3","v":"2021/22 Medium Term Revenue & Expenditure Framework"}]
[null,null,{"$f":"Head5","v":"Audited Outcome"},{"$f":"Head5","v":"Audited Outcome"},{"$f":"Head5","v":"Audited Outcome"},{"$f":"Head6","v":"Original Budget"},{"$f":"Head7","v":"Adjusted Budget"},{"$f":"Head8","v":"Full Year Forecast"},{"$f":"Head9","v":"Budget Year 2021/22"},{"$f":"Head10","v":"Budget Year +1 2022/23"},{"$f":"Head11","v":"Budget Year +2 2023/24"}]
[]
["Valuation:",1]
["Date of valuation:",null,"2013-01-07","2017-01-07","1900/01/00","2017-01-07"]
["Financial year valuation used",null,0,0,0,42742,null,null,42742]
["Municipal by-laws s6 in place? (Y/N)","2",0,0,0,0,null,null,0]
["Municipal/assistant valuer appointed? (Y/N)",null,0,"Yes",0,"Yes",null,null,"Yes"]
["Municipal partnership s38 used? (Y/N)",null,"No","No",0,"No",0,0,"No",0,0]
["No. of assistant valuers (FTE)",3,0,0,0,0,0,0,0,0,0]
["No. of data collectors (FTE)",3,0,0,0,0,0,0,0,0,0]
["No. of internal valuers (FTE)",3,0,0,0,0,0,0,0,0,0]
["No. of external valuers (FTE)",3,0,1,0,1,0,1,1,1,1]
["No. of additional valuers (FTE)",4,0,0,0,0,0,0,0,0,0]
["Valuation appeal board established? (Y/N)",null,0,"Yes",0,"Yes",null,null,"Yes"]
["Implementation time of new valuation roll (mths)",null,0,0,0,0,null,null,0]
["No. of properties",5,18981,18829,0,19900,0,19900,20000,20500,21000]
["No. of sectional title values",5,1024,1046,0,1157,0,1157,1200,1300,1400]
["No. of unreasonably difficult properties s7(2)",null,0,0,0,0,0,0,0,0,0]
["No. of supplementary valuations",null,282,0,0,72,0,72,100,0,0]
["No. of valuation roll amendments",null,0,0,0,0,0,0,0,0,0]
["No. of objections by rate payers",null,352,0,0,0,0,0,0,0,0]
["No. of appeals by rate payers",null,2,0,0,0,0,0,0,0,0]
["No. of successful objections",8,238,0,0,0,0,0,0,0,0]
["No. of successful objections > 10%",8,0,0,0,0,0,0,0,0,0]
["Supplementary valuation",null,134,0,0,108,0,108,108,0,0]
["Public service infrastructure value (Rm)",5,7276910,7276900,0,7000000,0,7000000,7000000,0,0]
["Municipality owned property value (Rm)",null,385999700,385999700,0,386000000,0,386000000,386000000,0,0]
["Valuation reductions:"]
["Valuation reductions-public infrastructure (Rm)",null,0,0,0,0,0,0,0,0,0]
["Valuation reductions-nature reserves/park (Rm)",null,0,0,0,0,0,0,0,0,0]
["Valuation reductions-mineral rights (Rm)",null,0,0,0,0,0,0,0,0,0]
["Valuation reductions-R15,000 threshold (Rm)",null,151170000,151170000,0,164000000,0,164000000,176000000,0,0]
["Valuation reductions-public worship (Rm)",null,0,0,0,0,0,0,0,0,0]
["Valuation reductions-other (Rm)",null,31298563,31298563,0,30000000,0,30000000,30000000,0,0]
["Total valuation reductions:",null,{"$f":"SUM(C31:C36)","v":182468563},{"$f":"SUM(D31:D36)","v":182468563},0,194000000,0,194000000,206000000,0,0]
["Total value used for rating (Rm)",5,12491158471,15491158471,0,16272000000,0,16272000000,16271642000,0,0]
["Total land value (Rm)",5,0,0,0,0,0,0,0,0,0]
["Total value of improvements (Rm)",5,0,0,0,0,0,0,0,0,0]
["Total market value (Rm)",5,12491158471,15590169471,0,16448000000,0,16448000000,16448312000,0,0]
[]
["Rating:"]
["Residential rate used to determine rate for other categories? (Y/N)",null,"Yes","Yes",0,"Yes",null,null,"Yes"]
["Differential rates used? (Y/N)",5,"No","No",0,"No",null,null,"No"]
["Limit on annual rate increase (s20)? (Y/N)",null,"Yes","Yes",0,"Yes",0,"Yes","Yes","Yes","Yes"]
["Special rating area used? (Y/N)",null,"No","No",0,"No",null,null,"No"]
["Phasing-in properties s21 (number)",null,0,0,0,0,0,0,0,0,0]
["Rates policy accompanying budget? (Y/N)",null,"Yes","Yes",0,"Yes",null,null,"Yes"]
["Fixed amount minimum value (R'000)",null,0,0,0,0,null,null,0]
["Non-residential prescribed ratio s19? (%)",null,0,0,0,0,null,null,0]
[]
["Rate revenue:"]
["Rate revenue budget (R '000)",6,94000000,109304000,0,117437200,0,117437000,133588396,0,0]
["Rate revenue expected to collect (R'000)",6,84600000,98373000,0,105693300,0,105693000,120229200,0,0]
["Expected cash collection rate (%)",null,0.9,0.9,0,0.9,0,0.9,0.9,0,0]
["Special rating areas (R'000)",7,0,0,0,0,0,0,0,0,0]
["Rebates, exemptions - indigent (R'000)",null,3939000,3939000,0,4200000,0,4200000,4200000,0,0]
["Rebates, exemptions - pensioners (R'000)",null,2460000,2460000,0,2700000,0,2700000,2700000,0,0]
["Rebates, exemptions - bona fide farm. (R'000)",null,0,0,0,0,0,0,0,0,0]
["Rebates, exemptions - other (R'000)",null,22197000,23184121.460000001,0,29637382,0,29637000,30411407,0,0]
["Phase-in reductions/discounts (R'000)",null,8114420,8114442.5099999998,0,3457694,0,3458000,0,0,0]
["Total rebates,exemptns,reductns,discs (R'000)",null,{"$f":"SUM(C58:C62)","v":36710420},{"$f":"SUM(D58:D62)","v":37697563.969999999},0,39995076,0,39995000,37311407,0,0]
[]
[{"$f":"head27a","v":"References"}]
["1. All numbers to be expressed as whole numbers except FTEs and Rates in the Rand"]
["2. To give effect to rates policy"]
["3. Full Time Equivalent (FTE)  should be expressed to one decimal place and takes into account full time and part time staff"]
["4. Required to implement new system (FTE)"]
["5. Provide relevant information for historical comparisons. Must reconcile to the total of Table SA12"]
[{"$f":"\"6. Current and budget year must reconcile to \"&'Template names'!F103","v":"6. Current and budget year must reconcile to Table A4 Budgeted Financial Performance (revenue and expenditure)"}]
["7. Included in rate revenue budget"]
["8. In favour of the rate-payer"]

{"sheet":"SA12a","index":31,"n_rows":56,"n_cols":19,"rows_kept":56,"cut":false,"hidden":false,"merged":[]}
[{"$f":"muni&\" - \"&TableA12a","v":"Choose name from list - Supporting Table SA12a Property rates by category (current year)"}]
[{"$f":"desc","v":"Description"},{"$f":"head27","v":"Ref"},"Resi.","Indust.","Bus. & Comm.","Farm props.","State-owned ","Muni props.","Public service infra.","Private owned towns","Formal & Informal Settle.","Comm. Land","State trust land","Section 8(2)(n) (note 1)","Protect. Areas","National Monum/ts","Public benefit organs.","Mining Props."]
[{"$f":"Head2","v":"Current Year 2020/21"}]
["Valuation:"]
["No. of properties",null,11012,402,784,2615,259,2057,77,216,0,0,0,0,0,0,18,0]
["No. of sectional title property values",null,1157,0,0,0,0,0,0,0,0,0,0,0,0,0,0,0]
["No. of unreasonably difficult properties s7(2)",null,0,0,0,0,0,0,0,0,0,0,0,0,0,0,0,0]
["No. of supplementary valuations",null,72,0,0,0,0,0,0,0,0,0,0,0,0,0,0,0]
["Supplementary valuation (Rm)",null,0,0,0,0,0,0,0,0,0,0,0,0,0,0,0,0]
["No. of valuation roll amendments",null,0,0,0,0,0,0,0,0,0,0,0,0,0,0,0,0]
["No. of objections by rate-payers",null,0,0,0,0,0,0,0,0,0,0,0,0,0,0,0,0]
["No. of appeals by rate-payers",null,0,0,0,0,0,0,0,0,0,0,0,0,0,0,0,0]
["No. of appeals by rate-payers finalised",null,0,0,0,0,0,0,0,0,0,0,0,0,0,0,0,0]
["No. of successful objections",5,0,0,0,0,0,0,0,0,0,0,0,0,0,0,0,0]
["No. of successful objections > 10%",5,0,0,0,0,0,0,0,0,0,0,0,0,0,0,0,0]
["Estimated no. of properties not valued",null,0,0,0,0,0,0,0,0,0,0,0,0,0,0,0,0]
["Years since last valuation (select)",null,4,4,4,4,4,4,4,4,0,0,0,0,0,0,4,0]
["Frequency of valuation (select)",null,"5","5","5","5","5","5","5","5","0","0","0","0","0","0","5","0"]
["Method of valuation used (select)",null,"Market","Market","Market","Market","Market","Market","Market","Market",0,0,0,0,0,0,"Market",0]
["Base of valuation (select)",null,"Land & impr.","Land & impr.","Land & impr.","Land & impr.","Land & impr.","Land & impr.","Land & impr.","Land & impr.",0,0,0,0,0,0,"Land & impr.",0]
["Phasing-in properties s21 (number)",null,0,0,0,0,0,0,0,0,0,0,0,0,0,0,0,0]
["Combination of rating types used? (Y/N)",null,0,0,0,0,0,0,0,0,0,0,0,0,0,0,"No",0]
["Flat rate used? (Y/N)",null,"No","No","No","No","No","No","No","No",0,0,0,0,0,0,0,0]
["Is balance rated by uniform rate/variable rate?",null,0,0,0,0,0,0,0,0,0,0,0,0,0,0,0,0]
["Valuation reductions:"]
["Valuation reductions-public infrastructure (Rm)",null,0,0,0,0,0,0,0,0,0,0,0,0,0,0,0,0]
["Valuation reductions-nature reserves/park (Rm)",null,0,0,0,0,0,0,0,0,0,0,0,0,0,0,0,0]
["Valuation reductions-mineral rights (Rm)",null,0,0,0,0,0,0,0,0,0,0,0,0,0,0,0,0]
["Valuation reductions-R15,000 threshold (Rm)",null,150000000,0,0,0,0,0,0,0,0,0,0,0,0,0,0,0]
["Valuation reductions-public worship (Rm)",null,0,0,0,0,0,0,0,0,0,0,0,0,0,0,0,0]
["Valuation reductions-other (Rm)",2,0,0,0,0,0,0,0,0,0,0,0,0,0,0,0,0]
["Total valuation reductions:"]
["Total value used for rating (Rm)",6,6599843001,678694000,2366170500,4865499360,739185700,0,7276910,265155000,0,0,0,0,0,0,67745000,0]
["Total land value (Rm)",6,0,0,0,0,0,0,0,0,0,0,0,0,0,0,0,0]
["Total value of improvements (Rm)",6,0,0,0,0,0,0,0,0,0,0,0,0,0,0,0,0]
["Total market value (Rm)",6,6599843001,678694000,2366170500,4865499360,739185700,0,7276910,265155000,0,0,0,0,0,0,67745000,0]
["Rating:"]
["Average rate",3,1.3812E-2,1.3812E-2,1.3812E-2,2.258E-3,1.3812E-2,0,2.258E-3,1.3812E-2,0,0,0,0,0,0,2.258E-3,0]
["Rate revenue budget (R '000)",null,60570000,9374000,32681000,10986000,10209000,0,16000,2436000,0,0,0,0,0,0,304000,0,{"$f":"SUM(C39:R39)","v":126576000}]
["Rate revenue expected to collect (R'000)",null,54513000,8437000,29413000,9887000,9188000,0,14000,2192000,0,0,0,0,0,0,274000,0,{"$f":"SUM(C40:R40)","v":113918000}]
["Expected cash collection rate (%)",4,0.9,0.9,0.9,0.9,0.9,0,0.9,0.9,0,0,0,0,0,0,0.9,0]
["Special rating areas (R'000)",null,0,0,0,0,0,0,0,0,0,0,0,0,0,0,0,0]
["Rebates, exemptions - indigent (R'000)",null,4200000,0,0,0,0,0,0,0,0,0,0,0,0,0,0,0]
["Rebates, exemptions - pensioners (R'000)",null,2700000,0,0,0,0,0,0,0,0,0,0,0,0,0,0,0]
["Rebates, exemptions - bona fide farm. (R'000)",null,0,0,0,0,0,0,0,0,0,0,0,0,0,0,0,0]
["Rebates, exemptions - other (R'000)",null,29637000,0,0,0,0,0,0,0,0,0,0,0,0,0,0,0]
["Phase-in reductions/discounts (R'000)",null,3458000,0,0,0,0,0,0,0,0,0,0,0,0,0,0,0]
["Total rebates,exemptns,reductns,discs (R'000)",null,0,0,0,0,0,0,0,0,0,0,0,0,0,0,0,0]
[]
[{"$f":"head27a","v":"References"}]
["1. Land & Assistance Act, Restitution of Land Rights, Communual Property Associations"]
["2. Include value of additional reductions is 'free' value greater than MPRA minimum."]
["3. Average rate - cents in  the Rand. Eg 10.26 cents in the Rand is 0.1026, expressed to 6 decimal places maximum"]
["4. Include arrears collections"]
["5. In favour of the rate-payer"]
["6. Provide relevant information for historical comparisons."]

{"sheet":"SA12b","index":32,"n_rows":56,"n_cols":18,"rows_kept":56,"cut":false,"hidden":false,"merged":[]}
[{"$f":"muni&\" - \"&TableA12b","v":"Choose name from list - Supporting Table SA12b Property rates by category (budget year)"}]
[{"$f":"desc","v":"Description"},{"$f":"head27","v":"Ref"},"Resi.","Indust.","Bus. & Comm.","Farm props.","State-owned ","Muni props.","Public service infra.","Private owned towns","Formal & Informal Settle.","Comm. Land","State trust land","Section 8(2)(n) (note 1)","Protect. Areas","National Monum/ts","Public benefit organs.","Mining Props."]
[{"$f":"Head9","v":"Budget Year 2021/22"}]
["Valuation:"]
["No. of properties",null,11644,424,822,2663,281,2057,73,216,0,0,0,0,0,0,24,0]
["No. of sectional title property values",null,1200,0,0,0,0,0,0,0,0,0,0,0,0,0,0,0]
["No. of unreasonably difficult properties s7(2)",null,0,0,0,0,0,0,0,0,0,0,0,0,0,0,0,0]
["No. of supplementary valuations",null,0,0,0,0,0,0,0,0,0,0,0,0,0,0,0,0]
["Supplementary valuation (Rm)",null,100,0,0,0,0,0,0,0,0,0,0,0,0,0,0,0]
["No. of valuation roll amendments",null,0,0,0,0,0,0,0,0,0,0,0,0,0,0,0,0]
["No. of objections by rate-payers",null,0,0,0,0,0,0,0,0,0,0,0,0,0,0,0,0]
["No. of appeals by rate-payers",null,0,0,0,0,0,0,0,0,0,0,0,0,0,0,0,0]
["No. of appeals by rate-payers finalised",null,0,0,0,0,0,0,0,0,0,0,0,0,0,0,0,0]
["No. of successful objections",5,0,0,0,0,0,0,0,0,0,0,0,0,0,0,0,0]
["No. of successful objections > 10%",5,0,0,0,0,0,0,0,0,0,0,0,0,0,0,0,0]
["Estimated no. of properties not valued",null,0,0,0,0,0,0,0,0,0,0,0,0,0,0,0,0]
["Years since last valuation (select)",null,5,5,5,5,5,5,5,5,0,0,0,0,0,0,5,0]
["Frequency of valuation (select)",null,"5","5","5","5","5","5","5","5","0","0","0","0","0","0","5","0"]
["Method of valuation used (select)",null,"Market","Market","Market","Market","Market","Market","Market","Market",0,0,0,0,0,0,"Market",0]
["Base of valuation (select)",null,"Land & impr.","Land & impr.","Land & impr.","Land & impr.","Land & impr.","Land & impr.","Land & impr.","Land & impr.",0,0,0,0,0,0,"Land & impr.",0]
["Phasing-in properties s21 (number)",null,0,0,0,0,0,0,0,0,0,0,0,0,0,0,0,0]
["Combination of rating types used? (Y/N)",null,0,0,0,0,0,0,0,0,0,0,0,0,0,0,0,0]
["Flat rate used? (Y/N)",null,"No","No","No","No","No","No","No","No",0,0,0,0,0,0,"No",0]
["Is balance rated by uniform rate/variable rate?",null,0,0,0,0,0,0,0,0,0,0,0,0,0,0,0,0]
["Valuation reductions:"]
["Valuation reductions-public infrastructure (Rm)",null,0,0,0,0,0,0,0,0,0,0,0,0,0,0,0,0]
["Valuation reductions-nature reserves/park (Rm)",null,0,0,0,0,0,0,0,0,0,0,0,0,0,0,0,0]
["Valuation reductions-mineral rights (Rm)",null,0,0,0,0,0,0,0,0,0,0,0,0,0,0,0,0]
["Valuation reductions-R15,000 threshold (Rm)",null,174615000,0,0,0,0,0,0,2055000,0,0,0,0,0,0,0,0]
["Valuation reductions-public worship (Rm)",null,0,0,0,0,0,0,0,0,0,0,0,0,0,0,0,0]
["Valuation reductions-other (Rm)",2,0,0,0,0,0,0,0,0,0,0,0,0,0,0,0,0]
["Total valuation reductions:"]
["Total value used for rating (Rm)",6,7101282410,735101000,2600358500,4991776460,777764700,0,3153710,213135000,0,0,0,0,0,0,14756000,0]
["Total land value (Rm)",6,0,0,0,0,0,0,0,0,0,0,0,0,0,0,0,0]
["Total value of improvements (Rm)",6,0,0,0,0,0,0,0,0,0,0,0,0,0,0,0,0]
["Total market value (Rm)",6,7101282410,735101000,2600358500,4991776460,777764700,0,3153710,213135000,0,0,0,0,0,0,14756000,0]
["Rating:"]
["Average rate",3,1.4350999999999999E-2,1.4350999999999999E-2,1.4350999999999999E-2,2.47E-3,1.4350999999999999E-2,0,2.47E-3,1.4350999999999999E-2,0,0,0,0,0,0,2.47E-3,0]
["Rate revenue budget (R '000)",null,69899637,10549190,37316881,12329688,11161443,0,7790,2020397,0,0,0,0,0,0,45725,0]
["Rate revenue expected to collect (R'000)",null,62640000,9494000,33585000,10107000,10449000,0,7000,1818000,0,0,0,0,0,0,41400,0]
["Expected cash collection rate (%)",4,0.9,0.9,0.9,0.9,0.9,0,0.9,0.9,0,0,0,0,0,0,0.9,0]
["Special rating areas (R'000)",null,0,0,0,0,0,0,0,0,0,0,0,0,0,0,0,0]
["Rebates, exemptions - indigent (R'000)",null,4200000,0,0,0,0,0,0,0,0,0,0,0,0,0,0,0]
["Rebates, exemptions - pensioners (R'000)",null,2700000,0,0,0,0,0,0,0,0,0,0,0,0,0,0,0]
["Rebates, exemptions - bona fide farm. (R'000)",null,0,0,0,0,0,0,0,0,0,0,0,0,0,0,0,0]
["Rebates, exemptions - other (R'000)",null,0,0,0,0,0,0,0,0,0,0,0,0,0,0,0,0]
["Phase-in reductions/discounts (R'000)",null,29502666,0,0,0,0,0,0,908742,0,0,0,0,0,0,0,0]
["Total rebates,exemptns,reductns,discs (R'000)",null,0,0,0,0,0,0,0,0,0,0,0,0,0,0,0,0]
[]
[{"$f":"head27a","v":"References"}]
["1. Land & Assistance Act, Restitution of Land Rights, Communual Property Associations"]
["2. Include value of additional reductions is 'free' value greater than MPRA minimum."]
["3. Average rate - cents in  the Rand. Eg 10.26 cents in the Rand is 0.1026, expressed to 6 decimal places maximum"]
["4. Include arrears collections"]
["5. In favour of the rate-payer"]
["6. Provide relevant information for historical comparisons."]

{"sheet":"SA13a","index":33,"n_rows":90,"n_cols":19,"rows_kept":90,"cut":false,"hidden":false,"merged":[[93,6,94,6],[93,0,94,0],[93,1,94,1],[93,2,94,2],[93,3,94,3],[93,4,94,4],[93,5,94,5],[1,6,2,6],[1,0,2,0],[1,1,2,1],[1,2,2,2],[1,3,2,3],[1,4,2,4],[1,5,2,5]]}
[{"$f":"muni&\" - \"&TableA13a","v":"Choose name from list - Supporting Table SA13a Service Tariffs by category"}]
[{"$f":"desc","v":"Description"},{"$f":"head27","v":"Ref"},"Provide description of tariff structure where appropriate",{"$f":"head1b","v":"2017/18"},{"$f":"head1A","v":"2018/19"},{"$f":"Head1","v":"2019/20"},{"$f":"Head2","v":"Current Year 2020/21"},{"$f":"Head3","v":"2021/22 Medium Term Revenue & Expenditure Framework"}]
[null,null,null,null,null,null,null,{"$f":"Head9","v":"Budget Year 2021/22"},{"$f":"Head10","v":"Budget Year +1 2022/23"},{"$f":"Head11","v":"Budget Year +2 2023/24"}]
["Property rates (rate in the Rand)",1]
["Residential properties",null,null,0,0,1.2516,1.3217000000000001,1.3812,1.4351,0]
["Residential properties - vacant land",null,null,0,0,1.2516,1.3217000000000001,1.3812,1.4351,0]
["Formal/informal settlements",null,null,0,0,0,0,0,0,0]
["Small holdings",null,null,0,0,0.31280000000000002,0.20549999999999999,0.25580000000000003,0.247,0]
["Farm properties - used",null,null,0,0,0.31280000000000002,0.20549999999999999,0.25580000000000003,0.247,0]
["Farm properties - not used",null,null,0,0,0.31280000000000002,0.20549999999999999,0.25580000000000003,0.247,0]
["Industrial properties",null,null,0,0,1.2516,1.3217000000000001,1.3812,1.4351,0]
["Business and commercial properties",null,null,0,0,1.2516,1.3217000000000001,1.3812,1.4351,0]
["Communal land - residential",null,null,0,0,1.2516,1.3217000000000001,1.3812,1.4351,0]
["Communal land - small holdings",null,null,0,0,0.31280000000000002,0.20549999999999999,0.25580000000000003,0.247,0]
["Communal land - farm property",null,null,0,0,0.31280000000000002,0.20549999999999999,0.25580000000000003,0.247,0]
["Communal land - business and commercial",null,null,0,0,1.2516,1.3217000000000001,1.3812,1.4351,0]
["Communal land - other",null,null,0,0,1.2516,1.3217000000000001,1.3812,1.4351,0]
["State-owned properties",null,null,0,0,1.2516,1.3217000000000001,1.3812,1.4351,0]
["Municipal properties",null,null,0,0,0,0,0,0,0]
["Public service infrastructure",null,null,0,0,0.31280000000000002,0.20549999999999999,0.25580000000000003,0.247,0]
["Privately owned towns serviced by the owner",null,null,0,0,1.2516,1.3217000000000001,1.3812,1.4351,0]
["State trust land",null,null,0,0,0,0,0,0,0]
["Restitution and redistribution properties",null,null,0,0,0,0,0,0,0]
["Protected areas",null,null,0,0,0,0,0,0,0]
["National monuments properties",null,null,0,0,0,0,0,0,0]
[]
["Exemptions, reductions and rebates (Rands)"]
["Residential properties"]
["R15 000 threshhold rebate",null,null,15000,15000,15000,15000,15000,15000,15000]
["General residential rebate",null,null,0,0,30,30,30,30,0]
["Indigent rebate or exemption",null,null,0,0,100,100,100,100,0]
["Pensioners/social grants rebate or exemption ",null,null,0,0,30,30,30,30,0]
["Temporary relief rebate or exemption",null,null,0,0,15,10,5,0,0]
[" Bona fide farmers rebate or exemption",null,null,0,0,0,0,0,0,0]
["Other rebates or exemptions",2,null,0,0,0,0,0,0,0]
[]
["Water tariffs"]
["Domestic"]
["Basic charge/fixed fee (Rands/month)",null,null,0,0,0,0,0,0,0,null,null,null,null,null,null,null,null,{"$f":"SUM(C39:R39)","v":0}]
["Service point - vacant land (Rands/month)",null,null,0,0,0,0,0,0,0,null,null,null,null,null,null,null,null,{"$f":"SUM(C40:R40)","v":0}]
["Water usage - flat rate tariff (c/kl)",null,null,0,0,0,0,0,0,0]
["Water usage - life line tariff",null,"(describe structure)",0,0,0,0,0,0,0]
["Water usage - Block 1 (c/kl)",null," (fill in thresholds)",0,0,0,0,0,0,0]
["Water usage - Block 2 (c/kl)",null," (fill in thresholds)",0,0,0,0,0,0,0]
["Water usage - Block 3 (c/kl)",null," (fill in thresholds)",0,0,0,0,0,0,0]
["Water usage - Block 4 (c/kl)",null," (fill in thresholds)",0,0,0,0,0,0,0]
["Other",2,null,0,0,0,0,0,0,0]
[]
["Waste water tariffs"]
["Domestic"]
["Basic charge/fixed fee (Rands/month)",null,null,0,0,0,0,0,0,0]
["Service point - vacant land (Rands/month)",null,null,0,0,0,0,0,0,0]
["Waste water - flat rate tariff (c/kl)",null,null,0,0,0,0,0,0,0]
["Volumetric charge - Block 1 (c/kl)",null,"(fill in structure)",0,0,0,0,0,0,0]
["Volumetric charge - Block 2 (c/kl)",null,"(fill in structure)",0,0,0,0,0,0,0]
["Volumetric charge - Block 3 (c/kl)",null,"(fill in structure)",0,0,0,0,0,0,0]
["Volumetric charge - Block 4 (c/kl)",null,"(fill in structure)",0,0,0,0,0,0,0]
["Other",2,null,0,0,0,0,0,0,0]
[]
["Electricity tariffs"]
["Domestic"]
["Basic charge/fixed fee (Rands/month)",null,null,0,0,364,412,0,0,0]
["Service point - vacant land (Rands/month)",null,null,0,0,0,0,0,0,0]
["FBE",null,"(how is this targeted?)",0,0,0,0,0,0,0]
["Life-line tariff - meter",null,"(describe structure)",0,0,0,0,0,0,0]
["Life-line tariff - prepaid",null,"(describe structure)",0,0,0,0,0,0,0]
["Flat rate tariff - meter (c/kwh)",null,null,0,0,0,0,0,0,0]
["Flat rate tariff - prepaid(c/kwh)",null,null,0,0,0,0,0,0,0]
["Meter - IBT Block 1 (c/kwh)",null,"(fill in thresholds)",0,0,0,0,0,0,0]
["Meter - IBT Block 2 (c/kwh)",null,"(fill in thresholds)",0,0,0,0,0,0,0]
["Meter - IBT Block 3 (c/kwh)",null,"(fill in thresholds)",0,0,0,0,0,0,0]
["Meter - IBT Block 4 (c/kwh)",null,"(fill in thresholds)",0,0,0,0,0,0,0]
["Meter - IBT Block 5 (c/kwh)",null,"(fill in thresholds)",0,0,0,0,0,0,0]
["Prepaid - IBT Block 1 (c/kwh)",null,"(fill in thresholds)",0,0,91,103,110,0,0]
["Prepaid - IBT Block 2 (c/kwh)",null,"(fill in thresholds)",0,0,117,132,141,0,0]
["Prepaid - IBT Block 3 (c/kwh)",null,"(fill in thresholds)",0,0,165,187,199,0,0]
["Prepaid - IBT Block 4 (c/kwh)",null,"(fill in thresholds)",0,0,194,220,234,0,0]
["Prepaid - IBT Block 5 (c/kwh)",null,"(fill in thresholds)",0,0,0,0,0,0,0]
["Other",2,null,0,0,0,0,0,0,0]
[]
["Waste management tariffs"]
["Domestic"]
["Street cleaning charge",null,null,0,0,0,0,0,0,0]
["Basic charge/fixed fee",null,null,0,0,0,0,0,0,0]
["80l bin - once a week",null,null,0,0,0,0,0,0,0]
["250l bin - once a week",null,null,0,0,0,0,0,0,0]
[]
[{"$f":"head27a","v":"References"}]
["1. If properties are not rated or zero rated this must be indicated as such"]
["2.Please provide detailed descriptions on Sheet SA13b"]

{"sheet":"SA13b","index":34,"n_rows":50,"n_cols":19,"rows_kept":50,"cut":false,"hidden":false,"merged":[[94,0,95,0],[1,0,2,0],[1,1,2,1],[1,2,2,2],[1,3,2,3],[94,1,95,1],[94,2,95,2],[94,3,95,3],[94,5,95,5],[94,6,95,6],[1,6,2,6],[1,5,2,5],[1,4,2,4],[94,4,95,4]]}
[{"$f":"muni&\" - \"&TableA13b","v":"Choose name from list - Supporting Table SA13b Service Tariffs by category - explanatory"}]
[{"$f":"desc","v":"Description"},{"$f":"head27","v":"Ref"},"Provide description of tariff structure where appropriate",{"$f":"head1b","v":"2017/18"},{"$f":"head1A","v":"2018/19"},{"$f":"Head1","v":"2019/20"},{"$f":"Head2","v":"Current Year 2020/21"},{"$f":"Head3","v":"2021/22 Medium Term Revenue & Expenditure Framework"}]
[null,null,null,null,null,null,null,{"$f":"Head9","v":"Budget Year 2021/22"},{"$f":"Head10","v":"Budget Year +1 2022/23"},{"$f":"Head11","v":"Budget Year +2 2023/24"}]
["Exemptions, reductions and rebates (Rands)"]
["[Insert lines as applicable]"]
[]
[]
[]
[]
[]
[]
[]
[]
["Water tariffs"]
["[Insert blocks as applicable]",null," (fill in thresholds)"]
[null,null," (fill in thresholds)"]
[null,null," (fill in thresholds)"]
[null,null," (fill in thresholds)"]
[null,null," (fill in thresholds)"]
[null,null," (fill in thresholds)"]
[null,null," (fill in thresholds)"]
[null,null," (fill in thresholds)"]
[null,null," (fill in thresholds)"]
[null,null," (fill in thresholds)"]
[]
["Waste water tariffs"]
["[Insert blocks as applicable]",null,"(fill in structure)"]
[null,null,"(fill in structure)"]
[null,null,"(fill in structure)"]
[null,null,"(fill in structure)"]
[null,null,"(fill in structure)"]
[null,null,"(fill in structure)"]
[null,null,"(fill in structure)"]
[null,null,"(fill in structure)"]
[null,null,"(fill in structure)"]
[]
["Electricity tariffs"]
["[Insert blocks as applicable]",null,"(fill in thresholds)"]
[null,null,"(fill in thresholds)",null,null,null,null,null,null,null,null,null,null,null,null,null,null,null,{"$f":"SUM(C39:R39)","v":0}]
[null,null,"(fill in thresholds)",null,null,null,null,null,null,null,null,null,null,null,null,null,null,null,{"$f":"SUM(C40:R40)","v":0}]
[null,null,"(fill in thresholds)"]
[null,null,"(fill in thresholds)"]
[null,null,"(fill in thresholds)"]
[null,null,"(fill in thresholds)"]
[null,null,"(fill in thresholds)"]
[null,null,"(fill in thresholds)"]
[null,null,"(fill in thresholds)"]
[null,null,"(fill in thresholds)"]
[null,null,"(fill in thresholds)"]
[null,null,"(fill in thresholds)"]

{"sheet":"SA14","index":35,"n_rows":54,"n_cols":12,"rows_kept":54,"cut":false,"hidden":false,"merged":[[1,1,3,1],[1,5,1,7],[1,0,2,0]]}
[{"$f":"muni&\" - \"&TableA14","v":"Choose name from list - Supporting Table SA14 Household bills"}]
[{"$f":"desc","v":"Description"},{"$f":"head27","v":"Ref"},{"$f":"head1b","v":"2017/18"},{"$f":"head1A","v":"2018/19"},{"$f":"Head1","v":"2019/20"},{"$f":"Head2","v":"Current Year 2020/21"},null,null,{"$f":"Head3","v":"2021/22 Medium Term Revenue & Expenditure Framework"}]
[null,null,{"$f":"Head5","v":"Audited Outcome"},{"$f":"Head5","v":"Audited Outcome"},{"$f":"Head5","v":"Audited Outcome"},{"$f":"Head6","v":"Original Budget"},{"$f":"Head7","v":"Adjusted Budget"},{"$f":"Head8","v":"Full Year Forecast"},{"$f":"Head9","v":"Budget Year 2021/22"},{"$f":"Head9","v":"Budget Year 2021/22"},{"$f":"Head10","v":"Budget Year +1 2022/23"},{"$f":"Head11","v":"Budget Year +2 2023/24"}]
["Rand/cent",null,null,null,null,null,null,null,"% incr."]
["Monthly Account for Household - 'Middle Income Range'",1]
["Rates and services charges:"]
["Property rates",null,379.96,425.10072500000001,475.31636250000003,496.71404999999999,496.71404999999999,496.71404999999999,3.9024037069214902E-2,516.09783749999997,537.77620000000002,561.43835279999996]
["Electricity: Basic levy",null,344.58,368.15,402.46,449.61,449.61,449.61,0.14483663619581399,514.73,536.35,559.95000000000005]
["Electricity: Consumption",null,1426.35,1522.2,1667.1,1865.4,1865.4,1865.4,0.14677817090168399,2139.1999999999998,2229.0464000000002,2327.12444]
["Water: Basic levy",null,31.93,33.625,35.508000000000003,37.104999999999997,37.104999999999997,37.104999999999997,3.8943538606656801E-2,38.549999999999997,40.1691,41.936540000000001]
["Water: Consumption",null,99.61,397.15,419.24299999999999,169.6,169.6,169.6,3.8620283018868003E-2,176.15,183.54830000000001,191.62442519999999]
["Sanitation",null,23.13,24.42,25.8,26.949275573512299,26.949275573512299,26.949275573512299,3.8617899900455603E-2,27.99,29.165579999999999,30.44886]
["Refuse removal",null,118.43,124.71,131.69,137.62,137.62,137.62,9.6570265949716502E-2,150.91,157.24822,164.16714167999999]
["Other",null,0,0,0,0,0,0,0,0,0,0]
["sub-total",null,{"$f":"SUM(C7:C14)","v":2423.9899999999998},{"$f":"SUM(D7:D14)","v":2895.3557250000003},{"$f":"SUM(E7:E14)","v":3157.1173625000001},{"$f":"SUM(F7:F14)","v":3182.9983255735119},{"$f":"SUM(G7:G14)","v":3182.9983255735119},3182.9983255735119,{"$f":"IF(ISERROR(ROUND((J15-F15)/F15,3)),0,(ROUND((J15-F15)/F15,3)))","v":0.12},3563.6278374999997,3713.3038000000001,3876.6897596800004]
["VAT on Services",null,0,0,0,0,0,0,0,0,0,0]
["Total large household bill:",null,{"$f":"SUM(C15:C16)","v":2423.9899999999998},{"$f":"SUM(D15:D16)","v":2895.3557250000003},{"$f":"SUM(E15:E16)","v":3157.1173625000001},{"$f":"SUM(F15:F16)","v":3182.9983255735119},{"$f":"SUM(G15:G16)","v":3182.9983255735119},3182.9983255735119,{"$f":"IF(ISERROR(ROUND((J17-F17)/F17,3)),0,(ROUND((J17-F17)/F17,3)))","v":0.12},3563.6278374999997,3713.3038000000001,3876.6897596800004]
["% increase/-decrease",null,null,{"$f":"IF(ISERROR((D17/C17)-1),0,((D17/C17)-1))","v":0.19445860956522121},{"$f":"IF(ISERROR((E17/D17)-1),0,((E17/D17)-1))","v":9.0407418763716718E-2},{"$f":"IF(ISERROR((F17/E17)-1),0,((F17/E17)-1))","v":8.1976563117114321E-3},{"$f":"IF(ISERROR((G17/F17)-1),0,((G17/F17)-1))","v":0},{"$f":"IF(ISERROR((H17/G17)-1),0,((H17/G17)-1))","v":0},null,{"$f":"IF(ISERROR((J17/H17)-1),0,((J17/H17)-1))","v":0.11958206476841493},{"$f":"IF(ISERROR((K17/J17)-1),0,((K17/J17)-1))","v":4.2001008333407475E-2},{"$f":"IF(ISERROR((L17/K17)-1),0,((L17/K17)-1))","v":4.4000159556026652E-2}]
[]
["Monthly Account for Household - 'Affordable Range' ",2]
[{"$f":"A6","v":"Rates and services charges:"}]
[{"$f":"A7","v":"Property rates"},null,379.96,300.98372499999999,336.53786250000002,351.68804999999998,351.68804999999998,351.68804999999998,3.9024037069215201E-2,365.41233749999998,380.75722000000002,397.51053000000002]
["Electricity: Basic levy",null,344.58,368.15,402.46,449.61,449.61,449.61,0.14483663619581399,514.73,536.35,559.95000000000005]
["Electricity: Consumption",null,680.55,723.6,796.05,895.2,895.2,895.2,0.15292672028597001,1032.0999999999999,1075.4482,1122.7679000000001]
["Water: Basic levy",null,31.93,33.625,35.508000000000003,37.104999999999997,37.104999999999997,37.104999999999997,3.8943538606656801E-2,38.549999999999997,40.1691,41.936540000000001]
["Water: Consumption",null,73.06,397.15,419.24299999999999,124.2,124.2,124.2,3.8647342995169101E-2,129,134.41800000000001,140.3323]
["Sanitation",null,19.28,20.350000000000001,21.5,22.457729644593599,22.457729644593599,22.457729644593599,3.86178999004557E-2,23.324999999999999,24.30986,25.3794]
["Refuse removal",null,118.43,124.71,131.69,137.62,137.62,137.62,9.6570265949716502E-2,150.91,157.24822,164.16714099999999]
["Other",null,0,0,0,0,0,0,0,0,0,0]
["sub-total",null,{"$f":"SUM(C22:C29)","v":1647.79},1968.5687250000001,2142.9888624999999,2017.880779644594,2017.880779644594,2017.880779644594,{"$f":"IF(ISERROR(ROUND((J30-F30)/F30,3)),0,(ROUND((J30-F30)/F30,3)))","v":0.11700000000000001},{"$f":"SUM(J22:J29)","v":2254.0273374999997},{"$f":"SUM(K22:K29)","v":2348.7006000000001},{"$f":"SUM(L22:L29)","v":2452.043811}]
["VAT on Services",null,0,0,0,0,0,0,0,0,0,0]
["Total small household bill:",null,{"$f":"SUM(C30:C31)","v":1647.79},1968.5687250000001,2142.9888624999999,2017.880779644594,2017.880779644594,2017.880779644594,{"$f":"IF(ISERROR(ROUND((J32-F32)/F32,3)),0,(ROUND((J32-F32)/F32,3)))","v":0.11700000000000001},{"$f":"SUM(J30:J31)","v":2254.0273374999997},{"$f":"SUM(K30:K31)","v":2348.7006000000001},{"$f":"SUM(L30:L31)","v":2452.043811}]
["% increase/-decrease",null,null,{"$f":"IF(ISERROR((D32/C32)-1),0,((D32/C32)-1))","v":0.1946720911038422},{"$f":"IF(ISERROR((E32/D32)-1),0,((E32/D32)-1))","v":8.8602513737487065E-2},{"$f":"IF(ISERROR((F32/E32)-1),0,((F32/E32)-1))","v":-5.8380183417964915E-2},{"$f":"IF(ISERROR((G32/F32)-1),0,((G32/F32)-1))","v":0},{"$f":"IF(ISERROR((H32/G32)-1),0,((H32/G32)-1))","v":0},null,{"$f":"IF(ISERROR((J32/H32)-1),0,((J32/H32)-1))","v":0.11702701182227315},{"$f":"IF(ISERROR((K32/J32)-1),0,((K32/J32)-1))","v":4.2001825321695163E-2},{"$f":"IF(ISERROR((L32/K32)-1),0,((L32/K32)-1))","v":4.4000163750117727E-2}]
[null,null,null,null,{"$f":"IF(ISERROR((E33/D33)-1),0,((E33/D33)-1))","v":-0.54486278318023196},{"$f":"IF(ISERROR((F33/E33)-1),0,((F33/E33)-1))","v":-1.6588998545902958},{"$f":"IF(ISERROR((G33/F33)-1),0,((G33/F33)-1))","v":-1},{"$f":"IF(ISERROR((H33/G33)-1),0,((H33/G33)-1))","v":0}]
["Monthly Account for Household - 'Indigent' Household receiving free basic services",3]
[{"$f":"A6","v":"Rates and services charges:"}]
[{"$f":"A7","v":"Property rates"},null,158.08000000000001,176.866725,197.75936250000001,206.66204999999999,206.66204999999999,206.66204999999999,3.9024037069214999E-2,214.72683749999999,223.74866,233.59360000000001]
["Electricity: Basic levy",null,344.58,368.15,402.46,449.61,449.61,449.61,0.14483663619581399,514.73,536.35,559.95000000000005]
["Electricity: Consumption",null,456.81,484.02,534.73500000000001,604.14,604.14,604.14,0.15862217366835599,699.97,729.36874,761.46]
["Water: Basic levy",null,31.93,33.625,35.508000000000003,37.104999999999997,37.104999999999997,37.104999999999997,3.8943538606656801E-2,38.549999999999997,40.1691,41.936540000000001]
["Water: Consumption",null,377.21,397.15,419.24299999999999,90.6,90.6,90.6,3.92935982339956E-2,94.16,98.114720000000005,102.43176]
["Sanitation",null,15.42,16.28,17.2,17.966183715674902,17.966183715674902,17.966183715674902,3.8617899900455603E-2,18.66,19.443719999999999,20.29924368]
["Refuse removal",null,118.43,124.71,131.69,137.62,137.62,137.62,9.6570265949716502E-2,150.91,157.24822,164.16714167999999]
["Other",null,0,0,0,0,0,0,0,0,0,0]
["sub-total",null,{"$f":"SUM(C37:C44)","v":1502.46},{"$f":"SUM(D37:D44)","v":1600.801725},{"$f":"SUM(E37:E44)","v":1738.5953625000002},{"$f":"SUM(F37:F44)","v":1543.7032337156747},{"$f":"SUM(G37:G44)","v":1543.7032337156747},1543.7032337156747,{"$f":"IF(ISERROR(ROUND((J45-F45)/F45,3)),0,(ROUND((J45-F45)/F45,3)))","v":0.122},1731.7068375000003,1804.44316,1883.8382853599999]
["VAT on Services",null,0,0,0,0,0,0,0,0,0,0]
["Total small household bill:",null,{"$f":"SUM(C45:C46)","v":1502.46},{"$f":"SUM(D45:D46)","v":1600.801725},{"$f":"SUM(E45:E46)","v":1738.5953625000002},{"$f":"SUM(F45:F46)","v":1543.7032337156747},{"$f":"SUM(G45:G46)","v":1543.7032337156747},1543.7032337156747,{"$f":"IF(ISERROR(ROUND((J47-F47)/F47,3)),0,(ROUND((J47-F47)/F47,3)))","v":0.122},1731.7068375000003,1804.44316,1883.8382853599999]
[{"$f":"A18","v":"% increase/-decrease"},null,null,{"$f":"IF(ISERROR((D47/C47)-1),0,((D47/C47)-1))","v":6.5453805758555861E-2},{"$f":"IF(ISERROR((E47/D47)-1),0,((E47/D47)-1))","v":8.6077891688928654E-2},{"$f":"IF(ISERROR((F47/E47)-1),0,((F47/E47)-1))","v":-0.1120974626919985},{"$f":"IF(ISERROR((G47/F47)-1),0,((G47/F47)-1))","v":0},{"$f":"IF(ISERROR((H47/G47)-1),0,((H47/G47)-1))","v":0},null,{"$f":"IF(ISERROR((J47/H47)-1),0,((J47/H47)-1))","v":0.121787400374749},{"$f":"IF(ISERROR((K47/J47)-1),0,((K47/J47)-1))","v":4.2002676737712852E-2},{"$f":"IF(ISERROR((L47/K47)-1),0,((L47/K47)-1))","v":4.3999792911182611E-2}]
[]
[{"$f":"head27a","v":"References"}]
["1. Use as basis property value of R700 000, 1 000 kWh electricity and 30kl water"]
["2. Use as basis property value  of R500 000 and R700 000, 500 kWh electricity and 25kl water"]
["3. Use as basis property value of R 300 000, 350kWh electricity and 20kl water (50 kWh electricity and 6 kl water free)"]
["4. Note this is for a SINGLE household."]

{"sheet":"SA15","index":36,"n_rows":36,"n_cols":11,"rows_kept":36,"cut":false,"hidden":false,"merged":[[1,5,1,7],[1,8,1,10],[1,1,3,1],[1,0,2,0]]}
[{"$f":"muni&\" - \"&TableA15","v":"Choose name from list - Supporting Table SA15 Investment particulars by type"}]
["Investment type",{"$f":"head27","v":"Ref"},{"$f":"head1b","v":"2017/18"},{"$f":"head1A","v":"2018/19"},{"$f":"Head1","v":"2019/20"},{"$f":"Head2","v":"Current Year 2020/21"},null,null,{"$f":"Head3","v":"2021/22 Medium Term Revenue & Expenditure Framework"}]
[null,null,{"$f":"Head5","v":"Audited Outcome"},{"$f":"Head5","v":"Audited Outcome"},{"$f":"Head5","v":"Audited Outcome"},{"$f":"Head6","v":"Original Budget"},{"$f":"Head7","v":"Adjusted Budget"},{"$f":"Head8","v":"Full Year Forecast"},{"$f":"Head9","v":"Budget Year 2021/22"},{"$f":"Head10","v":"Budget Year +1 2022/23"},{"$f":"Head11","v":"Budget Year +2 2023/24"}]
["R thousand"]
["Parent municipality"]
["Securities - National Government",null,0,0,0,0,0,0,0,0,0]
["Listed Corporate Bonds",null,0,0,0,0,0,0,0,0,0]
["Deposits - Bank",null,26887399,31525083,21113399,21995950.300000001,21995950.300000001,21995950.300000001,21995950,22919780,23928253]
["Deposits - Public Investment Commissioners",null,0,0,0,0,0,0,0,0,0]
["Deposits - Corporation for Public Deposits",null,0,0,0,0,0,0,0,0,0]
["Bankers Acceptance Certificates",null,0,0,0,0,0,0,0,0,0]
["Negotiable Certificates of Deposit - Banks",null,0,0,0,0,0,0,0,0,0]
["Guaranteed Endowment Policies (sinking)",null,0,0,0,0,0,0,0,0,0]
["Repurchase Agreements - Banks",null,0,0,0,0,0,0,0,0,0]
["Municipal Bonds",null,0,0,0,0,0,0,0,0,0]
[]
["Municipality sub-total",1,{"$f":"SUM(C6:C15)","v":26887399},31525083,21113399,21995950.300000001,21995950.300000001,21995950.300000001,21995950,22919780,23928253]
[]
["Entities"]
[{"$f":"A6","v":"Securities - National Government"},null,0,0,0,0,0,0,0,0,0]
[{"$f":"A7","v":"Listed Corporate Bonds"},null,0,0,0,0,0,0,0,0,0]
["Deposits - Bank",null,0,0,0,0,0,0,0,0,0]
["Deposits - Public Investment Commissioners",null,0,0,0,0,0,0,0,0,0]
["Deposits - Corporation for Public Deposits",null,0,0,0,0,0,0,0,0,0]
["Bankers Acceptance Certificates",null,0,0,0,0,0,0,0,0,0]
["Negotiable Certificates of Deposit - Banks",null,0,0,0,0,0,0,0,0,0]
["Guaranteed Endowment Policies (sinking)",null,0,0,0,0,0,0,0,0,0]
["Repurchase Agreements - Banks",null,0,0,0,0,0,0,0,0,0]
[]
["Entities sub-total",null,{"$f":"SUM(C20:C29)","v":0},0,0,0,0,0,0,0,0]
[]
["Consolidated total:",null,{"$f":"C17+C30","v":26887399},31525083,21113399,21995950.300000001,21995950.300000001,21995950.300000001,21995950,22919780,23928253]
[]
[{"$f":"head27a","v":"References"}]
["1. Total investments must reconcile to Budgeted Financial Position ('current' call investment deposits plus 'non-current' investments)"]
["check investment balance",null,{"$f":"C17-'A6-FinPos'!C7-'A6-FinPos'!C16","v":1},{"$f":"D17-'A6-FinPos'!D7-'A6-FinPos'!D16","v":0},{"$f":"E17-'A6-FinPos'!E7-'A6-FinPos'!E16","v":0.69000000134110451},{"$f":"F17-'A6-FinPos'!F7-'A6-FinPos'!F16","v":0.30000000074505806},{"$f":"G17-'A6-FinPos'!G7-'A6-FinPos'!G16","v":-25.699999999254942},{"$f":"H17-'A6-FinPos'!H7-'A6-FinPos'!H16","v":-25.699999999254942},{"$f":"I17-'A6-FinPos'!J7-'A6-FinPos'!J16","v":3512980},{"$f":"J17-'A6-FinPos'!K7-'A6-FinPos'!K16","v":3981653},{"$f":"K17-'A6-FinPos'!L7-'A6-FinPos'!L16","v":4515954}]

{"sheet":"SA16","index":37,"n_rows":32,"n_cols":15,"rows_kept":32,"cut":false,"hidden":false,"merged":[[1,3,2,3],[1,9,2,9],[2,10,2,14]]}
[{"$f":"muni&\" - \"&TableA16","v":"Choose name from list - Supporting Table SA16 Investment particulars by maturity"}]
["Investments by Maturity",{"$f":"head27","v":"Ref"},"Period of Investment","Type of Investment","Capital Guarantee\n(Yes/ No)","Variable or Fixed interest rate","Interest Rate ᶟ","Commission Paid (Rands)","Commission Recipient","Expiry date of investment","Opening balance","Interest to be realised","Partial / Premature Withdrawal (4)","Investment Top Up","Closing Balance"]
["Name of institution & investment ID",1,"Yrs/Months"]
["Parent municipality"]
["Standard Bank",null,10,"Deposits - Bank (03)","Yes","Variable (02)",null,0,"none","2025-10-16",21113399,3725296,0,0,{"$f":"SUM(K5:N5)","v":24838695}]
[null,null,null,null,null,null,null,null,null,null,null,null,null,null,{"$f":"SUM(K6:N6)","v":0}]
[null,null,null,null,null,null,null,null,null,null,null,null,null,null,0]
[null,null,null,null,null,null,null,null,null,null,null,null,null,null,0]
[null,null,null,null,null,null,null,null,null,null,null,null,null,null,0]
[null,null,null,null,null,null,null,null,null,null,null,null,null,null,0]
[null,null,null,null,null,null,null,null,null,null,null,null,null,null,0]
["Municipality sub-total",null,null,null,null,null,null,null,null,null,{"$f":"SUM(K5:K11)","v":21113399},null,{"$f":"SUM(M5:M11)","v":0},{"$f":"SUM(N5:N11)","v":0},{"$f":"SUM(O5:O11)","v":24838695}]
[]
["Entities"]
[null,null,null,null,null,null,null,null,null,null,null,null,null,null,{"$f":"SUM(K15:N15)","v":0}]
[null,null,null,null,null,null,null,null,null,null,null,null,null,null,{"$f":"SUM(K16:N16)","v":0}]
[null,null,null,null,null,null,null,null,null,null,null,null,null,null,0]
[null,null,null,null,null,null,null,null,null,null,null,null,null,null,0]
[null,null,null,null,null,null,null,null,null,null,null,null,null,null,0]
[null,null,null,null,null,null,null,null,null,null,null,null,null,null,0]
[null,null,null,null,null,null,null,null,null,null,null,null,null,null,0]
["Entities sub-total",null,null,null,null,null,null,null,null,null,{"$f":"SUM(K15:K21)","v":0},null,{"$f":"SUM(M15:M21)","v":0},{"$f":"SUM(N15:N21)","v":0},{"$f":"SUM(O15:O21)","v":0}]
[]
["TOTAL INVESTMENTS AND INTEREST",1,null,null,null,null,null,null,null,null,{"$f":"K12+K22","v":21113399},null,{"$f":"M12+M22","v":0},{"$f":"N12+N22","v":0},{"$f":"O12+O22","v":24838695}]
[]
[{"$f":"head27a","v":"References"}]
["1. Total investments must reconcile to all items in Table SA15 for the Current Year (30 June)"]
["2. List investments in expiry date order"]
["3. If 'variable' is selected in column F, input interest rate range"]
["4. Withdrawals to be entered as negative"]
["check"]
[null,null,null,null,null,null,null,null,null,null,null,null,"`"]

{"sheet":"SA17","index":38,"n_rows":71,"n_cols":45,"rows_kept":71,"cut":false,"hidden":false,"merged":[[1,5,1,7],[1,8,1,10]]}
[{"$f":"muni&\" - \"&TableA17","v":"Choose name from list - Supporting Table SA17 Borrowing"}]
["Borrowing - Categorised by type",{"$f":"head27","v":"Ref"},{"$f":"head1b","v":"2017/18"},{"$f":"head1A","v":"2018/19"},{"$f":"Head1","v":"2019/20"},{"$f":"Head2","v":"Current Year 2020/21"},null,null,{"$f":"Head3","v":"2021/22 Medium Term Revenue & Expenditure Framework"}]
["R thousand",null,{"$f":"Head5","v":"Audited Outcome"},{"$f":"Head5","v":"Audited Outcome"},{"$f":"Head5","v":"Audited Outcome"},{"$f":"Head6","v":"Original Budget"},{"$f":"Head7","v":"Adjusted Budget"},{"$f":"Head8","v":"Full Year Forecast"},{"$f":"Head9","v":"Budget Year 2021/22"},{"$f":"Head10","v":"Budget Year +1 2022/23"},{"$f":"Head11","v":"Budget Year +2 2023/24"}]
["Parent municipality"]
["Annuity and Bullet Loans",null,47456572,65645166,93441226,109715830.40000001,109715830.40000001,109715830.40000001,110624174.40000001,116530390.7,122977733.2]
["Long-Term Loans (non-annuity)",null,0,0,0,0,0,0,0,0,0]
["Local registered stock",null,45000000,45000000,30000000,30000000,30000000,30000000,30000000,30000000,30000000]
["Instalment Credit",null,0,0,0,0,0,0,0,0,0]
["Financial Leases",null,602667,3551484,3925236,5761335.5999999996,5761335.5999999996,5761335.5999999996,6135087.5999999996,6392761.2699999996,6674042.7800000003]
["PPP liabilities",null,0,0,0,0,0,0,0,0,0]
["Finance Granted By Cap Equipment Supplier",null,0,0,0,0,0,0,0,0,0]
["Marketable Bonds",null,0,0,0,0,0,0,0,0,0]
["Non-Marketable Bonds",null,0,0,0,0,0,0,0,0,0]
["Bankers Acceptances",null,0,0,0,0,0,0,0,0,0]
["Financial derivatives",null,0,0,0,0,0,0,0,0,0]
["Other Securities",null,0,0,0,0,0,0,0,0,0]
["Municipality sub-total",1,{"$f":"SUM(C5:C16)","v":93059239},{"$f":"SUM(D5:D16)","v":114196650},127366462,145477166,145477166,145477166,146759262,152923151.97,159651775.97999999]
[]
["Entities"]
[{"$f":"A5","v":"Annuity and Bullet Loans"},null,0,0,0,0,0,0,0,0,0]
["Long-Term Loans (non-annuity)",null,0,0,0,0,0,0,0,0,0]
["Local registered stock",null,0,0,0,0,0,0,0,0,0]
["Instalment Credit",null,0,0,0,0,0,0,0,0,0]
["Financial Leases",null,0,0,0,0,0,0,0,0,0]
["PPP liabilities",null,0,0,0,0,0,0,0,0,0]
["Finance Granted By Cap Equipment Supplier",null,0,0,0,0,0,0,0,0,0]
["Marketable Bonds",null,0,0,0,0,0,0,0,0,0]
["Non-Marketable Bonds",null,0,0,0,0,0,0,0,0,0]
["Bankers Acceptances",null,0,0,0,0,0,0,0,0,0]
["Financial derivatives",null,0,0,0,0,0,0,0,0,0]
["Other Securities",null,0,0,0,0,0,0,0,0,0]
["Entities sub-total",1,{"$f":"SUM(C20:C31)","v":0},{"$f":"SUM(D20:D31)","v":0},0,0,0,0,0,0,0]
[]
["Total Borrowing",1,{"$f":"C17+C32","v":93059239},{"$f":"D17+D32","v":114196650},127366462,145477166,145477166,145477166,146759262,152923151.97,159651775.97999999]
[]
["Unspent Borrowing - Categorised by type"]
["Parent municipality"]
["Long-Term Loans (annuity/reducing balance)",null,0,0,0,0,0,0,0,0,0]
["Long-Term Loans (non-annuity)",null,0,0,0,0,0,0,0,0,0]
["Local registered stock",null,0,0,0,0,0,0,0,0,0]
["Instalment Credit",null,0,0,0,0,0,0,0,0,0,null,null,null,null,null,null,null,null,null,null,null,null,null,null,null,null,null,null,null,null,null,null,null,null,null,null,null,null,null,null,null,439005000,null,539442200]
["Financial Leases",null,0,0,0,0,0,0,0,0,0]
["PPP liabilities",null,0,0,0,0,0,0,0,0,0,null,null,null,null,null,null,null,null,null,null,null,0,null,0,null,null,0,null,0,null,null,0,null,0,null,null,0,null,0,null,null,1834701353,null,1241876995]
["Finance Granted By Cap Equipment Supplier",null,0,0,0,0,0,0,0,0,0,null,null,null,null,null,null,null,null,null,null,null,null,null,null,null,null,null,null,null,null,null,null,null,null,null,null,null,null,null,null,null,839041298,null,440387617]
["Marketable Bonds",null,0,0,0,0,0,0,0,0,0,null,null,null,null,null,null,null,null,null,null,null,null,null,null,null,null,null,null,null,null,null,null,null,null,null,null,null,null,null,null,null,976543638,null,782372961]
["Non-Marketable Bonds",null,0,0,0,0,0,0,0,0,0,null,null,null,null,null,null,null,null,null,null,null,null,null,null,null,null,null,null,null,null,null,null,null,null,null,null,null,null,null,null,null,19116417,null,19116417]
["Bankers Acceptances",null,0,0,0,0,0,0,0,0,0,null,null,null,null,null,null,null,null,null,null,null,null,null,null,null,null,null,null,null,null,null,null,null,null,null,null,null,null,null,null,null,2273706353,null,1781319195]
["Financial derivatives",null,0,0,0,0,0,0,0,0,0,null,null,null,null,null,null,null,null,null,null,null,null,null,null,null,null,null,null,null,null,null,null,null,null,null,null,null,null,null,null,null,180259232,null,140396729]
["Other Securities",null,0,0,0,0,0,0,0,0,0,null,null,null,null,null,null,null,null,null,null,null,null,null,null,null,null,null,null,null,null,null,null,null,null,null,null,null,null,null,null,null,125005000,null,100442200]
["Municipality sub-total",1,{"$f":"SUM(C38:C49)","v":0},{"$f":"SUM(D38:D49)","v":0},0,0,0,0,0,0,0,null,null,null,null,null,null,null,null,null,null,null,null,null,null,null,null,null,null,null,null,null,null,null,null,null,null,null,null,null,null,null,40341797,null,38954529]
[null,null,null,null,null,null,null,null,null,null,null,null,null,null,null,null,null,null,null,null,null,null,null,null,null,null,null,null,null,null,null,null,null,null,null,null,null,null,null,null,null,null,14912435,null,1000000]
["Entities"]
[{"$f":"A38","v":"Long-Term Loans (annuity/reducing balance)"},null,0,0,0,0,0,0,0,0,0]
["Long-Term Loans (non-annuity)",null,0,0,0,0,0,0,0,0,0]
["Local registered stock",null,0,0,0,0,0,0,0,0,0]
["Instalment Credit",null,0,0,0,0,0,0,0,0,0]
["Financial Leases",null,0,0,0,0,0,0,0,0,0]
["PPP liabilities",null,0,0,0,0,0,0,0,0,0]
["Finance Granted By Cap Equipment Supplier",null,0,0,0,0,0,0,0,0,0]
["Marketable Bonds",null,0,0,0,0,0,0,0,0,0]
["Non-Marketable Bonds",null,0,0,0,0,0,0,0,0,0]
["Bankers Acceptances",null,0,0,0,0,0,0,0,0,0]
["Financial derivatives",null,0,0,0,0,0,0,0,0,0]
["Other Securities",null,0,0,0,0,0,0,0,0,0]
["Entities sub-total",1,{"$f":"SUM(C53:C64)","v":0},{"$f":"SUM(D53:D64)","v":0},0,0,0,0,0,0,0]
[]
["Total Unspent Borrowing",1,{"$f":"C50+C65","v":0},{"$f":"D50+D65","v":0},0,0,0,0,0,0,0]
[]
[{"$f":"head27a","v":"References"}]
["1. Total borrowing must reconcile to Budgeted Financial Position (Borrowing - non-current)"]
["check borrowing balance",null,{"$f":"C34-'A6-FinPos'!C37","v":0},{"$f":"D34-'A6-FinPos'!D37","v":0},{"$f":"E34-'A6-FinPos'!E37","v":0},{"$f":"F34-'A6-FinPos'!F37","v":0},{"$f":"G34-'A6-FinPos'!G37","v":-46},{"$f":"H34-'A6-FinPos'!H37","v":-46},{"$f":"I34-'A6-FinPos'!J37","v":0},{"$f":"J34-'A6-FinPos'!K37","v":-3.0000001192092896E-2},{"$f":"K34-'A6-FinPos'!L37","v":-2.000001072883606E-2}]

{"sheet":"SA18","index":39,"n_rows":53,"n_cols":11,"rows_kept":53,"cut":false,"hidden":false,"merged":[[1,5,1,7],[1,8,1,10]]}
[{"$f":"muni&\" - \"& TableA18","v":"Choose name from list - Supporting Table SA18 Transfers and grant receipts"}]
[{"$f":"desc","v":"Description"},{"$f":"head27","v":"Ref"},{"$f":"head1b","v":"2017/18"},{"$f":"head1A","v":"2018/19"},{"$f":"Head1","v":"2019/20"},{"$f":"Head2","v":"Current Year 2020/21"},null,null,{"$f":"Head3","v":"2021/22 Medium Term Revenue & Expenditure Framework"}]
["R thousand",null,{"$f":"Head5","v":"Audited Outcome"},{"$f":"Head5","v":"Audited Outcome"},{"$f":"Head5","v":"Audited Outcome"},{"$f":"Head6","v":"Original Budget"},{"$f":"Head7","v":"Adjusted Budget"},{"$f":"Head8","v":"Full Year Forecast"},{"$f":"Head9","v":"Budget Year 2021/22"},{"$f":"Head10","v":"Budget Year +1 2022/23"},{"$f":"Head11","v":"Budget Year +2 2023/24"}]
["RECEIPTS:","1, 2"]
[]
["Operating Transfers and Grants"]
["National Government:",null,{"$f":"SUM(C8:C14)","v":343919100},{"$f":"SUM(D8:D14)","v":353352296},417036229.51999998,435629950,522629950,522629950,505625050,479030200,473161851]
["Local Government Equitable Share",{"$f":"IF(A8=\"  Levy replacement\",3,\"\")","v":""},311977000,338344000,383693036,413949000,505949000,505949000,432618000,457630000,449515001]
["Finance Management ","",2145000,2145000,2145000,2000000,2000000,2000000,2000000,2000000,2000000]
["Energy Efficiency  and Demand Management","",0,0,0,0,0,0,50000000,0,0]
["Integrated National Electrification Programme","",25000000,0,16971996.52,15000000,10000000,10000000,16020000,14000000,16000000]
["Municipal Infrastructure Grant","",4797100,12863296,14226197,4680950,4680950,4680950,4987050,5400200,5646850]
[null,""]
["  Other transfers/grants [insert description]"]
["Provincial Government:",null,{"$f":"SUM(C16:C20)","v":0},{"$f":"SUM(D16:D20)","v":0},0,0,0,0,0,0,0]
[null,{"$f":"IF(A16=\"  Housing\",4,\"\")","v":""}]
[null,{"$f":"IF(A17=\"  Housing\",4,\"\")","v":""}]
[null,{"$f":"IF(A18=\"  Housing\",4,\"\")","v":""}]
[null,{"$f":"IF(A19=\"  Housing\",4,\"\")","v":""}]
[{"$f":"A14","v":"  Other transfers/grants [insert description]"}]
["District Municipality:",null,{"$f":"SUM(C22:C23)","v":0},{"$f":"SUM(D22:D23)","v":0},0,0,0,0,0,0,0]
["  [insert description]"]
[]
["Other grant providers:",null,{"$f":"SUM(C25:C26)","v":10236000},{"$f":"SUM(D25:D26)","v":32275076.920000002},14410720.140000001,16668000,16668000,16668000,8463000,0,1]
["Education, Training and Development Practices SETA",null,5118000,16137538.460000001,7205360.0700000003,8334000,8334000,8334000,0,0,1]
["Skill Development and Training",null,5118000,16137538.460000001,7205360.0700000003,8334000,8334000,8334000,8463000,0,0]
["Total Operating Transfers and Grants",5,{"$f":"C7+C15+C21+C24","v":354155100},{"$f":"D7+D15+D21+D24","v":385627372.92000002},431446949.65999997,452297950,539297950,539297950,514088050,479030200,473161852]
[]
["Capital Transfers and Grants"]
[{"$f":"A7","v":"National Government:"},null,{"$f":"SUM(C31:C36)","v":96944900},{"$f":"SUM(D31:D36)","v":76150621.189999998},77869317.109999999,88938050,88938050,88938050,94753950,102603800,107290150]
["Municipal Infrastructure Grant (MIG)",null,96944900,76150621.189999998,77869317.109999999,88938050,88938050,88938050,94753950,102603800,107290150]
[]
[]
[]
[]
["  Other capital transfers/grants [insert desc]"]
[{"$f":"A15","v":"Provincial Government:"},null,{"$f":"SUM(C38)","v":0},{"$f":"SUM(D38)","v":0},0,0,0,0,0,0,0]
["Other capital transfers/grants [insert description]"]
[{"$f":"A21","v":"District Municipality:"},null,{"$f":"SUM(C40:C41)","v":0},0,0,0,0,0,0,0,0]
[{"$f":"A22","v":"  [insert description]"}]
[]
[{"$f":"A24","v":"Other grant providers:"},null,{"$f":"SUM(C43:C44)","v":0},{"$f":"SUM(D43:D44)","v":0},10000000,0,0,0,0,0,1]
["Municipal Infrastructure Investment Unit",null,0,0,10000000,0,0,0,0,0,1]
[]
["Total Capital Transfers and Grants",5,{"$f":"C30+C37+C39+C42","v":96944900},76150621.189999998,87869317.109999999,88938050,88938050,88938050,94753950,102603800,107290151]
["TOTAL RECEIPTS OF TRANSFERS & GRANTS",null,{"$f":"C27+C45","v":451100000},461777994.11000001,519316266.76999998,541236000,628236000,628236000,608842000,581634000,580452003]
[{"$f":"head27a","v":"References"}]
["1. Each transfer/grant is listed by name as gazetted together with the name of the transferring department or municipality, donor or other organisation"]
["2. Amounts actually RECEIVED; not revenue recognised (objective is to confirm grants transferred)"]
["3. Replacement of RSC levies"]
["4. Housing subsidies for housing where ownership transferred to organisations or persons outside the control of the municipality"]
["5. Total transfers and grants must reconcile to Budgeted Cash Flows"]
["6. Motor vehicle licensing refunds to be included under 'agency' services (Not Grant Receipts)"]

{"sheet":"SA19","index":40,"n_rows":49,"n_cols":11,"rows_kept":49,"cut":false,"hidden":false,"merged":[[1,5,1,7],[1,8,1,10]]}
[{"$f":"muni&\" - \"& TableA19","v":"Choose name from list - Supporting Table SA19 Expenditure on transfers and grant programme"}]
[{"$f":"desc","v":"Description"},{"$f":"head27","v":"Ref"},{"$f":"head1b","v":"2017/18"},{"$f":"head1A","v":"2018/19"},{"$f":"Head1","v":"2019/20"},{"$f":"Head2","v":"Current Year 2020/21"},null,null,{"$f":"Head3","v":"2021/22 Medium Term Revenue & Expenditure Framework"}]
["R thousand",null,{"$f":"Head5","v":"Audited Outcome"},{"$f":"Head5","v":"Audited Outcome"},{"$f":"Head5","v":"Audited Outcome"},{"$f":"Head6","v":"Original Budget"},{"$f":"Head7","v":"Adjusted Budget"},{"$f":"Head8","v":"Full Year Forecast"},{"$f":"Head9","v":"Budget Year 2021/22"},{"$f":"Head10","v":"Budget Year +1 2022/23"},{"$f":"Head11","v":"Budget Year +2 2023/24"}]
["EXPENDITURE:",1]
[]
["Operating expenditure of Transfers and Grants"]
[{"$f":"'SA18'!A7","v":"National Government:"},null,{"$f":"SUM(C8:C14)","v":295527639.48000002},{"$f":"SUM(D8:D14)","v":254994894.06999999},358292766.60000002,1066302090,28355652241,28355652241,423188611,432897617,452642891]
["Local Government Equitable Share",null,283667557.48000002,242724144.06999999,351434616.60000002,1056621140,28102415241,28102415241,407738584,425701126,445217747]
["Finance Management ",null,2144982,2145000,2145000,2000000,54000012,54000012,2000000,2000000,2000000]
["EPWP Incentive",null,4918000,5510000,0,3000000,81000000,81000000,8463000,0,0]
["Municipal Infrastructure Grant",null,4797100,4615750,4713150,4680950,118236988,118236988,4987027,5196491,5425144]
[{"$f":"IF('SA18'!A12=\"\",\"\",'SA18'!A12)","v":"Municipal Infrastructure Grant"}]
[{"$f":"IF('SA18'!A13=\"\",\"\",'SA18'!A13)","v":""}]
[{"$f":"'SA18'!A14","v":"  Other transfers/grants [insert description]"}]
[{"$f":"'SA18'!A15","v":"Provincial Government:"},null,{"$f":"SUM(C16:C20)","v":0},{"$f":"SUM(D16:D20)","v":0},0,0,0,0,0,0,0]
[{"$f":"IF('SA18'!A16=\"\",\"\",'SA18'!A16)","v":""}]
[{"$f":"IF('SA18'!A17=\"\",\"\",'SA18'!A17)","v":""}]
[{"$f":"IF('SA18'!A18=\"\",\"\",'SA18'!A18)","v":""}]
[{"$f":"IF('SA18'!A19=\"\",\"\",'SA18'!A19)","v":""}]
[{"$f":"'SA18'!A20","v":"  Other transfers/grants [insert description]"}]
[{"$f":"'SA18'!A21","v":"District Municipality:"},null,{"$f":"SUM(C22:C23)","v":0},{"$f":"SUM(D22:D23)","v":0},0,0,0,0,0,0,0]
[{"$f":"'SA18'!A22","v":"  [insert description]"}]
[]
[{"$f":"'SA18'!A24","v":"Other grant providers:"},null,{"$f":"SUM(C25:C26)","v":0},{"$f":"SUM(D25:D26)","v":0},0,0,0,0,0,0,0]
[{"$f":"'SA18'!A25","v":"Education, Training and Development Practices SETA"}]
[]
["Total operating expenditure of Transfers and Grants:",null,{"$f":"C7+C15+C21+C24","v":295527639.48000002},254994894.06999999,358292766.60000002,1066302090,28355652241,28355652241,423188611,432897617,452642891]
[]
["Capital expenditure of Transfers and Grants"]
[{"$f":"'SA18'!A30","v":"National Government:"},null,{"$f":"SUM(C31:C36)","v":96944900},{"$f":"SUM(D31:D36)","v":86451929},89549850.989999995,88938034,97289054,97289054,94753950,102603800,107290187]
["Municipal Infrastructure Grant (MIG)",null,96944900,86451929,89549850.989999995,88938034,97289054,97289054,94753950,102603800,107290187]
[{"$f":"IF('SA18'!A32=\"\",\"\",'SA18'!A32)","v":""}]
[{"$f":"IF('SA18'!A33=\"\",\"\",'SA18'!A33)","v":""}]
[{"$f":"IF('SA18'!A34=\"\",\"\",'SA18'!A34)","v":""}]
[{"$f":"IF('SA18'!A35=\"\",\"\",'SA18'!A35)","v":""}]
[{"$f":"'SA18'!A36","v":"  Other capital transfers/grants [insert desc]"}]
[{"$f":"'SA18'!A37","v":"Provincial Government:"},null,{"$f":"SUM(C38)","v":0},{"$f":"SUM(D38)","v":0},0,0,0,0,0,0,0]
[{"$f":"'SA18'!A38","v":"Other capital transfers/grants [insert description]"}]
[{"$f":"'SA18'!A39","v":"District Municipality:"},null,{"$f":"SUM(C40:C41)","v":0},{"$f":"SUM(D40:D41)","v":0},0,0,0,0,0,0,0]
[{"$f":"'SA18'!A40","v":"  [insert description]"}]
[]
[{"$f":"'SA18'!A42","v":"Other grant providers:"},null,{"$f":"SUM(C43:C44)","v":0},{"$f":"SUM(D43:D44)","v":0},0,0,0,0,0,0,0]
[{"$f":"'SA18'!A43","v":"Municipal Infrastructure Investment Unit"}]
[]
["Total capital expenditure of Transfers and Grants",null,{"$f":"C30+C37+C39+C42","v":96944900},{"$f":"D30+D37+D39+D42","v":86451929},89549850.989999995,88938034,97289054,97289054,94753950,102603800,107290187]
[]
["TOTAL EXPENDITURE OF TRANSFERS AND GRANTS",null,{"$f":"C27+C45","v":392472539.48000002},341446823.06999999,447842617.59000003,1155240124,28452941295,28452941295,517942561,535501417,559933078]
[{"$f":"head27a","v":"References"}]
["1. Expenditure must be separately listed for each transfer or grant received or recognised"]

{"sheet":"SA20","index":41,"n_rows":60,"n_cols":11,"rows_kept":60,"cut":false,"hidden":false,"merged":[[56,0,56,10],[1,5,1,7],[1,8,1,10],[54,0,54,10],[55,0,55,10]]}
[{"$f":"muni&\" - \"& TableA20","v":"Choose name from list - Supporting Table SA20 Reconciliation of transfers, grant receipts and unspent funds"}]
[{"$f":"desc","v":"Description"},{"$f":"head27","v":"Ref"},{"$f":"head1b","v":"2017/18"},{"$f":"head1A","v":"2018/19"},{"$f":"Head1","v":"2019/20"},{"$f":"Head2","v":"Current Year 2020/21"},null,null,{"$f":"Head3","v":"2021/22 Medium Term Revenue & Expenditure Framework"}]
["R thousand",null,{"$f":"Head5","v":"Audited Outcome"},{"$f":"Head5","v":"Audited Outcome"},{"$f":"Head5","v":"Audited Outcome"},{"$f":"Head6","v":"Original Budget"},{"$f":"Head7","v":"Adjusted Budget"},{"$f":"Head8","v":"Full Year Forecast"},{"$f":"Head9","v":"Budget Year 2021/22"},{"$f":"Head10","v":"Budget Year +1 2022/23"},{"$f":"Head11","v":"Budget Year +2 2023/24"}]
["Operating transfers and grants:","1,3"]
[{"$f":"'SA18'!A7","v":"National Government:"}]
["Balance unspent at beginning of the year",null,0,3755458,4950460,0,0,0,0,0,0]
["Current year receipts",null,0,366610750,416598186,0,527629968,527629968,73007050,21400200,23646854]
["Conditions met - transferred to revenue",null,{"$f":"C6+C7-C9","v":-3900000},{"$f":"D6+D7-D9","v":365415748},416115982,0,527629968,527629968,73007050,21400200,23646857]
["Conditions still to be met - transferred to liabilities",null,3900000,4950460,5432664,0,0,0,0,0,-3]
["Provincial Government:"]
["Balance unspent at beginning of the year",null,0,0,0,0,0,0,0,0,0]
[{"$f":"A7","v":"Current year receipts"},null,0,636404,1402611,0,0,0,0,0,0]
[{"$f":"A8","v":"Conditions met - transferred to revenue"},null,{"$f":"C11+C12-C14","v":0},636404,1400490,0,0,0,0,0,0]
[{"$f":"A9","v":"Conditions still to be met - transferred to liabilities"},null,0,0,2121,0,0,0,0,0,0]
["District Municipality:"]
[{"$f":"A11","v":"Balance unspent at beginning of the year"},null,0,200000,6774,0,0,0,0,0,1]
[{"$f":"A12","v":"Current year receipts"},null,0,0,70000,0,8334000,8334000,0,0,3]
[{"$f":"A13","v":"Conditions met - transferred to revenue"},null,{"$f":"C16+C17-C19","v":0},193226,55870,0,8334000,8334000,0,0,4]
[{"$f":"A14","v":"Conditions still to be met - transferred to liabilities"},null,0,6774,20904,0,0,0,0,0,0]
["Other grant providers:"]
[{"$f":"A11","v":"Balance unspent at beginning of the year"},null,0,200000,6774,0,0,0,0,0,1]
[{"$f":"A12","v":"Current year receipts"},null,0,0,70000,0,8334000,8334000,0,0,3]
[{"$f":"A13","v":"Conditions met - transferred to revenue"},null,{"$f":"C21+C22-C24","v":0},193226,55870,0,8334000,8334000,0,0,4]
[{"$f":"A14","v":"Conditions still to be met - transferred to liabilities"},null,0,6774,20904,0,0,0,0,0,0]
["Total operating transfers and grants revenue",null,{"$f":"C8+C13+C18+C23","v":-3900000},366438604,417628212,0,544297968,544297968,73007050,21400200,23646865]
["Total operating transfers and grants - CTBM",2,3900000,4964008,5476593,0,0,0,0,0,-3]
[]
["Capital transfers and grants:","1,3"]
[{"$f":"A5","v":"National Government:"}]
["Balance unspent at beginning of the year",null,0,0,0,0,0,0,0,0,0]
["Current year receipts",null,0,0,0,0,0,0,0,0,0]
["Conditions met - transferred to revenue",null,{"$f":"C30+C31-C33","v":0},0,0,0,0,0,0,0,0]
["Conditions still to be met - transferred to liabilities",null,0,0,0,0,0,0,0,0,0]
["Provincial Government:"]
["Balance unspent at beginning of the year",null,0,0,0,0,0,0,0,0,1]
[{"$f":"A31","v":"Current year receipts"},null,0,0,10000000,0,0,0,0,0,0]
[{"$f":"A32","v":"Conditions met - transferred to revenue"},null,{"$f":"C35+C36-C38","v":0},0,10000000,0,0,0,0,0,1]
[{"$f":"A33","v":"Conditions still to be met - transferred to liabilities"},null,0,0,0,0,0,0,0,0,0]
["District Municipality:"]
[{"$f":"A35","v":"Balance unspent at beginning of the year"},null,0,0,0,0,0,0,0,0,0]
[{"$f":"A36","v":"Current year receipts"},null,0,0,0,0,0,0,0,0,0]
[{"$f":"A37","v":"Conditions met - transferred to revenue"},null,{"$f":"C40+C41-C43","v":0},0,0,0,0,0,0,0,0]
[{"$f":"A38","v":"Conditions still to be met - transferred to liabilities"},null,0,0,0,0,0,0,0,0,0]
["Other grant providers:"]
[{"$f":"A35","v":"Balance unspent at beginning of the year"},null,0,0,0,0,0,0,0,0,0]
[{"$f":"A36","v":"Current year receipts"},null,0,0,0,0,0,0,0,0,0]
[{"$f":"A37","v":"Conditions met - transferred to revenue"},null,{"$f":"C45+C46-C48","v":0},0,0,0,0,0,0,0,0]
[{"$f":"A38","v":"Conditions still to be met - transferred to liabilities"},null,0,0,0,0,0,0,0,0,0]
["Total capital transfers and grants revenue",null,{"$f":"C32+C37+C42+C47","v":0},0,10000000,0,0,0,0,0,1]
["Total capital transfers and grants - CTBM",2,0,0,0,0,0,0,0,0,0]
[]
["TOTAL TRANSFERS AND GRANTS REVENUE",null,{"$f":"C25+C49","v":-3900000},366438604,427628212,0,544297968,544297968,73007050,21400200,23646866]
["TOTAL TRANSFERS AND GRANTS - CTBM",null,{"$f":"C26+C50","v":3900000},{"$f":"D26+D50","v":4964008},5476593,0,0,0,0,0,-3]
[{"$f":"head27a","v":"References"}]
["1. Total capital transfers and grants revenue must reconcile to Budgeted Financial Performance and Financial Position; total recurrent grants revenue must reconcile to Budgeted Financial Performance"]
["2. CTBM = conditions to be met"]
["3. National Treasury database will require this reconciliation for each transfer/grant"]
[]
["Check opex",null,{"$f":"C25-'A4-FinPerf RE'!C18","v":-352937100},{"$f":"D25-'A4-FinPerf RE'!D18","v":-3162216.9599999785},{"$f":"E25-'A4-FinPerf RE'!E18","v":-1242377.5899999738},{"$f":"F25-'A4-FinPerf RE'!F18","v":-443963950},{"$f":"G25-'A4-FinPerf RE'!G18","v":13334018},{"$f":"H25-'A4-FinPerf RE'!H18","v":13334018},{"$f":"I25-'A4-FinPerf RE'!J18","v":-441081000},{"$f":"J25-'A4-FinPerf RE'!K18","v":-457630000},{"$f":"K25-'A4-FinPerf RE'!L18","v":-449514987}]
["Check capex",null,{"$f":"C49-'A5-Capex'!C70","v":-96944900},{"$f":"D49-'A5-Capex'!D70","v":-86451929},{"$f":"E49-'A5-Capex'!E70","v":-89549850.989999995},{"$f":"F49-'A5-Capex'!F70","v":-88938034},{"$f":"G49-'A5-Capex'!G70","v":-97289054},{"$f":"H49-'A5-Capex'!H70","v":-97289054},{"$f":"I49-'A5-Capex'!J70","v":-94753950},{"$f":"J49-'A5-Capex'!K70","v":-102603800},{"$f":"K49-'A5-Capex'!L70","v":-107290190}]

{"sheet":"SA21","index":42,"n_rows":71,"n_cols":12,"rows_kept":71,"cut":false,"hidden":false,"merged":[[1,9,1,11],[1,5,1,8]]}
[{"$f":"muni&\" - \"& TableA21","v":"Choose name from list - Supporting Table SA21 Transfers and grants made by the municipality"}]
[{"$f":"desc","v":"Description"},{"$f":"head27","v":"Ref"},{"$f":"head1b","v":"2017/18"},{"$f":"head1A","v":"2018/19"},{"$f":"Head1","v":"2019/20"},{"$f":"Head2","v":"Current Year 2020/21"},null,null,null,{"$f":"Head3","v":"2021/22 Medium Term Revenue & Expenditure Framework"}]
["R thousand",null,{"$f":"Head5","v":"Audited Outcome"},{"$f":"Head5","v":"Audited Outcome"},{"$f":"Head5","v":"Audited Outcome"},{"$f":"Head6","v":"Original Budget"},{"$f":"Head7","v":"Adjusted Budget"},{"$f":"Head8","v":"Full Year Forecast"},{"$f":"Head5b","v":"Pre-audit outcome"},{"$f":"Head9","v":"Budget Year 2021/22"},{"$f":"Head10","v":"Budget Year +1 2022/23"},{"$f":"Head11","v":"Budget Year +2 2023/24"}]
[]
["Cash Transfers to other municipalities"]
["Insert description",1,0,0,0,0,0,0,0,0,0,0]
[]
[]
["Total Cash Transfers To Municipalities:",null,{"$f":"SUM(C6:C8)","v":0},{"$f":"SUM(D6:D8)","v":0},0,0,0,0,0,0,0,0]
[]
["Cash Transfers to Entities/Other External Mechanisms"]
[{"$f":"$A$6","v":"Insert description"},2,0,0,0,0,0,0,0,0,0,0]
[]
[]
["Total Cash Transfers To Entities/Ems'",null,{"$f":"SUM(C12:C14)","v":0},{"$f":"SUM(D12:D14)","v":0},0,0,0,0,0,0,0,0]
[]
["Cash Transfers to other Organs of State"]
[{"$f":"$A$6","v":"Insert description"},3,8887,106644,1590490.07,1390000,1390000,1390000,1390000,190000,197980,206693]
[]
[]
["Total Cash Transfers To Other Organs Of State:",null,{"$f":"SUM(C18:C20)","v":8887},{"$f":"SUM(D18:D20)","v":106644},1590490.07,1390000,1390000,1390000,1390000,190000,{"$f":"SUM(K18:K20)","v":197980},206693]
[]
["Cash Transfers to Organisations"]
[{"$f":"$A$6","v":"Insert description"},null,81810189.400000006,22275841,13000608.08,5395000,5395000,5395000,5395000,5445000,5673690,5923335]
[]
["Total Cash Transfers To Organisations",null,{"$f":"SUM(C24:C25)","v":81810189.400000006},22275841,13000608.08,5395000,5395000,5395000,5395000,5445000,5673690,5923335]
[]
["Cash Transfers to Groups of Individuals"]
[{"$f":"$A$6","v":"Insert description"},null,30601620,18117256,19116996.52,24134000,24566814,24566814,24566814,26483000,2000000,2000025]
[]
["Total Cash Transfers To Groups Of Individuals:",null,{"$f":"SUM(C29:C30)","v":30601620},18117256,19116996.52,24134000,24566814,24566814,24566814,26483000,2000000,2000025]
["TOTAL CASH TRANSFERS AND GRANTS",6,{"$f":"C9+C15+C21+C26+C31","v":112420696.40000001},40499741,33708094.670000002,30919000,31351814,31351814,31351814,32118000,7871670,8130053]
[]
["Non-Cash Transfers to other municipalities"]
["Insert description",1,0,0,0,0,0,0,0,0,0,0]
[]
[]
["Total Non-Cash Transfers To Municipalities:",null,{"$f":"SUM(C35:C37)","v":0},{"$f":"SUM(D35:D37)","v":0},0,0,0,0,0,0,0,0]
[]
["Non-Cash Transfers to Entities/Other External Mechanisms"]
[{"$f":"$A$6","v":"Insert description"},2,0,0,0,0,0,0,0,0,0,0]
[]
[]
["Total Non-Cash Transfers To Entities/Ems'",null,{"$f":"SUM(C41:C43)","v":0},{"$f":"SUM(D41:D43)","v":0},0,0,0,0,0,0,0,0]
[]
["Non-Cash Transfers to other Organs of State"]
[{"$f":"$A$6","v":"Insert description"},3,0,0,3279555.43,0,0,0,0,0,0,0]
[]
[]
["Total Non-Cash Transfers To Other Organs Of State:",null,{"$f":"SUM(C47:C49)","v":0},{"$f":"SUM(D47:D49)","v":0},3279555.43,0,0,0,0,0,{"$f":"SUM(K47:K49)","v":0},{"$f":"SUM(L47:L49)","v":0}]
[]
["Non-Cash Grants to Organisations"]
[{"$f":"$A$6","v":"Insert description"},4,0,0,0,0,0,0,0,0,0,0]
[]
[]
["Total Non-Cash Grants To Organisations",null,{"$f":"SUM(C53:C55)","v":0},{"$f":"SUM(D53:D55)","v":0},0,0,0,0,0,0,{"$f":"SUM(K53:K55)","v":0},{"$f":"SUM(L53:L55)","v":0}]
[]
["Groups of Individuals"]
[{"$f":"$A$6","v":"Insert description"},5,0,16632404,0,0,0,0,0,0,0,0]
[]
[]
["Total Non-Cash Grants To Groups Of Individuals:",null,{"$f":"SUM(C59:C61)","v":0},16632404,0,0,0,0,0,0,0,0]
["TOTAL NON-CASH TRANSFERS AND GRANTS",null,{"$f":"C38+C44+C50+C56+C62","v":0},16632404,3279555.43,0,0,0,0,0,0,0]
["TOTAL TRANSFERS AND GRANTS",6,{"$f":"C32+C63","v":112420696.40000001},{"$f":"D32+D63","v":57132145},36987650.100000001,30919000,31351814,31351814,31351814,32118000,7871670,8130053]
[{"$f":"head27a","v":"References"}]
["1. Insert description listed by municipal name and demarcation code of recipient"]
["2. Insert description of each entity or external mechanism (an external mechanism may be provided with resources to ensure a minimum level of service)"]
["3. Insert description of each Organ of State (e.g. transfer to electricity provider to compensate for FBS provided)"]
["4. Insert description of each other organisation (e.g. charity)"]
["5 Insert description of each other organisation (e.g. the aged, child-headed households)"]
["6. All descriptions should separate transfers for 'capital purposes' and 'operating purposes'"]

{"sheet":"SA22","index":43,"n_rows":120,"n_cols":11,"rows_kept":120,"cut":false,"hidden":false,"merged":[[1,5,1,7],[1,8,1,10]]}
[{"$f":"muni&\" - \"&TableA22","v":"Choose name from list - Supporting Table SA22 Summary councillor and staff benefits"}]
["Summary of Employee and Councillor remuneration",{"$f":"head27","v":"Ref"},{"$f":"head1b","v":"2017/18"},{"$f":"head1A","v":"2018/19"},{"$f":"Head1","v":"2019/20"},{"$f":"Head2","v":"Current Year 2020/21"},null,null,{"$f":"Head3","v":"2021/22 Medium Term Revenue & Expenditure Framework"}]
["R thousand",null,{"$f":"Head5","v":"Audited Outcome"},{"$f":"Head5","v":"Audited Outcome"},{"$f":"Head5","v":"Audited Outcome"},{"$f":"Head6","v":"Original Budget"},{"$f":"Head7","v":"Adjusted Budget"},{"$f":"Head8","v":"Full Year Forecast"},{"$f":"Head9","v":"Budget Year 2021/22"},{"$f":"Head10","v":"Budget Year +1 2022/23"},{"$f":"Head11","v":"Budget Year +2 2023/24"}]
[null,1,"A","B","C","D","E","F","G","H","I"]
["Councillors (Political Office Bearers plus Other)"]
["Basic Salaries and Wages",null,0,26136302.579999998,938019.73,19355965,19355965,19355965,18912521,19706851,20573953]
["Pension and UIF Contributions",null,0,0,0,0,0,0,0,0,0]
["Medical Aid Contributions",null,0,0,0,0,0,0,0,0,0]
["Motor Vehicle Allowance",null,0,0,0,6006260,6006260,6006260,6071548,6326554,6604922]
["Cellphone Allowance",null,0,0,0,3015080,3015080,3015080,2930624,3053712,3188077]
["Housing Allowances",null,6588,0,0,0,0,0,0,0,0]
["Other benefits and allowances",null,24425823.039999999,0,26038514,657678,657678,657678,491205,511841,534365]
["Sub Total - Councillors",null,{"$f":"SUM(C6:C12)","v":24432411.039999999},26136302.579999998,26976533.73,29034983,29034983,29034983,28405898,29598958,30901317]
["% increase",4,null,{"$f":"IF(ISERROR((D13/C13)-1),0,((D13/C13)-1))","v":6.9738984712169438E-2},{"$f":"IF(ISERROR((E13/D13)-1),0,((E13/D13)-1))","v":3.2148049534862722E-2},7.6305180294933272E-2,0,0,-2.1666449744434102E-2,4.2000432445402636E-2,4.4000163789549518E-2]
[]
["Senior Managers of the Municipality",2]
["Basic Salaries and Wages",null,62810,0,0,10114131,10114131,10114131,10102656,10526971,10990156]
["Pension and UIF Contributions",null,0,18565,20081.04,13379,20443,20443,13479,14050,14664]
["Medical Aid Contributions",null,0,0,0,0,0,0,0,0,0]
["Overtime",null,0,0,0,0,0,0,0,0,0]
["Performance Bonus",null,0,0,18425.79,886719,886719,886719,0,0,6]
["Motor Vehicle Allowance",3,0,0,0,0,0,0,0,0,0]
["Cellphone Allowance",3,0,0,0,0,0,0,0,0,0]
["Housing Allowances",3,0,0,0,0,0,0,0,0,0]
["Other benefits and allowances",3,0,0,0,27953,27953,27953,27953,29128,30409]
["Payments in lieu of leave",null,-5373209,38110,83434.509999999995,428421,495421,495421,0,0,7]
["Long service awards",null,0,0,0,0,0,0,0,0,0]
["Post-retirement benefit obligations",6,0,0,0,0,0,0,0,0,0]
["Sub Total - Senior Managers of Municipality",null,{"$f":"SUM(C17:C28)","v":-5310399},{"$f":"SUM(D17:D28)","v":56675},121941.34,11470603,11544667,11544667,10144088,10570149,11035242]
[{"$f":"$A$14","v":"% increase"},{"$f":"$B$14","v":4},null,{"$f":"IF(ISERROR((D29/C29)-1),0,((D29/C29)-1))","v":-1.0106724560621527},{"$f":"IF(ISERROR((E29/D29)-1),0,((E29/D29)-1))","v":1.151589589766211},93.066565120573557,6.4568532273325818E-3,0,-0.12131826756025099,4.2000917184472408E-2,4.400060964135899E-2]
[]
["Other Municipal Staff"]
["Basic Salaries and Wages",null,253816001,123894842,199973835.74000001,205607187,197551598,197551598,209088370,217870099,227456386]
["Pension and UIF Contributions",null,2425551,27106455,32496435.23,40311865,39146130,39146130,41151581,42879983,44766704]
["Medical Aid Contributions",null,1007527,4485967,8166005,16901173,15732036,15732036,20622070,21488213,22433697]
["Overtime",null,1782748,23165710,28764140.02,20863572,25289793,25289793,28110059,29290688,30579496]
["Performance Bonus",null,714863,12454206,15683631.84,16423929,16435929,16435929,16192602,16872710,17615120]
["Motor Vehicle Allowance",3,0,0,0,0,0,0,0,0,1]
["Cellphone Allowance",3,0,0,0,0,0,0,0,0,1]
["Housing Allowances",3,163097,1722419,1686100.63,1813189,1827949,1827949,1435237,1495538,1561342]
["Other benefits and allowances",3,1226298,14003567,15267018.640000001,20393808,20272223,20272223,18155528,18918107,19750514]
["Payments in lieu of leave",null,1049477,7351030,8955486.8000000007,11778793,11838793,11838793,4970531,5179293,5407223]
["Long service awards",null,0,25439,0,0,0,0,0,0,1]
["Post-retirement benefit obligations",6,0,0,0,0,0,0,0,0,18]
["Sub Total - Other Municipal Staff",null,{"$f":"SUM(C33:C44)","v":262185562},214209635,310992653.89999998,334093516,328094451,328094451,339725978,353994631,369570503]
[{"$f":"$A$14","v":"% increase"},{"$f":"$B$14","v":4},null,{"$f":"IF(ISERROR((D45/C45)-1),0,((D45/C45)-1))","v":-0.18298462598028187},{"$f":"IF(ISERROR((E45/D45)-1),0,((E45/D45)-1))","v":0.45181449891364589},7.4281053942284236E-2,-1.7956244921556674E-2,0,3.5451763858084906E-2,4.2000476631198325E-2,4.4000305756049629E-2]
[]
["Total Parent Municipality",null,{"$f":"C13+C29+C45","v":281307574.04000002},240402612.57999998,338091128.96999997,374599102,368674101,368674101,378275964,394163738,411507062]
[null,null,null,{"$f":"IF(ISERROR((D48/C48)-1),0,((D48/C48)-1))","v":-0.14541009640282077},{"$f":"IF(ISERROR((E48/D48)-1),0,((E48/D48)-1))","v":0.40635380515048136},0.10798264107438182,-1.5816911915608411E-2,0,2.6044311151653066E-2,4.2000485127307696E-2,4.400030324453641E-2]
[]
["Board Members of Entities"]
["Basic Salaries and Wages",null,0,0,0,0,0,0,0,0,0]
["Pension and UIF Contributions",null,0,0,0,0,0,0,0,0,0]
["Medical Aid Contributions",null,0,0,0,0,0,0,0,0,0]
["Overtime",null,0,0,0,0,0,0,0,0,0]
["Performance Bonus",null,0,0,0,0,0,0,0,0,0]
["Motor Vehicle Allowance",3,0,0,0,0,0,0,0,0,0]
["Cellphone Allowance",3,0,0,0,0,0,0,0,0,0]
["Housing Allowances",3,0,0,0,0,0,0,0,0,0]
["Other benefits and allowances",3,0,0,0,0,0,0,0,0,0]
["Board Fees",null,0,0,0,0,0,0,0,0,0]
["Payments in lieu of leave",null,0,0,0,0,0,0,0,0,0]
["Long service awards",null,0,0,0,0,0,0,0,0,0]
["Post-retirement benefit obligations",6,0,0,0,0,0,0,0,0,0]
["Sub Total - Board Members of Entities",null,0,0,0,0,0,0,0,0,0]
[{"$f":"$A$14","v":"% increase"},{"$f":"$B$14","v":4},0,0,0,0,0,0,0,0,0]
[]
["Senior Managers of Entities"]
["Basic Salaries and Wages",null,0,0,0,0,0,0,0,0,0]
["Pension and UIF Contributions",null,0,0,0,0,0,0,0,0,0]
["Medical Aid Contributions",null,0,0,0,0,0,0,0,0,0]
["Overtime",null,0,0,0,0,0,0,0,0,0]
["Performance Bonus",null,0,0,0,0,0,0,0,0,0]
["Motor Vehicle Allowance",3,0,0,0,0,0,0,0,0,0]
["Cellphone Allowance",3,0,0,0,0,0,0,0,0,0]
["Housing Allowances",3,0,0,0,0,0,0,0,0,0]
["Other benefits and allowances",3,0,0,0,0,0,0,0,0,0]
["Payments in lieu of leave",null,0,0,0,0,0,0,0,0,0]
["Long service awards",null,0,0,0,0,0,0,0,0,0]
["Post-retirement benefit obligations",6,0,0,0,0,0,0,0,0,0]
["Sub Total - Senior Managers of Entities",null,0,0,0,0,0,0,0,0,0]
[{"$f":"$A$14","v":"% increase"},{"$f":"$B$14","v":4},0,0,0,0,0,0,0,0,0]
[]
["Other Staff of Entities"]
["Basic Salaries and Wages",null,0,0,0,0,0,0,0,0,0]
["Pension and UIF Contributions",null,0,0,0,0,0,0,0,0,0]
["Medical Aid Contributions",null,0,0,0,0,0,0,0,0,0]
["Overtime",null,0,0,0,0,0,0,0,0,0]
["Performance Bonus",null,0,0,0,0,0,0,0,0,0]
["Motor Vehicle Allowance",3,0,0,0,0,0,0,0,0,0]
["Cellphone Allowance",3,0,0,0,0,0,0,0,0,0]
["Housing Allowances",3,0,0,0,0,0,0,0,0,0]
["Other benefits and allowances",3,0,0,0,0,0,0,0,0,0]
["Payments in lieu of leave",null,0,0,0,0,0,0,0,0,0]
["Long service awards",null,0,0,0,0,0,0,0,0,0]
["Post-retirement benefit obligations",6,0,0,0,0,0,0,0,0,0]
["Sub Total - Other Staff of Entities",null,0,0,0,0,0,0,0,0,0]
[{"$f":"$A$14","v":"% increase"},{"$f":"$B$14","v":4},0,0,0,0,0,0,0,0,0]
[]
["Total Municipal Entities",null,0,0,0,0,0,0,0,0,0]
[]
["TOTAL SALARY, ALLOWANCES & BENEFITS",null,{"$f":"C48+C100","v":281307574.04000002},{"$f":"D48+D100","v":240402612.57999998},{"$f":"E48+E100","v":338091128.96999997},374599102,368674101,368674101,378275964,394163738,411507062]
[{"$f":"$A$14","v":"% increase"},{"$f":"$B$14","v":4},null,{"$f":"IF(ISERROR((D102/C102)-1),0,((D102/C102)-1))","v":-0.14541009640282077},{"$f":"IF(ISERROR((E102/D102)-1),0,((E102/D102)-1))","v":0.40635380515048136},0.10798264107438182,-1.5816911915608411E-2,0,2.6044311151653066E-2,4.2000485127307696E-2,4.400030324453641E-2]
["TOTAL MANAGERS AND STAFF","5,7",{"$f":"C29+C45+C81+C97","v":256875163},214266310,311114595.23999995,345564119,339639118,339639118,349870066,364564780,380605745]
[{"$f":"head27a","v":"References"}]
["1. Include 'Loans and advances' where applicable if any reportable amounts until phased compliance with s164 of MFMA achieved"]
["2. s57 of the Systems Act"]
["3. In kind benefits (e.g. provision of living quarters) must be shown as the cost (full market value) to the municipality, as part of the relevant allowance"]
["4. B/A, C/B, D/C, E/C, F/C, G/D, H/D, I/D"]
["5. Must agree to the sub-total appearing on Table A1 (Employee costs)"]
["6. Includes pension payments and employer contributions to medical aid"]
["7. Correct as at 30 June"]
[]
["Column Definitions:"]
["A, B and C. Audited actual as per the audited financial statements. If audited amounts are unavailable, unaudited amounts must be provided with a note stating these are unaudited"]
["D. The original budget approved by council for the budget year."]
["E. The budget for the budget year as adjusted by council resolution in terms of section 28 of the MFMA."]
["F. An estimate of final actual amounts (pre audit) for the current year at the point in time of preparing the budget for the budget year. This may differ from E."]
["G. The amount to be appropriated for the budget year."]
["H and I. The indicative projection"]

{"sheet":"SA23","index":44,"n_rows":70,"n_cols":9,"rows_kept":70,"cut":false,"hidden":false,"merged":[[1,2,2,2],[1,5,2,5],[1,3,2,3],[1,6,2,6]]}
[{"$f":"muni&\" - \"&TableA23","v":"Choose name from list - Supporting Table SA23 Salaries, allowances & benefits (political office bearers/councillors/senior managers)"}]
["Disclosure of Salaries, Allowances & Benefits 1.",{"$f":"head27","v":"Ref"},"No.","Salary","\nContributions\n","Allowances","Performance  Bonuses","In-kind benefits","Total Package"]
["Rand per annum",null,null,null,"1.",null,null,null,"2."]
["Councillors",3]
["Speaker",4,0,558297.35,0,232319.35,null,null,{"$f":"SUM(D5:F5)","v":790616.7}]
["Chief Whip",null,0,523404.69,0,220688.67,null,null,744093.36]
["Executive Mayor",null,0,697873.34,0,278844.92,null,null,976718.26]
["Deputy Executive Mayor",null,0,0,0,0,null,null,0]
["Executive Committee",null,0,4076979.06,0,1821197.44,null,null,5898176.5]
["Total for all other councillors",null,0,13055967.08,0,6940328.5999999996,null,null,19996295.68]
[{"$f":"\"Total \"&A4","v":"Total Councillors"},8,{"$f":"SUM(C5:C10)","v":0},18912521.52,0,9493378.9800000004,null,null,28405900.5]
[]
["Senior Managers of the Municipality",5]
["Municipal Manager (MM)",null,null,null,null,null,null,null,{"$f":"SUM(D14:H14)","v":0}]
["Chief Finance Officer",null,null,null,null,null,null,null,0]
[null,null,null,null,null,null,null,null,0]
[null,null,null,null,null,null,null,null,0]
[null,null,null,null,null,null,null,null,0]
[null,null,null,null,null,null,null,null,0]
[]
["List of each offical with packages >= senior manager"]
[null,null,null,null,null,null,null,null,{"$f":"SUM(D22:H22)","v":0}]
[null,null,null,null,null,null,null,null,{"$f":"SUM(D23:H23)","v":0}]
[null,null,null,null,null,null,null,null,0]
[null,null,null,null,null,null,null,null,0]
[null,null,null,null,null,null,null,null,0]
[null,null,null,null,null,null,null,null,0]
[null,null,null,null,null,null,null,null,0]
[null,null,null,null,null,null,null,null,0]
[null,null,null,null,null,null,null,null,0]
[null,null,null,null,null,null,null,null,0]
[null,null,null,null,null,null,null,null,0]
[null,null,null,null,null,null,null,null,{"$f":"SUM(D33:H33)","v":0}]
[null,null,null,null,null,null,null,null,{"$f":"SUM(D34:H34)","v":0}]
[{"$f":"\"Total \"&A13","v":"Total Senior Managers of the Municipality"},"8,10",{"$f":"SUM(C14:C34)","v":0},{"$f":"SUM(D14:D34)","v":0},{"$f":"SUM(E14:E34)","v":0},{"$f":"SUM(F14:F34)","v":0},{"$f":"SUM(G14:G34)","v":0},null,{"$f":"SUM(I14:I34)","v":0}]
[]
["A Heading for Each Entity","6,7"]
["List each member of board by designation"]
[null,null,null,null,null,null,null,null,{"$f":"SUM(D39:G39)","v":0}]
[null,null,null,null,null,null,null,null,{"$f":"SUM(D40:G40)","v":0}]
[null,null,null,null,null,null,null,null,0]
[null,null,null,null,null,null,null,null,0]
[null,null,null,null,null,null,null,null,0]
[null,null,null,null,null,null,null,null,0]
[null,null,null,null,null,null,null,null,0]
[null,null,null,null,null,null,null,null,0]
[null,null,null,null,null,null,null,null,0]
[null,null,null,null,null,null,null,null,0]
[null,null,null,null,null,null,null,null,0]
[null,null,null,null,null,null,null,null,0]
[null,null,null,null,null,null,null,null,0]
[null,null,null,null,null,null,null,null,0]
[null,null,null,null,null,null,null,null,0]
[null,null,null,null,null,null,null,null,0]
["Total for municipal entities","8,10",{"$f":"SUM(C38:C54)","v":0},{"$f":"SUM(D39:D54)","v":0},0,0,0,null,0]
[]
["TOTAL COST OF COUNCILLOR, DIRECTOR and EXECUTIVE REMUNERATION",10,{"$f":"C11+C35+C55","v":0},18912521.52,0,9493378.9800000004,0,null,28405900.5]
[]
[{"$f":"head27a","v":"References"}]
["1. Pension and medical aid"]
["2. Total package must equal the total cost to the municipality"]
["3. List each political office bearer by designation. Provide a total for all other councillors"]
["4. Political office bearer is defined in MFMA s 1: speaker, executive mayor, deputy executive mayor, member of executive committee,"]
["    mayor, deputy mayor, member of mayoral committee, the councillor designated to exercise powers and duties of mayor (MSA s 57)"]
["5. Also list each senior manager reporting to MM by designation and each official with package >= senior manager by designation"]
["6. List each entity where municipality has an interest and state percentage ownership and control"]
["7. List each senior manager reporting to the CEO of an Entity by designation"]
["8. Must reconcile to relevant section of Table SA24"]
["9. Must reconcile to totals shown for the budget year of Table SA22"]
["10. Correct as at 30 June"]

{"sheet":"SA24","index":45,"n_rows":53,"n_cols":11,"rows_kept":53,"cut":false,"hidden":false,"merged":[[1,5,1,7],[1,8,1,10],[1,2,1,4]]}
[{"$f":"muni&\" - \"&TableA24","v":"Choose name from list - Supporting Table SA24 Summary of personnel numbers"}]
["Summary of Personnel Numbers",{"$f":"head27","v":"Ref"},{"$f":"Head1","v":"2019/20"},null,null,{"$f":"Head2","v":"Current Year 2020/21"},null,null,{"$f":"Head9","v":"Budget Year 2021/22"}]
["Number","1,2","Positions","Permanent employees","Contract employees","Positions","Permanent employees","Contract employees","Positions","Permanent employees","Contract employees"]
["Municipal Council and Boards of Municipal Entities"]
["Councillors (Political Office Bearers plus Other Councillors)",null,69,0,69,69,0,69,69,69,0]
["Board Members of municipal entities",4,10,0,7,10,0,7,10,7,0]
["Municipal employees",5,0,0,0,0,0,0,0,0,0]
["Municipal Manager and Senior Managers",3,7,0,7,7,0,7,7,7,0]
["Other Managers",7,35,33,0,35,27,0,35,0,27]
["Professionals",null,98,72,0,98,56,0,98,0,58]
["Finance",null,23,26,0,23,13,0,23,0,12]
["Spatial/town planning",null,6,2,0,6,2,0,6,0,2]
["Information Technology",null,2,2,0,2,0,0,2,0,0]
["Roads",null,10,3,0,10,0,0,10,0,3]
["Electricity",null,32,21,0,32,22,0,32,0,22]
["Water",null,14,7,0,14,8,0,14,0,8]
["Sanitation",null,3,3,0,3,3,0,3,0,3]
["Refuse",null,8,8,0,8,8,0,8,0,8]
["Other",null,0,0,0,0,0,0,0,0,0]
["Technicians",null,91,60,0,91,58,0,91,0,59]
["Finance",null,51,36,0,51,33,0,51,0,33]
["Spatial/town planning",null,1,1,0,1,1,0,1,0,1]
["Information Technology",null,2,2,0,2,1,0,2,0,2]
["Roads",null,0,0,0,0,0,0,0,0,0]
["Electricity",null,32,16,0,32,18,0,32,0,18]
["Water",null,4,4,0,4,4,0,4,0,4]
["Sanitation",null,1,1,0,1,1,0,1,0,1]
["Refuse",null,0,0,0,0,0,0,0,0,0]
["Other",null,0,0,0,0,0,0,0,0,0]
["Clerks (Clerical and administrative)",null,78,78,0,79,79,0,79,0,79]
["Service and sales workers",null,13,12,0,0,0,0,0,0,0]
["Skilled agricultural and fishery workers",null,0,0,0,0,0,0,0,0,0]
["Craft and related trades",null,54,48,0,54,50,0,54,0,50]
["Plant and Machine Operators",null,55,52,0,55,56,0,55,0,53]
["Elementary Occupations",null,254,250,0,254,250,0,254,0,250]
["TOTAL PERSONNEL NUMBERS",9,{"$f":"SUM(C5:C9)+SUM(C11:C19)+SUM(C21:C35)","v":764},{"$f":"SUM(D5:D9)+SUM(D11:D19)+SUM(D21:D35)","v":605},83,752,576,{"$f":"SUM(H5:H9)+SUM(H11:H19)+SUM(H21:H35)","v":83},752,83,576]
["% increase",null,null,null,null,{"$f":"IF(ISERROR((F36/C36)-1),0,((F36/C36)-1))","v":-1.5706806282722474E-2},-4.7933884297520657E-2,0,0,-0.85590277777777779,5.9397590361445785]
[]
["Total municipal employees headcount","6, 10",0,0,0,0,0,0,0,0,0]
["Finance personnel headcount","8, 10",84,52,0,84,54,0,84,0,54]
["Human Resources personnel headcount","8, 10",18,11,0,18,12,0,18,0,12]
[]
[{"$f":"head27a","v":"References"}]
["1. Positions must be funded and aligned to the municipality's current organisational structure"]
["2. Full Time Equivalent (FTE). E.g. One full time person = 1FTE. A person working half time (say 4 hours out of 8) = 0.5FTE."]
["3. s57 of the Systems Act"]
["4. Include only in Consolidated Statements"]
["5. Include municipal entity employees in Consolidated Statements"]
["6.  Include headcount (number fo persons, Not FTE) of managers and staff only (exclude councillors)"]
["7. Managers who provide the direction of a critical technical function"]
["8. Total number of employees working on these functions"]
["9. Correct as at 30 June"]
["10. Must account for all budgeted positions, as per the municipal organogram"]

{"sheet":"SA25","index":46,"n_rows":48,"n_cols":17,"rows_kept":48,"cut":false,"hidden":false,"merged":[[1,2,1,13],[1,14,1,16]]}
[{"$f":"muni&\" - \"& TableA25","v":"Choose name from list - Supporting Table SA25 Budgeted monthly revenue and expenditure"}]
[{"$f":"desc","v":"Description"},{"$f":"head27","v":"Ref"},{"$f":"Head9","v":"Budget Year 2021/22"},null,null,null,null,null,null,null,null,null,null,null,"Medium Term Revenue and Expenditure Framework"]
["R thousand",null,"July","August","Sept.","October","November","December","January","February","March","April","May","June",{"$f":"Head9","v":"Budget Year 2021/22"},{"$f":"Head10","v":"Budget Year +1 2022/23"},{"$f":"Head11","v":"Budget Year +2 2023/24"}]
[{"$f":"'A4-FinPerf RE'!A4","v":"Revenue By Source"}]
[{"$f":"'A4-FinPerf RE'!A5","v":"Property rates"},null,11788337,12121649,11851460,11932200,12143933,10364637,11513652,11816725,11650500,12289429,12003658,{"$f":"O5-SUM(C5:M5)","v":8023820},{"$f":"'A4-FinPerf RE'!J5","v":137500000},{"$f":"'A4-FinPerf RE'!K5","v":143275000},{"$f":"'A4-FinPerf RE'!L5","v":149579106}]
[{"$f":"'A4-FinPerf RE'!A6","v":"Service charges - electricity revenue"},null,-50139559,-47679847,-49062771,-51526597,-68099322,-68180707,-48580491,-44348142,-44116156,-42328959,-50568625,1234252426,{"$f":"'A4-FinPerf RE'!J6","v":669621250},{"$f":"'A4-FinPerf RE'!K6","v":738995601},{"$f":"'A4-FinPerf RE'!L6","v":803559143}]
[{"$f":"'A4-FinPerf RE'!A7","v":"Service charges - water revenue"},null,0,0,0,0,0,0,0,0,0,0,0,0,{"$f":"'A4-FinPerf RE'!J7","v":0},{"$f":"'A4-FinPerf RE'!K7","v":0},{"$f":"'A4-FinPerf RE'!L7","v":4}]
[{"$f":"'A4-FinPerf RE'!A8","v":"Service charges - sanitation revenue"},null,0,0,0,0,0,0,0,0,0,0,0,0,{"$f":"'A4-FinPerf RE'!J8","v":0},{"$f":"'A4-FinPerf RE'!K8","v":0},{"$f":"'A4-FinPerf RE'!L8","v":1}]
[{"$f":"'A4-FinPerf RE'!A9","v":"Service charges - refuse revenue"},null,2650822,2851732,2835725,2912363,3010385,2986435,2775364,3256226,3027573,3208725,3042851,3349160,{"$f":"'A4-FinPerf RE'!J9","v":35907361},{"$f":"'A4-FinPerf RE'!K9","v":37415471},{"$f":"'A4-FinPerf RE'!L9","v":39061751}]
[]
[{"$f":"'A4-FinPerf RE'!A11","v":"Rental of facilities and equipment"},null,91204,99494,93967,95562,101974,96730,96730,99565,96730,96730,98325,103089,{"$f":"'A4-FinPerf RE'!J11","v":1170100},{"$f":"'A4-FinPerf RE'!K11","v":1219245},{"$f":"'A4-FinPerf RE'!L11","v":1272892}]
[{"$f":"'A4-FinPerf RE'!A12","v":"Interest earned - external investments"},null,51767,187572,372410,218554,717216,70000,200391,238855,335362,65041,483807,559025,{"$f":"'A4-FinPerf RE'!J12","v":3500000},{"$f":"'A4-FinPerf RE'!K12","v":3647000},{"$f":"'A4-FinPerf RE'!L12","v":3807470}]
[{"$f":"'A4-FinPerf RE'!A13","v":"Interest earned - outstanding debtors"},null,1851621,1925285,1846047,2068287,2024642,2022724,2075757,1978611,2091411,2168913,1737160,1809542,{"$f":"'A4-FinPerf RE'!J13","v":23600000},{"$f":"'A4-FinPerf RE'!K13","v":24591200},{"$f":"'A4-FinPerf RE'!L13","v":25673219}]
[{"$f":"'A4-FinPerf RE'!A14","v":"Dividends received"},null,0,0,0,0,0,0,0,0,0,0,0,0,{"$f":"'A4-FinPerf RE'!J14","v":0},{"$f":"'A4-FinPerf RE'!K14","v":0},{"$f":"'A4-FinPerf RE'!L14","v":0}]
[{"$f":"'A4-FinPerf RE'!A15","v":"Fines, penalties and forfeits"},null,316299,486390,499589,550169,330330,793430,325976,260353,515573,360985,307626,33754416,{"$f":"'A4-FinPerf RE'!J15","v":38501136},{"$f":"'A4-FinPerf RE'!K15","v":40118185},{"$f":"'A4-FinPerf RE'!L15","v":41883385}]
[{"$f":"'A4-FinPerf RE'!A16","v":"Licences and permits"},null,54321,56783,58022,72923,71001,77931,47869,49484,95113,121433,57091,155029,{"$f":"'A4-FinPerf RE'!J16","v":917000},{"$f":"'A4-FinPerf RE'!K16","v":955514},{"$f":"'A4-FinPerf RE'!L16","v":997559}]
[{"$f":"'A4-FinPerf RE'!A17","v":"Agency services"},null,728463,1830370,1983651,2000216,1961710,2023378,1968320,2523279,2158743,1941686,1186774,2357701,{"$f":"'A4-FinPerf RE'!J17","v":22664291},{"$f":"'A4-FinPerf RE'!K17","v":23616192},{"$f":"'A4-FinPerf RE'!L17","v":24655304}]
[{"$f":"'A4-FinPerf RE'!A18","v":"Transfers and subsidies"},null,186015213,6281330,4166666,7370666,7974799,130999051,4166666,6706869,147906792,4166666,4166666,4166666,{"$f":"'A4-FinPerf RE'!J18","v":514088050},{"$f":"'A4-FinPerf RE'!K18","v":479030200},{"$f":"'A4-FinPerf RE'!L18","v":473161852}]
[{"$f":"'A4-FinPerf RE'!A19","v":"Other revenue"},null,156694,144505,158823,225650,842331,305687,1277874,229401,140809,147527,448095,2395180,{"$f":"'A4-FinPerf RE'!J19","v":6472576},{"$f":"'A4-FinPerf RE'!K19","v":6744434},{"$f":"'A4-FinPerf RE'!L19","v":7041199}]
[{"$f":"'A4-FinPerf RE'!A20","v":"Gains"},null,0,0,0,0,0,0,0,0,0,0,0,0,{"$f":"'A4-FinPerf RE'!J20","v":0},{"$f":"'A4-FinPerf RE'!K20","v":0},{"$f":"'A4-FinPerf RE'!L20","v":0}]
[{"$f":"'A4-FinPerf RE'!A21","v":"Total Revenue (excluding capital transfers and contributions)"},null,{"$f":"SUM(C5:C9)+SUM(C11:C20)","v":153565182},{"$f":"SUM(D5:D9)+SUM(D11:D20)","v":-21694737},-25196411,-24080007,-38921001,81559296,-24131892,-17188774,123902450,-17761824,-27036572,1290926054,1453941764,1499608042,1570692885]
[]
[{"$f":"'A4-FinPerf RE'!A23","v":"Expenditure By Type"}]
[{"$f":"'A4-FinPerf RE'!A24","v":"Employee related costs"},null,29579562,27087886,28501660,31129079,27708006,29515493,29819100,28447357,30235085,28278093,29216267,{"$f":"O24-SUM(C24:M24)","v":30352478},{"$f":"'A4-FinPerf RE'!J24","v":349870066},{"$f":"'A4-FinPerf RE'!K24","v":364564780},{"$f":"'A4-FinPerf RE'!L24","v":380605749}]
[{"$f":"'A4-FinPerf RE'!A25","v":"Remuneration of councillors"},null,2337495,2334888,2341454,2342461,2349906,2483543,2337522,2375698,2375759,2375737,2375737,2375698,{"$f":"'A4-FinPerf RE'!J25","v":28405898},{"$f":"'A4-FinPerf RE'!K25","v":29598958},{"$f":"'A4-FinPerf RE'!L25","v":30901317}]
[{"$f":"'A4-FinPerf RE'!A26","v":"Debt impairment"},null,0,0,0,0,0,0,0,0,0,0,0,39690308,{"$f":"'A4-FinPerf RE'!J26","v":39690308},{"$f":"'A4-FinPerf RE'!K26","v":41357301},{"$f":"'A4-FinPerf RE'!L26","v":43177025}]
[{"$f":"'A4-FinPerf RE'!A27","v":"Depreciation & asset impairment"},null,10831246,10831044,10831044,10831044,10831044,10831044,10831044,10831044,10831044,10831044,10831044,10830876,{"$f":"'A4-FinPerf RE'!J27","v":129972562},{"$f":"'A4-FinPerf RE'!K27","v":135431430},{"$f":"'A4-FinPerf RE'!L27","v":141390421}]
[{"$f":"'A4-FinPerf RE'!A28","v":"Finance charges"},null,604462,603594,284851,1192512,590715,5834097,599078,568034,284851,1181109,3304258,2779001,{"$f":"'A4-FinPerf RE'!J28","v":17826562},{"$f":"'A4-FinPerf RE'!K28","v":18575280},{"$f":"'A4-FinPerf RE'!L28","v":19392600}]
[{"$f":"'A4-FinPerf RE'!A29","v":"Bulk purchases - electricity"},null,19755504,41669983,30853769,33928757,30522339,95082591,0,51917295,55191529,33799262,32717880,31432341,{"$f":"'A4-FinPerf RE'!J29","v":456871250},{"$f":"'A4-FinPerf RE'!K29","v":480289000},{"$f":"'A4-FinPerf RE'!L29","v":523698000}]
[{"$f":"'A4-FinPerf RE'!A30","v":"Inventory consumed"},null,3827716,5122382,5873044,7103851,9854855,7275270,5048500,4512497,4108886,4599522,7579399,7019396,{"$f":"'A4-FinPerf RE'!J30","v":71925318},{"$f":"'A4-FinPerf RE'!K30","v":75904263},{"$f":"'A4-FinPerf RE'!L30","v":80156201}]
[{"$f":"'A4-FinPerf RE'!A31","v":"Contracted services"},null,7364295,6014472,5667149,5560461,5593930,5763934,7586537,5717692,6003139,7955424,5825221,6162955,{"$f":"'A4-FinPerf RE'!J31","v":75215209},{"$f":"'A4-FinPerf RE'!K31","v":78374252},{"$f":"'A4-FinPerf RE'!L31","v":81822756}]
[{"$f":"'A4-FinPerf RE'!A32","v":"Transfers and subsidies"},null,3362795,2029475,4041620,3550724,3558653,2799722,2327309,2992700,1680207,2282734,1442161,2049900,{"$f":"'A4-FinPerf RE'!J32","v":32118000},{"$f":"'A4-FinPerf RE'!K32","v":7871670},{"$f":"'A4-FinPerf RE'!L32","v":8130053}]
[{"$f":"'A4-FinPerf RE'!A33","v":"Other expenditure"},null,6903016,10096893,10840514,10009048,6714723,15118181,13585951,7585530,13455916,7760530,5695046,12512120,{"$f":"'A4-FinPerf RE'!J33","v":120277468},{"$f":"'A4-FinPerf RE'!K33","v":125329304},{"$f":"'A4-FinPerf RE'!L33","v":130843906}]
[{"$f":"'A4-FinPerf RE'!A34","v":"Losses"},null,0,0,0,0,0,0,0,0,0,0,0,0,{"$f":"'A4-FinPerf RE'!J34","v":0},{"$f":"'A4-FinPerf RE'!K34","v":0},{"$f":"'A4-FinPerf RE'!L34","v":1}]
[{"$f":"'A4-FinPerf RE'!A35","v":"Total Expenditure"},null,{"$f":"SUM(C24:C34)","v":84566091},{"$f":"SUM(D24:D34)","v":105790617},99235105,105647937,97724171,174703875,72135041,114947847,124166416,99063455,98987013,145205073,1322172641,1357296238,1440118029]
[]
[{"$f":"'A4-FinPerf RE'!A37","v":"Surplus/(Deficit)"},null,{"$f":"C21-C35","v":68999091},-127485354,-124431516,-129727944,-136645172,-93144579,-96266933,-132136621,-263966,-116825279,-126023585,1145720981,131769123,142311804,130574856]
[{"$f":"'A4-FinPerf RE'!A38","v":"Transfers and subsidies - capital (monetary allocations) (National / Provincial and District)"},null,33119318,0,0,0,0,37786706,0,0,23847926,0,0,{"$f":"O38-SUM(C38:M38)","v":0},{"$f":"'A4-FinPerf RE'!J38","v":94753950},{"$f":"'A4-FinPerf RE'!K38","v":102603800},{"$f":"'A4-FinPerf RE'!L38","v":107290150}]
[{"$f":"'A4-FinPerf RE'!A39","v":"Transfers and subsidies - capital (monetary allocations) (National / Provincial Departmental Agencies, Households, Non-profit Institutions, Private Enterprises, Public Corporatons, Higher Educational Institutions)"},null,0,0,0,0,0,0,0,0,0,0,0,{"$f":"O39-SUM(C39:M39)","v":0},{"$f":"'A4-FinPerf RE'!J39","v":0},{"$f":"'A4-FinPerf RE'!K39","v":0},{"$f":"'A4-FinPerf RE'!L39","v":1}]
[{"$f":"'A4-FinPerf RE'!A40","v":"Transfers and subsidies - capital (in-kind - all) "},null,0,0,0,0,0,0,0,0,0,0,0,{"$f":"O40-SUM(C40:M40)","v":0},{"$f":"'A4-FinPerf RE'!J40","v":0},{"$f":"'A4-FinPerf RE'!K40","v":0},{"$f":"'A4-FinPerf RE'!L40","v":0}]
[{"$f":"'A4-FinPerf RE'!A41","v":"Surplus/(Deficit) after capital transfers & contributions"},null,{"$f":"C37+SUM(C38:C40)","v":102118409},-127485354,-124431516,-129727944,-136645172,-55357873,-96266933,-132136621,23583960,-116825279,-126023585,1145720981,{"$f":"O37+SUM(O38:O40)","v":226523073},{"$f":"P37+SUM(P38:P40)","v":244915604},{"$f":"Q37+SUM(Q38:Q40)","v":237865007}]
[{"$f":"'A4-FinPerf RE'!A42","v":"Taxation"},null,0,0,0,0,0,0,0,0,0,0,0,{"$f":"O42-SUM(C42:M42)","v":0},{"$f":"'A4-FinPerf RE'!J42","v":0},{"$f":"'A4-FinPerf RE'!K42","v":0},{"$f":"'A4-FinPerf RE'!L42","v":0}]
[{"$f":"'A4-FinPerf RE'!A44","v":"Attributable to minorities"},null,0,0,0,0,0,0,0,0,0,0,0,{"$f":"O43-SUM(C43:M43)","v":0},{"$f":"'A4-FinPerf RE'!J44","v":0},{"$f":"'A4-FinPerf RE'!K44","v":0},{"$f":"'A4-FinPerf RE'!L44","v":0}]
[{"$f":"'A4-FinPerf RE'!A46","v":"Share of surplus/ (deficit) of associate"},null,0,0,0,0,0,0,0,0,0,0,0,{"$f":"O44-SUM(C44:M44)","v":0},{"$f":"'A4-FinPerf RE'!J46","v":0},{"$f":"'A4-FinPerf RE'!K46","v":0},{"$f":"'A4-FinPerf RE'!L46","v":0}]
[{"$f":"'A4-FinPerf RE'!A37","v":"Surplus/(Deficit)"},1,{"$f":"C41-C42+SUM(C43:C44)","v":102118409},{"$f":"D41-D42+SUM(D43:D44)","v":-127485354},-124431516,-129727944,-136645172,-55357873,-96266933,-132136621,23583960,-116825279,-126023585,{"$f":"N41-N42+SUM(N43:N44)","v":1145720981},{"$f":"O41-O42+SUM(O43:O44)","v":226523073},{"$f":"P41-P42+SUM(P43:P44)","v":244915604},{"$f":"Q41-Q42+SUM(Q43:Q44)","v":237865007}]
[{"$f":"head27a","v":"References"}]
["1. Surplus (Deficit) must reconcile with Budgeted Financial Performance"]
["check",null,null,null,null,null,null,null,null,null,null,null,null,null,{"$f":"O45-'A4-FinPerf RE'!J47","v":0},{"$f":"P45-'A4-FinPerf RE'!K47","v":0},{"$f":"Q45-'A4-FinPerf RE'!L47","v":0}]

{"sheet":"SA26","index":47,"n_rows":48,"n_cols":17,"rows_kept":48,"cut":false,"hidden":false,"merged":[[1,2,1,13],[1,14,1,16]]}
[{"$f":"muni&\" - \"&TableA26","v":"Choose name from list - Supporting Table SA26 Budgeted monthly revenue and expenditure (municipal vote)"}]
[{"$f":"desc","v":"Description"},{"$f":"head27","v":"Ref"},{"$f":"Head9","v":"Budget Year 2021/22"},null,null,null,null,null,null,null,null,null,null,null,"Medium Term Revenue and Expenditure Framework"]
["R thousand",null,"July","August","Sept.","October","November","December","January","February","March","April","May","June",{"$f":"Head9","v":"Budget Year 2021/22"},{"$f":"Head10","v":"Budget Year +1 2022/23"},{"$f":"Head11","v":"Budget Year +2 2023/24"}]
[{"$f":"'A3-FinPerf V'!A4","v":"Revenue by Vote"}]
[{"$f":"'A3-FinPerf V'!A5","v":"Vote 1 - Executive & Council"},null,0,0,0,0,0,0,0,0,0,0,0,{"$f":"O5-SUM(C5:M5)","v":0},{"$f":"'A3-FinPerf V'!I5","v":0},{"$f":"'A3-FinPerf V'!J5","v":0},{"$f":"'A3-FinPerf V'!K5","v":0}]
[{"$f":"'A3-FinPerf V'!A6","v":"Vote 2 - Planning and Economic Development"},null,11226,7625,10569,18089,22558,10674,16932,19035,43092,6547,21638,212141,{"$f":"'A3-FinPerf V'!I6","v":400126},{"$f":"'A3-FinPerf V'!J6","v":416933},{"$f":"'A3-FinPerf V'!K6","v":435278}]
[{"$f":"'A3-FinPerf V'!A7","v":"Vote 3 - Budget and Treasury"},null,184339663,14369668,14226339,14445126,15722955,134389603,15042120,14257395,127092174,14673090,14674031,12238064,{"$f":"'A3-FinPerf V'!I7","v":575470228},{"$f":"'A3-FinPerf V'!J7","v":606398024},{"$f":"'A3-FinPerf V'!K7","v":604740863}]
[{"$f":"'A3-FinPerf V'!A8","v":"Vote 4 - Corporate Services"},null,0,0,0,0,0,0,0,0,0,0,0,0,{"$f":"'A3-FinPerf V'!I8","v":0},{"$f":"'A3-FinPerf V'!J8","v":0},{"$f":"'A3-FinPerf V'!K8","v":1}]
[{"$f":"'A3-FinPerf V'!A9","v":"Vote 5 - Engineering Services"},null,34987410,142370,133508,138445,140983,39934919,119746,119008,25240134,201121,114878,127805,{"$f":"'A3-FinPerf V'!I9","v":101400327},{"$f":"'A3-FinPerf V'!J9","v":109733023},{"$f":"'A3-FinPerf V'!K9","v":114742099}]
[{"$f":"'A3-FinPerf V'!A10","v":"Vote 6 - Community Services"},null,3707086,7298781,5329278,5474264,9125159,5820847,5103135,8597264,35324466,5519711,4554840,39927723,{"$f":"'A3-FinPerf V'!I10","v":135782554},{"$f":"'A3-FinPerf V'!J10","v":132666979},{"$f":"'A3-FinPerf V'!K10","v":138504329}]
[{"$f":"'A3-FinPerf V'!A11","v":"Vote 7 - Electrical Engineering"},null,-36360885,-43513181,-44896105,-44155931,-63932656,-60810041,-44413825,-40181476,-39949490,-38162293,-46401959,{"$f":"O11-SUM(C11:M11)","v":1238419092},{"$f":"'A3-FinPerf V'!I11","v":735641250},{"$f":"'A3-FinPerf V'!J11","v":752995601},{"$f":"'A3-FinPerf V'!K11","v":819559128}]
[{"$f":"'A3-FinPerf V'!A12","v":"Vote 8 - Office of the Speaker"},null,0,0,0,0,0,0,0,0,0,0,0,{"$f":"O12-SUM(C12:M12)","v":0},{"$f":"'A3-FinPerf V'!I12","v":0},{"$f":"'A3-FinPerf V'!J12","v":0},{"$f":"'A3-FinPerf V'!K12","v":0}]
[{"$f":"'A3-FinPerf V'!A13","v":"Vote 9 - COMMUNITY & SOCIAL SERVICES"},null,0,0,0,0,0,0,0,0,0,0,0,{"$f":"O13-SUM(C13:M13)","v":0},{"$f":"'A3-FinPerf V'!I13","v":0},{"$f":"'A3-FinPerf V'!J13","v":0},{"$f":"'A3-FinPerf V'!K13","v":0}]
[{"$f":"'A3-FinPerf V'!A14","v":"Vote 10 - Office of the Municipal Manager"},null,0,0,0,0,0,0,0,0,0,0,0,{"$f":"O14-SUM(C14:M14)","v":1229},{"$f":"'A3-FinPerf V'!I14","v":1229},{"$f":"'A3-FinPerf V'!J14","v":1282},{"$f":"'A3-FinPerf V'!K14","v":1338}]
[{"$f":"'A3-FinPerf V'!A15","v":"Vote 11 - [NAME OF VOTE 11]"},null,null,null,null,null,null,null,null,null,null,null,null,0,{"$f":"'A3-FinPerf V'!I15","v":0},{"$f":"'A3-FinPerf V'!J15","v":0},{"$f":"'A3-FinPerf V'!K15","v":0}]
[{"$f":"'A3-FinPerf V'!A16","v":"Vote 12 - [NAME OF VOTE 12]"},null,null,null,null,null,null,null,null,null,null,null,null,0,{"$f":"'A3-FinPerf V'!I16","v":0},{"$f":"'A3-FinPerf V'!J16","v":0},{"$f":"'A3-FinPerf V'!K16","v":0}]
[{"$f":"'A3-FinPerf V'!A17","v":"Vote 13 - [NAME OF VOTE 13]"},null,null,null,null,null,null,null,null,null,null,null,null,0,{"$f":"'A3-FinPerf V'!I17","v":0},{"$f":"'A3-FinPerf V'!J17","v":0},{"$f":"'A3-FinPerf V'!K17","v":0}]
[{"$f":"'A3-FinPerf V'!A18","v":"Vote 14 - [NAME OF VOTE 14]"},null,null,null,null,null,null,null,null,null,null,null,null,0,{"$f":"'A3-FinPerf V'!I18","v":0},{"$f":"'A3-FinPerf V'!J18","v":0},{"$f":"'A3-FinPerf V'!K18","v":0}]
[{"$f":"'A3-FinPerf V'!A19","v":"Vote 15 - [NAME OF VOTE 15]"},null,null,null,null,null,null,null,null,null,null,null,null,0,{"$f":"'A3-FinPerf V'!I19","v":0},{"$f":"'A3-FinPerf V'!J19","v":0},{"$f":"'A3-FinPerf V'!K19","v":0}]
[{"$f":"'A3-FinPerf V'!A20","v":"Total Revenue by Vote"},null,{"$f":"SUM(C5:C19)","v":186684500},-21694737,-25196411,{"$f":"SUM(F5:F19)","v":-24080007},-38921001,119346002,-24131892,-17188774,147750376,-17761824,-27036572,1290926054,1548695714,1602211842,1677983036]
[]
[{"$f":"'A3-FinPerf V'!A22","v":"Expenditure by Vote to be appropriated"}]
[{"$f":"A5","v":"Vote 1 - Executive & Council"},null,0,0,0,0,0,0,0,0,0,0,0,{"$f":"O23-SUM(C23:M23)","v":0},{"$f":"'A3-FinPerf V'!I23","v":0},{"$f":"'A3-FinPerf V'!J23","v":0},{"$f":"'A3-FinPerf V'!K23","v":0}]
["Vote 2 - Planning and Economic Development",null,2109113,1994752,1909698,1874297,1840125,4929415,1777700,1887208,7160230,2045285,2332563,2561329,{"$f":"'A3-FinPerf V'!I24","v":32421715},{"$f":"'A3-FinPerf V'!J24","v":33779872},{"$f":"'A3-FinPerf V'!K24","v":35262560}]
["Vote 3 - Budget and Treasury",null,11532623,8657223,8303300,8634666,8561843,8738731,9376051,8414681,8480612,10215840,6872748,30499389,{"$f":"'A3-FinPerf V'!I25","v":128287707},{"$f":"'A3-FinPerf V'!J25","v":133586431},{"$f":"'A3-FinPerf V'!K25","v":139370625}]
["Vote 4 - Corporate Services",null,4770226,5400690,5918801,5878120,4334275,5817602,12470991,4688831,6521553,4702110,4823037,9132603,{"$f":"'A3-FinPerf V'!I26","v":74458839},{"$f":"'A3-FinPerf V'!J26","v":77368717},{"$f":"'A3-FinPerf V'!K26","v":80545178}]
["Vote 5 - Engineering Services",null,11718236,12469922,14705447,13682721,13165774,16081230,12394116,12673197,11917220,11910846,14174069,13976380,{"$f":"'A3-FinPerf V'!I27","v":158869158},{"$f":"'A3-FinPerf V'!J27","v":167005548},{"$f":"'A3-FinPerf V'!K27","v":175978961}]
["Vote 6 - Community Services",null,16767665,15532573,18375202,18445033,17661308,18342052,17319456,17148996,16178087,16175748,16015637,25930835,{"$f":"'A3-FinPerf V'!I28","v":213892592},{"$f":"'A3-FinPerf V'!J28","v":213692444},{"$f":"'A3-FinPerf V'!K28","v":222712278}]
["Vote 7 - Electrical Engineering",null,31434925,53917470,43471863,48253425,46776591,111906425,11853571,63528876,66141589,46314271,48787837,55966516,{"$f":"'A3-FinPerf V'!I29","v":628353359},{"$f":"'A3-FinPerf V'!J29","v":642482423},{"$f":"'A3-FinPerf V'!K29","v":693056217}]
["Vote 8 - Office of the Speaker",null,0,0,0,0,0,0,0,0,0,0,0,{"$f":"O30-SUM(C30:M30)","v":0},{"$f":"'A3-FinPerf V'!I30","v":0},{"$f":"'A3-FinPerf V'!J30","v":0},{"$f":"'A3-FinPerf V'!K30","v":0}]
["Vote 9 - COMMUNITY & SOCIAL SERVICES",null,0,0,0,0,0,0,0,0,0,0,0,{"$f":"O31-SUM(C31:M31)","v":0},{"$f":"'A3-FinPerf V'!I31","v":0},{"$f":"'A3-FinPerf V'!J31","v":0},{"$f":"'A3-FinPerf V'!K31","v":0}]
[{"$f":"A14","v":"Vote 10 - Office of the Municipal Manager"},null,6233303,7817987,6550794,8879675,5384255,8888420,6943156,6606058,7767125,7699355,5981122,{"$f":"O32-SUM(C32:M32)","v":7138021},{"$f":"'A3-FinPerf V'!I32","v":85889271},{"$f":"'A3-FinPerf V'!J32","v":89380803},{"$f":"'A3-FinPerf V'!K32","v":93192209}]
["Vote 11 - [NAME OF VOTE 11]",null,null,null,null,null,null,null,null,null,null,null,null,0,{"$f":"'A3-FinPerf V'!I33","v":0},{"$f":"'A3-FinPerf V'!J33","v":0},{"$f":"'A3-FinPerf V'!K33","v":0}]
["Vote 12 - [NAME OF VOTE 12]",null,null,null,null,null,null,null,null,null,null,null,null,0,{"$f":"'A3-FinPerf V'!I34","v":0},{"$f":"'A3-FinPerf V'!J34","v":0},{"$f":"'A3-FinPerf V'!K34","v":0}]
["Vote 13 - [NAME OF VOTE 13]",null,null,null,null,null,null,null,null,null,null,null,null,0,{"$f":"'A3-FinPerf V'!I35","v":0},{"$f":"'A3-FinPerf V'!J35","v":0},{"$f":"'A3-FinPerf V'!K35","v":0}]
["Vote 14 - [NAME OF VOTE 14]",null,null,null,null,null,null,null,null,null,null,null,null,0,{"$f":"'A3-FinPerf V'!I36","v":0},{"$f":"'A3-FinPerf V'!J36","v":0},{"$f":"'A3-FinPerf V'!K36","v":0}]
["Vote 15 - [NAME OF VOTE 15]",null,null,null,null,null,null,null,null,null,null,null,null,0,{"$f":"'A3-FinPerf V'!I37","v":0},{"$f":"'A3-FinPerf V'!J37","v":0},{"$f":"'A3-FinPerf V'!K37","v":0}]
[{"$f":"'A3-FinPerf V'!A38","v":"Total Expenditure by Vote"},null,{"$f":"SUM(C23:C37)","v":84566091},{"$f":"SUM(D23:D37)","v":105790617},99235105,105647937,97724171,174703875,72135041,114947847,124166416,99063455,98987013,145205073,{"$f":"SUM(O23:O37)","v":1322172641},{"$f":"SUM(P23:P37)","v":1357296238},{"$f":"SUM(Q23:Q37)","v":1440118028}]
[]
[{"$f":"'A4-FinPerf RE'!A37&\" before assoc.\"","v":"Surplus/(Deficit) before assoc."},null,{"$f":"C20-C38","v":102118409},-127485354,-124431516,-129727944,-136645172,-55357873,-96266933,-132136621,23583960,-116825279,-126023585,1145720981,226523073,244915604,237865008]
[]
[{"$f":"'SA25'!A42","v":"Taxation"},null,null,null,null,null,null,null,null,null,null,null,null,{"$f":"O42-SUM(C42:M42)","v":0},{"$f":"'SA25'!O42","v":0},{"$f":"'SA25'!P42","v":0},{"$f":"'SA25'!Q42","v":0}]
[{"$f":"'SA25'!A43","v":"Attributable to minorities"},null,null,null,null,null,null,null,null,null,null,null,null,{"$f":"O43-SUM(C43:M43)","v":0},{"$f":"'SA25'!O43","v":0},{"$f":"'SA25'!P43","v":0},{"$f":"'SA25'!Q43","v":0}]
[{"$f":"'A4-FinPerf RE'!A46","v":"Share of surplus/ (deficit) of associate"},null,null,null,null,null,null,null,null,null,null,null,null,{"$f":"O44-SUM(C44:M44)","v":0},{"$f":"'A4-FinPerf RE'!J46","v":0},{"$f":"'A4-FinPerf RE'!K46","v":0},{"$f":"'A4-FinPerf RE'!L46","v":0}]
[{"$f":"'A4-FinPerf RE'!A37","v":"Surplus/(Deficit)"},1,{"$f":"C40+C44","v":102118409},{"$f":"D40+D44","v":-127485354},-124431516,-129727944,-136645172,-55357873,-96266933,-132136621,23583960,-116825279,-126023585,1145720981,226523073,244915604,237865008]
[{"$f":"head27a","v":"References"}]
["1. Surplus (Deficit) must reconcile with Budgeted Financial Performance"]
["check",null,null,null,null,null,null,null,null,null,null,null,null,null,{"$f":"O45-'A4-FinPerf RE'!J47","v":0},{"$f":"P45-'A4-FinPerf RE'!K47","v":0},{"$f":"Q45-'A4-FinPerf RE'!L47","v":1}]

{"sheet":"SA27","index":48,"n_rows":56,"n_cols":17,"rows_kept":56,"cut":false,"hidden":false,"merged":[[1,2,1,13],[1,14,1,16]]}
[{"$f":"muni&\" - \"&TableA27","v":"Choose name from list - Supporting Table SA27 Budgeted monthly revenue and expenditure (functional classification)"}]
[{"$f":"desc","v":"Description"},{"$f":"head27","v":"Ref"},{"$f":"Head9","v":"Budget Year 2021/22"},null,null,null,null,null,null,null,null,null,null,null,"Medium Term Revenue and Expenditure Framework"]
["R thousand",null,"July","August","Sept.","October","November","December","January","February","March","April","May","June",{"$f":"Head9","v":"Budget Year 2021/22"},{"$f":"Head10","v":"Budget Year +1 2022/23"},{"$f":"Head11","v":"Budget Year +2 2023/24"}]
[{"$f":"'A2-FinPerf SC'!A4","v":"Revenue - Functional"}]
[{"$f":"'A2-FinPerf SC'!A5","v":"Governance and administration"},null,{"$f":"SUM(C6:C8)","v":184339663},{"$f":"SUM(D6:D8)","v":14369668},{"$f":"SUM(E6:E8)","v":14226339},14445126,15722955,134389603,15042120,14257395,127092174,14673090,14674031,{"$f":"O5-SUM(C5:M5)","v":12239293},{"$f":"'A2-FinPerf SC'!I5","v":575471457},{"$f":"'A2-FinPerf SC'!J5","v":606399306},{"$f":"'A2-FinPerf SC'!K5","v":604742202}]
[{"$f":"'A2-FinPerf SC'!A6","v":"Executive and council"},null,0,0,0,0,0,0,0,0,0,0,0,1100,{"$f":"'A2-FinPerf SC'!I6","v":1100},{"$f":"'A2-FinPerf SC'!J6","v":1147},{"$f":"'A2-FinPerf SC'!K6","v":1197}]
[{"$f":"'A2-FinPerf SC'!A7","v":"Finance and administration"},null,184339663,14369668,14226339,14445126,15722955,134389603,15042120,14257395,127092174,14673090,14674031,12238193,{"$f":"'A2-FinPerf SC'!I7","v":575470357},{"$f":"'A2-FinPerf SC'!J7","v":606398159},{"$f":"'A2-FinPerf SC'!K7","v":604741005}]
[{"$f":"'A2-FinPerf SC'!A8","v":"Internal audit"},null,0,0,0,0,0,0,0,0,0,0,0,0,{"$f":"'A2-FinPerf SC'!I8","v":0},{"$f":"'A2-FinPerf SC'!J8","v":0},{"$f":"'A2-FinPerf SC'!K8","v":0}]
[{"$f":"'A2-FinPerf SC'!A9","v":"Community and public safety"},null,{"$f":"SUM(C10:C14)","v":452213},{"$f":"SUM(D10:D14)","v":644385},643410,699114,485711,970473,478994,395677,273908,570142,429017,34347083,{"$f":"'A2-FinPerf SC'!I9","v":40390127},{"$f":"'A2-FinPerf SC'!J9","v":42086516},{"$f":"'A2-FinPerf SC'!K9","v":43938324}]
[{"$f":"'A2-FinPerf SC'!A10","v":"Community and social services"},null,8708,90,7977,3907,5862,3861,1721,5633,3781,3965,5942,4689,{"$f":"'A2-FinPerf SC'!I10","v":56136},{"$f":"'A2-FinPerf SC'!J10","v":58495},{"$f":"'A2-FinPerf SC'!K10","v":61070}]
[{"$f":"'A2-FinPerf SC'!A11","v":"Sport and recreation"},null,16998,18362,18362,13535,26122,31727,31546,10245,4344,14521,11245,463759,{"$f":"'A2-FinPerf SC'!I11","v":660766},{"$f":"'A2-FinPerf SC'!J11","v":688519},{"$f":"'A2-FinPerf SC'!K11","v":718814}]
[{"$f":"'A2-FinPerf SC'!A12","v":"Public safety"},null,301001,483028,483028,540930,312209,774911,324000,260256,128194,350000,296417,33747026,{"$f":"'A2-FinPerf SC'!I12","v":38001000},{"$f":"'A2-FinPerf SC'!J12","v":39597042},{"$f":"'A2-FinPerf SC'!K12","v":41339312}]
[{"$f":"'A2-FinPerf SC'!A13","v":"Housing"},null,124970,142370,133508,138445,140983,159439,119746,119008,137054,201121,114878,127703,{"$f":"'A2-FinPerf SC'!I13","v":1659225},{"$f":"'A2-FinPerf SC'!J13","v":1728914},{"$f":"'A2-FinPerf SC'!K13","v":1804985}]
[{"$f":"'A2-FinPerf SC'!A14","v":"Health"},null,536,535,535,2297,535,535,1981,535,535,535,535,3906,{"$f":"'A2-FinPerf SC'!I14","v":13000},{"$f":"'A2-FinPerf SC'!J14","v":13546},{"$f":"'A2-FinPerf SC'!K14","v":14143}]
[{"$f":"'A2-FinPerf SC'!A15","v":"Economic and environmental services"},null,{"$f":"SUM(C16:C18)","v":35602687},{"$f":"SUM(D16:D18)","v":1837995},1994220,2019321,1984471,41809532,1985455,2543201,27306211,1948512,1219488,2571425,{"$f":"'A2-FinPerf SC'!I15","v":122822518},{"$f":"'A2-FinPerf SC'!J15","v":132054946},{"$f":"'A2-FinPerf SC'!K15","v":138046189}]
[{"$f":"'A2-FinPerf SC'!A16","v":"Planning and development"},null,11226,7625,10569,18089,22558,10674,16932,19035,43092,6547,21638,212141,{"$f":"'A2-FinPerf SC'!I16","v":400126},{"$f":"'A2-FinPerf SC'!J16","v":416933},{"$f":"'A2-FinPerf SC'!K16","v":435278}]
[{"$f":"'A2-FinPerf SC'!A17","v":"Road transport"},null,35591461,1830370,1983651,2001232,1961913,41798858,1968523,2524166,27263119,1941965,1197850,2359284,{"$f":"'A2-FinPerf SC'!I17","v":122422392},{"$f":"'A2-FinPerf SC'!J17","v":131638013},{"$f":"'A2-FinPerf SC'!K17","v":137610911}]
[{"$f":"'A2-FinPerf SC'!A18","v":"Environmental protection"},null,0,0,0,0,0,0,0,0,0,0,0,0,{"$f":"'A2-FinPerf SC'!I18","v":0},{"$f":"'A2-FinPerf SC'!J18","v":0},{"$f":"'A2-FinPerf SC'!K18","v":0}]
[{"$f":"'A2-FinPerf SC'!A19","v":"Trading services"},null,{"$f":"SUM(C20:C23)","v":-33710063},{"$f":"SUM(D20:D23)","v":-38546785},-42060380,-41243568,-57114138,-57823606,-41638461,-34385047,-6921917,-34953568,-43359108,{"$f":"O19-SUM(C19:M19)","v":1241768253},{"$f":"'A2-FinPerf SC'!I19","v":810011612},{"$f":"'A2-FinPerf SC'!J19","v":821671074},{"$f":"'A2-FinPerf SC'!K19","v":891256321}]
[{"$f":"'A2-FinPerf SC'!A20","v":"Energy sources"},null,-36360885,-43513181,-44896105,-44155931,-63932656,-60810041,-44413825,-40181476,-39949490,-38162293,-46401959,1238419092,{"$f":"'A2-FinPerf SC'!I20","v":735641250},{"$f":"'A2-FinPerf SC'!J20","v":752995601},{"$f":"'A2-FinPerf SC'!K20","v":819559128}]
[{"$f":"'A2-FinPerf SC'!A21","v":"Water management"},null,0,0,0,0,0,0,0,0,0,0,0,1,{"$f":"'A2-FinPerf SC'!I21","v":1},{"$f":"'A2-FinPerf SC'!J21","v":2},{"$f":"'A2-FinPerf SC'!K21","v":2}]
[{"$f":"'A2-FinPerf SC'!A22","v":"Waste water management"},null,0,0,0,0,0,0,0,0,0,0,0,0,{"$f":"'A2-FinPerf SC'!I22","v":0},{"$f":"'A2-FinPerf SC'!J22","v":0},{"$f":"'A2-FinPerf SC'!K22","v":0}]
[{"$f":"'A2-FinPerf SC'!A23","v":"Waste management"},null,2650822,4966396,2835725,2912363,6818518,2986435,2775364,5796429,33027573,3208725,3042851,3349160,{"$f":"'A2-FinPerf SC'!I23","v":74370361},{"$f":"'A2-FinPerf SC'!J23","v":68675471},{"$f":"'A2-FinPerf SC'!K23","v":71697191}]
[{"$f":"'A2-FinPerf SC'!A24","v":"Other"},null,0,0,0,0,0,0,0,0,0,0,0,0,{"$f":"'A2-FinPerf SC'!I24","v":0},{"$f":"'A2-FinPerf SC'!J24","v":0},{"$f":"'A2-FinPerf SC'!K24","v":0}]
[{"$f":"'A2-FinPerf SC'!A25","v":"Total Revenue - Functional"},null,{"$f":"C5+C9+C15+C19+C24","v":186684500},-21694737,-25196411,-24080007,-38921001,119346002,-24131892,-17188774,147750376,-17761824,-27036572,1290926054,1548695714,1602211842,1677983036]
[null,null,null,{"$f":"D6+D10+D16+D20+D25","v":-65200203},-70073970,-68213942,-102825237,58550496,-68527064,-57345582,107847759,-55913605,{"$f":"M6+M10+M16+M20+M25","v":-73410951}]
[{"$f":"'A2-FinPerf SC'!A27","v":"Expenditure - Functional"}]
[{"$f":"'A2-FinPerf SC'!A28","v":"Governance and administration"},null,{"$f":"SUM(C29:C31)","v":24716569},{"$f":"SUM(D29:D31)","v":24309442},{"$f":"SUM(E29:E31)","v":24006771},25727638,20627165,25792222,30946949,22401151,25346968,23827771,20003964,{"$f":"O28-SUM(C28:M28)","v":49035527},{"$f":"'A2-FinPerf SC'!I28","v":316742137},{"$f":"'A2-FinPerf SC'!J28","v":329622756},{"$f":"'A2-FinPerf SC'!K28","v":343683451}]
[{"$f":"'A2-FinPerf SC'!A29","v":"Executive and council"},null,3864399,3621648,4071964,3711966,3762748,4261398,3911701,3785367,4240344,4316808,3949281,4028186,{"$f":"'A2-FinPerf SC'!I29","v":47525810},{"$f":"'A2-FinPerf SC'!J29","v":49406034},{"$f":"'A2-FinPerf SC'!K29","v":51458517}]
[{"$f":"'A2-FinPerf SC'!A30","v":"Finance and administration"},null,20365797,20365648,19614343,21651565,16547866,21213244,26642393,18289618,20748811,19187899,15741104,43113190,{"$f":"'A2-FinPerf SC'!I30","v":263481478},{"$f":"'A2-FinPerf SC'!J30","v":274241000},{"$f":"'A2-FinPerf SC'!K30","v":285986273}]
[{"$f":"'A2-FinPerf SC'!A31","v":"Internal audit"},null,486373,322146,320464,364107,316551,317580,392855,326166,357813,323064,313579,1894151,{"$f":"'A2-FinPerf SC'!I31","v":5734849},{"$f":"'A2-FinPerf SC'!J31","v":5975722},{"$f":"'A2-FinPerf SC'!K31","v":6238661}]
[{"$f":"'A2-FinPerf SC'!A32","v":"Community and public safety"},null,{"$f":"SUM(C33:C37)","v":7692789},{"$f":"SUM(D33:D37)","v":6619565},7510911,7358193,7230341,7438399,6992387,6989020,6975588,7102210,7203272,8036155,{"$f":"'A2-FinPerf SC'!I32","v":87148830},{"$f":"'A2-FinPerf SC'!J32","v":90624254},{"$f":"'A2-FinPerf SC'!K32","v":94418074}]
[{"$f":"'A2-FinPerf SC'!A33","v":"Community and social services"},null,1784025,1098418,1055891,1061241,1035410,1171532,1080508,1060622,1095006,1077464,1154237,1389673,{"$f":"'A2-FinPerf SC'!I33","v":14064027},{"$f":"'A2-FinPerf SC'!J33","v":14650792},{"$f":"'A2-FinPerf SC'!K33","v":15291322}]
[{"$f":"'A2-FinPerf SC'!A34","v":"Sport and recreation"},null,2255281,2198347,2628163,2456413,2321610,2370694,2254532,2250377,2212095,2317478,2332656,2403062,{"$f":"'A2-FinPerf SC'!I34","v":28000708},{"$f":"'A2-FinPerf SC'!J34","v":29008030},{"$f":"'A2-FinPerf SC'!K34","v":30107645}]
[{"$f":"'A2-FinPerf SC'!A35","v":"Public safety"},null,1578453,1372406,1468199,1705150,1486783,1478594,1452843,1511296,1442753,1535638,1479225,1786276,{"$f":"'A2-FinPerf SC'!I35","v":18297616},{"$f":"'A2-FinPerf SC'!J35","v":19053890},{"$f":"'A2-FinPerf SC'!K35","v":19879440}]
[{"$f":"'A2-FinPerf SC'!A36","v":"Housing"},null,1134672,1249688,1565794,1314394,1601376,1513931,1267613,1222710,1294712,1282772,1207782,1281084,{"$f":"'A2-FinPerf SC'!I36","v":15936528},{"$f":"'A2-FinPerf SC'!J36","v":16605872},{"$f":"'A2-FinPerf SC'!K36","v":17336537}]
[{"$f":"'A2-FinPerf SC'!A37","v":"Health"},null,940358,700706,792864,820995,785162,903648,936891,944015,931022,888858,1029372,1176060,{"$f":"'A2-FinPerf SC'!I37","v":10849951},{"$f":"'A2-FinPerf SC'!J37","v":11305670},{"$f":"'A2-FinPerf SC'!K37","v":11803130}]
[{"$f":"'A2-FinPerf SC'!A38","v":"Economic and environmental services"},null,{"$f":"SUM(C39:C41)","v":13605760},{"$f":"SUM(D39:D41)","v":14657120},16149508,16061494,15038102,21190591,14868359,14681316,19268716,15448177,16603061,{"$f":"O38-SUM(C38:M38)","v":17224539},{"$f":"'A2-FinPerf SC'!I38","v":194796743},{"$f":"'A2-FinPerf SC'!J38","v":204438526},{"$f":"'A2-FinPerf SC'!K38","v":215055346}]
[{"$f":"'A2-FinPerf SC'!A39","v":"Planning and development"},null,1620088,1727700,1586678,1580368,1574915,4583434,1685280,1575073,6755893,2858172,2053552,2215752,{"$f":"'A2-FinPerf SC'!I39","v":29816905},{"$f":"'A2-FinPerf SC'!J39","v":31065649},{"$f":"'A2-FinPerf SC'!K39","v":32428897}]
[{"$f":"'A2-FinPerf SC'!A40","v":"Road transport"},null,11985672,12929420,14562830,14481126,13463187,16607157,13183079,13106243,12512823,12590005,14549509,15008787,{"$f":"'A2-FinPerf SC'!I40","v":164979838},{"$f":"'A2-FinPerf SC'!J40","v":173372877},{"$f":"'A2-FinPerf SC'!K40","v":182626449}]
[{"$f":"'A2-FinPerf SC'!A41","v":"Environmental protection"},null,0,0,0,0,0,0,0,0,0,0,0,0,{"$f":"'A2-FinPerf SC'!I41","v":0},{"$f":"'A2-FinPerf SC'!J41","v":0},{"$f":"'A2-FinPerf SC'!K41","v":0}]
[{"$f":"'A2-FinPerf SC'!A42","v":"Trading services"},null,{"$f":"SUM(C43:C46)","v":38550973},{"$f":"SUM(D43:D46)","v":60204490},51567915,56500612,54828563,120282663,19327346,70876360,72575144,52685297,55176716,{"$f":"O42-SUM(C42:M42)","v":70908852},{"$f":"'A2-FinPerf SC'!I42","v":723484931},{"$f":"'A2-FinPerf SC'!J42","v":732610702},{"$f":"'A2-FinPerf SC'!K42","v":786961157}]
[{"$f":"'A2-FinPerf SC'!A43","v":"Energy sources"},null,31434925,53917470,43471863,48253425,46776591,111906425,11853571,63528876,66141589,46314271,48787837,55966516,{"$f":"'A2-FinPerf SC'!I43","v":628353359},{"$f":"'A2-FinPerf SC'!J43","v":642482423},{"$f":"'A2-FinPerf SC'!K43","v":693056217}]
[{"$f":"'A2-FinPerf SC'!A44","v":"Water management"},null,0,0,0,0,0,0,0,0,0,0,0,0,{"$f":"'A2-FinPerf SC'!I44","v":0},{"$f":"'A2-FinPerf SC'!J44","v":0},{"$f":"'A2-FinPerf SC'!K44","v":0}]
[{"$f":"'A2-FinPerf SC'!A45","v":"Waste water management"},null,781217,684946,688726,738780,726038,675857,664046,673984,755367,702070,656940,1032499,{"$f":"'A2-FinPerf SC'!I45","v":8780470},{"$f":"'A2-FinPerf SC'!J45","v":8983100},{"$f":"'A2-FinPerf SC'!K45","v":9204285}]
[{"$f":"'A2-FinPerf SC'!A46","v":"Waste management"},null,6334831,5602074,7407326,7508407,7325934,7700381,6809729,6673500,5678188,5668956,5731939,13909837,{"$f":"'A2-FinPerf SC'!I46","v":86351102},{"$f":"'A2-FinPerf SC'!J46","v":81145179},{"$f":"'A2-FinPerf SC'!K46","v":84700655}]
[{"$f":"'A2-FinPerf SC'!A47","v":"Other"},null,0,0,0,0,0,0,0,0,0,0,0,0,{"$f":"'A2-FinPerf SC'!I47","v":0},{"$f":"'A2-FinPerf SC'!J47","v":0},{"$f":"'A2-FinPerf SC'!K47","v":0}]
[{"$f":"'A2-FinPerf SC'!A48","v":"Total Expenditure - Functional"},null,{"$f":"C28+C32+C38+C42+C47","v":84566091},{"$f":"D28+D32+D38+D42+D47","v":105790617},99235105,105647937,97724171,174703875,72135041,114947847,124166416,99063455,98987013,145205073,1322172641,1357296238,{"$f":"Q28+Q32+Q38+Q42+Q47","v":1440118028}]
[]
[{"$f":"'A4-FinPerf RE'!A37&\" before assoc.\"","v":"Surplus/(Deficit) before assoc."},null,{"$f":"C25-C48","v":102118409},-127485354,-124431516,-129727944,-136645172,-55357873,-96266933,-132136621,23583960,-116825279,-126023585,1145720981,226523073,244915604,237865008]
[]
[{"$f":"'A4-FinPerf RE'!A46","v":"Share of surplus/ (deficit) of associate"},null,14928111,14928092,14928092,14928092,14928092,14928092,14928129,14928092,14928092,14928092,14928092,{"$f":"O52-SUM(C52:M52)","v":-164209068},{"$f":"'A4-FinPerf RE'!J46","v":0},{"$f":"'A4-FinPerf RE'!K46","v":0},{"$f":"'A4-FinPerf RE'!L46","v":0}]
[{"$f":"'A4-FinPerf RE'!A37","v":"Surplus/(Deficit)"},1,{"$f":"C50+C52","v":117046520},{"$f":"D50+D52","v":-112557262},-109503424,-114799852,-121717080,-40429781,-81338804,-117208529,38512052,-101897187,-111095493,981511913,226523073,244915604,237865008]
[{"$f":"head27a","v":"References"}]
["1. Surplus (Deficit) must reconcile with Budeted Financial Performance"]
["check",null,null,null,null,null,null,null,null,null,null,null,null,null,{"$f":"O53-'A4-FinPerf RE'!J47","v":0},{"$f":"P53-'A4-FinPerf RE'!K47","v":0},{"$f":"Q53-'A4-FinPerf RE'!L47","v":1}]

{"sheet":"SA28","index":49,"n_rows":47,"n_cols":17,"rows_kept":47,"cut":false,"hidden":false,"merged":[[1,2,1,13],[1,14,1,16]]}
[{"$f":"muni&\" - \"& TableA28","v":"Choose name from list - Supporting Table SA28 Budgeted monthly capital expenditure (municipal vote)"}]
[{"$f":"desc","v":"Description"},{"$f":"head27","v":"Ref"},{"$f":"Head9","v":"Budget Year 2021/22"},null,null,null,null,null,null,null,null,null,null,null,"Medium Term Revenue and Expenditure Framework"]
["R thousand",null,"July","August","Sept.","October","Nov.","Dec.","January","Feb.","March","April","May","June",{"$f":"Head9","v":"Budget Year 2021/22"},{"$f":"Head10","v":"Budget Year +1 2022/23"},{"$f":"Head11","v":"Budget Year +2 2023/24"}]
["Multi-year expenditure to be appropriated",1]
[{"$f":"'A5-Capex'!A6","v":"Vote 1 - Executive & Council"},null,0,0,0,0,0,0,0,0,0,0,0,{"$f":"O5-SUM(C5:M5)","v":0},{"$f":"'A5-Capex'!J6","v":0},{"$f":"'A5-Capex'!K6","v":0},{"$f":"'A5-Capex'!L6","v":0}]
[{"$f":"'A5-Capex'!A7","v":"Vote 2 - Planning and Economic Development"},null,249650,328501,458407,851187,352108,870774,502954,231202,1099344,678479,427869,{"$f":"O6-SUM(C6:M6)","v":508025},{"$f":"'A5-Capex'!J7","v":6558500},{"$f":"'A5-Capex'!K7","v":4000000},{"$f":"'A5-Capex'!L7","v":29085000}]
[{"$f":"'A5-Capex'!A8","v":"Vote 3 - Budget and Treasury"},null,205900,0,0,96100,0,0,0,0,253000,0,145000,0,{"$f":"'A5-Capex'!J8","v":700000},{"$f":"'A5-Capex'!K8","v":0},{"$f":"'A5-Capex'!L8","v":0}]
[{"$f":"'A5-Capex'!A9","v":"Vote 4 - Corporate Services"},null,0,0,0,0,0,0,0,0,0,0,0,0,{"$f":"'A5-Capex'!J9","v":0},{"$f":"'A5-Capex'!K9","v":0},{"$f":"'A5-Capex'!L9","v":0}]
[{"$f":"'A5-Capex'!A10","v":"Vote 5 - Engineering Services"},null,4326799,7400730,7218638,10030687,5421645,14392997,11758923,9969389,9382348,11297705,6991794,7932295,{"$f":"'A5-Capex'!J10","v":106123950},{"$f":"'A5-Capex'!K10","v":146103800},{"$f":"'A5-Capex'!L10","v":135590150}]
[{"$f":"'A5-Capex'!A11","v":"Vote 6 - Community Services"},null,19806,26062,76369,67530,27935,69086,92089,557333,50711,173828,33946,130305,{"$f":"'A5-Capex'!J11","v":1325000},{"$f":"'A5-Capex'!K11","v":0},{"$f":"'A5-Capex'!L11","v":0}]
[{"$f":"'A5-Capex'!A12","v":"Vote 7 - Electrical Engineering"},null,1153686,1665398,1049441,1205904,498842,1233657,1644445,1755933,1405563,1211222,606174,1119735,{"$f":"'A5-Capex'!J12","v":14550000},{"$f":"'A5-Capex'!K12","v":10000000},{"$f":"'A5-Capex'!L12","v":12000000}]
[{"$f":"'A5-Capex'!A13","v":"Vote 8 - Office of the Speaker"},null,0,0,0,0,0,0,0,0,0,0,0,{"$f":"O12-SUM(C12:M12)","v":0},{"$f":"'A5-Capex'!J13","v":0},{"$f":"'A5-Capex'!K13","v":0},{"$f":"'A5-Capex'!L13","v":0}]
[{"$f":"'A5-Capex'!A14","v":"Vote 9 - COMMUNITY & SOCIAL SERVICES"},null,0,0,0,0,0,0,0,0,0,0,0,{"$f":"O13-SUM(C13:M13)","v":0},{"$f":"'A5-Capex'!J14","v":0},{"$f":"'A5-Capex'!K14","v":0},{"$f":"'A5-Capex'!L14","v":0}]
[{"$f":"'A5-Capex'!A15","v":"Vote 10 - Office of the Municipal Manager"},null,0,0,0,0,0,0,0,0,0,0,0,{"$f":"O14-SUM(C14:M14)","v":0},{"$f":"'A5-Capex'!J15","v":0},{"$f":"'A5-Capex'!K15","v":0},{"$f":"'A5-Capex'!L15","v":0}]
[{"$f":"'A5-Capex'!A16","v":"Vote 11 - [NAME OF VOTE 11]"},null,null,null,null,null,null,null,null,null,null,null,null,0,{"$f":"'A5-Capex'!J16","v":0},{"$f":"'A5-Capex'!K16","v":0},{"$f":"'A5-Capex'!L16","v":0}]
[{"$f":"'A5-Capex'!A17","v":"Vote 12 - [NAME OF VOTE 12]"},null,null,null,null,null,null,null,null,null,null,null,null,0,{"$f":"'A5-Capex'!J17","v":0},{"$f":"'A5-Capex'!K17","v":0},{"$f":"'A5-Capex'!L17","v":0}]
[{"$f":"'A5-Capex'!A18","v":"Vote 13 - [NAME OF VOTE 13]"},null,null,null,null,null,null,null,null,null,null,null,null,0,{"$f":"'A5-Capex'!J18","v":0},{"$f":"'A5-Capex'!K18","v":0},{"$f":"'A5-Capex'!L18","v":0}]
[{"$f":"'A5-Capex'!A19","v":"Vote 14 - [NAME OF VOTE 14]"},null,null,null,null,null,null,null,null,null,null,null,null,0,{"$f":"'A5-Capex'!J19","v":0},{"$f":"'A5-Capex'!K19","v":0},{"$f":"'A5-Capex'!L19","v":0}]
[{"$f":"'A5-Capex'!A20","v":"Vote 15 - [NAME OF VOTE 15]"},null,null,null,null,null,null,null,null,null,null,null,null,0,{"$f":"'A5-Capex'!J20","v":0},{"$f":"'A5-Capex'!K20","v":0},{"$f":"'A5-Capex'!L20","v":0}]
["Capital multi-year expenditure sub-total",2,{"$f":"SUM(C5:C19)","v":5955841},{"$f":"SUM(D5:D19)","v":9420691},8802855,12251408,6300530,16566514,13998411,12513857,12190966,13361234,{"$f":"SUM(M5:M19)","v":8204783},9690360,129257450,160103800,176675150]
[]
["Single-year expenditure to be appropriated"]
[{"$f":"'A5-Capex'!A24","v":"Vote 1 - Executive & Council"},null,0,0,0,0,0,0,0,0,0,0,0,{"$f":"O23-SUM(C23:M23)","v":0},{"$f":"'A5-Capex'!J24","v":0},{"$f":"'A5-Capex'!K24","v":0},{"$f":"'A5-Capex'!L24","v":0}]
[{"$f":"'A5-Capex'!A25","v":"Vote 2 - Planning and Economic Development"},null,0,0,0,0,0,0,0,0,0,0,0,{"$f":"O24-SUM(C24:M24)","v":0},{"$f":"'A5-Capex'!J25","v":0},{"$f":"'A5-Capex'!K25","v":0},{"$f":"'A5-Capex'!L25","v":2}]
[{"$f":"'A5-Capex'!A26","v":"Vote 3 - Budget and Treasury"},null,-541685,-541665,-541665,-541665,-541665,-541665,-541665,-541665,-541665,-541665,-541665,5958335,{"$f":"'A5-Capex'!J26","v":0},{"$f":"'A5-Capex'!K26","v":0},{"$f":"'A5-Capex'!L26","v":1}]
[{"$f":"'A5-Capex'!A27","v":"Vote 4 - Corporate Services"},null,0,0,0,0,0,0,0,0,0,0,0,0,{"$f":"'A5-Capex'!J27","v":0},{"$f":"'A5-Capex'!K27","v":0},{"$f":"'A5-Capex'!L27","v":2}]
[{"$f":"'A5-Capex'!A28","v":"Vote 5 - Engineering Services"},null,0,0,0,0,0,0,0,0,0,0,0,0,{"$f":"'A5-Capex'!J28","v":0},{"$f":"'A5-Capex'!K28","v":0},{"$f":"'A5-Capex'!L28","v":56}]
[{"$f":"'A5-Capex'!A29","v":"Vote 6 - Community Services"},null,0,0,0,0,0,0,0,0,0,0,0,0,{"$f":"'A5-Capex'!J29","v":0},{"$f":"'A5-Capex'!K29","v":0},{"$f":"'A5-Capex'!L29","v":8}]
[{"$f":"'A5-Capex'!A30","v":"Vote 7 - Electrical Engineering"},null,0,400000,450000,100000,0,400000,250000,0,0,0,0,0,{"$f":"'A5-Capex'!J30","v":1600000},{"$f":"'A5-Capex'!K30","v":0},{"$f":"'A5-Capex'!L30","v":62}]
[{"$f":"'A5-Capex'!A31","v":"Vote 8 - Office of the Speaker"},null,0,0,0,0,0,0,0,0,0,0,0,{"$f":"O30-SUM(C30:M30)","v":0},{"$f":"'A5-Capex'!J31","v":0},{"$f":"'A5-Capex'!K31","v":0},{"$f":"'A5-Capex'!L31","v":0}]
[{"$f":"'A5-Capex'!A32","v":"Vote 9 - COMMUNITY & SOCIAL SERVICES"},null,0,0,0,0,0,0,0,0,0,0,0,{"$f":"O31-SUM(C31:M31)","v":0},{"$f":"'A5-Capex'!J32","v":0},{"$f":"'A5-Capex'!K32","v":0},{"$f":"'A5-Capex'!L32","v":0}]
[{"$f":"'A5-Capex'!A33","v":"Vote 10 - Office of the Municipal Manager"},null,0,0,0,0,0,0,0,0,0,0,0,{"$f":"O32-SUM(C32:M32)","v":0},{"$f":"'A5-Capex'!J33","v":0},{"$f":"'A5-Capex'!K33","v":0},{"$f":"'A5-Capex'!L33","v":1}]
[{"$f":"'A5-Capex'!A34","v":"Vote 11 - [NAME OF VOTE 11]"},null,null,null,null,null,null,null,null,null,null,null,null,0,{"$f":"'A5-Capex'!J34","v":0},{"$f":"'A5-Capex'!K34","v":0},{"$f":"'A5-Capex'!L34","v":0}]
[{"$f":"'A5-Capex'!A35","v":"Vote 12 - [NAME OF VOTE 12]"},null,null,null,null,null,null,null,null,null,null,null,null,0,{"$f":"'A5-Capex'!J35","v":0},{"$f":"'A5-Capex'!K35","v":0},{"$f":"'A5-Capex'!L35","v":0}]
[{"$f":"'A5-Capex'!A36","v":"Vote 13 - [NAME OF VOTE 13]"},null,null,null,null,null,null,null,null,null,null,null,null,0,{"$f":"'A5-Capex'!J36","v":0},{"$f":"'A5-Capex'!K36","v":0},{"$f":"'A5-Capex'!L36","v":0}]
[{"$f":"'A5-Capex'!A37","v":"Vote 14 - [NAME OF VOTE 14]"},null,null,null,null,null,null,null,null,null,null,null,null,0,{"$f":"'A5-Capex'!J37","v":0},{"$f":"'A5-Capex'!K37","v":0},{"$f":"'A5-Capex'!L37","v":0}]
[{"$f":"'A5-Capex'!A38","v":"Vote 15 - [NAME OF VOTE 15]"},null,null,null,null,null,null,null,null,null,null,null,null,0,{"$f":"'A5-Capex'!J38","v":0},{"$f":"'A5-Capex'!K38","v":0},{"$f":"'A5-Capex'!L38","v":0}]
["Capital single-year expenditure sub-total",2,{"$f":"SUM(C23:C37)","v":-541685},-141665,-91665,-441665,-541665,-141665,-291665,-541665,-541665,-541665,-541665,5958335,1600000,0,132]
["Total Capital Expenditure",2,{"$f":"C20+C38","v":5414156},{"$f":"D20+D38","v":9279026},8711190,11809743,5758865,16424849,13706746,11972192,11649301,12819569,7663118,15648695,{"$f":"O20+O38","v":130857450},{"$f":"P20+P38","v":160103800},{"$f":"Q20+Q38","v":176675282}]
[]
[]
[{"$f":"head27a","v":"References"}]
["1. Table should be completed as either Multi-Year expenditure appropriation or Budget Year and Forward Year estimates"]
["2. Total Capital Expenditure must reconcile to Budgeted Capital Expenditure"]
["check",null,null,null,null,null,null,null,null,null,null,null,null,null,{"$f":"O20-'A5-Capex'!J21","v":0},{"$f":"P20-'A5-Capex'!K21","v":0},{"$f":"Q20-'A5-Capex'!L21","v":0}]
[]
[null,null,null,null,"Add single year stuff"]

{"sheet":"SA29","index":50,"n_rows":40,"n_cols":17,"rows_kept":40,"cut":false,"hidden":false,"merged":[[1,2,1,13],[1,14,1,16]]}
[{"$f":"muni&\" - \"& TableA29","v":"Choose name from list - Supporting Table SA29 Budgeted monthly capital expenditure (functional classification)"}]
[{"$f":"desc","v":"Description"},{"$f":"head27","v":"Ref"},{"$f":"Head9","v":"Budget Year 2021/22"},null,null,null,null,null,null,null,null,null,null,null,"Medium Term Revenue and Expenditure Framework"]
["R thousand",null,"July","August","Sept.","October","Nov.","Dec.","January","Feb.","March","April","May","June",{"$f":"Head9","v":"Budget Year 2021/22"},{"$f":"Head10","v":"Budget Year +1 2022/23"},{"$f":"Head11","v":"Budget Year +2 2023/24"}]
[{"$f":"'A5-Capex'!A42","v":"Capital Expenditure - Functional"},1]
[{"$f":"'A5-Capex'!A43","v":"Governance and administration"},null,{"$f":"SUM(C6:C8)","v":234195},{"$f":"SUM(D6:D8)","v":2537232},{"$f":"SUM(E6:E8)","v":351955},192572,39907,98692,131556,60475,625445,2576898,193494,{"$f":"O5-SUM(C5:M5)","v":1557579},{"$f":"'A5-Capex'!J43","v":8600000},{"$f":"'A5-Capex'!K43","v":5600000},{"$f":"'A5-Capex'!L43","v":4300004}]
[{"$f":"'A5-Capex'!A44","v":"Executive and council"},null,0,0,0,0,0,0,0,0,0,0,0,{"$f":"O6-SUM(C6:M6)","v":0},{"$f":"'A5-Capex'!J44","v":0},{"$f":"'A5-Capex'!K44","v":0},{"$f":"'A5-Capex'!L44","v":1}]
[{"$f":"'A5-Capex'!A45","v":"Finance and administration"},null,234195,2537232,351955,192572,39907,98692,131556,60475,625445,2576898,193494,1557579,{"$f":"'A5-Capex'!J45","v":8600000},{"$f":"'A5-Capex'!K45","v":5600000},{"$f":"'A5-Capex'!L45","v":4300003}]
[{"$f":"'A5-Capex'!A46","v":"Internal audit"},null,0,0,0,0,0,0,0,0,0,0,0,0,{"$f":"'A5-Capex'!J46","v":0},{"$f":"'A5-Capex'!K46","v":0},{"$f":"'A5-Capex'!L46","v":0}]
[{"$f":"'A5-Capex'!A47","v":"Community and public safety"},null,{"$f":"SUM(C10:C14)","v":161281},{"$f":"SUM(D10:D14)","v":212221},336145,549891,227472,562548,92089,557333,873088,558317,276416,418199,{"$f":"'A5-Capex'!J47","v":4825000},{"$f":"'A5-Capex'!K47","v":0},{"$f":"'A5-Capex'!L47","v":24850011}]
[{"$f":"'A5-Capex'!A48","v":"Community and social services"},null,19806,26062,76369,67530,27935,69086,92089,557333,50711,173828,33946,130305,{"$f":"'A5-Capex'!J48","v":1325000},{"$f":"'A5-Capex'!K48","v":0},{"$f":"'A5-Capex'!L48","v":1}]
[{"$f":"'A5-Capex'!A49","v":"Sport and recreation"},null,0,0,0,0,0,0,0,0,0,0,0,0,{"$f":"'A5-Capex'!J49","v":0},{"$f":"'A5-Capex'!K49","v":0},{"$f":"'A5-Capex'!L49","v":5}]
[{"$f":"'A5-Capex'!A50","v":"Public safety"},null,0,0,0,0,0,0,0,0,0,0,0,0,{"$f":"'A5-Capex'!J50","v":0},{"$f":"'A5-Capex'!K50","v":0},{"$f":"'A5-Capex'!L50","v":0}]
[{"$f":"'A5-Capex'!A51","v":"Housing"},null,141475,186159,259776,482361,199537,493462,0,0,822377,384489,242470,287894,{"$f":"'A5-Capex'!J51","v":3500000},{"$f":"'A5-Capex'!K51","v":0},{"$f":"'A5-Capex'!L51","v":24850004}]
[{"$f":"'A5-Capex'!A52","v":"Health"},null,0,0,0,0,0,0,0,0,0,0,0,0,{"$f":"'A5-Capex'!J52","v":0},{"$f":"'A5-Capex'!K52","v":0},{"$f":"'A5-Capex'!L52","v":1}]
[{"$f":"'A5-Capex'!A53","v":"Economic and environmental services"},null,{"$f":"SUM(C16:C18)","v":4406679},{"$f":"SUM(D16:D18)","v":5005840},7065314,10303041,5534309,14671617,12130321,10140116,9286870,9014797,7128699,6594847,{"$f":"'A5-Capex'!J53","v":101282450},{"$f":"'A5-Capex'!K53","v":144503800},{"$f":"'A5-Capex'!L53","v":135525205}]
[{"$f":"'A5-Capex'!A54","v":"Planning and development"},null,108175,142342,198631,368826,152571,377312,502954,231202,276967,293990,185399,220131,{"$f":"'A5-Capex'!J54","v":3058500},{"$f":"'A5-Capex'!K54","v":4000000},{"$f":"'A5-Capex'!L54","v":4235002}]
[{"$f":"'A5-Capex'!A55","v":"Road transport"},null,4298504,4863498,6866683,9934215,5381738,14294305,11627367,9908914,9009903,8720807,6943300,6374716,{"$f":"'A5-Capex'!J55","v":98223950},{"$f":"'A5-Capex'!K55","v":140503800},{"$f":"'A5-Capex'!L55","v":131290203}]
[{"$f":"'A5-Capex'!A56","v":"Environmental protection"},null,0,0,0,0,0,0,0,0,0,0,0,0,{"$f":"'A5-Capex'!J56","v":0},{"$f":"'A5-Capex'!K56","v":0},{"$f":"'A5-Capex'!L56","v":0}]
[{"$f":"'A5-Capex'!A57","v":"Trading services"},null,{"$f":"SUM(C20:C23)","v":1153686},{"$f":"SUM(D20:D23)","v":2065398},1499441,1305904,498842,1633657,1894445,1755933,1405563,1211222,606174,{"$f":"O19-SUM(C19:M19)","v":1119735},{"$f":"'A5-Capex'!J57","v":16150000},{"$f":"'A5-Capex'!K57","v":10000000},{"$f":"'A5-Capex'!L57","v":12000062}]
[{"$f":"'A5-Capex'!A58","v":"Energy sources"},null,1153686,2065398,1499441,1305904,498842,1633657,1894445,1755933,1405563,1211222,606174,1119735,{"$f":"'A5-Capex'!J58","v":16150000},{"$f":"'A5-Capex'!K58","v":10000000},{"$f":"'A5-Capex'!L58","v":12000061}]
[{"$f":"'A5-Capex'!A59","v":"Water management"},null,0,0,0,0,0,0,0,0,0,0,0,0,{"$f":"'A5-Capex'!J59","v":0},{"$f":"'A5-Capex'!K59","v":0},{"$f":"'A5-Capex'!L59","v":0}]
[{"$f":"'A5-Capex'!A60","v":"Waste water management"},null,0,0,0,0,0,0,0,0,0,0,0,0,{"$f":"'A5-Capex'!J60","v":0},{"$f":"'A5-Capex'!K60","v":0},{"$f":"'A5-Capex'!L60","v":0}]
[{"$f":"'A5-Capex'!A61","v":"Waste management"},null,0,0,0,0,0,0,0,0,0,0,0,0,{"$f":"'A5-Capex'!J61","v":0},{"$f":"'A5-Capex'!K61","v":0},{"$f":"'A5-Capex'!L61","v":1}]
[{"$f":"'A5-Capex'!A62","v":"Other"},null,0,0,0,0,0,0,0,0,0,0,0,{"$f":"O24-SUM(C24:M24)","v":0},{"$f":"'A5-Capex'!J62","v":0},{"$f":"'A5-Capex'!K62","v":0},{"$f":"'A5-Capex'!L62","v":0}]
[{"$f":"'A5-Capex'!A63","v":"Total Capital Expenditure - Functional"},2,{"$f":"C5+C9+C15+C19+C24","v":5955841},{"$f":"D5+D9+D15+D19+D24","v":9820691},9252855,12351408,6300530,16966514,14248411,12513857,12190966,13361234,8204783,{"$f":"N5+N9+N15+N19+N24","v":9690360},130857450,160103800,176675282]
[]
["Funded by:"]
["National Government",null,4798563,5861094,6711407,9021024,4957083,13786742,10464744,10374469,8189076,8244684,6199791,{"$f":"O28-SUM(C28:M28)","v":6145273},{"$f":"'A5-Capex'!J66","v":94753950},{"$f":"'A5-Capex'!K66","v":102603800},{"$f":"'A5-Capex'!L66","v":107290187}]
["Provincial Government",null,0,0,0,0,0,0,0,0,0,0,0,{"$f":"O29-SUM(C29:M29)","v":0},{"$f":"'A5-Capex'!J67","v":0},{"$f":"'A5-Capex'!K67","v":0},{"$f":"'A5-Capex'!L67","v":0}]
["District Municipality",null,0,0,0,0,0,0,0,0,0,0,0,0,{"$f":"'A5-Capex'!J68","v":0},{"$f":"'A5-Capex'!K68","v":0},{"$f":"'A5-Capex'!L68","v":0}]
[{"$f":"'A5-Capex'!A69","v":"Transfers and subsidies - capital (monetary allocations) (National / Provincial Departmental Agencies, Households, Non-profit Institutions, Private Enterprises, Public Corporatons, Higher Educational Institutions)"},null,0,0,0,0,0,0,0,0,0,0,0,{"$f":"O31-SUM(C31:M31)","v":0},{"$f":"'A5-Capex'!J69","v":0},{"$f":"'A5-Capex'!K69","v":0},{"$f":"'A5-Capex'!L69","v":4}]
["Transfers recognised - capital",null,{"$f":"SUM(C28:C31)","v":4798563},5861094,6711407,9021024,4957083,13786742,10464744,10374469,8189076,8244684,6199791,{"$f":"SUM(N28:N31)","v":6145273},94753950,102603800,107290191]
[]
["Borrowing",null,0,0,0,0,0,0,0,0,0,0,0,0,{"$f":"'A5-Capex'!J72","v":0},{"$f":"'A5-Capex'!K72","v":0},{"$f":"'A5-Capex'!L72","v":56}]
["Internally generated funds",null,1157278,3959597,2541448,3330384,1343447,3179772,3783667,2139388,4001890,5116550,2004992,3545087,{"$f":"'A5-Capex'!J73","v":36103500},{"$f":"'A5-Capex'!K73","v":57500000},{"$f":"'A5-Capex'!L73","v":69385035}]
["Total Capital Funding",null,{"$f":"+C32+C34+C35","v":5955841},{"$f":"+D32+D34+D35","v":9820691},9252855,12351408,6300530,16966514,14248411,12513857,12190966,13361234,8204783,9690360,130857450,160103800,176675282]
[{"$f":"head27a","v":"References"}]
["1. Table should be completed as either Multi-Year expenditure appropriation or Budget Year and Forward Year estimates"]
[{"$f":"'SA28'!A44","v":"2. Total Capital Expenditure must reconcile to Budgeted Capital Expenditure"}]
["check"]

{"sheet":"SA30","index":51,"n_rows":63,"n_cols":19,"rows_kept":63,"cut":false,"hidden":false,"merged":[[1,13,1,15],[1,1,1,12],[56,0,56,15]]}
[{"$f":"muni&\" - \"& TableA30","v":"Choose name from list - Supporting Table SA30 Budgeted monthly cash flow"}]
["MONTHLY CASH FLOWS",{"$f":"Head9","v":"Budget Year 2021/22"},null,null,null,null,null,null,null,null,null,null,null,"Medium Term Revenue and Expenditure Framework"]
["R thousand","July","August","Sept.","October","November","December","January","February","March","April","May","June",{"$f":"Head9","v":"Budget Year 2021/22"},{"$f":"Head10","v":"Budget Year +1 2022/23"},{"$f":"Head11","v":"Budget Year +2 2023/24"}]
["Cash Receipts By Source",null,null,null,null,null,null,null,null,null,null,null,null,1]
[{"$f":"'A4-FinPerf RE'!A5","v":"Property rates"},8636516,9869250,9099001,10118888,10044530,9908389,9736629,10862910,11918331,11645701,10343918,{"$f":"N5-SUM(B5:L5)","v":11565937},123750000,128947500,134621190,100001,100001,100001]
[{"$f":"'A4-FinPerf RE'!A6","v":"Service charges - electricity revenue"},50483236,50483226,50483226,50483226,50483226,50483226,50483226,50483226,50483226,50483226,50483226,50483226,605798722,668046370,1025924246]
[{"$f":"'A4-FinPerf RE'!A7","v":"Service charges - water revenue"},0,0,0,0,0,0,0,0,0,0,0,0,0,0,0]
[{"$f":"'A4-FinPerf RE'!A8","v":"Service charges - sanitation revenue"},0,0,0,0,0,0,0,0,0,0,0,0,0,0,0]
[{"$f":"'A4-FinPerf RE'!A9","v":"Service charges - refuse revenue"},2275332,2824492,2915698,2819591,3164054,2676727,2571463,2525180,2552205,2958570,2605167,2968145,32856624,34236603,35743014]
[null,362440,119299,309495,264155,514405,124270,469918,280654,118170,123003,169665,null,6472575,6744423,7041178]
[{"$f":"'A4-FinPerf RE'!A11","v":"Rental of facilities and equipment"},108457,109650,104224,105529,109787,105508,107189,101656,106807,101657,106333,3303,1170100,1219244,1272891]
[{"$f":"'A4-FinPerf RE'!A12","v":"Interest earned - external investments"},0,0,0,0,824756,101371,225454,145687,131285,1318266,50908,702273,3500000,3647000,3807468]
[{"$f":"'A4-FinPerf RE'!A13","v":"Interest earned - outstanding debtors"},2231362,2320131,2224642,2492461,2439866,2437554,2501463,2384393,2520327,2613723,2093426,2180652,28440000,29634480,30938397]
[{"$f":"'A4-FinPerf RE'!A14","v":"Dividends received"},0,0,0,0,0,0,0,0,0,0,0,0,0,0,0]
[{"$f":"'A4-FinPerf RE'!A15","v":"Fines, penalties and forfeits"},258933,297516,410919,316417,269698,654560,271381,204106,404257,455360,253084,254791,4051022,4051022,4051022]
[{"$f":"'A4-FinPerf RE'!A16","v":"Licences and permits"},59760,58261,43220,100154,46926,21484,41926,49705,51220,62668,69888,88688,693900,693900,693900]
[{"$f":"'A4-FinPerf RE'!A17","v":"Agency services"},1804317,1617900,2296466,1901614,1745452,1601616,1975272,2053150,1422499,2197929,2197929,1850147,22664291,23616191,24655304]
["Transfers and Subsidies - Operational",178706972,3812465,637871,1431434,142020676,528347,358019,1357851,135234415,0,0,0,464088050,479030200,473161853]
[{"$f":"'A4-FinPerf RE'!A19","v":"Other revenue"},0,0,0,0,0,0,0,0,0,0,0,0,0,0,0]
["Cash Receipts by Source",{"$f":"SUM(B5:B9)+SUM(B11:B19)","v":244564885},{"$f":"SUM(C5:C9)+SUM(C11:C19)","v":71392891},68215267,69769314,211148971,68518782,68272022,70167864,204824572,71837100,68203879,70097162,1287012709,1373122510,1734869285]
[]
["Other Cash Flows by Source"]
[{"$f":"'A4-FinPerf RE'!A38","v":"Transfers and subsidies - capital (monetary allocations) (National / Provincial and District)"},7896163,7896163,7896163,7896163,7896163,7896163,7896157,7896163,7896163,7896163,7896163,{"$f":"N23-SUM(B23:L23)","v":7896163},94753950,102603800,107290150]
[{"$f":"'A4-FinPerf RE'!A39","v":"Transfers and subsidies - capital (monetary allocations) (National / Provincial Departmental Agencies, Households, Non-profit Institutions, Private Enterprises, Public Corporatons, Higher Educational Institutions)"},0,0,0,0,0,0,0,0,0,0,0,0,0,0,0]
["Proceeds on Disposal of Fixed and Intangible Assets",0,0,0,0,0,0,0,0,0,0,0,0,0,0,1]
[{"$f":"'A7-CFlow'!A31","v":"Short term loans"},0,0,0,0,0,0,0,0,0,0,0,0,0,0,0]
[{"$f":"'A7-CFlow'!A32","v":"Borrowing long term/refinancing"},0,0,0,0,0,0,0,0,0,0,0,0,0,0,1]
[{"$f":"'A7-CFlow'!A33","v":"Increase (decrease) in consumer deposits"},85757,68254,129096,101433,46157,61321,127593,61543,58640,65351,58964,235891,1100000,1100000,1100000]
[]
[{"$f":"'A7-CFlow'!A23","v":"Decrease (increase) in non-current receivables"},0,0,0,0,0,0,0,0,0,0,0,0,0,0,0]
[{"$f":"'A7-CFlow'!A24","v":"Decrease (increase) in non-current investments"},0,0,0,0,0,0,0,0,0,0,0,0,0,0,0]
["Total Cash Receipts by Source",{"$f":"SUM(B20:B28)+SUM(B30:B31)","v":252546805},{"$f":"SUM(C20:C28)+SUM(C30:C31)","v":79357308},76240526,77766910,219091291,76476266,76295772,78125570,212779375,79798614,76159006,{"$f":"SUM(M20:M28)+SUM(M30:M31)","v":78229216},{"$f":"SUM(N20:N28)+SUM(N30:N31)","v":1382866659},1476826310,1843259437]
[]
["Cash Payments by Type"]
["Employee related costs",32026925,32026903,32026903,32026903,32026903,32026903,32026903,32026903,32026903,32026903,32026903,{"$f":"N35-SUM(B35:L35)","v":32026903},384322858,400464418,418084852]
["Remuneration of councillors",0,0,0,0,0,0,0,0,0,0,0,0,0,0,0]
["Finance charges",277762,276910,0,1801205,3629266,2040085,785788,244839,786328,2711091,494607,3278681,16326562,17012277,17760818]
["Bulk purchases - electricity ",58383859,56472203,52074006,33622822,36592844,35413186,29414815,32346894,32070526,31127375,27035471,32317249,456871250,480289000,823698000]
["Acquisitions - water & other inventory",2589492,6335776,7104732,7450564,5181639,1195912,7204388,2665878,12321646,3425194,3803631,11646466,70925318,73904181,77155965]
[null,0,0,0,0,0,0,0,0,0,0,0,null,0,0,0]
["Contracted services",9660878,3826073,7068669,5695636,5426345,12389877,5542874,2632617,8323715,2273386,7713996,4661143,75215209,78374248,81822715]
["Transfers and grants - other municipalities",0,0,0,0,0,0,0,0,0,0,0,0,0,0,0]
["Transfers and grants - other",1341522,1341498,1341498,1341498,1341498,1341498,1341498,1341498,1341498,1341498,1341498,1341498,16098000,7871670,8130029]
["Other expenditure",34922886,10716429,17134998,20695165,15783258,20654545,13756382,14696620,11354015,35163056,14006466,13818045,222701865,267894877,252986193]
["Cash Payments by Type",{"$f":"SUM(B35:B44)","v":139203324},110995792,116750806,102633793,99981753,105062006,90072648,85955249,98224631,108068503,86422572,99089985,{"$f":"SUM(N35:N44)","v":1242461062},1325810671,{"$f":"SUM(P35:P44)","v":1679638572}]
[]
["Other Cash Flows/Payments by Type"]
[{"$f":"'A7-CFlow'!A26","v":"Capital assets"},10867359,10867281,10867281,10867281,10867281,10867281,10867281,10867281,10867281,10867281,10867281,{"$f":"N48-SUM(B48:L48)","v":10867281},130407450,138803802,149075195]
[{"$f":"'A7-CFlow'!A35","v":"Repayment of borrowing"},206612,206089,47559,678628,210922,3145602,190840,173296,13262,671673,1330577,{"$f":"N49-SUM(B49:L49)","v":3123087},9998147,10783837,14414840]
[{"$f":"LEFT(A47,25)","v":"Other Cash Flows/Payments"},0,0,0,0,0,0,0,0,0,0,0,{"$f":"N50-SUM(B50:L50)","v":0},0,0,0]
["Total Cash Payments by Type",{"$f":"SUM(B45:B50)","v":150277295},{"$f":"SUM(C45:C50)","v":122069162},127665646,114179702,111059956,119074889,101130769,96995826,109105174,119607457,98620430,113080353,1382866659,1475398310,1843128607,null,"Check"]
[]
["NET INCREASE/(DECREASE) IN CASH HELD",{"$f":"B32-B51","v":102269510},-42711854,-51425120,-36412792,108031335,-42598623,-24834997,-18870256,103674201,-39808843,-22461424,-34851137,0,1428000,130830]
["Cash/cash equivalents at the month/year begin:",34000000,{"$f":"B55","v":136269510},{"$f":"C55","v":93557656},42132536,5719744,113751079,71152456,46317459,27447203,131121404,91312561,68851137,{"$f":"B54","v":34000000},{"$f":"N55","v":34000000},{"$f":"O55","v":35428000}]
["Cash/cash equivalents at the month/year end:",{"$f":"B54+B53","v":136269510},{"$f":"C54+C53","v":93557656},{"$f":"D54+D53","v":42132536},5719744,113751079,71152456,46317459,27447203,131121404,91312561,68851137,34000000,34000000,35428000,35558830]
[{"$f":"head27a","v":"References"}]
["1. Note that this section of Table SA 30 is deliberately not linked to Table A4 because timing differences between the invoicing of clients and receiving the cash means that the cashflow will differ from budgeted revenue, and similarly for budgeted expenditure. However for the MTREF it is now directly linked to A7."]
["2. Bulk purchases - Electricity & Waste Water - use detail information from Table SA1"]
["3. Acquisition Inventory - Water & other inventory - use detail information from Table SA3"]
[]
[]
[null,null,null,null,{"$f":"E45+E61","v":102633793},99981753,105062006,90072648,85955249,98224631,108068503,86422572]
[null,null,null,null,{"$f":"E53-E61","v":-36412792},108031335,-42598623,-24834997,-18870256,103674201,-39808843,-22461424]

{"sheet":"SA31","index":52,"n_rows":41,"n_cols":11,"rows_kept":41,"cut":false,"hidden":false,"merged":[[1,5,1,7],[1,8,1,10],[1,1,2,1]]}
[{"$f":"muni&\" - \"& TableA31","v":"Choose name from list - NOT REQUIRED - municipality does not have entities"}]
[{"$f":"desc","v":"Description"},{"$f":"head27","v":"Ref"},{"$f":"head1b","v":"2017/18"},{"$f":"head1A","v":"2018/19"},{"$f":"Head1","v":"2019/20"},{"$f":"Head2","v":"Current Year 2020/21"},null,null,{"$f":"Head3","v":"2021/22 Medium Term Revenue & Expenditure Framework"}]
["R million",null,{"$f":"Head5","v":"Audited Outcome"},{"$f":"Head5","v":"Audited Outcome"},{"$f":"Head5","v":"Audited Outcome"},{"$f":"Head6","v":"Original Budget"},{"$f":"Head7","v":"Adjusted Budget"},{"$f":"Head8","v":"Full Year Forecast"},{"$f":"Head9","v":"Budget Year 2021/22"},{"$f":"Head10","v":"Budget Year +1 2022/23"},{"$f":"Head11","v":"Budget Year +2 2023/24"}]
["Financial Performance"]
[{"$f":"'A1-Sum'!A5","v":"Property rates"}]
[{"$f":"'A1-Sum'!A6","v":"Service charges"}]
[{"$f":"'A1-Sum'!A7","v":"Investment revenue"}]
[{"$f":"'A1-Sum'!A8","v":"Transfers recognised - operational"}]
[{"$f":"'A1-Sum'!A9","v":"Other own revenue"}]
[{"$f":"'A1-Sum'!A21","v":"Transfers and subsidies - capital (monetary allocations) (National / Provincial Departmental Agencies, Households, Non-profit Institutions, Private Enterprises, Public Corporatons, Higher Educational Institutions) & Transfers and subsidies - capital (in-kind - all) "}]
[{"$f":"'A4-FinPerf RE'!A21","v":"Total Revenue (excluding capital transfers and contributions)"},null,{"$f":"SUM(C5:C10)","v":0},{"$f":"SUM(D5:D10)","v":0},{"$f":"SUM(E5:E10)","v":0},0,0,0,0,0,0]
[{"$f":"'A1-Sum'!A11","v":"Employee costs"}]
["Remuneration of Board Members"]
[{"$f":"'A1-Sum'!A13","v":"Depreciation & asset impairment"}]
[{"$f":"'A1-Sum'!A14","v":"Finance charges"}]
[{"$f":"'A1-Sum'!A15","v":"Inventory consumed and bulk purchases"}]
[{"$f":"'A1-Sum'!A16","v":"Transfers and grants"}]
[{"$f":"'A1-Sum'!A17","v":"Other expenditure"}]
[{"$f":"'A4-FinPerf RE'!A35","v":"Total Expenditure"},null,{"$f":"SUM(C12:C18)","v":0},{"$f":"SUM(D12:D18)","v":0},0,0,0,0,0,0,0]
[{"$f":"'A4-FinPerf RE'!A37","v":"Surplus/(Deficit)"},null,{"$f":"C11-C19","v":0},{"$f":"D11-D19","v":0},0,0,0,0,0,0,0]
[]
["Capital expenditure & funds sources"]
["Capital expenditure"]
[{"$f":"A8","v":"Transfers recognised - operational"}]
[]
[{"$f":"'A5-Capex'!A72","v":"Borrowing"}]
[{"$f":"'A5-Capex'!A73","v":"Internally generated funds"}]
["Total sources",null,{"$f":"+C24+C26+C27","v":0},{"$f":"+D24+D26+D27","v":0},0,0,0,0,0,0,0]
[]
["Financial position"]
[{"$f":"'A6-FinPos'!A12","v":"Total current assets"}]
[{"$f":"'A6-FinPos'!A24","v":"Total non current assets"}]
[{"$f":"'A6-FinPos'!A34","v":"Total current liabilities"}]
[{"$f":"'A6-FinPos'!A39","v":"Total non current liabilities"}]
["Equity"]
[]
["Cash flows"]
[{"$f":"'A1-Sum'!A42","v":"Net cash from (used) operating"}]
[{"$f":"'A1-Sum'!A43","v":"Net cash from (used) investing"}]
[{"$f":"'A1-Sum'!A44","v":"Net cash from (used) financing"}]
[{"$f":"'A1-Sum'!A45","v":"Cash/cash equivalents at the year end"}]

{"sheet":"SA32","index":53,"n_rows":27,"n_cols":6,"rows_kept":27,"cut":false,"hidden":false,"merged":[[1,3,2,3],[1,4,2,4],[1,1,2,1]]}
[{"$f":"muni&\" - \"&TableA32","v":"Choose name from list - Supporting Table SA32 List of external mechanisms"}]
["External mechanism","Yrs/ Mths","Period of agreement 1.","Service provided","Expiry date of service delivery agreement or contract","Monetary value of agreement 2."]
["Name of organisation",null,"Number",null,null,"R thousand"]
[]
[]
[]
[]
[]
[]
[]
[]
[]
[]
[]
[]
[]
[]
[]
[]
[]
[]
[]
[]
[]
[{"$f":"head27a","v":"References"}]
["1. Total agreement period from commencement until end"]
["2. Annual value"]

{"sheet":"SA33","index":54,"n_rows":48,"n_cols":15,"rows_kept":48,"cut":false,"hidden":false,"merged":[[1,4,1,6],[47,0,47,13]]}
[{"$f":"muni&\" - \"& TableA33","v":"Choose name from list - Supporting Table SA33 Contracts having future budgetary implications"}]
[{"$f":"desc","v":"Description"},{"$f":"head27","v":"Ref"},"Preceding Years",{"$f":"Head2","v":"Current Year 2020/21"},{"$f":"Head3","v":"2021/22 Medium Term Revenue & Expenditure Framework"},null,null,{"$f":"Head12","v":"Forecast 2024/25"},{"$f":"Head13","v":"Forecast 2025/26"},{"$f":"Head14","v":"Forecast 2026/27"},{"$f":"Head15","v":"Forecast 2027/28"},{"$f":"Head16","v":"Forecast 2028/29"},{"$f":"Head17","v":"Forecast 2029/30"},{"$f":"Head18","v":"Forecast 2030/31"},"Total Contract Value"]
["R thousand","1,3","Total",{"$f":"Head6","v":"Original Budget"},{"$f":"Head9","v":"Budget Year 2021/22"},{"$f":"Head10","v":"Budget Year +1 2022/23"},{"$f":"Head11","v":"Budget Year +2 2023/24"},"Estimate","Estimate","Estimate","Estimate","Estimate","Estimate","Estimate","Estimate"]
["Parent Municipality:"]
["Revenue Obligation By Contract",2]
["Contract 1",null,null,null,null,null,null,null,null,null,null,null,null,null,{"$f":"SUM(C6:N6)","v":0}]
["Contract 2",null,null,null,null,null,null,null,null,null,null,null,null,null,{"$f":"SUM(C7:N7)","v":0}]
["Contract 3 etc",null,null,null,null,null,null,null,null,null,null,null,null,null,{"$f":"SUM(C8:N8)","v":0}]
["Total Operating Revenue Implication",null,{"$f":"SUM(C6:C8)","v":0},{"$f":"SUM(D6:D8)","v":0},0,0,0,0,0,0,0,0,0,0,{"$f":"SUM(C9:N9)","v":0}]
[]
["Expenditure Obligation By Contract",2]
["Contract 1",null,null,null,null,null,null,null,null,null,null,null,null,null,{"$f":"SUM(C12:N12)","v":0}]
["Contract 2",null,null,null,null,null,null,null,null,null,null,null,null,null,{"$f":"SUM(C13:N13)","v":0}]
["Contract 3 etc",null,null,null,null,null,null,null,null,null,null,null,null,null,{"$f":"SUM(C14:N14)","v":0}]
["Total Operating Expenditure Implication",null,{"$f":"SUM(C12:C14)","v":0},0,0,0,0,0,0,0,0,0,0,0,{"$f":"SUM(C15:N15)","v":0}]
[]
["Capital Expenditure Obligation By Contract",2]
["Contract 1",null,null,null,null,null,null,null,null,null,null,null,null,null,{"$f":"SUM(C18:N18)","v":0}]
["Contract 2",null,null,null,null,null,null,null,null,null,null,null,null,null,{"$f":"SUM(C19:N19)","v":0}]
["Contract 3 etc",null,null,null,null,null,null,null,null,null,null,null,null,null,{"$f":"SUM(C20:N20)","v":0}]
["Total Capital Expenditure Implication",null,{"$f":"SUM(C18:C20)","v":0},0,0,0,0,0,0,0,0,0,0,0,{"$f":"SUM(C21:N21)","v":0}]
[]
["Total Parent Expenditure Implication",null,{"$f":"C15+C21","v":0},{"$f":"D15+D21","v":0},0,0,0,0,0,0,0,0,0,0,0]
[]
["Entities:"]
["Revenue Obligation By Contract",2]
["Contract 1",null,null,null,null,null,null,null,null,null,null,null,null,null,{"$f":"SUM(C27:N27)","v":0}]
["Contract 2",null,null,null,null,null,null,null,null,null,null,null,null,null,{"$f":"SUM(C28:N28)","v":0}]
["Contract 3 etc",null,null,null,null,null,null,null,null,null,null,null,null,null,{"$f":"SUM(C29:N29)","v":0}]
["Total Operating Revenue Implication",null,{"$f":"SUM(C27:C29)","v":0},0,0,0,0,0,0,0,0,0,0,0,{"$f":"SUM(C30:N30)","v":0}]
[]
["Expenditure Obligation By Contract",2]
["Contract 1",null,null,null,null,null,null,null,null,null,null,null,null,null,{"$f":"SUM(C33:N33)","v":0}]
["Contract 2",null,null,null,null,null,null,null,null,null,null,null,null,null,{"$f":"SUM(C34:N34)","v":0}]
["Contract 3 etc",null,null,null,null,null,null,null,null,null,null,null,null,null,{"$f":"SUM(C35:N35)","v":0}]
["Total Operating Expenditure Implication",null,{"$f":"SUM(C33:C35)","v":0},0,0,0,0,0,0,0,0,0,0,0,{"$f":"SUM(C36:N36)","v":0}]
[]
["Capital Expenditure Obligation By Contract",2]
["Contract 1",null,null,null,null,null,null,null,null,null,null,null,null,null,{"$f":"SUM(C39:N39)","v":0}]
["Contract 2",null,null,null,null,null,null,null,null,null,null,null,null,null,{"$f":"SUM(C40:N40)","v":0}]
["Contract 3 etc",null,null,null,null,null,null,null,null,null,null,null,null,null,{"$f":"SUM(C41:N41)","v":0}]
["Total Capital Expenditure Implication",null,{"$f":"SUM(C39:C41)","v":0},0,0,0,0,0,0,0,0,0,0,0,{"$f":"SUM(C42:N42)","v":0}]
[]
["Total Entity Expenditure Implication",null,{"$f":"C36+C42","v":0},{"$f":"D36+D42","v":0},0,0,0,0,0,0,0,0,0,0,0]
[{"$f":"head27a","v":"References"}]
["1. Total implication for all preceding years to be summed and total stated in 'Preceding Years' column"]
["2. List all contracts with future financial obligations beyond the three years covered by the MTREF (MFMA s33)"]
["3. For municipalities with approved total revenue not exceeding R250 m - all contracts with an annual cost greater than R500 000. For municipalities with approved total revenue greater than R250 m - all contracts with an annual cost greater than R1million. For municipalities with approved total revenue greater than R500 m - all contracts with an annual cost greater than R5 million"]

{"sheet":"SA34a","index":55,"n_rows":173,"n_cols":11,"rows_kept":173,"cut":false,"hidden":false,"merged":[[1,5,1,7],[1,8,1,10]]}
[{"$f":"muni&\" - \"&TableA34a","v":"Choose name from list - Supporting Table SA34a Capital expenditure on new assets by asset class"}]
[{"$f":"desc","v":"Description"},{"$f":"head27","v":"Ref"},{"$f":"head1b","v":"2017/18"},{"$f":"head1A","v":"2018/19"},{"$f":"Head1","v":"2019/20"},{"$f":"Head2","v":"Current Year 2020/21"},null,null,{"$f":"Head3","v":"2021/22 Medium Term Revenue & Expenditure Framework"}]
["R thousand",1,{"$f":"Head5","v":"Audited Outcome"},{"$f":"Head5","v":"Audited Outcome"},{"$f":"Head5","v":"Audited Outcome"},{"$f":"Head6","v":"Original Budget"},{"$f":"Head7","v":"Adjusted Budget"},{"$f":"Head8","v":"Full Year Forecast"},{"$f":"Head9","v":"Budget Year 2021/22"},{"$f":"Head10","v":"Budget Year +1 2022/23"},{"$f":"Head11","v":"Budget Year +2 2023/24"}]
["Capital expenditure on new assets by Asset Class/Sub-class"]
[]
["Infrastructure",null,{"$f":"C7+C12+C16+C26+C37+C44+C52+C62+C68","v":19095712},{"$f":"D7+D12+D16+D26+D37+D44+D52+D62+D68","v":71828647},94220343.370000005,13500000,22007256,22007256,10500000,15000000,13000041]
["Roads Infrastructure",null,{"$f":"SUM(C8:C11)","v":6981726},53816542,42551348,1500000,1636000,1636000,500000,5000000,3000008]
["Roads",null,6981726,53816542,9651021,1500000,1636000,1636000,0,0,1000004]
["Road Structures",null,0,0,32851171,0,0,0,500000,5000000,2000003]
["Road Furniture",null,0,0,49156,0,0,0,0,0,1]
["Capital Spares",null,0,0,0,0,0,0,0,0,0]
["Storm water Infrastructure",null,{"$f":"SUM(C13:C15)","v":0},{"$f":"SUM(D13:D15)","v":0},561967,0,0,0,0,0,2]
["Drainage Collection",null,0,0,0,0,0,0,0,0,1]
["Storm water Conveyance",null,0,0,561967,0,0,0,0,0,1]
["Attenuation",null,0,0,0,0,0,0,0,0,0]
["Electrical Infrastructure",null,{"$f":"SUM(C17:C25)","v":12113986},16764784,42957028.359999999,12000000,14920140,14920140,10000000,10000000,10000016]
["Power Plants",null,12113986,16764784,1520000,2000000,3637567,3637567,0,0,4]
["HV Substations",null,0,0,0,0,0,0,0,0,0]
["HV Switching Station",null,0,0,0,0,0,0,0,0,0]
["HV Transmission Conductors",null,0,0,511349,1500000,2095439,2095439,0,0,1]
["MV Substations",null,0,0,4900000,0,387134,387134,0,0,5]
["MV Switching Stations",null,0,0,0,0,0,0,0,0,0]
["MV Networks",null,0,0,4778415,0,0,0,0,0,1]
["LV Networks",null,0,0,31247264.359999999,8000000,8000000,8000000,10000000,10000000,10000002]
["Capital Spares",null,0,0,0,500000,800000,800000,0,0,3]
["Water Supply Infrastructure",null,{"$f":"SUM(C27:C36)","v":0},{"$f":"SUM(D27:D36)","v":0},0,0,0,0,0,0,0]
["Dams and Weirs",null,0,0,0,0,0,0,0,0,0]
["Boreholes",null,0,0,0,0,0,0,0,0,0]
["Reservoirs",null,0,0,0,0,0,0,0,0,0]
["Pump Stations",null,0,0,0,0,0,0,0,0,0]
["Water Treatment Works",null,0,0,0,0,0,0,0,0,0]
["Bulk Mains",null,0,0,0,0,0,0,0,0,0]
["Distribution",null,0,0,0,0,0,0,0,0,0]
["Distribution Points",null,0,0,0,0,0,0,0,0,0]
["PRV Stations",null,0,0,0,0,0,0,0,0,0]
["Capital Spares",null,0,0,0,0,0,0,0,0,0]
["Sanitation Infrastructure",null,{"$f":"SUM(C38:C43)","v":0},{"$f":"SUM(D38:D43)","v":0},0,0,0,0,0,0,0]
["Pump Station",null,0,0,0,0,0,0,0,0,0]
["Reticulation",null,0,0,0,0,0,0,0,0,0]
["Waste Water Treatment Works",null,0,0,0,0,0,0,0,0,0]
["Outfall Sewers",null,0,0,0,0,0,0,0,0,0]
["Toilet Facilities",null,0,0,0,0,0,0,0,0,0]
["Capital Spares",null,0,0,0,0,0,0,0,0,0]
["Solid Waste Infrastructure",null,{"$f":"SUM(C45:C51)","v":0},{"$f":"SUM(D45:D51)","v":1247321},0,0,0,0,0,0,0]
["Landfill Sites",null,0,1247321,0,0,0,0,0,0,0]
["Waste Transfer Stations",null,0,0,0,0,0,0,0,0,0]
["Waste Processing Facilities",null,0,0,0,0,0,0,0,0,0]
["Waste Drop-off Points",null,0,0,0,0,0,0,0,0,0]
["Waste Separation Facilities",null,0,0,0,0,0,0,0,0,0]
["Electricity Generation Facilities",null,0,0,0,0,0,0,0,0,0]
["Capital Spares",null,0,0,0,0,0,0,0,0,0]
["Rail Infrastructure",null,{"$f":"SUM(C53:C61)","v":0},0,8150000.0099999998,0,5451116,5451116,0,0,15]
["Rail Lines",null,0,0,8150000.0099999998,0,5451116,5451116,0,0,15]
["Rail Structures",null,0,0,0,0,0,0,0,0,0]
["Rail Furniture",null,0,0,0,0,0,0,0,0,0]
["Drainage Collection",null,0,0,0,0,0,0,0,0,0]
["Storm water Conveyance",null,0,0,0,0,0,0,0,0,0]
["Attenuation",null,0,0,0,0,0,0,0,0,0]
["MV Substations",null,0,0,0,0,0,0,0,0,0]
["LV Networks",null,0,0,0,0,0,0,0,0,0]
["Capital Spares",null,0,0,0,0,0,0,0,0,0]
["Coastal Infrastructure",null,{"$f":"SUM(C63:C67)","v":0},{"$f":"SUM(D63:D67)","v":0},0,0,0,0,0,0,0]
["Sand Pumps",null,0,0,0,0,0,0,0,0,0]
["Piers",null,0,0,0,0,0,0,0,0,0]
["Revetments",null,0,0,0,0,0,0,0,0,0]
["Promenades",null,0,0,0,0,0,0,0,0,0]
["Capital Spares",null,0,0,0,0,0,0,0,0,0]
["Information and Communication Infrastructure",null,{"$f":"SUM(C69:C72)","v":0},{"$f":"SUM(D69:D72)","v":0},0,0,0,0,0,0,0]
["Data Centres",null,0,0,0,0,0,0,0,0,0]
["Core Layers",null,0,0,0,0,0,0,0,0,0]
["Distribution Layers",null,0,0,0,0,0,0,0,0,0]
["Capital Spares",null,0,0,0,0,0,0,0,0,0]
[]
["Community Assets",null,{"$f":"C75+C98","v":7522051},{"$f":"D75+D98","v":0},5269900,0,0,0,1000000,0,13450001]
["Community Facilities",null,{"$f":"SUM(C76:C97)","v":0},{"$f":"SUM(D76:D97)","v":0},5269900,0,0,0,1000000,0,4450001]
["Halls",null,0,0,0,0,0,0,0,0,0]
["Centres",null,0,0,0,0,0,0,0,0,0]
["Crèches",null,0,0,0,0,0,0,0,0,0]
["Clinics/Care Centres",null,0,0,0,0,0,0,0,0,0]
["Fire/Ambulance Stations",null,0,0,0,0,0,0,0,0,0]
["Testing Stations",null,0,0,0,0,0,0,0,0,0]
["Museums",null,0,0,0,0,0,0,0,0,0]
["Galleries",null,0,0,0,0,0,0,0,0,0]
["Theatres",null,0,0,0,0,0,0,0,0,0]
["Libraries",null,0,0,0,0,0,0,0,0,500000]
["Cemeteries/Crematoria",null,0,0,150000,0,0,0,0,0,1]
["Police",null,0,0,0,0,0,0,0,0,0]
["Parks",null,0,0,0,0,0,0,0,0,0]
["Public Open Space",null,0,0,0,0,0,0,0,0,0]
["Nature Reserves",null,0,0,0,0,0,0,0,0,0]
["Public Ablution Facilities",null,0,0,0,0,0,0,1000000,0,3950000]
["Markets",null,0,0,0,0,0,0,0,0,0]
["Stalls",null,0,0,0,0,0,0,0,0,0]
["Abattoirs",null,0,0,0,0,0,0,0,0,0]
["Airports",null,0,0,0,0,0,0,0,0,0]
["Taxi Ranks/Bus Terminals",null,0,0,5119900,0,0,0,0,0,0]
["Capital Spares",null,0,0,0,0,0,0,0,0,0]
["Sport and Recreation Facilities",null,{"$f":"SUM(C99:C101)","v":7522051},{"$f":"SUM(D99:D101)","v":0},0,0,0,0,0,0,9000000]
["Indoor Facilities",null,0,0,0,0,0,0,0,0,0]
["Outdoor Facilities",null,7522051,0,0,0,0,0,0,0,9000000]
["Capital Spares",null,0,0,0,0,0,0,0,0,0]
[]
["Heritage assets",null,{"$f":"SUM(C104:C108)","v":0},{"$f":"SUM(D104:D108)","v":0},0,0,0,0,0,0,0]
["Monuments",null,0,0,0,0,0,0,0,0,0]
["Historic Buildings",null,0,0,0,0,0,0,0,0,0]
["Works of Art",null,0,0,0,0,0,0,0,0,0]
["Conservation Areas",null,0,0,0,0,0,0,0,0,0]
["Other Heritage",null,0,0,0,0,0,0,0,0,0]
[]
["Investment properties",null,{"$f":"+C111+C114","v":0},{"$f":"+D111+D114","v":0},0,0,0,0,0,0,0]
["Revenue Generating",null,{"$f":"SUM(C112:C113)","v":0},0,0,0,0,0,0,0,0]
["Improved Property",null,0,0,0,0,0,0,0,0,0]
["Unimproved Property",null,0,0,0,0,0,0,0,0,0]
["Non-revenue Generating",null,{"$f":"SUM(C115:C116)","v":0},{"$f":"SUM(D115:D116)","v":0},0,0,0,0,0,0,0]
["Improved Property",null,0,0,0,0,0,0,0,0,0]
["Unimproved Property",null,0,0,0,0,0,0,0,0,0]
[]
["Other assets",null,{"$f":"+C119+C131","v":0},{"$f":"+D119+D131","v":0},3131923.57,3800000,4819990,4819990,2000000,0,1500005]
["Operational Buildings",null,{"$f":"SUM(C120:C130)","v":0},{"$f":"SUM(D120:D130)","v":0},3131923.57,3800000,4419990,4419990,2000000,0,1500003]
["Municipal Offices",null,0,0,0,0,0,0,0,0,0]
["Pay/Enquiry Points",null,0,0,0,0,0,0,0,0,0]
["Building Plan Offices",null,0,0,0,0,0,0,0,0,0]
["Workshops",null,0,0,0,0,0,0,0,0,0]
["Yards",null,0,0,3131923.57,2300000,2300000,2300000,2000000,0,1500002]
["Stores",null,0,0,0,1500000,2119990,2119990,0,0,1]
["Laboratories",null,0,0,0,0,0,0,0,0,0]
["Training Centres",null,0,0,0,0,0,0,0,0,0]
["Manufacturing Plant",null,0,0,0,0,0,0,0,0,0]
["Depots",null,0,0,0,0,0,0,0,0,0]
["Capital Spares",null,0,0,0,0,0,0,0,0,0]
["Housing",null,{"$f":"SUM(C132:C134)","v":0},{"$f":"SUM(D132:D134)","v":0},0,0,400000,400000,0,0,2]
["Staff Housing",null,0,0,0,0,0,0,0,0,0]
["Social Housing",null,0,0,0,0,0,0,0,0,0]
["Capital Spares",null,0,0,0,0,400000,400000,0,0,2]
[]
["Biological or Cultivated Assets",null,{"$f":"SUM(C137:C137)","v":0},0,0,0,0,0,0,0,0]
["Biological or Cultivated Assets",null,0,0,0,0,0,0,0,0,0]
[]
["Intangible Assets",null,{"$f":"+C140+C141","v":0},{"$f":"+D140+D141","v":0},0,0,0,0,0,0,0]
["Servitudes",null,0,0,0,0,0,0,0,0,0]
["Licences and Rights",null,{"$f":"SUM(C142:C147)","v":0},{"$f":"SUM(D142:D147)","v":0},0,0,0,0,0,0,0]
["Water Rights",null,0,0,0,0,0,0,0,0,0]
["Effluent Licenses",null,0,0,0,0,0,0,0,0,0]
["Solid Waste Licenses",null,0,0,0,0,0,0,0,0,0]
["Computer Software and Applications",null,0,0,0,0,0,0,0,0,0]
["Load Settlement Software Applications",null,0,0,0,0,0,0,0,0,0]
["Unspecified",null,0,0,0,0,0,0,0,0,0]
[]
["Computer Equipment",null,{"$f":"SUM(C150:C150)","v":0},0,264520.46999999997,0,0,0,333500,0,235000]
["Computer Equipment",null,0,0,264520.46999999997,0,0,0,333500,0,235000]
[]
["Furniture and Office Equipment",null,{"$f":"SUM(C153:C153)","v":549867},10276400,344131.63,735000,735000,735000,700000,0,300002]
["Furniture and Office Equipment",null,549867,10276400,344131.63,735000,735000,735000,700000,0,300002]
[]
["Machinery and Equipment",null,{"$f":"SUM(C156:C156)","v":0},345882,4724964.24,1000000,2969292,2969292,1350000,0,500022]
["Machinery and Equipment",null,0,345882,4724964.24,1000000,2969292,2969292,1350000,0,500022]
[]
["Transport Assets",null,{"$f":"SUM(C159:C159)","v":0},3499900,0,5000000,5000000,5000000,9820000,7400000,4300002]
["Transport Assets",null,0,3499900,0,5000000,5000000,5000000,9820000,7400000,4300002]
[]
["Land",null,{"$f":"SUM(C162:C162)","v":0},0,0,0,0,0,0,0,0]
["Land",null,0,0,0,0,0,0,0,0,0]
[]
["Zoo's, Marine and Non-biological Animals",null,{"$f":"SUM(C165:C165)","v":0},0,0,0,0,0,0,0,0]
["Zoo's, Marine and Non-biological Animals",null,0,0,0,0,0,0,0,0,0]
[]
["Total Capital Expenditure on new assets ",1,{"$f":"C6+C74+C103+C110+C118+C136+C139+C149+C152+C155+C158+C161+C164","v":27167630},{"$f":"D6+D74+D103+D110+D118+D136+D139+D149+D152+D155+D158+D161+D164","v":85950829},107955783.27999999,24035000,35531538,35531538,25703500,22400000,33285073]
[]
[{"$f":"head27a","v":"References"}]
["1. Total Capital Expenditure on new assets (SA34a) plus Total Capital Expenditure on renewal of existing assets (SA34b) plus Total Capital Expenditure  on upgrading of existing assets (SA34e) must reconcile to total capital expenditure in Budgeted Capital Expenditure"]
[]
[]
["check balance",null,{"$f":"SUM(C167+SA34b!C167++SA34e!C167)-'A5-Capex'!C40","v":0},{"$f":"SUM(D167+SA34b!D167++SA34e!D167)-'A5-Capex'!D40","v":0},{"$f":"SUM(E167+SA34b!E167++SA34e!E167)-'A5-Capex'!E40","v":0},{"$f":"SUM(F167+SA34b!F167++SA34e!F167)-'A5-Capex'!F40","v":0},{"$f":"SUM(G167+SA34b!G167++SA34e!G167)-'A5-Capex'!G40","v":0},{"$f":"SUM(H167+SA34b!H167++SA34e!H167)-'A5-Capex'!H40","v":0},{"$f":"SUM(I167+SA34b!I167++SA34e!I167)-'A5-Capex'!J40","v":0},{"$f":"SUM(J167+SA34b!J167++SA34e!J167)-'A5-Capex'!K40","v":0},{"$f":"SUM(K167+SA34b!K167++SA34e!K167)-'A5-Capex'!L40","v":0}]

{"sheet":"SA34b","index":56,"n_rows":175,"n_cols":11,"rows_kept":175,"cut":false,"hidden":false,"merged":[[1,5,1,7],[1,8,1,10]]}
[{"$f":"muni&\" - \"&TableA34b","v":"Choose name from list - Supporting Table SA34b Capital expenditure on the renewal of existing assets by asset class"}]
[{"$f":"desc","v":"Description"},{"$f":"head27","v":"Ref"},{"$f":"head1b","v":"2017/18"},{"$f":"head1A","v":"2018/19"},{"$f":"Head1","v":"2019/20"},{"$f":"Head2","v":"Current Year 2020/21"},null,null,{"$f":"Head3","v":"2021/22 Medium Term Revenue & Expenditure Framework"}]
["R thousand",1,{"$f":"Head5","v":"Audited Outcome"},{"$f":"Head5","v":"Audited Outcome"},{"$f":"Head5","v":"Audited Outcome"},{"$f":"Head6","v":"Original Budget"},{"$f":"Head7","v":"Adjusted Budget"},{"$f":"Head8","v":"Full Year Forecast"},{"$f":"Head9","v":"Budget Year 2021/22"},{"$f":"Head10","v":"Budget Year +1 2022/23"},{"$f":"Head11","v":"Budget Year +2 2023/24"}]
["Capital expenditure on renewal of existing assets by Asset Class/Sub-class"]
[]
["Infrastructure",null,{"$f":"C7+C12+C16+C26+C37+C44+C52+C62+C68","v":0},{"$f":"D7+D12+D16+D26+D37+D44+D52+D62+D68","v":0},6404834.0300000003,600000,6607856,6607856,3400000,25300000,13700010]
["Roads Infrastructure",null,{"$f":"SUM(C8:C11)","v":0},0,0,0,4300000,4300000,0,21300000,9700001]
["Roads",null,0,0,0,0,4300000,4300000,0,21300000,9700001]
["Road Structures",null,0,0,0,0,0,0,0,0,0]
["Road Furniture",null,0,0,0,0,0,0,0,0,0]
["Capital Spares",null,0,0,0,0,0,0,0,0,0]
["Storm water Infrastructure",null,{"$f":"SUM(C13:C15)","v":0},{"$f":"SUM(D13:D15)","v":0},0,0,0,0,0,0,0]
["Drainage Collection",null,0,0,0,0,0,0,0,0,0]
["Storm water Conveyance",null,0,0,0,0,0,0,0,0,0]
["Attenuation",null,0,0,0,0,0,0,0,0,0]
["Electrical Infrastructure",null,{"$f":"SUM(C17:C25)","v":0},0,6404834.0300000003,600000,2307856,2307856,600000,0,9]
["Power Plants",null,0,0,4258243.03,0,296700,296700,600000,0,4]
["HV Substations",null,0,0,0,0,0,0,0,0,0]
["HV Switching Station",null,0,0,0,0,0,0,0,0,0]
["HV Transmission Conductors",null,0,0,0,0,0,0,0,0,0]
["MV Substations",null,0,0,2146591,450000,1031156,1031156,0,0,3]
["MV Switching Stations",null,0,0,0,0,0,0,0,0,0]
["MV Networks",null,0,0,0,0,830000,830000,0,0,1]
["LV Networks",null,0,0,0,0,0,0,0,0,0]
["Capital Spares",null,0,0,0,150000,150000,150000,0,0,1]
["Water Supply Infrastructure",null,{"$f":"SUM(C27:C36)","v":0},{"$f":"SUM(D27:D36)","v":0},0,0,0,0,0,0,0]
["Dams and Weirs",null,0,0,0,0,0,0,0,0,0]
["Boreholes",null,0,0,0,0,0,0,0,0,0]
["Reservoirs",null,0,0,0,0,0,0,0,0,0]
["Pump Stations",null,0,0,0,0,0,0,0,0,0]
["Water Treatment Works",null,0,0,0,0,0,0,0,0,0]
["Bulk Mains",null,0,0,0,0,0,0,0,0,0]
["Distribution",null,0,0,0,0,0,0,0,0,0]
["Distribution Points",null,0,0,0,0,0,0,0,0,0]
["PRV Stations",null,0,0,0,0,0,0,0,0,0]
["Capital Spares",null,0,0,0,0,0,0,0,0,0]
["Sanitation Infrastructure",null,{"$f":"SUM(C38:C43)","v":0},{"$f":"SUM(D38:D43)","v":0},0,0,0,0,0,0,0]
["Pump Station",null,0,0,0,0,0,0,0,0,0]
["Reticulation",null,0,0,0,0,0,0,0,0,0]
["Waste Water Treatment Works",null,0,0,0,0,0,0,0,0,0]
["Outfall Sewers",null,0,0,0,0,0,0,0,0,0]
["Toilet Facilities",null,0,0,0,0,0,0,0,0,0]
["Capital Spares",null,0,0,0,0,0,0,0,0,0]
["Solid Waste Infrastructure",null,{"$f":"SUM(C45:C51)","v":0},{"$f":"SUM(D45:D51)","v":0},0,0,0,0,0,0,0]
["Landfill Sites",null,0,0,0,0,0,0,0,0,0]
["Waste Transfer Stations",null,0,0,0,0,0,0,0,0,0]
["Waste Processing Facilities",null,0,0,0,0,0,0,0,0,0]
["Waste Drop-off Points",null,0,0,0,0,0,0,0,0,0]
["Waste Separation Facilities",null,0,0,0,0,0,0,0,0,0]
["Electricity Generation Facilities",null,0,0,0,0,0,0,0,0,0]
["Capital Spares",null,0,0,0,0,0,0,0,0,0]
["Rail Infrastructure",null,{"$f":"SUM(C53:C61)","v":0},0,0,0,0,0,0,0,0]
["Rail Lines",null,0,0,0,0,0,0,0,0,0]
["Rail Structures",null,0,0,0,0,0,0,0,0,0]
["Rail Furniture",null,0,0,0,0,0,0,0,0,0]
["Drainage Collection",null,0,0,0,0,0,0,0,0,0]
["Storm water Conveyance",null,0,0,0,0,0,0,0,0,0]
["Attenuation",null,0,0,0,0,0,0,0,0,0]
["MV Substations",null,0,0,0,0,0,0,0,0,0]
["LV Networks",null,0,0,0,0,0,0,0,0,0]
["Capital Spares",null,0,0,0,0,0,0,0,0,0]
["Coastal Infrastructure",null,{"$f":"SUM(C63:C67)","v":0},{"$f":"SUM(D63:D67)","v":0},0,0,0,0,0,0,0]
["Sand Pumps",null,0,0,0,0,0,0,0,0,0]
["Piers",null,0,0,0,0,0,0,0,0,0]
["Revetments",null,0,0,0,0,0,0,0,0,0]
["Promenades",null,0,0,0,0,0,0,0,0,0]
["Capital Spares",null,0,0,0,0,0,0,0,0,0]
["Information and Communication Infrastructure",null,{"$f":"SUM(C69:C72)","v":0},{"$f":"SUM(D69:D72)","v":0},0,0,0,0,2800000,4000000,4000000]
["Data Centres",null,0,0,0,0,0,0,2800000,4000000,4000000]
["Core Layers",null,0,0,0,0,0,0,0,0,0]
["Distribution Layers",null,0,0,0,0,0,0,0,0,0]
["Capital Spares",null,0,0,0,0,0,0,0,0,0]
[]
["Community Assets",null,{"$f":"C75+C98","v":0},{"$f":"D75+D98","v":0},0,0,0,0,0,0,1100000]
["Community Facilities",null,{"$f":"SUM(C76:C97)","v":0},{"$f":"SUM(D76:D97)","v":0},0,0,0,0,0,0,1100000]
["Halls",null,0,0,0,0,0,0,0,0,0]
["Centres",null,0,0,0,0,0,0,0,0,0]
["Crèches",null,0,0,0,0,0,0,0,0,0]
["Clinics/Care Centres",null,0,0,0,0,0,0,0,0,0]
["Fire/Ambulance Stations",null,0,0,0,0,0,0,0,0,0]
["Testing Stations",null,0,0,0,0,0,0,0,0,0]
["Museums",null,0,0,0,0,0,0,0,0,0]
["Galleries",null,0,0,0,0,0,0,0,0,0]
["Theatres",null,0,0,0,0,0,0,0,0,0]
["Libraries",null,0,0,0,0,0,0,0,0,0]
["Cemeteries/Crematoria",null,0,0,0,0,0,0,0,0,0]
["Police",null,0,0,0,0,0,0,0,0,0]
["Parks",null,0,0,0,0,0,0,0,0,0]
["Public Open Space",null,0,0,0,0,0,0,0,0,0]
["Nature Reserves",null,0,0,0,0,0,0,0,0,0]
["Public Ablution Facilities",null,0,0,0,0,0,0,0,0,1100000]
["Markets",null,0,0,0,0,0,0,0,0,0]
["Stalls",null,0,0,0,0,0,0,0,0,0]
["Abattoirs",null,0,0,0,0,0,0,0,0,0]
["Airports",null,0,0,0,0,0,0,0,0,0]
["Taxi Ranks/Bus Terminals",null,0,0,0,0,0,0,0,0,0]
["Capital Spares",null,0,0,0,0,0,0,0,0,0]
["Sport and Recreation Facilities",null,{"$f":"SUM(C99:C101)","v":0},{"$f":"SUM(D99:D101)","v":0},0,0,0,0,0,0,0]
["Indoor Facilities",null,0,0,0,0,0,0,0,0,0]
["Outdoor Facilities",null,0,0,0,0,0,0,0,0,0]
["Capital Spares",null,0,0,0,0,0,0,0,0,0]
[]
["Heritage assets",null,{"$f":"SUM(C104:C108)","v":0},{"$f":"SUM(D104:D108)","v":0},0,0,0,0,0,0,0]
["Monuments",null,0,0,0,0,0,0,0,0,0]
["Historic Buildings",null,0,0,0,0,0,0,0,0,0]
["Works of Art",null,0,0,0,0,0,0,0,0,0]
["Conservation Areas",null,0,0,0,0,0,0,0,0,0]
["Other Heritage",null,0,0,0,0,0,0,0,0,0]
[]
["Investment properties",null,{"$f":"+C111+C114","v":0},{"$f":"+D111+D114","v":0},0,0,0,0,0,0,0]
["Revenue Generating",null,{"$f":"SUM(C112:C113)","v":0},0,0,0,0,0,0,0,0]
["Improved Property",null,0,0,0,0,0,0,0,0,0]
["Unimproved Property",null,0,0,0,0,0,0,0,0,0]
["Non-revenue Generating",null,{"$f":"SUM(C115:C116)","v":0},{"$f":"SUM(D115:D116)","v":0},0,0,0,0,0,0,0]
["Improved Property",null,0,0,0,0,0,0,0,0,0]
["Unimproved Property",null,0,0,0,0,0,0,0,0,0]
[]
["Other assets",null,{"$f":"+C119+C131","v":0},{"$f":"+D119+D131","v":0},0,0,0,0,0,0,0]
["Operational Buildings",null,{"$f":"SUM(C120:C130)","v":0},{"$f":"SUM(D120:D130)","v":0},0,0,0,0,0,0,0]
["Municipal Offices",null,0,0,0,0,0,0,0,0,0]
["Pay/Enquiry Points",null,0,0,0,0,0,0,0,0,0]
["Building Plan Offices",null,0,0,0,0,0,0,0,0,0]
["Workshops",null,0,0,0,0,0,0,0,0,0]
["Yards",null,0,0,0,0,0,0,0,0,0]
["Stores",null,0,0,0,0,0,0,0,0,0]
["Laboratories",null,0,0,0,0,0,0,0,0,0]
["Training Centres",null,0,0,0,0,0,0,0,0,0]
["Manufacturing Plant",null,0,0,0,0,0,0,0,0,0]
["Depots",null,0,0,0,0,0,0,0,0,0]
["Capital Spares",null,0,0,0,0,0,0,0,0,0]
["Housing",null,{"$f":"SUM(C132:C134)","v":0},{"$f":"SUM(D132:D134)","v":0},0,0,0,0,0,0,0]
["Staff Housing",null,0,0,0,0,0,0,0,0,0]
["Social Housing",null,0,0,0,0,0,0,0,0,0]
["Capital Spares",null,0,0,0,0,0,0,0,0,0]
[]
["Biological or Cultivated Assets",null,{"$f":"SUM(C137:C137)","v":0},0,0,0,0,0,0,0,0]
["Biological or Cultivated Assets",null,0,0,0,0,0,0,0,0,0]
[]
["Intangible Assets",null,{"$f":"+C140+C141","v":0},{"$f":"+D140+D141","v":0},0,0,0,0,0,0,0]
["Servitudes",null,0,0,0,0,0,0,0,0,0]
["Licences and Rights",null,{"$f":"SUM(C142:C147)","v":0},{"$f":"SUM(D142:D147)","v":0},0,0,0,0,0,0,0]
["Water Rights",null,0,0,0,0,0,0,0,0,0]
["Effluent Licenses",null,0,0,0,0,0,0,0,0,0]
["Solid Waste Licenses",null,0,0,0,0,0,0,0,0,0]
["Computer Software and Applications",null,0,0,0,0,0,0,0,0,0]
["Load Settlement Software Applications",null,0,0,0,0,0,0,0,0,0]
["Unspecified",null,0,0,0,0,0,0,0,0,0]
[]
["Computer Equipment",null,{"$f":"SUM(C150:C150)","v":0},0,0,0,0,0,0,0,0]
["Computer Equipment",null,0,0,0,0,0,0,0,0,0]
[]
["Furniture and Office Equipment",null,{"$f":"SUM(C153:C153)","v":0},0,0,0,0,0,0,0,0]
["Furniture and Office Equipment",null,0,0,0,0,0,0,0,0,0]
[]
["Machinery and Equipment",null,{"$f":"SUM(C156:C156)","v":0},0,6850000,0,0,0,0,0,0]
["Machinery and Equipment",null,0,0,6850000,0,0,0,0,0,0]
[]
["Transport Assets",null,{"$f":"SUM(C159:C159)","v":0},0,0,0,0,0,0,0,0]
["Transport Assets",null,0,0,0,0,0,0,0,0,0]
[]
["Land",null,{"$f":"SUM(C162:C162)","v":0},0,0,0,0,0,0,0,0]
["Land",null,0,0,0,0,0,0,0,0,0]
[]
["Zoo's, Marine and Non-biological Animals",null,{"$f":"SUM(C165:C165)","v":0},0,0,0,0,0,0,0,0]
["Zoo's, Marine and Non-biological Animals",null,0,0,0,0,0,0,0,0,0]
[]
["Total Capital Expenditure on renewal of existing assets ",1,{"$f":"C6+C74+C103+C110+C118+C136+C139+C149+C152+C155+C158+C161+C164","v":0},{"$f":"D6+D74+D103+D110+D118+D136+D139+D149+D152+D155+D158+D161+D164","v":0},13254834.030000001,600000,6607856,6607856,3400000,25300000,14800010]
[]
["Renewal of Existing Assets as % of total capex",null,{"$f":"IF(ISERROR(C167/'A9-Asset'!C69),0,(C167/'A9-Asset'!C69))","v":0},{"$f":"IF(ISERROR(D167/'A9-Asset'!D132),0,(D167/'A9-Asset'!D132))","v":0},{"$f":"IF(ISERROR(E167/'A9-Asset'!E132),0,(E167/'A9-Asset'!E132))","v":6.9667642218486037E-2},{"$f":"IF(ISERROR(F167/'A9-Asset'!F132),0,(F167/'A9-Asset'!F132))","v":4.5810956780614857E-3},{"$f":"IF(ISERROR(G167/'A9-Asset'!G132),0,(G167/'A9-Asset'!G132))","v":4.0917304974744315E-2},{"$f":"IF(ISERROR(H167/'A9-Asset'!H132),0,(H167/'A9-Asset'!H132))","v":4.0917304974744315E-2},{"$f":"IF(ISERROR(I167/'A9-Asset'!I132),0,(I167/'A9-Asset'!I132))","v":2.5982471766032429E-2},{"$f":"IF(ISERROR(J167/'A9-Asset'!J132),0,(J167/'A9-Asset'!J132))","v":0.15802248291420939},{"$f":"IF(ISERROR(K167/'A9-Asset'!K132),0,(K167/'A9-Asset'!K132))","v":8.3769556400085446E-2}]
["Renewal of Existing Assets as % of deprecn\"",null,{"$f":"IF(ISERROR(C167/'A9-Asset'!C168),0,(C167/'A9-Asset'!C168))","v":0},{"$f":"IF(ISERROR(D167/'A9-Asset'!D168),0,(D167/'A9-Asset'!D168))","v":0},{"$f":"IF(ISERROR(E167/'A9-Asset'!E168),0,(E167/'A9-Asset'!E168))","v":0.13473366406637854},{"$f":"IF(ISERROR(F167/'A9-Asset'!F168),0,(F167/'A9-Asset'!F168))","v":4.5122686214877222E-3},{"$f":"IF(ISERROR(G167/'A9-Asset'!G168),0,(G167/'A9-Asset'!G168))","v":4.9694035473515627E-2},{"$f":"IF(ISERROR(H167/'A9-Asset'!H168),0,(H167/'A9-Asset'!H168))","v":4.9694035473515627E-2},{"$f":"IF(ISERROR(I167/'A9-Asset'!I168),0,(I167/'A9-Asset'!I168))","v":2.6159367390172706E-2},{"$f":"IF(ISERROR(J167/'A9-Asset'!J168),0,(J167/'A9-Asset'!J168))","v":0.18681040287324738},{"$f":"IF(ISERROR(K167/'A9-Asset'!K168),0,(K167/'A9-Asset'!K168))","v":0.10467477142599356}]
[{"$f":"head27a","v":"References"}]
["1. Total Capital Expenditure  on renewal of existing assets (SA34b) plus Total Capital Expenditure on new assets (SA34a) plus Total Capital Expenditure  on upgrading of existing assets (SA34e) must reconcile to total capital expenditure in Budgeted Capital Expenditure"]
[]
[]
["check balance",null,{"$f":"SUM(C167+SA34a!C167++SA34e!C167)-'A5-Capex'!C40","v":0},{"$f":"SUM(D167+SA34a!D167++SA34e!D167)-'A5-Capex'!D40","v":0},{"$f":"SUM(E167+SA34a!E167++SA34e!E167)-'A5-Capex'!E40","v":0},{"$f":"SUM(F167+SA34a!F167++SA34e!F167)-'A5-Capex'!F40","v":0},{"$f":"SUM(G167+SA34a!G167++SA34e!G167)-'A5-Capex'!G40","v":0},{"$f":"SUM(H167+SA34a!H167++SA34e!H167)-'A5-Capex'!H40","v":0},{"$f":"SUM(I167+SA34a!I167++SA34e!I167)-'A5-Capex'!J40","v":0},{"$f":"SUM(J167+SA34a!J167++SA34e!J167)-'A5-Capex'!K40","v":0},{"$f":"SUM(K167+SA34a!K167++SA34e!K167)-'A5-Capex'!L40","v":0}]

{"sheet":"SA34c","index":57,"n_rows":175,"n_cols":11,"rows_kept":175,"cut":false,"hidden":false,"merged":[[1,5,1,7],[1,8,1,10]]}
[{"$f":"muni&\" - \"&TableA34c","v":"Choose name from list - Supporting Table SA34c Repairs and maintenance expenditure by asset class"}]
[{"$f":"desc","v":"Description"},{"$f":"head27","v":"Ref"},{"$f":"head1b","v":"2017/18"},{"$f":"head1A","v":"2018/19"},{"$f":"Head1","v":"2019/20"},{"$f":"Head2","v":"Current Year 2020/21"},null,null,{"$f":"Head3","v":"2021/22 Medium Term Revenue & Expenditure Framework"}]
["R thousand",1,{"$f":"Head5","v":"Audited Outcome"},{"$f":"Head5","v":"Audited Outcome"},{"$f":"Head5","v":"Audited Outcome"},{"$f":"Head6","v":"Original Budget"},{"$f":"Head7","v":"Adjusted Budget"},{"$f":"Head8","v":"Full Year Forecast"},{"$f":"Head9","v":"Budget Year 2021/22"},{"$f":"Head10","v":"Budget Year +1 2022/23"},{"$f":"Head11","v":"Budget Year +2 2023/24"}]
["Repairs and maintenance expenditure by Asset Class/Sub-class"]
[]
["Infrastructure",null,{"$f":"C7+C12+C16+C26+C37+C44+C52+C62+C68","v":33301333.190000001},{"$f":"D7+D12+D16+D26+D37+D44+D52+D62+D68","v":43838504},22089765.100000001,32408540,40115540,40115540,109716115,114874314,120688323]
["Roads Infrastructure",null,{"$f":"SUM(C8:C11)","v":1544771},33306052,12390863.789999999,13750000,13355000,13355000,81815575,85801946,90336770]
["Roads",null,1168647,32448845,12390863.789999999,13750000,13355000,13355000,81815575,85801946,90336770]
["Road Structures",null,373425,857207,0,0,0,0,0,0,0]
["Road Furniture",null,2699,0,0,0,0,0,0,0,0]
["Capital Spares",null,0,0,0,0,0,0,0,0,0]
["Storm water Infrastructure",null,{"$f":"SUM(C13:C15)","v":0},{"$f":"SUM(D13:D15)","v":0},574093.92000000004,1500000,1500000,1500000,1500000,1563000,1631772]
["Drainage Collection",null,0,0,574093.92000000004,1500000,1500000,1500000,1500000,1563000,1631772]
["Storm water Conveyance",null,0,0,0,0,0,0,0,0,0]
["Attenuation",null,0,0,0,0,0,0,0,0,0]
["Electrical Infrastructure",null,{"$f":"SUM(C17:C25)","v":887639},10019092,9124807.3900000006,16852640,24954640,24954640,26094640,27190620,28387007]
["Power Plants",null,0,0,0,0,0,0,0,0,0]
["HV Substations",null,0,0,700803.23,854085,854085,854085,854085,889957,929115]
["HV Switching Station",null,0,5781419,4588743.62,13956978,21928978,21928978,23198978,24173336,25236963]
["HV Transmission Conductors",null,0,0,0,0,0,0,0,0,0]
["MV Substations",null,0,0,0,0,0,0,0,0,0]
["MV Switching Stations",null,0,0,0,0,0,0,0,0,0]
["MV Networks",null,0,0,0,0,0,0,0,0,0]
["LV Networks",null,887639,4237673,1348328.61,2029736,2159736,2159736,2029736,2114988,2208047]
["Capital Spares",null,0,0,2486931.9300000002,11841,11841,11841,11841,12339,12882]
["Water Supply Infrastructure",null,{"$f":"SUM(C27:C36)","v":0},{"$f":"SUM(D27:D36)","v":0},0,0,0,0,0,0,0]
["Dams and Weirs",null,0,0,0,0,0,0,0,0,0]
["Boreholes",null,0,0,0,0,0,0,0,0,0]
["Reservoirs",null,0,0,0,0,0,0,0,0,0]
["Pump Stations",null,0,0,0,0,0,0,0,0,0]
["Water Treatment Works",null,0,0,0,0,0,0,0,0,0]
["Bulk Mains",null,0,0,0,0,0,0,0,0,0]
["Distribution",null,0,0,0,0,0,0,0,0,0]
["Distribution Points",null,0,0,0,0,0,0,0,0,0]
["PRV Stations",null,0,0,0,0,0,0,0,0,0]
["Capital Spares",null,0,0,0,0,0,0,0,0,0]
["Sanitation Infrastructure",null,{"$f":"SUM(C38:C43)","v":0},{"$f":"SUM(D38:D43)","v":0},0,0,0,0,0,0,0]
["Pump Station",null,0,0,0,0,0,0,0,0,0]
["Reticulation",null,0,0,0,0,0,0,0,0,0]
["Waste Water Treatment Works",null,0,0,0,0,0,0,0,0,0]
["Outfall Sewers",null,0,0,0,0,0,0,0,0,0]
["Toilet Facilities",null,0,0,0,0,0,0,0,0,0]
["Capital Spares",null,0,0,0,0,0,0,0,0,0]
["Solid Waste Infrastructure",null,{"$f":"SUM(C45:C51)","v":0},{"$f":"SUM(D45:D51)","v":0},0,9900,9900,9900,9900,10316,10770]
["Landfill Sites",null,0,0,0,0,0,0,0,0,0]
["Waste Transfer Stations",null,0,0,0,0,0,0,0,0,0]
["Waste Processing Facilities",null,0,0,0,0,0,0,0,0,0]
["Waste Drop-off Points",null,0,0,0,9900,9900,9900,9900,10316,10770]
["Waste Separation Facilities",null,0,0,0,0,0,0,0,0,0]
["Electricity Generation Facilities",null,0,0,0,0,0,0,0,0,0]
["Capital Spares",null,0,0,0,0,0,0,0,0,0]
["Rail Infrastructure",null,{"$f":"SUM(C53:C61)","v":30868923.190000001},513360,0,296000,296000,296000,296000,308432,322004]
["Rail Lines",null,0,0,0,0,0,0,0,0,0]
["Rail Structures",null,30868923.190000001,513360,0,296000,296000,296000,296000,308432,322004]
["Rail Furniture",null,0,0,0,0,0,0,0,0,0]
["Drainage Collection",null,0,0,0,0,0,0,0,0,0]
["Storm water Conveyance",null,0,0,0,0,0,0,0,0,0]
["Attenuation",null,0,0,0,0,0,0,0,0,0]
["MV Substations",null,0,0,0,0,0,0,0,0,0]
["LV Networks",null,0,0,0,0,0,0,0,0,0]
["Capital Spares",null,0,0,0,0,0,0,0,0,0]
["Coastal Infrastructure",null,{"$f":"SUM(C63:C67)","v":0},{"$f":"SUM(D63:D67)","v":0},0,0,0,0,0,0,0]
["Sand Pumps",null,0,0,0,0,0,0,0,0,0]
["Piers",null,0,0,0,0,0,0,0,0,0]
["Revetments",null,0,0,0,0,0,0,0,0,0]
["Promenades",null,0,0,0,0,0,0,0,0,0]
["Capital Spares",null,0,0,0,0,0,0,0,0,0]
["Information and Communication Infrastructure",null,{"$f":"SUM(C69:C72)","v":0},{"$f":"SUM(D69:D72)","v":0},0,0,0,0,0,0,0]
["Data Centres",null,0,0,0,0,0,0,0,0,0]
["Core Layers",null,0,0,0,0,0,0,0,0,0]
["Distribution Layers",null,0,0,0,0,0,0,0,0,0]
["Capital Spares",null,0,0,0,0,0,0,0,0,0]
[]
["Community Assets",null,{"$f":"C75+C98","v":0},{"$f":"D75+D98","v":14902},0,0,0,0,0,0,0]
["Community Facilities",null,{"$f":"SUM(C76:C97)","v":0},{"$f":"SUM(D76:D97)","v":14902},0,0,0,0,0,0,0]
["Halls",null,0,0,0,0,0,0,0,0,0]
["Centres",null,0,14902,0,0,0,0,0,0,0]
["Crèches",null,0,0,0,0,0,0,0,0,0]
["Clinics/Care Centres",null,0,0,0,0,0,0,0,0,0]
["Fire/Ambulance Stations",null,0,0,0,0,0,0,0,0,0]
["Testing Stations",null,0,0,0,0,0,0,0,0,0]
["Museums",null,0,0,0,0,0,0,0,0,0]
["Galleries",null,0,0,0,0,0,0,0,0,0]
["Theatres",null,0,0,0,0,0,0,0,0,0]
["Libraries",null,0,0,0,0,0,0,0,0,0]
["Cemeteries/Crematoria",null,0,0,0,0,0,0,0,0,0]
["Police",null,0,0,0,0,0,0,0,0,0]
["Parks",null,0,0,0,0,0,0,0,0,0]
["Public Open Space",null,0,0,0,0,0,0,0,0,0]
["Nature Reserves",null,0,0,0,0,0,0,0,0,0]
["Public Ablution Facilities",null,0,0,0,0,0,0,0,0,0]
["Markets",null,0,0,0,0,0,0,0,0,0]
["Stalls",null,0,0,0,0,0,0,0,0,0]
["Abattoirs",null,0,0,0,0,0,0,0,0,0]
["Airports",null,0,0,0,0,0,0,0,0,0]
["Taxi Ranks/Bus Terminals",null,0,0,0,0,0,0,0,0,0]
["Capital Spares",null,0,0,0,0,0,0,0,0,0]
["Sport and Recreation Facilities",null,{"$f":"SUM(C99:C101)","v":0},{"$f":"SUM(D99:D101)","v":0},0,0,0,0,0,0,0]
["Indoor Facilities",null,0,0,0,0,0,0,0,0,0]
["Outdoor Facilities",null,0,0,0,0,0,0,0,0,0]
["Capital Spares",null,0,0,0,0,0,0,0,0,0]
[null,null,1000,1000,1000,1000,1000,1000,1000,1000,1000]
["Heritage assets",null,{"$f":"SUM(C104:C108)","v":0},{"$f":"SUM(D104:D108)","v":0},0,0,0,0,0,0,0]
["Monuments",null,0,0,0,0,0,0,0,0,0]
["Historic Buildings",null,0,0,0,0,0,0,0,0,0]
["Works of Art",null,0,0,0,0,0,0,0,0,0]
["Conservation Areas",null,0,0,0,0,0,0,0,0,0]
["Other Heritage",null,0,0,0,0,0,0,0,0,0]
[]
["Investment properties",null,{"$f":"+C111+C114","v":0},{"$f":"+D111+D114","v":0},0,0,0,0,0,0,0]
["Revenue Generating",null,{"$f":"SUM(C112:C113)","v":0},0,0,0,0,0,0,0,0]
["Improved Property",null,0,0,0,0,0,0,0,0,0]
["Unimproved Property",null,0,0,0,0,0,0,0,0,0]
["Non-revenue Generating",null,{"$f":"SUM(C115:C116)","v":0},{"$f":"SUM(D115:D116)","v":0},0,0,0,0,0,0,0]
["Improved Property",null,0,0,0,0,0,0,0,0,0]
["Unimproved Property",null,0,0,0,0,0,0,0,0,0]
[]
["Other assets",null,{"$f":"+C119+C131","v":17597569.620000001},{"$f":"+D119+D131","v":2800941},1563844.64,1363363,2233363,2233363,1663363,1733231,1809496]
["Operational Buildings",null,{"$f":"SUM(C120:C130)","v":17597569.620000001},{"$f":"SUM(D120:D130)","v":2800941},1563844.64,1363363,2233363,2233363,1663363,1733231,1809496]
["Municipal Offices",null,17597569.620000001,2800941,1563844.64,1363363,2233363,2233363,1663363,1733231,1809496]
["Pay/Enquiry Points",null,0,0,0,0,0,0,0,0,0]
["Building Plan Offices",null,0,0,0,0,0,0,0,0,0]
["Workshops",null,0,0,0,0,0,0,0,0,0]
["Yards",null,0,0,0,0,0,0,0,0,0]
["Stores",null,0,0,0,0,0,0,0,0,0]
["Laboratories",null,0,0,0,0,0,0,0,0,0]
["Training Centres",null,0,0,0,0,0,0,0,0,0]
["Manufacturing Plant",null,0,0,0,0,0,0,0,0,0]
["Depots",null,0,0,0,0,0,0,0,0,0]
["Capital Spares",null,0,0,0,0,0,0,0,0,0]
["Housing",null,{"$f":"SUM(C132:C134)","v":0},{"$f":"SUM(D132:D134)","v":0},0,0,0,0,0,0,0]
["Staff Housing",null,0,0,0,0,0,0,0,0,0]
["Social Housing",null,0,0,0,0,0,0,0,0,0]
["Capital Spares",null,0,0,0,0,0,0,0,0,0]
[]
["Biological or Cultivated Assets",null,{"$f":"SUM(C137:C137)","v":0},0,0,0,0,0,0,0,0]
["Biological or Cultivated Assets",null,0,0,0,0,0,0,0,0,0]
[]
["Intangible Assets",null,{"$f":"+C140+C141","v":0},{"$f":"+D140+D141","v":0},0,0,0,0,0,0,0]
["Servitudes",null,0,0,0,0,0,0,0,0,0]
["Licences and Rights",null,{"$f":"SUM(C142:C147)","v":0},{"$f":"SUM(D142:D147)","v":0},0,0,0,0,0,0,0]
["Water Rights",null,0,0,0,0,0,0,0,0,0]
["Effluent Licenses",null,0,0,0,0,0,0,0,0,0]
["Solid Waste Licenses",null,0,0,0,0,0,0,0,0,0]
["Computer Software and Applications",null,0,0,0,0,0,0,0,0,0]
["Load Settlement Software Applications",null,0,0,0,0,0,0,0,0,0]
["Unspecified",null,0,0,0,0,0,0,0,0,0]
[]
["Computer Equipment",null,{"$f":"SUM(C150:C150)","v":1427860},15136449,232524.87,45000,899000,899000,545000,567890,592878]
["Computer Equipment",null,1427860,15136449,232524.87,45000,899000,899000,545000,567890,592878]
[]
["Furniture and Office Equipment",null,{"$f":"SUM(C153:C153)","v":149},79169,1042652.61,1099449,1194449,1194449,1119622,1165822,1216261]
["Furniture and Office Equipment",null,149,79169,1042652.61,1099449,1194449,1194449,1119622,1165822,1216261]
[]
["Machinery and Equipment",null,{"$f":"SUM(C156:C156)","v":14209},69927,447826.82,705075,895075,895075,2929134,2958767,2991108]
["Machinery and Equipment",null,14209,69927,447826.82,705075,895075,895075,2929134,2958767,2991108]
[]
["Transport Assets",null,{"$f":"SUM(C159:C159)","v":6813095.5},45568453,10727260.359999999,20619658,20629658,20629658,21387410,22285685,23266261]
["Transport Assets",null,6813095.5,45568453,10727260.359999999,20619658,20629658,20629658,21387410,22285685,23266261]
[]
["Land",null,{"$f":"SUM(C162:C162)","v":0},0,0,0,0,0,0,0,0]
["Land",null,0,0,0,0,0,0,0,0,0]
[]
["Zoo's, Marine and Non-biological Animals",null,{"$f":"SUM(C165:C165)","v":0},0,0,0,0,0,0,0,0]
["Zoo's, Marine and Non-biological Animals",null,0,0,0,0,0,0,0,0,0]
[]
["Total Repairs and Maintenance Expenditure",1,{"$f":"C6+C74+C103+C110+C118+C136+C139+C149+C152+C155+C158+C161+C164","v":59154216.310000002},{"$f":"D6+D74+D103+D110+D118+D136+D139+D149+D152+D155+D158+D161+D164","v":107508345},36103874.400000006,56241085,65967085,65967085,137360644,143585709,150564327]
[]
["R&M as a % of PPE",null,{"$f":"IF(ISERROR(ROUND(C167/'A6-FinPos'!C19,3)),0,(ROUND(C167/'A6-FinPos'!C19,3)))","v":0.04},{"$f":"IF(ISERROR(ROUND(D167/'A6-FinPos'!D19,3)),0,(ROUND(D167/'A6-FinPos'!D19,3)))","v":7.3999999999999996E-2},{"$f":"IF(ISERROR(ROUND(E167/'A6-FinPos'!E19,3)),0,(ROUND(E167/'A6-FinPos'!E19,3)))","v":2.4E-2},{"$f":"IF(ISERROR(ROUND(F167/'A6-FinPos'!F19,3)),0,(ROUND(F167/'A6-FinPos'!F19,3)))","v":3.2000000000000001E-2},{"$f":"IF(ISERROR(ROUND(G167/'A6-FinPos'!G19,3)),0,(ROUND(G167/'A6-FinPos'!G19,3)))","v":3.6999999999999998E-2},{"$f":"IF(ISERROR(ROUND(H167/'A6-FinPos'!H19,3)),0,(ROUND(H167/'A6-FinPos'!H19,3)))","v":3.6999999999999998E-2},{"$f":"IF(ISERROR(ROUND(I167/'A6-FinPos'!I19,3)),0,(ROUND(I167/'A6-FinPos'!I19,3)))","v":7.6999999999999999E-2},{"$f":"IF(ISERROR(ROUND(J167/'A6-FinPos'!J19,3)),0,(ROUND(J167/'A6-FinPos'!J19,3)))","v":5.5E-2},{"$f":"IF(ISERROR(ROUND(K167/'A6-FinPos'!K19,3)),0,(ROUND(K167/'A6-FinPos'!K19,3)))","v":4.8000000000000001E-2}]
["R&M as % Operating Expenditure",null,{"$f":"IF(ISERROR(ROUND(C167/'A1-Sum'!B18,3)),0,(ROUND(C167/'A1-Sum'!B18,3)))","v":4.8000000000000001E-2},{"$f":"IF(ISERROR(ROUND(D167/'A1-Sum'!C18,3)),0,(ROUND(D167/'A1-Sum'!C18,3)))","v":0.09},{"$f":"IF(ISERROR(ROUND(E167/'A1-Sum'!D18,3)),0,(ROUND(E167/'A1-Sum'!D18,3)))","v":3.3000000000000002E-2},{"$f":"IF(ISERROR(ROUND(F167/'A1-Sum'!E18,3)),0,(ROUND(F167/'A1-Sum'!E18,3)))","v":4.3999999999999997E-2},{"$f":"IF(ISERROR(ROUND(G167/'A1-Sum'!F18,3)),0,(ROUND(G167/'A1-Sum'!F18,3)))","v":5.1999999999999998E-2},{"$f":"IF(ISERROR(ROUND(H167/'A1-Sum'!G18,3)),0,(ROUND(H167/'A1-Sum'!G18,3)))","v":5.1999999999999998E-2},{"$f":"IF(ISERROR(ROUND(I167/'A1-Sum'!H18,3)),0,(ROUND(I167/'A1-Sum'!H18,3)))","v":0.107},{"$f":"IF(ISERROR(ROUND(J167/'A1-Sum'!I18,3)),0,(ROUND(J167/'A1-Sum'!I18,3)))","v":0.109},{"$f":"IF(ISERROR(ROUND(K167/'A1-Sum'!J18,3)),0,(ROUND(K167/'A1-Sum'!J18,3)))","v":0.111}]
[{"$f":"head27a","v":"References"}]
["1. Total Repairs and Maintenance Expenditure by Asset Category must reconcile to total repairs and maintenance expenditure on Table SA1"]
[]
[]
["check balance",null,{"$f":"C167-'SA1'!C164","v":0},{"$f":"D167-'SA1'!D164","v":0},{"$f":"E167-'SA1'!E164","v":0},{"$f":"F167-'SA1'!F164","v":0},{"$f":"G167-'SA1'!G164","v":0},{"$f":"H167-'SA1'!H164","v":0},{"$f":"I167-'SA1'!J164","v":70409807},{"$f":"J167-'SA1'!K164","v":73822878},{"$f":"K167-'SA1'!L164","v":77731876}]

{"sheet":"SA34d","index":58,"n_rows":173,"n_cols":11,"rows_kept":173,"cut":false,"hidden":false,"merged":[[1,5,1,7],[1,8,1,10]]}
[{"$f":"muni&\" - \"&TableA34d","v":"Choose name from list - Supporting Table SA34d Depreciation by asset class"}]
[{"$f":"desc","v":"Description"},{"$f":"head27","v":"Ref"},{"$f":"head1b","v":"2017/18"},{"$f":"head1A","v":"2018/19"},{"$f":"Head1","v":"2019/20"},{"$f":"Head2","v":"Current Year 2020/21"},null,null,{"$f":"Head3","v":"2021/22 Medium Term Revenue & Expenditure Framework"}]
["R thousand",1,{"$f":"Head5","v":"Audited Outcome"},{"$f":"Head5","v":"Audited Outcome"},{"$f":"Head5","v":"Audited Outcome"},{"$f":"Head6","v":"Original Budget"},{"$f":"Head7","v":"Adjusted Budget"},{"$f":"Head8","v":"Full Year Forecast"},{"$f":"Head9","v":"Budget Year 2021/22"},{"$f":"Head10","v":"Budget Year +1 2022/23"},{"$f":"Head11","v":"Budget Year +2 2023/24"}]
["Depreciation by Asset Class/Sub-class"]
[]
["Infrastructure",null,{"$f":"C7+C12+C16+C26+C37+C44+C52+C62+C68","v":0},{"$f":"D7+D12+D16+D26+D37+D44+D52+D62+D68","v":0},0,2277150,2277150,2277150,113694428,119107499,125016497]
["Roads Infrastructure",null,{"$f":"SUM(C8:C11)","v":0},0,0,0,0,0,68165575,71578646,75487644]
["Roads",null,0,0,0,0,0,0,67532133,70945204,74854202]
["Road Structures",null,0,0,0,0,0,0,605019,605019,605019]
["Road Furniture",null,0,0,0,0,0,0,0,0,0]
["Capital Spares",null,0,0,0,0,0,0,28423,28423,28423]
["Storm water Infrastructure",null,{"$f":"SUM(C13:C15)","v":0},{"$f":"SUM(D13:D15)","v":0},0,0,0,0,2224059,2224059,2224059]
["Drainage Collection",null,0,0,0,0,0,0,2224059,2224059,2224059]
["Storm water Conveyance",null,0,0,0,0,0,0,0,0,0]
["Attenuation",null,0,0,0,0,0,0,0,0,0]
["Electrical Infrastructure",null,{"$f":"SUM(C17:C25)","v":0},0,0,2230151,2230151,2230151,41572627,43572627,45572627]
["Power Plants",null,0,0,0,2230151,2230151,2230151,0,0,0]
["HV Substations",null,0,0,0,0,0,0,0,0,0]
["HV Switching Station",null,0,0,0,0,0,0,41572627,43572627,45572627]
["HV Transmission Conductors",null,0,0,0,0,0,0,0,0,0]
["MV Substations",null,0,0,0,0,0,0,0,0,0]
["MV Switching Stations",null,0,0,0,0,0,0,0,0,0]
["MV Networks",null,0,0,0,0,0,0,0,0,0]
["LV Networks",null,0,0,0,0,0,0,0,0,0]
["Capital Spares",null,0,0,0,0,0,0,0,0,0]
["Water Supply Infrastructure",null,{"$f":"SUM(C27:C36)","v":0},{"$f":"SUM(D27:D36)","v":0},0,0,0,0,0,0,0]
["Dams and Weirs",null,0,0,0,0,0,0,0,0,0]
["Boreholes",null,0,0,0,0,0,0,0,0,0]
["Reservoirs",null,0,0,0,0,0,0,0,0,0]
["Pump Stations",null,0,0,0,0,0,0,0,0,0]
["Water Treatment Works",null,0,0,0,0,0,0,0,0,0]
["Bulk Mains",null,0,0,0,0,0,0,0,0,0]
["Distribution",null,0,0,0,0,0,0,0,0,0]
["Distribution Points",null,0,0,0,0,0,0,0,0,0]
["PRV Stations",null,0,0,0,0,0,0,0,0,0]
["Capital Spares",null,0,0,0,0,0,0,0,0,0]
["Sanitation Infrastructure",null,{"$f":"SUM(C38:C43)","v":0},{"$f":"SUM(D38:D43)","v":0},0,0,0,0,0,0,0]
["Pump Station",null,0,0,0,0,0,0,0,0,0]
["Reticulation",null,0,0,0,0,0,0,0,0,0]
["Waste Water Treatment Works",null,0,0,0,0,0,0,0,0,0]
["Outfall Sewers",null,0,0,0,0,0,0,0,0,0]
["Toilet Facilities",null,0,0,0,0,0,0,0,0,0]
["Capital Spares",null,0,0,0,0,0,0,0,0,0]
["Solid Waste Infrastructure",null,{"$f":"SUM(C45:C51)","v":0},{"$f":"SUM(D45:D51)","v":0},0,46999,46999,46999,1732167,1732167,1732167]
["Landfill Sites",null,0,0,0,46999,46999,46999,235947,235947,235947]
["Waste Transfer Stations",null,0,0,0,0,0,0,0,0,0]
["Waste Processing Facilities",null,0,0,0,0,0,0,0,0,0]
["Waste Drop-off Points",null,0,0,0,0,0,0,1496220,1496220,1496220]
["Waste Separation Facilities",null,0,0,0,0,0,0,0,0,0]
["Electricity Generation Facilities",null,0,0,0,0,0,0,0,0,0]
["Capital Spares",null,0,0,0,0,0,0,0,0,0]
["Rail Infrastructure",null,{"$f":"SUM(C53:C61)","v":0},0,0,0,0,0,0,0,0]
["Rail Lines",null,0,0,0,0,0,0,0,0,0]
["Rail Structures",null,0,0,0,0,0,0,0,0,0]
["Rail Furniture",null,0,0,0,0,0,0,0,0,0]
["Drainage Collection",null,0,0,0,0,0,0,0,0,0]
["Storm water Conveyance",null,0,0,0,0,0,0,0,0,0]
["Attenuation",null,0,0,0,0,0,0,0,0,0]
["MV Substations",null,0,0,0,0,0,0,0,0,0]
["LV Networks",null,0,0,0,0,0,0,0,0,0]
["Capital Spares",null,0,0,0,0,0,0,0,0,0]
["Coastal Infrastructure",null,{"$f":"SUM(C63:C67)","v":0},{"$f":"SUM(D63:D67)","v":0},0,0,0,0,0,0,0]
["Sand Pumps",null,0,0,0,0,0,0,0,0,0]
["Piers",null,0,0,0,0,0,0,0,0,0]
["Revetments",null,0,0,0,0,0,0,0,0,0]
["Promenades",null,0,0,0,0,0,0,0,0,0]
["Capital Spares",null,0,0,0,0,0,0,0,0,0]
["Information and Communication Infrastructure",null,{"$f":"SUM(C69:C72)","v":0},{"$f":"SUM(D69:D72)","v":0},0,0,0,0,0,0,0]
["Data Centres",null,0,0,0,0,0,0,0,0,0]
["Core Layers",null,0,0,0,0,0,0,0,0,0]
["Distribution Layers",null,0,0,0,0,0,0,0,0,0]
["Capital Spares",null,0,0,0,0,0,0,0,0,0]
[]
["Community Assets",null,{"$f":"C75+C98","v":0},{"$f":"D75+D98","v":0},0,0,0,0,4070030,4070030,4070030]
["Community Facilities",null,{"$f":"SUM(C76:C97)","v":0},{"$f":"SUM(D76:D97)","v":0},0,0,0,0,52900,52900,52900]
["Halls",null,0,0,0,0,0,0,0,0,0]
["Centres",null,0,0,0,0,0,0,0,0,0]
["Crèches",null,0,0,0,0,0,0,0,0,0]
["Clinics/Care Centres",null,0,0,0,0,0,0,0,0,0]
["Fire/Ambulance Stations",null,0,0,0,0,0,0,0,0,0]
["Testing Stations",null,0,0,0,0,0,0,0,0,0]
["Museums",null,0,0,0,0,0,0,3715,3715,3715]
["Galleries",null,0,0,0,0,0,0,0,0,0]
["Theatres",null,0,0,0,0,0,0,0,0,0]
["Libraries",null,0,0,0,0,0,0,20173,20173,20173]
["Cemeteries/Crematoria",null,0,0,0,0,0,0,0,0,0]
["Police",null,0,0,0,0,0,0,0,0,0]
["Parks",null,0,0,0,0,0,0,29012,29012,29012]
["Public Open Space",null,0,0,0,0,0,0,0,0,0]
["Nature Reserves",null,0,0,0,0,0,0,0,0,0]
["Public Ablution Facilities",null,0,0,0,0,0,0,0,0,0]
["Markets",null,0,0,0,0,0,0,0,0,0]
["Stalls",null,0,0,0,0,0,0,0,0,0]
["Abattoirs",null,0,0,0,0,0,0,0,0,0]
["Airports",null,0,0,0,0,0,0,0,0,0]
["Taxi Ranks/Bus Terminals",null,0,0,0,0,0,0,0,0,0]
["Capital Spares",null,0,0,0,0,0,0,0,0,0]
["Sport and Recreation Facilities",null,{"$f":"SUM(C99:C101)","v":0},{"$f":"SUM(D99:D101)","v":0},0,0,0,0,4017130,4017130,4017130]
["Indoor Facilities",null,0,0,0,0,0,0,0,0,0]
["Outdoor Facilities",null,0,0,0,0,0,0,4017130,4017130,4017130]
["Capital Spares",null,0,0,0,0,0,0,0,0,0]
[]
["Heritage assets",null,{"$f":"SUM(C104:C108)","v":0},{"$f":"SUM(D104:D108)","v":0},0,0,0,0,0,0,0]
["Monuments",null,0,0,0,0,0,0,0,0,0]
["Historic Buildings",null,0,0,0,0,0,0,0,0,0]
["Works of Art",null,0,0,0,0,0,0,0,0,0]
["Conservation Areas",null,0,0,0,0,0,0,0,0,0]
["Other Heritage",null,0,0,0,0,0,0,0,0,0]
[]
["Investment properties",null,{"$f":"+C111+C114","v":0},{"$f":"+D111+D114","v":0},0,0,0,0,0,0,0]
["Revenue Generating",null,{"$f":"SUM(C112:C113)","v":0},0,0,0,0,0,0,0,0]
["Improved Property",null,0,0,0,0,0,0,0,0,0]
["Unimproved Property",null,0,0,0,0,0,0,0,0,0]
["Non-revenue Generating",null,{"$f":"SUM(C115:C116)","v":0},{"$f":"SUM(D115:D116)","v":0},0,0,0,0,0,0,0]
["Improved Property",null,0,0,0,0,0,0,0,0,0]
["Unimproved Property",null,0,0,0,0,0,0,0,0,0]
[]
["Other assets",null,{"$f":"+C119+C131","v":0},{"$f":"+D119+D131","v":734009},10168466.23,977730,977730,977730,2623008,2623008,2623008]
["Operational Buildings",null,{"$f":"SUM(C120:C130)","v":0},{"$f":"SUM(D120:D130)","v":734009},10168466.23,977730,977730,977730,2623008,2623008,2623008]
["Municipal Offices",null,0,734009,10168466.23,977730,977730,977730,149736,149736,149736]
["Pay/Enquiry Points",null,0,0,0,0,0,0,0,0,0]
["Building Plan Offices",null,0,0,0,0,0,0,223226,223226,223226]
["Workshops",null,0,0,0,0,0,0,0,0,0]
["Yards",null,0,0,0,0,0,0,0,0,0]
["Stores",null,0,0,0,0,0,0,0,0,0]
["Laboratories",null,0,0,0,0,0,0,0,0,0]
["Training Centres",null,0,0,0,0,0,0,0,0,0]
["Manufacturing Plant",null,0,0,0,0,0,0,0,0,0]
["Depots",null,0,0,0,0,0,0,1823888,1823888,1823888]
["Capital Spares",null,0,0,0,0,0,0,426158,426158,426158]
["Housing",null,{"$f":"SUM(C132:C134)","v":0},{"$f":"SUM(D132:D134)","v":0},0,0,0,0,0,0,0]
["Staff Housing",null,0,0,0,0,0,0,0,0,0]
["Social Housing",null,0,0,0,0,0,0,0,0,0]
["Capital Spares",null,0,0,0,0,0,0,0,0,0]
[]
["Biological or Cultivated Assets",null,{"$f":"SUM(C137:C137)","v":0},0,0,0,0,0,0,0,0]
["Biological or Cultivated Assets",null,0,0,0,0,0,0,0,0,0]
[]
["Intangible Assets",null,{"$f":"+C140+C141","v":0},{"$f":"+D140+D141","v":0},0,0,0,0,593008,593008,593008]
["Servitudes",null,0,0,0,0,0,0,0,0,0]
["Licences and Rights",null,{"$f":"SUM(C142:C147)","v":0},{"$f":"SUM(D142:D147)","v":0},0,0,0,0,593008,593008,593008]
["Water Rights",null,0,0,0,0,0,0,0,0,0]
["Effluent Licenses",null,0,0,0,0,0,0,0,0,0]
["Solid Waste Licenses",null,0,0,0,0,0,0,0,0,0]
["Computer Software and Applications",null,0,0,0,0,0,0,593008,593008,593008]
["Load Settlement Software Applications",null,0,0,0,0,0,0,0,0,0]
["Unspecified",null,0,0,0,0,0,0,0,0,0]
[]
["Computer Equipment",null,{"$f":"SUM(C150:C150)","v":0},3283790.16,1124072.78,4614757,4614757,4614757,4451481,4451481,4451481]
["Computer Equipment",null,0,3283790.16,1124072.78,4614757,4614757,4614757,4451481,4451481,4451481]
[]
["Furniture and Office Equipment",null,{"$f":"SUM(C153:C153)","v":0},10067926.789999999,3488704.49,1341280,1341280,1341280,1395074,1440076,1489200]
["Furniture and Office Equipment",null,0,10067926.789999999,3488704.49,1341280,1341280,1341280,1395074,1440076,1489200]
[]
["Machinery and Equipment",null,{"$f":"SUM(C156:C156)","v":0},0,0,8245310,8245310,8245310,1291498,1291498,1291499]
["Machinery and Equipment",null,0,0,0,8245310,8245310,8245310,1291498,1291498,1291499]
[]
["Transport Assets",null,{"$f":"SUM(C159:C159)","v":130493937.2},114156265.2,83596798.260000005,115514580,115514580,115514580,1854035,1854830,1855698]
["Transport Assets",null,130493937.2,114156265.2,83596798.260000005,115514580,115514580,115514580,1854035,1854830,1855698]
[]
["Land",null,{"$f":"SUM(C162:C162)","v":0},0,0,0,0,0,0,0,0]
["Land",null,0,0,0,0,0,0,0,0,0]
[]
["Zoo's, Marine and Non-biological Animals",null,{"$f":"SUM(C165:C165)","v":0},0,0,0,0,0,0,0,0]
["Zoo's, Marine and Non-biological Animals",null,0,0,0,0,0,0,0,0,0]
[]
["Total Depreciation",1,{"$f":"C6+C74+C103+C110+C118+C136+C139+C149+C152+C155+C158+C161+C164","v":130493937.2},{"$f":"D6+D74+D103+D110+D118+D136+D139+D149+D152+D155+D158+D161+D164","v":128241991.15000001},98378041.760000005,132970807,132970807,132970807,129972562,135431430,141390421]
[]
[{"$f":"head27a","v":"References"}]
["1. Depreciation based on write down values. Not including Depreciation resulting from revaluation."]
[]
[]
["Check",null,{"$f":"C$167-'A4-FinPerf RE'!C$27","v":0},{"$f":"D$167-'A4-FinPerf RE'!D$27","v":-4399272.3400000036},{"$f":"E$167-'A4-FinPerf RE'!E$27","v":-9236673.150000006},{"$f":"F$167-'A4-FinPerf RE'!F$27","v":0},{"$f":"G$167-'A4-FinPerf RE'!G$27","v":0},{"$f":"H$167-'A4-FinPerf RE'!H$27","v":0},{"$f":"I$167-'A4-FinPerf RE'!J$27","v":0},{"$f":"J$167-'A4-FinPerf RE'!K$27","v":0},{"$f":"K$167-'A4-FinPerf RE'!L$27","v":0}]

{"sheet":"SA34e","index":59,"n_rows":175,"n_cols":11,"rows_kept":175,"cut":false,"hidden":false,"merged":[[1,5,1,7],[1,8,1,10]]}
[{"$f":"muni&\" - \"&TableA34e","v":"Choose name from list - Supporting Table SA34e Capital expenditure on the upgrading of existing assets by asset class"}]
[{"$f":"desc","v":"Description"},{"$f":"head27","v":"Ref"},{"$f":"head1b","v":"2017/18"},{"$f":"head1A","v":"2018/19"},{"$f":"Head1","v":"2019/20"},{"$f":"Head2","v":"Current Year 2020/21"},null,null,{"$f":"Head3","v":"2021/22 Medium Term Revenue & Expenditure Framework"}]
["R thousand",1,{"$f":"Head5","v":"Audited Outcome"},{"$f":"Head5","v":"Audited Outcome"},{"$f":"Head5","v":"Audited Outcome"},{"$f":"Head6","v":"Original Budget"},{"$f":"Head7","v":"Adjusted Budget"},{"$f":"Head8","v":"Full Year Forecast"},{"$f":"Head9","v":"Budget Year 2021/22"},{"$f":"Head10","v":"Budget Year +1 2022/23"},{"$f":"Head11","v":"Budget Year +2 2023/24"}]
["Capital expenditure on upgrading of existing assets by Asset Class/Sub-class"]
[]
["Infrastructure",null,{"$f":"C7+C12+C16+C26+C37+C44+C52+C62+C68","v":2156252},{"$f":"D7+D12+D16+D26+D37+D44+D52+D62+D68","v":17531610},62347494.030000001,106338034,119353549,119353549,96253950,111603800,101290194]
["Roads Infrastructure",null,{"$f":"SUM(C8:C11)","v":0},0,52193576.030000001,88938034,97989054,97989054,92753950,111603800,101290177]
["Roads",null,0,0,52193576.030000001,87558034,96609054,96609054,86053950,111603800,101290176]
["Road Structures",null,0,0,0,1380000,1380000,1380000,6700000,0,1]
["Road Furniture",null,0,0,0,0,0,0,0,0,0]
["Capital Spares",null,0,0,0,0,0,0,0,0,0]
["Storm water Infrastructure",null,{"$f":"SUM(C13:C15)","v":0},{"$f":"SUM(D13:D15)","v":0},0,0,2000000,2000000,3500000,0,2]
["Drainage Collection",null,0,0,0,0,2000000,2000000,3500000,0,2]
["Storm water Conveyance",null,0,0,0,0,0,0,0,0,0]
["Attenuation",null,0,0,0,0,0,0,0,0,0]
["Electrical Infrastructure",null,{"$f":"SUM(C17:C25)","v":1330092},17531610,10153918,17400000,19364495,19364495,0,0,15]
["Power Plants",null,1330092,17531610,0,0,0,0,0,0,0]
["HV Substations",null,0,0,4000000,0,0,0,0,0,1]
["HV Switching Station",null,0,0,0,0,0,0,0,0,0]
["HV Transmission Conductors",null,0,0,0,0,0,0,0,0,0]
["MV Substations",null,0,0,5827380,0,0,0,0,0,6]
["MV Switching Stations",null,0,0,0,0,0,0,0,0,0]
["MV Networks",null,0,0,326538,17400000,19364495,19364495,0,0,8]
["LV Networks",null,0,0,0,0,0,0,0,0,0]
["Capital Spares",null,0,0,0,0,0,0,0,0,0]
["Water Supply Infrastructure",null,{"$f":"SUM(C27:C36)","v":0},{"$f":"SUM(D27:D36)","v":0},0,0,0,0,0,0,0]
["Dams and Weirs",null,0,0,0,0,0,0,0,0,0]
["Boreholes",null,0,0,0,0,0,0,0,0,0]
["Reservoirs",null,0,0,0,0,0,0,0,0,0]
["Pump Stations",null,0,0,0,0,0,0,0,0,0]
["Water Treatment Works",null,0,0,0,0,0,0,0,0,0]
["Bulk Mains",null,0,0,0,0,0,0,0,0,0]
["Distribution",null,0,0,0,0,0,0,0,0,0]
["Distribution Points",null,0,0,0,0,0,0,0,0,0]
["PRV Stations",null,0,0,0,0,0,0,0,0,0]
["Capital Spares",null,0,0,0,0,0,0,0,0,0]
["Sanitation Infrastructure",null,{"$f":"SUM(C38:C43)","v":0},{"$f":"SUM(D38:D43)","v":0},0,0,0,0,0,0,0]
["Pump Station",null,0,0,0,0,0,0,0,0,0]
["Reticulation",null,0,0,0,0,0,0,0,0,0]
["Waste Water Treatment Works",null,0,0,0,0,0,0,0,0,0]
["Outfall Sewers",null,0,0,0,0,0,0,0,0,0]
["Toilet Facilities",null,0,0,0,0,0,0,0,0,0]
["Capital Spares",null,0,0,0,0,0,0,0,0,0]
["Solid Waste Infrastructure",null,{"$f":"SUM(C45:C51)","v":0},{"$f":"SUM(D45:D51)","v":0},0,0,0,0,0,0,0]
["Landfill Sites",null,0,0,0,0,0,0,0,0,0]
["Waste Transfer Stations",null,0,0,0,0,0,0,0,0,0]
["Waste Processing Facilities",null,0,0,0,0,0,0,0,0,0]
["Waste Drop-off Points",null,0,0,0,0,0,0,0,0,0]
["Waste Separation Facilities",null,0,0,0,0,0,0,0,0,0]
["Electricity Generation Facilities",null,0,0,0,0,0,0,0,0,0]
["Capital Spares",null,0,0,0,0,0,0,0,0,0]
["Rail Infrastructure",null,{"$f":"SUM(C53:C61)","v":0},0,0,0,0,0,0,0,0]
["Rail Lines",null,0,0,0,0,0,0,0,0,0]
["Rail Structures",null,0,0,0,0,0,0,0,0,0]
["Rail Furniture",null,0,0,0,0,0,0,0,0,0]
["Drainage Collection",null,0,0,0,0,0,0,0,0,0]
["Storm water Conveyance",null,0,0,0,0,0,0,0,0,0]
["Attenuation",null,0,0,0,0,0,0,0,0,0]
["MV Substations",null,0,0,0,0,0,0,0,0,0]
["LV Networks",null,0,0,0,0,0,0,0,0,0]
["Capital Spares",null,0,0,0,0,0,0,0,0,0]
["Coastal Infrastructure",null,{"$f":"SUM(C63:C67)","v":826160},{"$f":"SUM(D63:D67)","v":0},0,0,0,0,0,0,0]
["Sand Pumps",null,826160,0,0,0,0,0,0,0,0]
["Piers",null,0,0,0,0,0,0,0,0,0]
["Revetments",null,0,0,0,0,0,0,0,0,0]
["Promenades",null,0,0,0,0,0,0,0,0,0]
["Capital Spares",null,0,0,0,0,0,0,0,0,0]
["Information and Communication Infrastructure",null,{"$f":"SUM(C69:C72)","v":0},{"$f":"SUM(D69:D72)","v":0},0,0,0,0,0,0,0]
["Data Centres",null,0,0,0,0,0,0,0,0,0]
["Core Layers",null,0,0,0,0,0,0,0,0,0]
["Distribution Layers",null,0,0,0,0,0,0,0,0,0]
["Capital Spares",null,0,0,0,0,0,0,0,0,0]
[]
["Community Assets",null,{"$f":"C75+C98","v":97207476},{"$f":"D75+D98","v":0},850000,0,0,0,2000000,0,15700002]
["Community Facilities",null,{"$f":"SUM(C76:C97)","v":0},{"$f":"SUM(D76:D97)","v":0},850000,0,0,0,2000000,0,13700001]
["Halls",null,0,0,0,0,0,0,0,0,0]
["Centres",null,0,0,0,0,0,0,0,0,0]
["Crèches",null,0,0,0,0,0,0,0,0,0]
["Clinics/Care Centres",null,0,0,0,0,0,0,0,0,0]
["Fire/Ambulance Stations",null,0,0,0,0,0,0,0,0,0]
["Testing Stations",null,0,0,0,0,0,0,0,0,5200000]
["Museums",null,0,0,0,0,0,0,0,0,0]
["Galleries",null,0,0,0,0,0,0,0,0,0]
["Theatres",null,0,0,0,0,0,0,0,0,0]
["Libraries",null,0,0,0,0,0,0,0,0,1500000]
["Cemeteries/Crematoria",null,0,0,850000,0,0,0,2000000,0,7000001]
["Police",null,0,0,0,0,0,0,0,0,0]
["Parks",null,0,0,0,0,0,0,0,0,0]
["Public Open Space",null,0,0,0,0,0,0,0,0,0]
["Nature Reserves",null,0,0,0,0,0,0,0,0,0]
["Public Ablution Facilities",null,0,0,0,0,0,0,0,0,0]
["Markets",null,0,0,0,0,0,0,0,0,0]
["Stalls",null,0,0,0,0,0,0,0,0,0]
["Abattoirs",null,0,0,0,0,0,0,0,0,0]
["Airports",null,0,0,0,0,0,0,0,0,0]
["Taxi Ranks/Bus Terminals",null,0,0,0,0,0,0,0,0,0]
["Capital Spares",null,0,0,0,0,0,0,0,0,0]
["Sport and Recreation Facilities",null,{"$f":"SUM(C99:C101)","v":97207476},{"$f":"SUM(D99:D101)","v":0},0,0,0,0,0,0,2000001]
["Indoor Facilities",null,97207476,0,0,0,0,0,0,0,0]
["Outdoor Facilities",null,0,0,0,0,0,0,0,0,2000001]
["Capital Spares",null,0,0,0,0,0,0,0,0,0]
[]
["Heritage assets",null,{"$f":"SUM(C104:C108)","v":0},{"$f":"SUM(D104:D108)","v":0},0,0,0,0,0,0,0]
["Monuments",null,0,0,0,0,0,0,0,0,0]
["Historic Buildings",null,0,0,0,0,0,0,0,0,0]
["Works of Art",null,0,0,0,0,0,0,0,0,0]
["Conservation Areas",null,0,0,0,0,0,0,0,0,0]
["Other Heritage",null,0,0,0,0,0,0,0,0,0]
[]
["Investment properties",null,{"$f":"+C111+C114","v":0},{"$f":"+D111+D114","v":0},0,0,0,0,0,0,0]
["Revenue Generating",null,{"$f":"SUM(C112:C113)","v":0},0,0,0,0,0,0,0,0]
["Improved Property",null,0,0,0,0,0,0,0,0,0]
["Unimproved Property",null,0,0,0,0,0,0,0,0,0]
["Non-revenue Generating",null,{"$f":"SUM(C115:C116)","v":0},{"$f":"SUM(D115:D116)","v":0},0,0,0,0,0,0,0]
["Improved Property",null,0,0,0,0,0,0,0,0,0]
["Unimproved Property",null,0,0,0,0,0,0,0,0,0]
[]
["Other assets",null,{"$f":"+C119+C131","v":0},{"$f":"+D119+D131","v":0},5700000,0,0,0,3500000,800000,11600002]
["Operational Buildings",null,{"$f":"SUM(C120:C130)","v":0},{"$f":"SUM(D120:D130)","v":0},5700000,0,0,0,3500000,800000,11600002]
["Municipal Offices",null,0,0,5700000,0,0,0,3500000,800000,10000002]
["Pay/Enquiry Points",null,0,0,0,0,0,0,0,0,0]
["Building Plan Offices",null,0,0,0,0,0,0,0,0,0]
["Workshops",null,0,0,0,0,0,0,0,0,1000000]
["Yards",null,0,0,0,0,0,0,0,0,0]
["Stores",null,0,0,0,0,0,0,0,0,0]
["Laboratories",null,0,0,0,0,0,0,0,0,600000]
["Training Centres",null,0,0,0,0,0,0,0,0,0]
["Manufacturing Plant",null,0,0,0,0,0,0,0,0,0]
["Depots",null,0,0,0,0,0,0,0,0,0]
["Capital Spares",null,0,0,0,0,0,0,0,0,0]
["Housing",null,{"$f":"SUM(C132:C134)","v":0},{"$f":"SUM(D132:D134)","v":0},0,0,0,0,0,0,0]
["Staff Housing",null,0,0,0,0,0,0,0,0,0]
["Social Housing",null,0,0,0,0,0,0,0,0,0]
["Capital Spares",null,0,0,0,0,0,0,0,0,0]
[]
["Biological or Cultivated Assets",null,{"$f":"SUM(C137:C137)","v":0},0,0,0,0,0,0,0,0]
["Biological or Cultivated Assets",null,0,0,0,0,0,0,0,0,0]
[]
["Intangible Assets",null,{"$f":"+C140+C141","v":0},{"$f":"+D140+D141","v":0},0,0,0,0,0,0,0]
["Servitudes",null,0,0,0,0,0,0,0,0,0]
["Licences and Rights",null,{"$f":"SUM(C142:C147)","v":0},{"$f":"SUM(D142:D147)","v":0},0,0,0,0,0,0,0]
["Water Rights",null,0,0,0,0,0,0,0,0,0]
["Effluent Licenses",null,0,0,0,0,0,0,0,0,0]
["Solid Waste Licenses",null,0,0,0,0,0,0,0,0,0]
["Computer Software and Applications",null,0,0,0,0,0,0,0,0,0]
["Load Settlement Software Applications",null,0,0,0,0,0,0,0,0,0]
["Unspecified",null,0,0,0,0,0,0,0,0,0]
[]
["Computer Equipment",null,{"$f":"SUM(C150:C150)","v":0},0,0,0,0,0,0,0,0]
["Computer Equipment",null,0,0,0,0,0,0,0,0,0]
[]
["Furniture and Office Equipment",null,{"$f":"SUM(C153:C153)","v":0},0,150000,0,0,0,0,0,1]
["Furniture and Office Equipment",null,0,0,150000,0,0,0,0,0,1]
[]
["Machinery and Equipment",null,{"$f":"SUM(C156:C156)","v":0},0,0,0,0,0,0,0,0]
["Machinery and Equipment",null,0,0,0,0,0,0,0,0,0]
[]
["Transport Assets",null,{"$f":"SUM(C159:C159)","v":0},0,0,0,0,0,0,0,0]
["Transport Assets",null,0,0,0,0,0,0,0,0,0]
[]
["Land",null,{"$f":"SUM(C162:C162)","v":0},0,0,0,0,0,0,0,0]
["Land",null,0,0,0,0,0,0,0,0,0]
[]
["Zoo's, Marine and Non-biological Animals",null,{"$f":"SUM(C165:C165)","v":0},0,0,0,0,0,0,0,0]
["Zoo's, Marine and Non-biological Animals",null,0,0,0,0,0,0,0,0,0]
[]
["Total Capital Expenditure on upgrading of existing assets ",1,{"$f":"C6+C74+C103+C110+C118+C136+C139+C149+C152+C155+C158+C161+C164","v":99363728},{"$f":"D6+D74+D103+D110+D118+D136+D139+D149+D152+D155+D158+D161+D164","v":17531610},69047494.030000001,106338034,119353549,119353549,101753950,112403800,128590199]
[]
["Upgrading of Existing Assets as % of total capex",null,{"$f":"IF(ISERROR(C167/'A9-Asset'!C67),0,(C167/'A9-Asset'!C67))","v":0},{"$f":"IF(ISERROR(D167/'A9-Asset'!D132),0,(D167/'A9-Asset'!D132))","v":0.16941628134605524},{"$f":"IF(ISERROR(E167/'A9-Asset'!E132),0,(E167/'A9-Asset'!E132))","v":0.36291485048229533},{"$f":"IF(ISERROR(F167/'A9-Asset'!F132),0,(F167/'A9-Asset'!F132))","v":0.81190784661825888},{"$f":"IF(ISERROR(G167/'A9-Asset'!G132),0,(G167/'A9-Asset'!G132))","v":0.73906355771843235},{"$f":"IF(ISERROR(H167/'A9-Asset'!H132),0,(H167/'A9-Asset'!H132))","v":0.73906355771843235},{"$f":"IF(ISERROR(I167/'A9-Asset'!I132),0,(I167/'A9-Asset'!I132))","v":0.77759386263449271},{"$f":"IF(ISERROR(J167/'A9-Asset'!J132),0,(J167/'A9-Asset'!J132))","v":0.70206828320127312},{"$f":"IF(ISERROR(K167/'A9-Asset'!K132),0,(K167/'A9-Asset'!K132))","v":0.72783355738467137}]
["Upgrading of Existing Assets as % of deprecn\"",null,{"$f":"IF(ISERROR(C167/'A9-Asset'!C168),0,(C167/'A9-Asset'!C168))","v":0.76144325270614943},{"$f":"IF(ISERROR(D167/'A9-Asset'!D168),0,(D167/'A9-Asset'!D168))","v":0.13670725043167734},{"$f":"IF(ISERROR(E167/'A9-Asset'!E168),0,(E167/'A9-Asset'!E168))","v":0.70185879688931097},{"$f":"IF(ISERROR(F167/'A9-Asset'!F168),0,(F167/'A9-Asset'!F168))","v":0.79970962348149099},{"$f":"IF(ISERROR(G167/'A9-Asset'!G168),0,(G167/'A9-Asset'!G168))","v":0.89759212335982885},{"$f":"IF(ISERROR(H167/'A9-Asset'!H168),0,(H167/'A9-Asset'!H168))","v":0.89759212335982885},{"$f":"IF(ISERROR(I167/'A9-Asset'!I168),0,(I167/'A9-Asset'!I168))","v":0.782887929838607},{"$f":"IF(ISERROR(J167/'A9-Asset'!J168),0,(J167/'A9-Asset'!J168))","v":0.82996834634323802},{"$f":"IF(ISERROR(K167/'A9-Asset'!K168),0,(K167/'A9-Asset'!K168))","v":0.90946895900394842}]
[{"$f":"head27a","v":"References"}]
["1.  Total Capital Expenditure  on upgrading of existing assets (SA34e) plus Total Capital Expenditure on new assets (SA34a)  plus Total Capital Expenditure  on renewal of existing assets (SA34b) must reconcile to total capital expenditure in Budgeted Capital Expenditure"]
[]
[]
["check balance",null,{"$f":"SUM(C167+SA34a!C167++SA34b!C167)-'A5-Capex'!C40","v":0},{"$f":"SUM(D167+SA34a!D167++SA34b!D167)-'A5-Capex'!D40","v":0},{"$f":"SUM(E167+SA34a!E167++SA34b!E167)-'A5-Capex'!E40","v":0},{"$f":"SUM(F167+SA34a!F167++SA34b!F167)-'A5-Capex'!F40","v":0},{"$f":"SUM(G167+SA34a!G167++SA34b!G167)-'A5-Capex'!G40","v":0},{"$f":"SUM(H167+SA34a!H167++SA34b!H167)-'A5-Capex'!H40","v":0},{"$f":"SUM(I167+SA34a!I167++SA34b!I167)-'A5-Capex'!J40","v":0},{"$f":"SUM(J167+SA34a!J167++SA34b!J167)-'A5-Capex'!K40","v":0},{"$f":"SUM(K167+SA34a!K167++SA34b!K167)-'A5-Capex'!L40","v":0}]

{"sheet":"SA35","index":60,"n_rows":59,"n_cols":9,"rows_kept":59,"cut":false,"hidden":false,"merged":[[1,5,1,8],[1,2,1,4]]}
[{"$f":"muni&\" - \"&TableA35","v":"Choose name from list - Supporting Table SA35 Future financial implications of the capital budget"}]
[{"$f":"Vdesc","v":"Vote Description"},{"$f":"head27","v":"Ref"},{"$f":"Head3","v":"2021/22 Medium Term Revenue & Expenditure Framework"},null,null,"Forecasts"]
["R thousand",null,{"$f":"Head9","v":"Budget Year 2021/22"},{"$f":"Head10","v":"Budget Year +1 2022/23"},{"$f":"Head11","v":"Budget Year +2 2023/24"},{"$f":"Head12","v":"Forecast 2024/25"},{"$f":"Head13","v":"Forecast 2025/26"},{"$f":"Head14","v":"Forecast 2026/27"},{"$f":"Head48","v":"Present value"}]
["Capital expenditure",1]
[{"$f":"'A5-Capex'!A6","v":"Vote 1 - Executive & Council"},null,{"$f":"'A5-Capex'!J6+'A5-Capex'!J24","v":0},{"$f":"'A5-Capex'!K6+'A5-Capex'!K24","v":0},{"$f":"'A5-Capex'!L6+'A5-Capex'!L24","v":0}]
[{"$f":"'A5-Capex'!A7","v":"Vote 2 - Planning and Economic Development"},null,{"$f":"'A5-Capex'!J7+'A5-Capex'!J25","v":6558500},{"$f":"'A5-Capex'!K7+'A5-Capex'!K25","v":4000000},{"$f":"'A5-Capex'!L7+'A5-Capex'!L25","v":29085002}]
[{"$f":"'A5-Capex'!A8","v":"Vote 3 - Budget and Treasury"},null,{"$f":"'A5-Capex'!J8+'A5-Capex'!J26","v":700000},{"$f":"'A5-Capex'!K8+'A5-Capex'!K26","v":0},{"$f":"'A5-Capex'!L8+'A5-Capex'!L26","v":1}]
[{"$f":"'A5-Capex'!A9","v":"Vote 4 - Corporate Services"},null,{"$f":"'A5-Capex'!J9+'A5-Capex'!J27","v":0},{"$f":"'A5-Capex'!K9+'A5-Capex'!K27","v":0},{"$f":"'A5-Capex'!L9+'A5-Capex'!L27","v":2}]
[{"$f":"'A5-Capex'!A10","v":"Vote 5 - Engineering Services"},null,{"$f":"'A5-Capex'!J10+'A5-Capex'!J28","v":106123950},{"$f":"'A5-Capex'!K10+'A5-Capex'!K28","v":146103800},{"$f":"'A5-Capex'!L10+'A5-Capex'!L28","v":135590206}]
[{"$f":"'A5-Capex'!A11","v":"Vote 6 - Community Services"},null,{"$f":"'A5-Capex'!J11+'A5-Capex'!J29","v":1325000},{"$f":"'A5-Capex'!K11+'A5-Capex'!K29","v":0},{"$f":"'A5-Capex'!L11+'A5-Capex'!L29","v":8}]
[{"$f":"'A5-Capex'!A12","v":"Vote 7 - Electrical Engineering"},null,{"$f":"'A5-Capex'!J12+'A5-Capex'!J30","v":16150000},{"$f":"'A5-Capex'!K12+'A5-Capex'!K30","v":10000000},{"$f":"'A5-Capex'!L12+'A5-Capex'!L30","v":12000062}]
[{"$f":"'A5-Capex'!A13","v":"Vote 8 - Office of the Speaker"},null,{"$f":"'A5-Capex'!J13+'A5-Capex'!J31","v":0},{"$f":"'A5-Capex'!K13+'A5-Capex'!K31","v":0},{"$f":"'A5-Capex'!L13+'A5-Capex'!L31","v":0}]
[{"$f":"'A5-Capex'!A14","v":"Vote 9 - COMMUNITY & SOCIAL SERVICES"},null,{"$f":"'A5-Capex'!J14+'A5-Capex'!J32","v":0},{"$f":"'A5-Capex'!K14+'A5-Capex'!K32","v":0},{"$f":"'A5-Capex'!L14+'A5-Capex'!L32","v":0}]
[{"$f":"'A5-Capex'!A15","v":"Vote 10 - Office of the Municipal Manager"},null,{"$f":"'A5-Capex'!J15+'A5-Capex'!J33","v":0},{"$f":"'A5-Capex'!K15+'A5-Capex'!K33","v":0},{"$f":"'A5-Capex'!L15+'A5-Capex'!L33","v":1}]
[{"$f":"'A5-Capex'!A16","v":"Vote 11 - [NAME OF VOTE 11]"},null,{"$f":"'A5-Capex'!J16+'A5-Capex'!J34","v":0},{"$f":"'A5-Capex'!K16+'A5-Capex'!K34","v":0},{"$f":"'A5-Capex'!L16+'A5-Capex'!L34","v":0}]
[{"$f":"'A5-Capex'!A17","v":"Vote 12 - [NAME OF VOTE 12]"},null,{"$f":"'A5-Capex'!J17+'A5-Capex'!J35","v":0},{"$f":"'A5-Capex'!K17+'A5-Capex'!K35","v":0},{"$f":"'A5-Capex'!L17+'A5-Capex'!L35","v":0}]
[{"$f":"'A5-Capex'!A18","v":"Vote 13 - [NAME OF VOTE 13]"},null,{"$f":"'A5-Capex'!J18+'A5-Capex'!J36","v":0},{"$f":"'A5-Capex'!K18+'A5-Capex'!K36","v":0},{"$f":"'A5-Capex'!L18+'A5-Capex'!L36","v":0}]
[{"$f":"'A5-Capex'!A19","v":"Vote 14 - [NAME OF VOTE 14]"},null,{"$f":"'A5-Capex'!J19+'A5-Capex'!J37","v":0},{"$f":"'A5-Capex'!K19+'A5-Capex'!K37","v":0},{"$f":"'A5-Capex'!L19+'A5-Capex'!L37","v":0}]
[{"$f":"'A5-Capex'!A20","v":"Vote 15 - [NAME OF VOTE 15]"},null,{"$f":"'A5-Capex'!J20+'A5-Capex'!J38","v":0},{"$f":"'A5-Capex'!K20+'A5-Capex'!K38","v":0},{"$f":"'A5-Capex'!L20+'A5-Capex'!L38","v":0}]
["List entity summary if applicable"]
["Total Capital Expenditure ",null,{"$f":"SUM(C5:C20)","v":130857450},{"$f":"SUM(D5:D20)","v":160103800},176675282,0,0,0,0]
[]
["Future operational costs by vote",2]
[{"$f":"A5","v":"Vote 1 - Executive & Council"}]
[{"$f":"A6","v":"Vote 2 - Planning and Economic Development"}]
["Vote 3 - Budget and Treasury"]
["Vote 4 - Corporate Services"]
["Vote 5 - Engineering Services"]
["Vote 6 - Community Services"]
["Vote 7 - Electrical Engineering"]
["Vote 8 - Office of the Speaker"]
["Vote 9 - COMMUNITY & SOCIAL SERVICES"]
["Vote 10 - Office of the Municipal Manager"]
["Vote 11 - [NAME OF VOTE 11]"]
["Vote 12 - [NAME OF VOTE 12]"]
["Vote 13 - [NAME OF VOTE 13]"]
["Vote 14 - [NAME OF VOTE 14]"]
["Vote 15 - [NAME OF VOTE 15]"]
["List entity summary if applicable"]
["Total future operational costs",null,{"$f":"SUM(C24:C39)","v":0},{"$f":"SUM(D24:D39)","v":0},0,0,0,0,0]
[]
["Future revenue by source",3]
[{"$f":"'A4-FinPerf RE'!A5","v":"Property rates"}]
[{"$f":"'A4-FinPerf RE'!A6","v":"Service charges - electricity revenue"}]
[{"$f":"'A4-FinPerf RE'!A7","v":"Service charges - water revenue"}]
[{"$f":"'A4-FinPerf RE'!A8","v":"Service charges - sanitation revenue"}]
[{"$f":"'A4-FinPerf RE'!A9","v":"Service charges - refuse revenue"}]
[]
[{"$f":"'A4-FinPerf RE'!A11","v":"Rental of facilities and equipment"}]
["List other revenues sources if applicable"]
["List entity summary if applicable"]
["Total future revenue",null,{"$f":"SUM(C43:C47)+SUM(C49:C51)","v":0},{"$f":"SUM(D43:D47)+SUM(D49:D51)","v":0},0,0,0,0,0]
["Net Financial Implications",null,{"$f":"C21+C40-C52","v":130857450},160103800,176675282,0,0,0,0]
[{"$f":"head27a","v":"References"}]
["1. Summarise the total capital cost until capital project is operational (MFMA s19(2)(a))"]
["2. Summary of future operational costs from when projects operational (present value until the end of each asset's useful life) (MFMA s19(2)(b))"]
["3. Summarise the future revenue from when projects are operational, including municipal tax and tariff implications, (present value until the end of asset's useful life)"]
[]
["check",null,{"$f":"C21-('A5-Capex'!J21+'A5-Capex'!J39)","v":0},{"$f":"D21-('A5-Capex'!K21+'A5-Capex'!K39)","v":0},{"$f":"E21-('A5-Capex'!L21+'A5-Capex'!L39)","v":0}]

{"sheet":"SA36","index":61,"n_rows":262,"n_cols":17,"rows_kept":262,"cut":false,"hidden":false,"merged":[[1,12,1,13],[1,14,1,16]]}
[{"$f":"muni&\" - \"&TableA36","v":"Choose name from list - Supporting Table SA36 Detailed capital budget"}]
["R thousand",null,null,null,null,null,null,null,null,null,null,null,null,null,{"$f":"Head3","v":"2021/22 Medium Term Revenue & Expenditure Framework"}]
["Function","Project Description","Project Number","Type","MTSF Service Outcome","IUDF","Own Strategic Objectives","Asset Class","Asset Sub-Class","Ward Location","GPS Longitude","GPS Lattitude",{"$f":"Head5&\"    \"&Head1","v":"Audited Outcome    2019/20"},{"$f":"Head2 & \"        \"&Head8","v":"Current Year 2020/21        Full Year Forecast"},{"$f":"Head9","v":"Budget Year 2021/22"},{"$f":"Head10","v":"Budget Year +1 2022/23"},{"$f":"Head11","v":"Budget Year +2 2023/24"}]
["Parent municipality:"]
["List all capital projects grouped by Function"]
[]
["Community Halls and Facilities","_105_Grass cutting machines","PC002003009000000000000000000000000000_02419","New","An efficient, competitive and responsive economic infrastructure network",null,"Optimize and sustain infrastructure investment and services  ","Machinery and Equipment","Machinery and Equipment","Whole of the Municipality",0,0,0,500000,0,0,1]
["Consumer Protection","CSD-116_Purchase of Electronic National and Traffic and Information System terminal and equipment","PC002003009000000000000000000000000000_03458","New","An efficient, competitive and responsive economic infrastructure network",null,"Optimize and sustain infrastructure investment and services  ","Machinery and Equipment","Machinery and Equipment","Whole of the Municipality",0,0,0,0,250000,0,0]
["Consumer Protection","CSD-113_Purchase of Computers for traffic administration","PC002003004000000000000000000000000000_03455","New","An efficient, competitive and responsive economic infrastructure network",null,"Optimize and sustain infrastructure investment and services  ","Computer Equipment","Computer Equipment","Whole of the Municipality",0,0,0,0,60000,0,0]
["Consumer Protection","CSD-114_Purchase of Printers for traffic administration","PC002003004000000000000000000000000000_03456","New","An efficient, competitive and responsive economic infrastructure network",null,"Optimize and sustain infrastructure investment and services  ","Computer Equipment","Computer Equipment","Whole of the Municipality",0,0,0,0,15000,0,0]
["Consumer Protection","CSD-112_Purchase of speed measuring instrument","PC002003009000000000000000000000000000_03454","New","An efficient, competitive and responsive economic infrastructure network",null,"Optimize and sustain infrastructure investment and services  ","Machinery and Equipment","Machinery and Equipment","Whole of the Municipality",0,0,0,0,500000,0,0]
["Consumer Protection","CSD-115_Purchase of traffic light controllers for law enforcement administration","PC001002006000000000000000000000000000_03457","New","An efficient, competitive and responsive economic infrastructure network",null,"Optimize and sustain infrastructure investment and services  ","Infrastructure","Roads Infrastructure","Whole of the Municipality",0,0,0,0,500000,0,0]
["Economic Development/Planning","PED-7_Purchase of Geographical Information Systems","PC001001001009000000000000000000000000_03551","New","An efficient, competitive and responsive economic infrastructure network",null,"Optimize and sustain infrastructure investment and services","Infrastructure","Information and Communication Infrastructure","Whole of the Municipality",0,0,0,0,2800000,4000000,4000000]
["Economic Development/Planning","GTEDA-117_Purchase of MSCOA printers Equipment","PC002003004000000000000000000000000000_03550","New","An efficient, competitive and responsive economic infrastructure network",null,"Optimize and sustain infrastructure investment and services  ","Computer Equipment","Computer Equipment","Whole of the Municipality",0,0,0,0,258500,0,235000]
["Economic Development/Planning","GTEDA-156_Purchase of  Mscoa printers and programmes","PC002003005000000000000000000000000000_00381","New","Responsive, accountable, effective and efficient local government",null,"Increase Financial viability  ","Furniture and Office Equipment","Furniture and Office Equipment","Whole of the Municipality",0,0,0,235000,0,0,1]
["Electricity","EED-59_Area Lighting at R36 Kujwana turn off","PC002003009000000000000000000000000000_00260","New","All people in South Africa are and feel safe",null,"Optimize and sustain infrastructure investment and services  ","Machinery and Equipment","Machinery and Equipment","Whole of the Municipality",0,0,0,492696,0,0,1]
["Electricity","EED-46_Installation of new Entrance  streetlights R71 (Adshade bridge to the Voortrekker street robot) ","PC002003009000000000000000000000000000_00463","New","All people in South Africa are and feel safe",null,"Optimize and sustain infrastructure investment and services  ","Machinery and Equipment","Machinery and Equipment","Whole of the Municipality",0,0,0,476596,0,0,1]
["Electricity","High Mast Lights at Petanenge","PC001001002006000000000000000000000000_03461","Upgrading","An efficient, competitive and responsive economic infrastructure network",null,"Improve access to sustainable and affordable basic services  ","Infrastructure","Roads Infrastructure","Whole of the Municipality",0,0,0,0,650000,0,0]
["Electricity","High Mast Lights at Lusaka","PC001001002006000000000000000000000000_03464","Upgrading","An efficient, competitive and responsive economic infrastructure network",null,"Improve access to sustainable and affordable basic services  ","Infrastructure","Roads Infrastructure","Whole of the Municipality",0,0,0,0,650000,0,0]
["Electricity","Replacement of damaged Air Conditioners","PC001001001001000000000000000000000000_01336","New","An efficient, competitive and responsive economic infrastructure network",null,"Optimize and sustain infrastructure investment and services","Infrastructure","Electrical Infrastructure","Whole of the Municipality",0,0,0,150000,0,0,1]
["Electricity","EED- 116_Renewal Repairs and Maintenance on prepaid meters and infrastructure at Tzaneen, Letsitele and Politsi","PC001002001000000000000000000000000000_00271","New","An efficient, competitive and responsive economic infrastructure network",null,"Optimize and sustain infrastructure investment and services  ","Infrastructure","Electrical Infrastructure","Whole of the Municipality",0,0,0,600000,0,0,1]
["Electricity","High Mast Lights at Moleketla","PC001001002006000000000000000000000000_03466","Upgrading","An efficient, competitive and responsive economic infrastructure network",null,"Improve access to sustainable and affordable basic services  ","Infrastructure","Roads Infrastructure","Whole of the Municipality",0,0,0,0,650000,0,0]
["Electricity","EED109 - Streetlights R36","PC001002006000000000000000000000000000_01362","New","All people in South Africa are and feel safe",null,"Optimize and sustain infrastructure investment and services  ","Infrastructure","Roads Infrastructure","Whole of the Municipality",0,0,0,0,0,0,1]
["Electricity","EED-126_Rebuilding of Mashutti 11kv line (2km)","PC001002003000000000000000000000000000_00443","New","An efficient, competitive and responsive economic infrastructure network",null,"Optimize and sustain infrastructure investment and services  ","Infrastructure","Rail Infrastructure","Whole of the Municipality",0,0,0,261500,0,0,1]
["Electricity","EED-124_Rebuilding of lines Gravelotte – De Neck      (2.5 km)","PC001002003000000000000000000000000000_00477","New","An efficient, competitive and responsive economic infrastructure network",null,"Optimize and sustain infrastructure investment and services  ","Infrastructure","Rail Infrastructure","Whole of the Municipality",0,0,0,406682,0,0,1]
["Electricity","EED_129_Rebuilding of Ledzee 11kv line from LZ44 to Vandergrey Farm (2,5km)","PC001002003000000000000000000000000000_00344","New","An efficient, competitive and responsive economic infrastructure network",null,"Optimize and sustain infrastructure investment and services  ","Infrastructure","Rail Infrastructure","Whole of the Municipality",0,0,0,1026455,0,0,1]
["Electricity","EED-47_R71 Deerpark Traffic circle lights SANRAL","PC002003009000000000000000000000000000_00228","New","An efficient, competitive and responsive economic infrastructure network",null,"Enhanced sustainable environmental management and social development  ","Machinery and Equipment","Machinery and Equipment","Whole of the Municipality",0,0,0,0,0,0,1]
["Electricity","EED-121_Provision of Electrical tools (Operation and Maintenance)","PC002003009000000000000000000000000000_00320","New","An efficient, competitive and responsive economic infrastructure network",null,"Optimize and sustain infrastructure investment and services  ","Machinery and Equipment","Machinery and Equipment","Whole of the Municipality",0,0,0,0,0,0,1]
["Electricity","EED-122-Replacing of Existing Air conditioners in Municipal buildings","PC002002002005000000000000000000000000_00551","Upgrading","An efficient, competitive and responsive economic infrastructure network",null,"Optimize and sustain infrastructure investment and services","Furniture and Office Equipment","Furniture and Office Equipment","Whole of the Municipality",0,0,0,0,0,0,1]
["Electricity","Purchase of vehicle for electrical department","PC002003010000000000000000000000000000_03582","New","An efficient, competitive and responsive economic infrastructure network",null,"Improve access to sustainable and affordable basic services  ","Transport Assets","Transport Assets","Whole of the Municipality",0,0,0,0,450000,0,0]
["Electricity","EED-120_Provision of Electrical Tools (Customer Retail)","PC002003009000000000000000000000000000_00419","New","An efficient, competitive and responsive economic infrastructure network",null,"Optimize and sustain infrastructure investment and services  ","Machinery and Equipment","Machinery and Equipment","Whole of the Municipality",0,0,0,0,0,0,1]
["Electricity","EED-144_Upgrading of Waterbok 33/11KV Substation","PC001001002001000000000000000000000000_00459","Upgrading","An efficient, competitive and responsive economic infrastructure network",null,"Optimize and sustain infrastructure investment and services  ","Infrastructure","Electrical Infrastructure","Whole of the Municipality",0,0,0,0,0,0,1]
["Electricity","EED-143_Substation Fencing","PC001001001001000000000000000000000000_00480","New","An efficient, competitive and responsive economic infrastructure network",null,"Enhanced sustainable environmental management and social development  ","Infrastructure","Electrical Infrastructure","Whole of the Municipality",0,0,0,476056,0,0,1]
["Electricity","EED-140_Rebuilding of CP Minnaar 11kv lines (2km)","PC001002003000000000000000000000000000_00211","New","An efficient, competitive and responsive economic infrastructure network",null,"Optimize and sustain infrastructure investment and services  ","Infrastructure","Rail Infrastructure","Whole of the Municipality",0,0,0,0,0,0,1]
["Electricity","EED-139_Rebuilding of Politsi Valley 11kv lines (5km)","PC001002003000000000000000000000000000_00241","New","An efficient, competitive and responsive economic infrastructure network",null,"Optimize and sustain infrastructure investment and services  ","Infrastructure","Rail Infrastructure","Whole of the Municipality",0,0,0,0,0,0,1]
["Electricity","Electricity Connection at Runnymede Sport Facility","PC001001002006000000000000000000000000_03581","Upgrading","An efficient, competitive and responsive economic infrastructure network",null,"Improve access to sustainable and affordable basic services  ","Infrastructure","Roads Infrastructure","Whole of the Municipality",0,0,0,0,500000,0,0]
["Electricity","EED-153_Rebuilding of Valencia 11 kv lines","PC001001001001000000000000000000000000_00107","New","An efficient, competitive and responsive economic infrastructure network",null,"Optimize and sustain infrastructure investment and services  ","Infrastructure","Electrical Infrastructure","Whole of the Municipality",0,0,0,296700,0,0,1]
["Electricity","EED-149-Install 33kV voltage regulator on the 33kV Haenertsburg ring","PC001002001000000000000000000000000000_00568","New","An efficient, competitive and responsive economic infrastructure network",null,"Optimize and sustain infrastructure investment and services  ","Infrastructure","Electrical Infrastructure","Whole of the Municipality",0,0,0,3637557,0,0,1]
["Electricity","Installation of High Mast Light at Sunnyside 4-Way","PC001001002006000000000000000000000000_03583","Upgrading","An efficient, competitive and responsive economic infrastructure network",null,"Improve access to sustainable and affordable basic services  ","Infrastructure","Roads Infrastructure","Whole of the Municipality",0,0,0,0,650000,0,0]
["Electricity","Upgrading substation incl transformers_1","PC001001002001000000000000000000000000_01343","Upgrading","An efficient, competitive and responsive economic infrastructure network",null,"Optimize and sustain infrastructure investment and services  ","Infrastructure","Electrical Infrastructure","Whole of the Municipality",0,0,0,0,0,0,1]
["Electricity","Replace existing outdated infrastructure_2","PC001001002001000000000000000000000000_01338","Upgrading","An efficient, competitive and responsive economic infrastructure network",null,"Optimize and sustain infrastructure investment and services  ","Infrastructure","Electrical Infrastructure","Whole of the Municipality",0,0,0,0,0,0,1]
["Electricity","Lenyenye Stadium Upgrade Phase 2","PC002002002002002000000000000000000000_03459","Upgrading","An efficient, competitive and responsive economic infrastructure network",null,"Improve access to sustainable and affordable basic services  ","Community Assets","Sport and Recreation Facilities","Whole of the Municipality",0,0,0,0,0,0,2000000]
["Electricity","Replace 2 x 20 MVA 66/11 kV at Tzaneen main sub","PC001002001000000000000000000000000000_01332","New","An efficient, competitive and responsive economic infrastructure network",null,"Optimize and sustain infrastructure investment and services  ","Infrastructure","Electrical Infrastructure","Whole of the Municipality",0,0,0,0,0,0,1]
["Electricity","EED-130_Rebuilding of lines – Letsitele Valley substation – Bosbou and all T offs (2,5 km)","PC001002003000000000000000000000000000_00368","New","An efficient, competitive and responsive economic infrastructure network",null,"Optimize and sustain infrastructure investment and services  ","Infrastructure","Rail Infrastructure","Whole of the Municipality",0,0,0,296700,0,0,1]
["Electricity","EED-115_New Electricity Connections (Consumer Contribution)","PC001002001000000000000000000000000000_00482","New","An efficient, competitive and responsive economic infrastructure network",null,"Optimise and sustain infrastructure investment and services","Infrastructure","Electrical Infrastructure","Whole of the Municipality",0,0,0,4000000,0,0,1]
["Electricity","EED-125_Rebuilding of 33 KV lines – Lalapanzi – Waterbok in phases_(1.5 km)","PC001002003000000000000000000000000000_00203","New","An efficient, competitive and responsive economic infrastructure network",null,"Optimize and sustain infrastructure investment and services  ","Infrastructure","Rail Infrastructure","Whole of the Municipality",0,0,0,319753,0,0,1]
["Electricity","EED-118_Replacing 11kv cables due to required increase in capacity (0.5km)(0.5km)","PC001001001001000000000000000000000000_00201","New","An efficient, competitive and responsive economic infrastructure network",null,"Optimize and sustain infrastructure investment and services  ","Infrastructure","Electrical Infrastructure","Whole of the Municipality",0,0,0,0,0,0,1]
["Electricity","EED-127_Rebuilding of Deeside 11kv line (2.5km)","PC001002003000000000000000000000000000_00537","New","An efficient, competitive and responsive economic infrastructure network",null,"Optimize and sustain infrastructure investment and services  ","Infrastructure","Rail Infrastructure","Whole of the Municipality",0,0,0,1044841,0,0,1]
["Electricity","EED-145_Upgrading of Blacknoll 33/11KV Substation","PC001001002001000000000000000000000000_00339","Upgrading","An efficient, competitive and responsive economic infrastructure network",null,"Optimize and sustain infrastructure investment and services  ","Infrastructure","Electrical Infrastructure","Whole of the Municipality",0,0,0,0,0,0,1]
["Electricity","EED-97_New Electricity Connections (Consumer Contribution)","PC001002001000000000000000000000000000_03467","New","An efficient, competitive and responsive economic infrastructure network",null,"Improve access to sustainable and affordable basic services  ","Infrastructure","Electrical Infrastructure","Whole of the Municipality",0,0,0,0,10000000,10000000,10000000]
["Electricity","Rebuilding of lines - Califonia  11kV lines","PC001001001001000000000000000000000000_02452","New","An efficient, competitive and responsive economic infrastructure network",null,"Optimize and sustain infrastructure investment and services  ","Infrastructure","Electrical Infrastructure","Administrative or Head Office (Including Satellite Offices)",0,0,0,830000,0,0,1]
["Electricity","High Mast Lights at Moime and Shikwambana","PC001001002006000000000000000000000000_03463","Upgrading","An efficient, competitive and responsive economic infrastructure network",null,"Improve access to sustainable and affordable basic services  ","Infrastructure","Roads Infrastructure","Whole of the Municipality",0,0,0,0,650000,0,0]
["Electricity","EED-148_Replacing of old SS1 electrical substation circuit breakers with compact switchgear","PC001001001001000000000000000000000000_00281","New","An efficient, competitive and responsive economic infrastructure network",null,"Optimize and sustain infrastructure investment and services  ","Infrastructure","Electrical Infrastructure","Whole of the Municipality",0,0,0,0,0,0,1]
["Electricity","High Mast Lights at Zanghoma/Mariveni","PC001001002006000000000000000000000000_03462","Upgrading","An efficient, competitive and responsive economic infrastructure network",null,"Improve access to sustainable and affordable basic services  ","Infrastructure","Roads Infrastructure","Whole of the Municipality",0,0,0,0,650000,0,0]
["Electricity","EED-119_Substation Tripping Batteries (Item B53 6/14)","PC001002001000000000000000000000000000_00031","New","An efficient, competitive and responsive economic infrastructure network",null,"Optimize and sustain infrastructure investment and services  ","Infrastructure","Electrical Infrastructure","Whole of the Municipality",0,0,0,0,0,0,1]
["Electricity","EED_117-Miniature substation for Urban distribution network","PC001002001000000000000000000000000000_00548","New","An efficient, competitive and responsive economic infrastructure network",null,"Optimize and sustain infrastructure investment and services  ","Infrastructure","Electrical Infrastructure","Whole of the Municipality",0,0,0,202788,0,0,1]
["Electricity","EED101 - expansion of Waterbok 33/11KV Substation","PC001001002001000000000000000000000000_01358","Upgrading","An efficient, competitive and responsive economic infrastructure network",null,"Optimize and sustain infrastructure investment and services  ","Infrastructure","Electrical Infrastructure","Whole of the Municipality",0,0,0,0,0,0,1]
["Electricity","Upgrading substation incl transformers_2","PC001001002001000000000000000000000000_01344","Upgrading","An efficient, competitive and responsive economic infrastructure network",null,"Optimize and sustain infrastructure investment and services  ","Infrastructure","Electrical Infrastructure","Whole of the Municipality",0,0,0,0,0,0,1]
["Electricity","EED-150-Rebuild 66 kV wooden line from Tzaneen to Tarentaalrand (4,8km)","PC001001001001000000000000000000000000_00314","New","An efficient, competitive and responsive economic infrastructure network",null,"Optimize and sustain infrastructure investment and services  ","Infrastructure","Electrical Infrastructure","Whole of the Municipality",0,0,0,0,0,0,1]
["Electricity","Replace dilapidated substation tripping batteries","PC001001001001000000000000000000000000_01333","New","An efficient, competitive and responsive economic infrastructure network",null,"Optimize and sustain infrastructure investment and services  ","Infrastructure","Electrical Infrastructure","Whole of the Municipality",0,0,0,555100,0,0,1]
["Electricity","ESD-Generator Civic Centre","PC001002001000000000000000000000000000_02450","New","An efficient, competitive and responsive economic infrastructure network",null,"Optimise and sustain infrastructure investment and services","Infrastructure","Electrical Infrastructure","Administrative or Head Office (Including Satellite Offices)",0,0,0,10,0,0,1]
["Electricity","EED-128_Rebuilding of Yarmona and Shivurali 11kv line (4km)","PC001002003000000000000000000000000000_00475","New","An efficient, competitive and responsive economic infrastructure network",null,"Optimize and sustain infrastructure investment and services  ","Infrastructure","Rail Infrastructure","Whole of the Municipality",0,0,0,884339,0,0,1]
["Electricity","Provision of Capital tools (Operations and Maintenance)","PC001002001000000000000000000000000000_01335","New","An efficient, competitive and responsive economic infrastructure network",null,"Optimize and sustain infrastructure investment and services  ","Infrastructure","Electrical Infrastructure","Whole of the Municipality",0,0,0,100000,0,0,1]
["Electricity","Replace existing outdated infrastructure_3","PC001001002001000000000000000000000000_01339","Upgrading","An efficient, competitive and responsive economic infrastructure network",null,"Optimize and sustain infrastructure investment and services  ","Infrastructure","Electrical Infrastructure","Whole of the Municipality",0,0,0,0,0,0,1]
["Electricity","High Mast Lights at Nkowankowa","PC001001002006000000000000000000000000_03460","Upgrading","An efficient, competitive and responsive economic infrastructure network",null,"Improve access to sustainable and affordable basic services  ","Infrastructure","Roads Infrastructure","Whole of the Municipality",0,0,0,0,650000,0,0]
["Electricity","EED-138_Rebuilding of Waterbok 11kv lines","PC001001002001000000000000000000000000_01340","Upgrading","An efficient, competitive and responsive economic infrastructure network",null,"Optimize and sustain infrastructure investment and services  ","Infrastructure","Electrical Infrastructure","Whole of the Municipality",0,0,0,700000,0,0,1]
["Electricity","Replace existing outdated infrastructure_6","PC001001001001000000000000000000000000_01342","New","An efficient, competitive and responsive economic infrastructure network",null,"Optimize and sustain infrastructure investment and services  ","Infrastructure","Electrical Infrastructure","Whole of the Municipality",0,0,0,0,0,0,1]
["Electricity","EED108 - Replace 2 x 15 MVA 66/11 kv(linked to revenue on new electricity connections) with bigger capacity","PC001001002001000000000000000000000000_01360","Upgrading","An efficient, competitive and responsive economic infrastructure network",null,"Optimize and sustain infrastructure investment and services  ","Infrastructure","Electrical Infrastructure","Whole of the Municipality",0,0,0,0,0,0,1]
["Electricity","High Mast Lights at Sethong","PC001001002006000000000000000000000000_03465","Upgrading","An efficient, competitive and responsive economic infrastructure network",null,"Improve access to sustainable and affordable basic services  ","Infrastructure","Roads Infrastructure","Whole of the Municipality",0,0,0,0,650000,0,0]
["Electricity","Strengthening of the 11kv infrastructure","PC001001002001000000000000000000000000_01345","Upgrading","An efficient, competitive and responsive economic infrastructure network",null,"Optimize and sustain infrastructure investment and services  ","Infrastructure","Electrical Infrastructure","Whole of the Municipality",0,0,0,0,0,0,1]
["Electricity","EED-139_Rebuilding of Mieliekloof and Deerpark 11kv lines (2,5 km)","PC001002003000000000000000000000000000_00020","New","An efficient, competitive and responsive economic infrastructure network",null,"Optimize and sustain infrastructure investment and services  ","Infrastructure","Rail Infrastructure","Whole of the Municipality",0,0,0,237005,0,0,1]
["Electricity","EED-140_Rebuilding of Letaba Feeder 33KV line (2.5 km)","PC001002001000000000000000000000000000_01346","New","An efficient, competitive and responsive economic infrastructure network",null,"Optimize and sustain infrastructure investment and services  ","Infrastructure","Electrical Infrastructure","Whole of the Municipality",0,0,0,2095439,0,0,1]
["Electricity","Provision of Capital Tools (Customer and Retail Services)","PC001002001000000000000000000000000000_01334","New","An efficient, competitive and responsive economic infrastructure network",null,"Optimize and sustain infrastructure investment and services  ","Infrastructure","Electrical Infrastructure","Whole of the Municipality",0,0,0,100000,0,0,1]
["Electricity","EED-134_Rebuilding of Lushof South 11kv lines (2,5km)","PC001002003000000000000000000000000000_00213","New","An efficient, competitive and responsive economic infrastructure network",null,"Optimize and sustain infrastructure investment and services  ","Infrastructure","Rail Infrastructure","Whole of the Municipality",0,0,0,0,0,0,1]
["Electricity","EED-150_Building of new 4 MVA, 33/11 kV Substation at Agatha","PC001002001000000000000000000000000000_00239","New","An efficient, competitive and responsive economic infrastructure network",null,"Optimize and sustain infrastructure investment and services  ","Infrastructure","Electrical Infrastructure","Whole of the Municipality",0,0,0,0,0,0,1]
["Electricity","Addition SS1 electrical substation circuit breakers with compact switchgear","PC001002001000000000000000000000000000_01361","New","An efficient, competitive and responsive economic infrastructure network",null,"Optimize and sustain infrastructure investment and services  ","Infrastructure","Electrical Infrastructure","Whole of the Municipality",0,0,0,0,0,0,1]
["Electricity","Miniature Substation","PC001002001000000000000000000000000000_02428","New","An efficient, competitive and responsive economic infrastructure network",null,"Optimize and sustain infrastructure investment and services  ","Infrastructure","Electrical Infrastructure","Whole of the Municipality",0,0,0,184346,0,0,1]
["Electricity","EED-137_Rebuilding of Haenertsburg 11kv lines (5km)","PC001002003000000000000000000000000000_00350","New","An efficient, competitive and responsive economic infrastructure network",null,"Optimize and sustain infrastructure investment and services  ","Infrastructure","Rail Infrastructure","Whole of the Municipality",0,0,0,0,0,0,1]
["Electricity","EED-148_Refurbishment of the Ebenhezer 33kV Feeder (2,5 km","PC001001002001000000000000000000000000_00284","Upgrading","An efficient, competitive and responsive economic infrastructure network",null,"Optimize and sustain infrastructure investment and services  ","Infrastructure","Electrical Infrastructure","Whole of the Municipality",0,0,0,2494495,0,0,1]
["Electricity","EED-136_Rebuilding of Mabiet 11kv lines (5km)","PC001002003000000000000000000000000000_00061","New","An efficient, competitive and responsive economic infrastructure network",null,"Optimize and sustain infrastructure investment and services  ","Infrastructure","Rail Infrastructure","Whole of the Municipality",0,0,0,0,0,0,1]
["Electricity","EED-152-New 11kv Feeder from Western sub to Industrial area","PC001002001000000000000000000000000000_00569","New","An efficient, competitive and responsive economic infrastructure network",null,"Optimize and sustain infrastructure investment and services  ","Infrastructure","Electrical Infrastructure","Whole of the Municipality",0,0,0,0,0,0,1]
["Electricity","EED-132_Rebuilding of Rooikoppies 11kv lines (5km)","PC001002003000000000000000000000000000_00185","New","An efficient, competitive and responsive economic infrastructure network",null,"Optimize and sustain infrastructure investment and services  ","Infrastructure","Rail Infrastructure","Whole of the Municipality",0,0,0,355716,0,0,1]
["Electricity","EED-123_Rebuilding of Lines- Green frog-Haenertsburg (6km)","PC001002003000000000000000000000000000_00452","New","An efficient, competitive and responsive economic infrastructure network",null,"Optimize and sustain infrastructure investment and services  ","Infrastructure","Rail Infrastructure","Whole of the Municipality",0,0,0,618125,0,0,1]
["Electricity","EED-144-Replace 2x20 MMVA 66/11 kV Transformer at Tzaneen Main sub","PC001001002001000000000000000000000000_00544","Upgrading","An efficient, competitive and responsive economic infrastructure network",null,"Optimize and sustain infrastructure investment and services  ","Infrastructure","Electrical Infrastructure","Whole of the Municipality",0,0,0,14670000,0,0,1]
["Electricity","Replace existing outdated infrastructure_1","PC001001002001000000000000000000000000_01337","Upgrading","An efficient, competitive and responsive economic infrastructure network",null,"Optimize and sustain infrastructure investment and services  ","Infrastructure","Electrical Infrastructure","Whole of the Municipality",0,0,0,0,0,0,1]
["Electricity","EED 102 - Expansion of Blacknoll 33/11KV Substation","PC001001002001000000000000000000000000_01359","Upgrading","An efficient, competitive and responsive economic infrastructure network",null,"Optimize and sustain infrastructure investment and services  ","Infrastructure","Electrical Infrastructure","Whole of the Municipality",0,0,0,0,0,0,1]
["Electricity","EED- 146-Replace 11 kV and 33 kV Auto reclosers per annum (x5) (Item B53 6/14)","PC001001002001000000000000000000000000_01341","Upgrading","An efficient, competitive and responsive economic infrastructure network",null,"Optimize and sustain infrastructure investment and services  ","Infrastructure","Electrical Infrastructure","Whole of the Municipality",0,0,0,1500000,0,0,1]
["Finance","CFO001-Purchase of critical office furniture ","PC002003005000000000000000000000000000_01347","New","An efficient, competitive and responsive economic infrastructure network",null,"Optimize and sustain infrastructure investment and services  ","Furniture and Office Equipment","Furniture and Office Equipment","Whole of the Municipality",0,0,0,500000,0,0,1]
["Finance","CFO-111_Purchase of critical office furniture","PC002003005000000000000000000000000000_03453","New","An efficient, competitive and responsive economic infrastructure network",null,"Optimize and sustain infrastructure investment and services  ","Furniture and Office Equipment","Furniture and Office Equipment","Whole of the Municipality",0,0,0,0,700000,0,0]
["Fleet Management","ESD-43_Purchase of the Mayor’s vehicle","PC002003010000000000000000000000000000_03504","New","An efficient, competitive and responsive economic infrastructure network",null,"Improve access to sustainable and affordable basic services  ","Transport Assets","Transport Assets","Whole of the Municipality",0,0,0,0,750000,0,0]
["Fleet Management","ESD-35_Purchase of a Lowbed Truck and Trailer","PC002003010000000000000000000000000000_03497","New","An efficient, competitive and responsive economic infrastructure network",null,"Improve access to sustainable and affordable basic services  ","Transport Assets","Transport Assets","Whole of the Municipality",0,0,0,0,0,1500000,0]
["Fleet Management","ESD-37_Purchase of construction machinery: TLB, Grader","PC002003010000000000000000000000000000_03498","New","An efficient, competitive and responsive economic infrastructure network",null,"Improve access to sustainable and affordable basic services  ","Transport Assets","Transport Assets","Whole of the Municipality",0,0,0,0,5000000,4100000,4300000]
["Fleet Management","ESD-40_Purchase of Fleet Management System","PC002003010000000000000000000000000000_03501","New","An efficient, competitive and responsive economic infrastructure network",null,"Improve access to sustainable and affordable basic services  ","Transport Assets","Transport Assets","Whole of the Municipality",0,0,0,0,800000,0,0]
["Fleet Management","_Purchase of Walk-behind Roller X 2","PC002003009000000000000000000000000000_03451","New","An efficient, competitive and responsive economic infrastructure network",null,"Improve access to sustainable and affordable basic services  ","Machinery and Equipment","Machinery and Equipment","Whole of the Municipality",0,0,0,0,600000,0,0]
["Fleet Management","ESD-44_Purchase of the Speaker’s vehicle","PC002003010000000000000000000000000000_03505","New","An efficient, competitive and responsive economic infrastructure network",null,"Improve access to sustainable and affordable basic services  ","Transport Assets","Transport Assets","Whole of the Municipality",0,0,0,0,750000,0,0]
["Health Services","Purchase of drip trays and oil spilt kit","PC002003009000000000000000000000000000_00575","New","Protect and enhance our environmental assets and natural resources",null," Enhanced sustainable environmental management and social development  ","Machinery and Equipment","Machinery and Equipment","Whole of the Municipality",0,0,0,0,0,0,1]
["Housing","ESD-70_Construct ablution with change room at Nkowankowa cemetery","PC002002002002001000000000000000000000_03533","Upgrading","An efficient, competitive and responsive economic infrastructure network",null,"Optimize and sustain infrastructure investment and services  ","Community Assets","Community Facilities","Whole of the Municipality",0,0,0,0,0,0,1200000]
["Housing","ESD-56_New sleeping quarters at Georges valley treatment plant","PC002003002002000000000000000000000000_03517","New","An efficient, competitive and responsive economic infrastructure network",null,"Optimize and sustain infrastructure investment and services  ","Community Assets","Sport and Recreation Facilities","Whole of the Municipality",0,0,0,0,0,0,1500000]
["Housing","ESD-75_Guardroom at Nkowa nkowa testing ground","PC002002002002001000000000000000000000_03537","Upgrading","An efficient, competitive and responsive economic infrastructure network",null,"Optimize and sustain infrastructure investment and services  ","Community Assets","Community Facilities","Whole of the Municipality",0,0,0,0,0,0,500000]
["Housing","ESD-53_New toilet block in Sanlam centre","PC002003002001000000000000000000000000_03514","New","An efficient, competitive and responsive economic infrastructure network",null,"Optimize and sustain infrastructure investment and services  ","Community Assets","Community Facilities","Whole of the Municipality",0,0,0,0,0,0,1500000]
["Housing","ESD-57_New sleeping quarters at Nkowa nkowa plumbers workshop","PC002003002002000000000000000000000000_03518","New","An efficient, competitive and responsive economic infrastructure network",null,"Optimize and sustain infrastructure investment and services  ","Community Assets","Sport and Recreation Facilities","Whole of the Municipality",0,0,0,0,0,0,1500000]
["Housing","ESD-85_Upgrading of civic centre building","PC002002002003001000000000000000000000_03547","Upgrading","An efficient, competitive and responsive economic infrastructure network",null,"Optimize and sustain infrastructure investment and services  ","Other Assets","Operational Buildings","Whole of the Municipality",0,0,0,0,0,0,10000000]
["Housing","ESD-66_Ablution block with change room at Lesedi Regional Cemetery (Lenyenye)","PC002003002001000000000000000000000000_03528","New","An efficient, competitive and responsive economic infrastructure network",null,"Optimize and sustain infrastructure investment and services  ","Community Assets","Community Facilities","Whole of the Municipality",0,0,0,0,0,0,150000]
["Housing","ESD-100_Additions to existing Tzaneen stores including  fencing","PC002002002003001000000000000000000000_00465","Upgrading","An efficient, competitive and responsive economic infrastructure network",null,"Optimize and sustain infrastructure investment and services","Other Assets","Operational Buildings","Whole of the Municipality",0,0,0,0,0,0,1]
["Housing","ESD-81_Construction of ablution facility at Tzaneen","PC002003002001000000000000000000000000_03544","New","An efficient, competitive and responsive economic infrastructure network",null,"Optimize and sustain infrastructure investment and services  ","Community Assets","Community Facilities","Whole of the Municipality",0,0,0,0,0,0,800000]
["Housing","ESD-55_New sleeping quarters for electrical","PC002003002002000000000000000000000000_03516","New","An efficient, competitive and responsive economic infrastructure network",null,"Optimize and sustain infrastructure investment and services  ","Community Assets","Sport and Recreation Facilities","Whole of the Municipality",0,0,0,0,0,0,1500000]
["Housing","ESD213 - Clear View Fencing of Civic Centre and Stores","PC002003003001000000000000000000000000_02398","New","An efficient, competitive and responsive economic infrastructure network",null,"Optimize and sustain infrastructure investment and services","Other Assets","Operational Buildings","Whole of the Municipality",0,0,0,2119990,0,0,1]
["Housing","ESD-59_New sleeping quarters at Letsitele water treatment works","PC002003002002000000000000000000000000_03520","New","An efficient, competitive and responsive economic infrastructure network",null,"Optimize and sustain infrastructure investment and services  ","Community Assets","Sport and Recreation Facilities","Whole of the Municipality",0,0,0,0,0,0,1500000]
["Housing","ESD-76_Guardroom at Tzaneen testing ground","PC002002002002001000000000000000000000_03538","Upgrading","An efficient, competitive and responsive economic infrastructure network",null,"Optimize and sustain infrastructure investment and services  ","Community Assets","Community Facilities","Whole of the Municipality",0,0,0,0,0,0,500000]
["Housing","ESD-60-Upgrading of old Fire station building and Civic Centre","PC002002002003001000000000000000000000_00577","Upgrading","An efficient, competitive and responsive economic infrastructure network",null,"Optimize and sustain infrastructure investment and services","Other Assets","Operational Buildings","Whole of the Municipality",0,0,0,0,0,0,1]
["Housing","ESD-58_New sleeping quarters at Tzaneen plumbers workshop","PC002003002002000000000000000000000000_03519","New","An efficient, competitive and responsive economic infrastructure network",null,"Optimize and sustain infrastructure investment and services  ","Community Assets","Sport and Recreation Facilities","Whole of the Municipality",0,0,0,0,0,0,1500000]
["Housing","ESD-84_Construction of civic centre roof","PC002002002003001000000000000000000000_03546","Upgrading","An efficient, competitive and responsive economic infrastructure network",null,"Optimize and sustain infrastructure investment and services  ","Other Assets","Operational Buildings","Whole of the Municipality",0,0,0,0,3500000,0,0]
["Housing","_103_Upgrading of Civic center roofing project","PC001001002007000000000000000000000000_02421","Upgrading","An efficient, competitive and responsive economic infrastructure network",null,"Optimize and sustain infrastructure investment and services  ","Infrastructure","Storm water Infrastructure","Whole of the Municipality",0,0,0,2000000,0,0,1]
["Housing","ESD-79_Archive storage at Tzaneen testing ground","PC002002002002001000000000000000000000_03541","Upgrading","An efficient, competitive and responsive economic infrastructure network",null,"Optimize and sustain infrastructure investment and services  ","Community Assets","Community Facilities","Whole of the Municipality",0,0,0,0,0,0,1200000]
["Housing","ESD-54_New sleeping quarters at Tzaneen dam","PC002003002002000000000000000000000000_03515","New","An efficient, competitive and responsive economic infrastructure network",null,"Optimize and sustain infrastructure investment and services  ","Community Assets","Sport and Recreation Facilities","Whole of the Municipality",0,0,0,0,0,0,1500000]
["Information Technology","_038_Two way radios","PC002003003002000000000000000000000000_02420","New","Responsive, accountable, effective and efficient local government",null,"Effective and Efficient Administration  ","Other Assets","Housing","Whole of the Municipality",0,0,0,400000,0,0,2]
["Municipal Manager, Town Secretary and Chief Executive","ESD-298-Purchase of the Speaker's Car","PC002003010000000000000000000000000000_00616","New","Responsive, accountable, effective and efficient local government",null,"Increase Financial viability  ","Transport Assets","Transport Assets","Whole of the Municipality",0,0,0,0,0,0,1]
["Recreational Facilities","CSD-23_Purchase of Grass cutting Machines","PC002003009000000000000000000000000000_00598","New","An efficient, competitive and responsive economic infrastructure network",null,"Optimize and sustain infrastructure investment and services","Machinery and Equipment","Machinery and Equipment","Whole of the Municipality",0,0,0,0,0,0,1]
["Recreational Facilities","ESD_82 Ablution block with change room at Lesedi Regional Cemetery ( Lenyenye)","PC002002002002001000000000000000000000_00611","Upgrading","Responsive, accountable, effective and efficient local government",null,"Increase Financial viability  ","Community Assets","Community Facilities","Whole of the Municipality",0,0,0,0,0,0,1]
["Recreational Facilities","ESD - 86 - Fence Nkowankowa cemetery extension","PC002003003001000000000000000000000000_00613","New","An efficient, competitive and responsive economic infrastructure network",null,"Optimize and sustain infrastructure investment and services  ","Other Assets","Operational Buildings","Whole of the Municipality",0,0,0,1150000,0,0,1]
["Recreational Facilities","ESD-81-Fencing of cemetery Lesedi Regional Cemetry ( Lenyenye)","PC002003003001000000000000000000000000_00610","New","Responsive, accountable, effective and efficient local government",null,"Increase Financial viability  ","Other Assets","Operational Buildings","Whole of the Municipality",0,0,0,1150000,0,0,1]
["Recreational Facilities","ESD-87_Construct ablution with change room at Nkowankowa cemetery","PC002003002001000000000000000000000000_00614","New","An efficient, competitive and responsive economic infrastructure network",null,"Optimize and sustain infrastructure investment and services  ","Community Assets","Community Facilities","Whole of the Municipality",0,0,0,0,0,0,1]
["Roads","Upgrading of Mulati Access road from gravel to Paving","PC001001002006000000000000000000000000_03511","Upgrading","An efficient, competitive and responsive economic infrastructure network",null,"Improve access to sustainable and affordable basic services  ","Infrastructure","Roads Infrastructure","Whole of the Municipality",0,0,0,0,13900000,14603800,4890150]
["Roads","Upgrading of Lenyenye Street from gravel to paving","PC001001002006000000000000000000000000_03532","Upgrading","An efficient, competitive and responsive economic infrastructure network",null,"Improve access to sustainable and affordable basic services  ","Infrastructure","Roads Infrastructure","Whole of the Municipality",0,0,0,0,1000000,4000000,7000000]
["Roads","ESD-13_Tarring of Nkowankowa B Streets_Upgrading gravel road to tar","PC001001002006000000000000000000000000_00584","Upgrading","An efficient, competitive and responsive economic infrastructure network",null,"Improve access to sustainable and affordable basic services  ","Infrastructure","Roads Infrastructure","Whole of the Municipality",0,0,0,0,0,0,1]
["Roads","ESD212-Construction of Runnymede Sport Facility Phase II","PC001001002006000000000000000000000000_02397","Upgrading","An efficient, competitive and responsive economic infrastructure network",null,"Optimize and sustain infrastructure investment and services  ","Infrastructure","Roads Infrastructure","Whole of the Municipality",0,0,0,0,0,0,1]
["Roads","Refurbishment of Tzaneen testing grounds","PC002002002002001000000000000000000000_03584","Upgrading","An efficient, competitive and responsive economic infrastructure network",null,"Improve access to sustainable and affordable basic services  ","Community Assets","Community Facilities","Whole of the Municipality",0,0,0,0,0,0,1500000]
["Roads","ESD214 - Construction of R71 Roundabout","PC001002006000000000000000000000000000_02399","New","An efficient, competitive and responsive economic infrastructure network",null,"Improve access to sustainable and affordable basic services  ","Infrastructure","Roads Infrastructure","Whole of the Municipality",0,0,0,1500000,0,0,1]
["Roads","ESD-65_Erection of concrete palisade fence at Lenyenye","PC002003003001000000000000000000000000_03527","New","An efficient, competitive and responsive economic infrastructure network",null,"Improve access to sustainable and affordable basic services  ","Other Assets","Operational Buildings","Whole of the Municipality",0,0,0,0,2000000,0,0]
["Roads","ESD-24-Lenyenye Street paving","PC001001002006000000000000000000000000_00617","Upgrading","An efficient, competitive and responsive economic infrastructure network",null,"Improve access to sustainable and affordable basic services  ","Infrastructure","Roads Infrastructure","Whole of the Municipality",0,0,0,0,0,0,1]
["Roads","EED-48_High Mast Lights at Dan Village_V1","PC001001002006000000000000000000000000_01364","Upgrading","An efficient, competitive and responsive economic infrastructure network",null,"Optimize and sustain infrastructure investment and services  ","Infrastructure","Roads Infrastructure","Whole of the Municipality",0,0,0,1380000,0,0,1]
["Roads","ESD-21_Tickline to Makhwibidung Storm Water Management","PC001001002007000000000000000000000000_00054","Upgrading","An efficient, competitive and responsive economic infrastructure network",null,"Enhanced sustainable environmental management and social development  ","Infrastructure","Storm water Infrastructure","Whole of the Municipality",0,0,0,0,0,0,1]
["Roads","ESD-29_Rehabilitation of Nkowakowa Internal streets (Bankuna, Tambo to Maxakeni Road)","PC001001001006000000000000000000000000_03491","New","An efficient, competitive and responsive economic infrastructure network",null,"Improve access to sustainable and affordable basic services  ","Infrastructure","Roads Infrastructure","Whole of the Municipality",0,0,0,0,0,8000000,0]
["Roads","ESD-64_Upgrading of the chlorine dosage rooms for all water treatment plant","PC002002002003001000000000000000000000_03526","Upgrading","An efficient, competitive and responsive economic infrastructure network",null,"Improve access to sustainable and affordable basic services  ","Other Assets","Operational Buildings","Whole of the Municipality",0,0,0,0,0,0,300000]
["Roads","ESD-297_Paving of main road from Ndhuna mandlakazi, Efrika, Zangoma, Mpenyisi to Jamba Cross internal streets( in ward 13, Mandlakazi)_MIG funded","PC001001002006000000000000000000000000_01365","Upgrading","An efficient, competitive and responsive economic infrastructure network",null,"Improve access to sustainable and affordable basic services  ","Infrastructure","Roads Infrastructure","Whole of the Municipality",0,0,0,11199503,0,0,1]
["Roads","EED107 - Upgrading of Morutji to Matswi/Kheshokolwe Road","PC001001002006000000000000000000000000_01357","Upgrading","An efficient, competitive and responsive economic infrastructure network",null,"Improve access to sustainable and affordable basic services  ","Infrastructure","Roads Infrastructure","Whole of the Municipality",0,0,0,0,0,0,1]
["Roads","ESD-28_Paving of moseanoka to Cell C Pharare internal streets in ward 28","PC001001002006000000000000000000000000_00588","Upgrading","An efficient, competitive and responsive economic infrastructure network",null,"Optimize and sustain infrastructure investment and services  ","Infrastructure","Roads Infrastructure","Whole of the Municipality",0,0,0,3625181,0,0,1]
["Roads","ESD-34_Mawa B12 low level bridge","PC001001002006000000000000000000000000_00116","Upgrading","An efficient, competitive and responsive economic infrastructure network",null,"Improve access to sustainable and affordable basic services  ","Infrastructure","Roads Infrastructure","Whole of the Municipality",0,0,0,1442383,0,0,1]
["Roads","ESD-32_Rehabilitation of Eerste street in Letsitele","PC001001001006000000000000000000000000_03495","New","An efficient, competitive and responsive economic infrastructure network",null,"Improve access to sustainable and affordable basic services  ","Infrastructure","Roads Infrastructure","Whole of the Municipality",0,0,0,0,0,800000,0]
["Roads","ESD-39_Installation of Power Generator for Aqua Park Booster Pump Station","PC001001001001000000000000000000000000_03499","New","An efficient, competitive and responsive economic infrastructure network",null,"Improve access to sustainable and affordable basic services  ","Infrastructure","Electrical Infrastructure","Whole of the Municipality",0,0,0,0,600000,0,0]
["Roads","ESD-61_Refurbishment of mechanical workshop","PC002002002003001000000000000000000000_03523","Upgrading","An efficient, competitive and responsive economic infrastructure network",null,"Improve access to sustainable and affordable basic services  ","Other Assets","Operational Buildings","Whole of the Municipality",0,0,0,0,0,0,1000000]
["Roads","ESD - 110 - Paving of Risaba, Mnisi, shando, to Driving school internal streets in ward 5_V1","PC001001002006000000000000000000000000_01363","Upgrading","An efficient, competitive and responsive economic infrastructure network",null,"Improve access to sustainable and affordable basic services  ","Infrastructure","Roads Infrastructure","Whole of the Municipality",0,0,0,4682841,0,0,1]
["Roads","ESD-22_Rehabilitation of Dannie Joubert Street (Police Station to CTM) in Tzaneen","PC001001001006000000000000000000000000_03484","New","An efficient, competitive and responsive economic infrastructure network",null,"Improve access to sustainable and affordable basic services  ","Infrastructure","Roads Infrastructure","Whole of the Municipality",0,0,0,0,0,1000000,0]
["Roads","ESD-45_Construction of New ablution block, offices and storage facility at  Tzaneen testing grounds","PC002003002001000000000000000000000000_03506","New","An efficient, competitive and responsive economic infrastructure network",null,"Improve access to sustainable and affordable basic services  ","Community Assets","Community Facilities","Whole of the Municipality",0,0,0,0,1000000,0,0]
["Roads","ESD-18_Paving of Thapane street phase 1 and 2","PC001001002006000000000000000000000000_00120","Upgrading","An efficient, competitive and responsive economic infrastructure network",null,"Improve access to sustainable and affordable basic services  ","Infrastructure","Roads Infrastructure","Whole of the Municipality",0,0,0,0,0,0,1]
["Roads","ESD-50_Refurbishment of public toilets in Nkowa nkowa","PC002002001002001000000000000000000000_03512","New","An efficient, competitive and responsive economic infrastructure network",null,"Improve access to sustainable and affordable basic services  ","Community Assets","Community Facilities","Whole of the Municipality",0,0,0,0,0,0,200000]
["Roads","ESD-11_Mopye High School Access Road: Phase 1 of 2 and 2 of 2","PC001001002006000000000000000000000000_00210","Upgrading","An efficient, competitive and responsive economic infrastructure network",null,"Improve access to sustainable and affordable basic services  ","Infrastructure","Roads Infrastructure","Whole of the Municipality",0,0,0,8675911,0,0,1]
["Roads","Upgrading of Matapa to Leseka Access road from gravel to paving","PC001001002006000000000000000000000000_03477","Upgrading","An efficient, competitive and responsive economic infrastructure network",null,"Improve access to sustainable and affordable basic services  ","Infrastructure","Roads Infrastructure","Whole of the Municipality",0,0,0,0,4103950,0,0]
["Roads","ESD-73_Earthworks with road construction at Tzaneen","PC001002006000000000000000000000000000_03536","New","An efficient, competitive and responsive economic infrastructure network",null,"Improve access to sustainable and affordable basic services  ","Infrastructure","Roads Infrastructure","Whole of the Municipality",0,0,0,0,0,0,1000000]
["Roads","ESD-12_Paving of Nelson Ramodike High School Access road to school phase 1 of 2 and phase 2 of 3 and 3 of 3","PC001001002006000000000000000000000000_00128","Upgrading","An efficient, competitive and responsive economic infrastructure network",null,"Improve access to sustainable and affordable basic services  ","Infrastructure","Roads Infrastructure","Whole of the Municipality",0,0,0,22445565,0,0,1]
["Roads","Upgrading of Zangoma to Mariveni  Road from gravel to paving","PC001001002006000000000000000000000000_03542","Upgrading","An efficient, competitive and responsive economic infrastructure network",null,"Improve access to sustainable and affordable basic services  ","Infrastructure","Roads Infrastructure","Whole of the Municipality",0,0,0,0,1000000,4000000,7000000]
["Roads","ESD-35_Maweni low level bridge_Construction of low level bridge","PC001002006000000000000000000000000000_00589","New","An efficient, competitive and responsive economic infrastructure network",null,"Improve access to sustainable and affordable basic services  ","Infrastructure","Roads Infrastructure","Whole of the Municipality",0,0,0,0,0,0,1]
["Roads","ESD-71_Earthworks with full Environmental Impact Assessment study and designs at Nkowankowa cemetery","PC002002002002001000000000000000000000_03534","Upgrading","An efficient, competitive and responsive economic infrastructure network",null,"Improve access to sustainable and affordable basic services  ","Community Assets","Community Facilities","Whole of the Municipality",0,0,0,0,0,0,1000000]
["Roads","ESD-110_Paving of Risaba, Mnisi, shando, to Driving school internal streets in ward 5","PC001002006000000000000000000000000000_00591","New","An efficient, competitive and responsive economic infrastructure network",null,"Improve access to sustainable and affordable basic services  ","Infrastructure","Roads Infrastructure","Whole of the Municipality",0,0,0,0,0,0,1]
["Roads","_063_Rehabilitation of 1,4km of streets in Tzaneen","PC001001001006000000000000000000000000_02423","New","An efficient, competitive and responsive economic infrastructure network",null,"Improve access to sustainable and affordable basic services  ","Infrastructure","Roads Infrastructure","Whole of the Municipality",0,0,0,4300000,0,0,1]
["Roads","ESD-69_Earthworks at Lesedi Regional cemetery (Lenyenye)","PC002002002002001000000000000000000000_03531","Upgrading","An efficient, competitive and responsive economic infrastructure network",null,"Improve access to sustainable and affordable basic services  ","Community Assets","Community Facilities","Whole of the Municipality",0,0,0,0,0,0,1000000]
["Roads","ESD-101_New Lenyenye Taxi Rank Phase 1 of 2 and 2 of 2","PC001001002006000000000000000000000000_00212","Upgrading","An efficient, competitive and responsive economic infrastructure network",null,"Optimize and sustain infrastructure investment and services","Infrastructure","Roads Infrastructure","Whole of the Municipality",0,0,0,5082627,0,0,1]
["Roads","ESD-29_Nkowakowa Section D street paving","PC001001002006000000000000000000000000_00587","Upgrading","An efficient, competitive and responsive economic infrastructure network",null,"Improve access to sustainable and affordable basic services  ","Infrastructure","Roads Infrastructure","Whole of the Municipality",0,0,0,0,0,0,1]
["Roads","ESD-114_Rehabilitation of Haenertsburg Cementry road","PC001001002006000000000000000000000000_00359","Upgrading","An efficient, competitive and responsive economic infrastructure network",null,"Improve access to sustainable and affordable basic services  ","Infrastructure","Roads Infrastructure","Whole of the Municipality",0,0,0,0,0,0,1]
["Roads","ESD-68_Environmental Impact Study at Lesedi Regional Cemetery (Lenyenye","PC002002002002001000000000000000000000_03530","Upgrading","An efficient, competitive and responsive economic infrastructure network",null,"Improve access to sustainable and affordable basic services  ","Community Assets","Community Facilities","Whole of the Municipality",0,0,0,0,0,0,400000]
["Roads","ESD-60_Airfield fencing","PC002003003001000000000000000000000000_03522","New","An efficient, competitive and responsive economic infrastructure network",null,"Improve access to sustainable and affordable basic services  ","Other Assets","Operational Buildings","Whole of the Municipality",0,0,0,0,0,0,1500000]
["Roads","Upgrading of Moseanoka to Cell C Pharare Internal Streets from gravel to paving","PC001001002006000000000000000000000000_03549","Upgrading","An efficient, competitive and responsive economic infrastructure network",null,"Improve access to sustainable and affordable basic services  ","Infrastructure","Roads Infrastructure","Whole of the Municipality",0,0,0,0,14000000,15000000,10100000]
["Roads","ESD-48_Shiluvane and Mulati library","PC002003002001000000000000000000000000_03509","New","An efficient, competitive and responsive economic infrastructure network",null,"Improve access to sustainable and affordable basic services  ","Community Assets","Community Facilities","Whole of the Municipality",0,0,0,0,0,0,500000]
["Roads","Construction of Bulamahlo Community hall","PC001001002006000000000000000000000000_03471","Upgrading","An efficient, competitive and responsive economic infrastructure network",null,"Improve access to sustainable and affordable basic services  ","Infrastructure","Roads Infrastructure","Whole of the Municipality",0,0,0,0,0,0,2000000]
["Roads","Upgrading of Thapane Street from gravel to paving","PC001001002006000000000000000000000000_03500","Upgrading","An efficient, competitive and responsive economic infrastructure network",null,"Improve access to sustainable and affordable basic services  ","Infrastructure","Roads Infrastructure","Whole of the Municipality",0,0,0,0,1000000,4000000,7000000]
["Roads","ESD-46_Refurbishment of Nkowankowa testing grounds","PC002002002002001000000000000000000000_03507","Upgrading","An efficient, competitive and responsive economic infrastructure network",null,"Improve access to sustainable and affordable basic services  ","Community Assets","Community Facilities","Whole of the Municipality",0,0,0,0,0,0,1500000]
["Roads","ESD-27_Upgrading of Zangoma to Mariveni","PC001001002006000000000000000000000000_00586","Upgrading","An efficient, competitive and responsive economic infrastructure network",null,"Improve access to sustainable and affordable basic services  ","Infrastructure","Roads Infrastructure","Whole of the Municipality",0,0,0,0,0,0,1]
["Roads","ESD-17-Paving of Marirone to Motupa Street phase 1 of 2 and 2 of 2","PC001001002006000000000000000000000000_00573","Upgrading","An efficient, competitive and responsive economic infrastructure network",null,"Improve access to sustainable and affordable basic services  ","Infrastructure","Roads Infrastructure","Whole of the Municipality",0,0,0,0,0,0,1]
["Roads","ESD-25_Rehabilitation of 3rd Avenue to Hospital to 2nd Avenue street in Tzaneen","PC001001001006000000000000000000000000_03487","New","An efficient, competitive and responsive economic infrastructure network",null,"Improve access to sustainable and affordable basic services  ","Infrastructure","Roads Infrastructure","Whole of the Municipality",0,0,0,0,0,0,2000000]
["Roads","Construction of Pedestrian Crossing bridges","PC001002006000000000000000000000000000_03480","New","An efficient, competitive and responsive economic infrastructure network",null,"Improve access to sustainable and affordable basic services  ","Infrastructure","Roads Infrastructure","Whole of the Municipality",0,0,0,0,0,0,2000000]
["Roads","Construction of Runnymede Sport Facility Phase 2","PC001001002006000000000000000000000000_03470","Upgrading","An efficient, competitive and responsive economic infrastructure network",null,"Improve access to sustainable and affordable basic services  ","Infrastructure","Roads Infrastructure","Whole of the Municipality",0,0,0,0,0,0,2000000]
["Roads","ESD-28_Rehabilitation of Boundary street in Tzaneen","PC001001001006000000000000000000000000_03490","New","An efficient, competitive and responsive economic infrastructure network",null,"Improve access to sustainable and affordable basic services  ","Infrastructure","Roads Infrastructure","Whole of the Municipality",0,0,0,0,0,0,2500000]
["Roads","ESD-51_Refurbishment of public toilets in Letsitele","PC002002001002001000000000000000000000_03513","New","An efficient, competitive and responsive economic infrastructure network",null,"Improve access to sustainable and affordable basic services  ","Community Assets","Community Facilities","Whole of the Municipality",0,0,0,0,0,0,200000]
["Roads","ESD-30_Rehabilitation of Lenyenye Internal Streets (Main street to Industrial Area, Stadium, Ithuseng to Main street via Police Station)","PC001001001006000000000000000000000000_03493","New","An efficient, competitive and responsive economic infrastructure network",null,"Improve access to sustainable and affordable basic services  ","Infrastructure","Roads Infrastructure","Whole of the Municipality",0,0,0,0,0,6000000,0]
["Roads","ESD-11_Mopye High School Access Road: Phase 1 of 2 and 2 of 3","PC001001002006000000000000000000000000_02425","Upgrading","An efficient, competitive and responsive economic infrastructure network",null,"Improve access to sustainable and affordable basic services  ","Infrastructure","Roads Infrastructure","Whole of the Municipality",0,0,0,0,0,0,1]
["Roads","Upgrading of Marirone to Motupa Street from gravel to paving","PC001001002006000000000000000000000000_03492","Upgrading","An efficient, competitive and responsive economic infrastructure network",null,"Improve access to sustainable and affordable basic services  ","Infrastructure","Roads Infrastructure","Whole of the Municipality",0,0,0,0,5000000,4000000,7000000]
["Roads","Nwamitwa Bridge via Nhlengeleti School to Taxi Rank, Clinic via Lwandlamoni School to Nwamitwa/Mandlakazi Road from gravel to paving","PC001001002006000000000000000000000000_03474","Upgrading","An efficient, competitive and responsive economic infrastructure network",null,"Improve access to sustainable and affordable basic services  ","Infrastructure","Roads Infrastructure","Whole of the Municipality",0,0,0,0,14000000,15000000,10100000]
["Roads","Upgrading of Nkokwakowa A CODESA and Hani Streets from gravel to paving","PC001001002006000000000000000000000000_03476","Upgrading","An efficient, competitive and responsive economic infrastructure network",null,"Improve access to sustainable and affordable basic services  ","Infrastructure","Roads Infrastructure","Whole of the Municipality",0,0,0,0,1050000,0,0]
["Roads","ESD-49_Refurbishment of public toilets in Tzaneen","PC002002001002001000000000000000000000_03510","New","An efficient, competitive and responsive economic infrastructure network",null,"Improve access to sustainable and affordable basic services  ","Community Assets","Community Facilities","Whole of the Municipality",0,0,0,0,0,0,700000]
["Roads","ESD-16_Paving of Topanama Access Road to Serurubele School","PC001001002006000000000000000000000000_00160","Upgrading","An efficient, competitive and responsive economic infrastructure network",null,"Improve access to sustainable and affordable basic services  ","Infrastructure","Roads Infrastructure","Whole of the Municipality",0,0,0,0,0,0,1]
["Roads","ESD-19_Mulati Access road Paving Phase 1 of 2 and 2 of 2","PC001001002006000000000000000000000000_00276","Upgrading","An efficient, competitive and responsive economic infrastructure network",null,"Improve access to sustainable and affordable basic services  ","Infrastructure","Roads Infrastructure","Whole of the Municipality",0,0,0,7806032,0,0,1]
["Roads","ESD-80_Heanertzburg library sleeping quarters","PC002002002002001000000000000000000000_03543","Upgrading","An efficient, competitive and responsive economic infrastructure network",null,"Improve access to sustainable and affordable basic services  ","Community Assets","Community Facilities","Whole of the Municipality",0,0,0,0,0,0,1500000]
["Roads","EED 106 - New generators for Engineering Services","PC001002001000000000000000000000000000_01356","New","An efficient, competitive and responsive economic infrastructure network",null,"Optimize and sustain infrastructure investment and services  ","Infrastructure","Electrical Infrastructure","Whole of the Municipality",0,0,0,0,0,0,1]
["Roads","ESD-Mbambamencisi  Road","PC001002006000000000000000000000000000_02453","New","An efficient, competitive and responsive economic infrastructure network",null,"Improve access to sustainable and affordable basic services  ","Infrastructure","Roads Infrastructure","Administrative or Head Office (Including Satellite Offices)",0,0,0,136000,0,0,1]
["Roads","ESD210-Construction of Bulamahlo Community Hall","PC001001002006000000000000000000000000_02395","Upgrading","Responsive, accountable, effective and efficient local government",null,"Enhanced sustainable environmental management and social development  ","Infrastructure","Roads Infrastructure","Whole of the Municipality",0,0,0,0,0,0,1]
["Roads","ESD-86_Renovation of Nkowakowa offices (Old Home Affairs building)","PC002002002003001000000000000000000000_03548","Upgrading","An efficient, competitive and responsive economic infrastructure network",null,"Improve access to sustainable and affordable basic services  ","Other Assets","Operational Buildings","Whole of the Municipality",0,0,0,0,0,800000,0]
["Roads","Upgrading of Main road from Ndhuna Mandlakazi, Efrika, Zangoma, Mpenyisi to Jamba Cross Internal Street (in Ward 13, Mandlakazi)","PC001001002006000000000000000000000000_03473","Upgrading","An efficient, competitive and responsive economic infrastructure network",null,"Improve access to sustainable and affordable basic services  ","Infrastructure","Roads Infrastructure","Whole of the Municipality",0,0,0,0,14000000,15000000,10100000]
["Roads","ESD-23_Rehabilitation of Pusela to Van Velden to Billy Maritz street in Tzaneen","PC001001001006000000000000000000000000_03485","New","An efficient, competitive and responsive economic infrastructure network",null,"Improve access to sustainable and affordable basic services  ","Infrastructure","Roads Infrastructure","Whole of the Municipality",0,0,0,0,0,1000000,0]
["Roads","ESD-156_Lenyenye stadium upgrade phase 2","PC002002002002002000000000000000000000_00599","Upgrading","Responsive, accountable, effective and efficient local government",null,"Enhanced sustainable environmental management and social development  ","Community Assets","Sport and Recreation Facilities","Whole of the Municipality",0,0,0,0,0,0,1]
["Roads","ESD-36_Construction of Pedestrian Crossing bridges","PC001002006000000000000000000000000000_00590","New","An efficient, competitive and responsive economic infrastructure network",null,"Improve access to sustainable and affordable basic services  ","Infrastructure","Roads Infrastructure","Whole of the Municipality",0,0,0,0,0,0,1]
["Roads","Rehabilitation of Dan Access road from R36 (Scrapyard) to D5011 (TEBA)","PC001001001006000000000000000000000000_03478","New","An efficient, competitive and responsive economic infrastructure network",null,"Improve access to sustainable and affordable basic services  ","Infrastructure","Roads Infrastructure","Whole of the Municipality",0,0,0,0,0,0,2000000]
["Roads","ESD-47_Additional toilet block and change rooms in parks","PC002003002001000000000000000000000000_03508","New","An efficient, competitive and responsive economic infrastructure network",null,"Improve access to sustainable and affordable basic services  ","Community Assets","Community Facilities","Whole of the Municipality",0,0,0,0,0,0,1500000]
["Roads","ESD-25_Upgrading of Access Road Mbambamencisi:Phase 1 of 3 and 2 of 3","PC001002006000000000000000000000000000_00491","New","An efficient, competitive and responsive economic infrastructure network",null,"Improve access to sustainable and affordable basic services  ","Infrastructure","Roads Infrastructure","Whole of the Municipality",0,0,0,0,0,0,1]
["Roads","ESD-21_Upgrading of Tzaneen Ext. 13 internal streets from paving blocks to tar","PC001001002006000000000000000000000000_03483","Upgrading","An efficient, competitive and responsive economic infrastructure network",null,"Improve access to sustainable and affordable basic services  ","Infrastructure","Roads Infrastructure","Whole of the Municipality",0,0,0,0,0,9000000,0]
["Roads","ESD-26_Rehabilitation of Haenertsburg Cemetery road","PC001001001006000000000000000000000000_03488","New","An efficient, competitive and responsive economic infrastructure network",null,"Improve access to sustainable and affordable basic services  ","Infrastructure","Roads Infrastructure","Whole of the Municipality",0,0,0,0,0,3000000,0]
["Roads","ESD-31_Rehabilitation Voster street in Letsitele","PC001001001006000000000000000000000000_03494","New","An efficient, competitive and responsive economic infrastructure network",null,"Improve access to sustainable and affordable basic services  ","Infrastructure","Roads Infrastructure","Whole of the Municipality",0,0,0,0,0,0,1200000]
["Roads","ESD-14_Construction of storm water drainage systems","PC001002007000000000000000000000000000_00585","New","An efficient, competitive and responsive economic infrastructure network",null,"Enhanced sustainable environmental management and social development  ","Infrastructure","Storm water Infrastructure","Whole of the Municipality",0,0,0,0,0,0,1]
["Roads","Upgrading of Risaba, Mnisi, Shando, to Driving school Internal Street from gravel to paving","PC001001002006000000000000000000000000_03472","Upgrading","An efficient, competitive and responsive economic infrastructure network",null,"Improve access to sustainable and affordable basic services  ","Infrastructure","Roads Infrastructure","Whole of the Municipality",0,0,0,0,14000000,15000000,10100000]
["Roads","Upgrading of Nkowakowa B streets from gravel to paving","PC001001002006000000000000000000000000_03468","Upgrading","An efficient, competitive and responsive economic infrastructure network",null,"Improve access to sustainable and affordable basic services  ","Infrastructure","Roads Infrastructure","Whole of the Municipality",0,0,0,0,1000000,4000000,7000000]
["Roads","ESD-32_Matapa to Leseka to Acsess Road to School: Phase 1 of 4","PC001001002006000000000000000000000000_00298","Upgrading","An efficient, competitive and responsive economic infrastructure network",null,"Improve access to sustainable and affordable basic services  ","Infrastructure","Roads Infrastructure","Whole of the Municipality",0,0,0,14154990,0,0,1]
["Roads","ESD-110_Paving of main road from Ndhuna mandlakazi, Efrika, Zangoma, Mpenyisi to Jamba Cross internal streets( in ward 13, Mandlakazi)","PC001002006000000000000000000000000000_00592","New","An efficient, competitive and responsive economic infrastructure network",null,"Improve access to sustainable and affordable basic services  ","Infrastructure","Roads Infrastructure","Whole of the Municipality",0,0,0,0,0,0,1]
["Roads","EED105 - Tickeyline to Mahwibidung Stormwater","PC001002007000000000000000000000000000_01355","New","An efficient, competitive and responsive economic infrastructure network",null,"Enhanced sustainable environmental management and social development  ","Infrastructure","Storm water Infrastructure","Whole of the Municipality",0,0,0,0,0,0,1]
["Roads","ESD-78_Clear view fencing at Tzaneen cemetery","PC002002002002001000000000000000000000_03540","Upgrading","An efficient, competitive and responsive economic infrastructure network",null,"Improve access to sustainable and affordable basic services  ","Community Assets","Community Facilities","Whole of the Municipality",0,0,0,0,0,0,1600000]
["Roads","ESD-67_Storeroom with guard house at Lesedi Regional cemetery (Lenyenye)","PC002002002002001000000000000000000000_03529","Upgrading","An efficient, competitive and responsive economic infrastructure network",null,"Improve access to sustainable and affordable basic services  ","Community Assets","Community Facilities","Whole of the Municipality",0,0,0,0,0,0,800000]
["Roads","Upgrading of  Topanama Access Road from gravel to paving","PC001001002006000000000000000000000000_03481","Upgrading","An efficient, competitive and responsive economic infrastructure network",null,"Improve access to sustainable and affordable basic services  ","Infrastructure","Roads Infrastructure","Whole of the Municipality",0,0,0,0,1000000,4000000,7000000]
["Roads","ESD-42_Purchasing of tar cutting machines and small compactors","PC002003009000000000000000000000000000_00593","New","An efficient, competitive and responsive economic infrastructure network",null,"Optimize and sustain infrastructure investment and services","Machinery and Equipment","Machinery and Equipment","Whole of the Municipality",0,0,0,0,0,0,1]
["Roads","_063_Power generator for Aqua park Booster pump station","PC002003009000000000000000000000000000_02422","New","An efficient, competitive and responsive economic infrastructure network",null,"Optimize and sustain infrastructure investment and services","Machinery and Equipment","Machinery and Equipment","Whole of the Municipality",0,0,0,500000,0,0,1]
["Roads","ESD-27_Rehabilitation of Main CBD Street and Parking in Letsitele","PC001001001006000000000000000000000000_03489","New","An efficient, competitive and responsive economic infrastructure network",null,"Improve access to sustainable and affordable basic services  ","Infrastructure","Roads Infrastructure","Whole of the Municipality",0,0,0,0,0,0,2000000]
["Roads","ESD-20_Construction of low level bridges in villages","PC001002006000000000000000000000000000_03482","New","An efficient, competitive and responsive economic infrastructure network",null,"Improve access to sustainable and affordable basic services  ","Infrastructure","Roads Infrastructure","Whole of the Municipality",0,0,0,0,0,5000000,0]
["Roads","Upgrading of Access Street from  Khopo, Molapisane School via Tickyline and  Myakayaka  Serutung to Malengenge from gravel to paving","PC001001002006000000000000000000000000_03475","Upgrading","An efficient, competitive and responsive economic infrastructure network",null,"Improve access to sustainable and affordable basic services  ","Infrastructure","Roads Infrastructure","Whole of the Municipality",0,0,0,0,0,0,2000000]
["Roads","ESD-26_Upgrading of Khujwana to Lenyenye Access Road Phase 1 of 3 and 2 of 3 and 3 of 3","PC001001002006000000000000000000000000_00487","Upgrading","An efficient, competitive and responsive economic infrastructure network",null,"Improve access to sustainable and affordable basic services  ","Infrastructure","Roads Infrastructure","Whole of the Municipality",0,0,0,0,0,0,1]
["Roads","ESD211-Upgrading of Access Street from  khopo, Molapisane School via Tickyline and  myakayaka  Serutung to Malengenge ","PC001001002006000000000000000000000000_02396","Upgrading","An efficient, competitive and responsive economic infrastructure network",null,"Improve access to sustainable and affordable basic services  ","Infrastructure","Roads Infrastructure","Whole of the Municipality",0,0,0,0,0,0,1]
["Roads","ESD-72_Fence Agatha cemetery extension at Tzaneen","PC002002002002001000000000000000000000_03535","Upgrading","An efficient, competitive and responsive economic infrastructure network",null,"Improve access to sustainable and affordable basic services  ","Community Assets","Community Facilities","Whole of the Municipality",0,0,0,0,0,0,1000000]
["Roads","Construction of Tickyline to Makhwibuding storm water drainage systems.","PC001001002007000000000000000000000000_03521","Upgrading","An efficient, competitive and responsive economic infrastructure network",null,"Improve access to sustainable and affordable basic services  ","Infrastructure","Storm water Infrastructure","Whole of the Municipality",0,0,0,0,3500000,0,0]
["Roads","ESD-33_Construction of speed humps in all wards","PC001001002006000000000000000000000000_03496","Upgrading","An efficient, competitive and responsive economic infrastructure network",null,"Improve access to sustainable and affordable basic services  ","Infrastructure","Roads Infrastructure","Whole of the Municipality",0,0,0,0,1000000,0,0]
["Roads","ESD-63_Upgrading of the chlorine dosage rooms for all water treatment plant","PC002002002003001000000000000000000000_03525","Upgrading","An efficient, competitive and responsive economic infrastructure network",null,"Improve access to sustainable and affordable basic services  ","Other Assets","Operational Buildings","Whole of the Municipality",0,0,0,0,0,0,300000]
["Roads","Construction of Leretjene Sport complex","PC001001002006000000000000000000000000_03585","Upgrading","An efficient, competitive and responsive economic infrastructure network",null,"Improve access to sustainable and affordable basic services  ","Infrastructure","Roads Infrastructure","Whole of the Municipality",0,0,0,0,0,0,1000000]
["Roads","Upgrading of Nkowakowa Section D streets from gravel to paving","PC001001002006000000000000000000000000_03469","Upgrading","An efficient, competitive and responsive economic infrastructure network",null,"Improve access to sustainable and affordable basic services  ","Infrastructure","Roads Infrastructure","Whole of the Municipality",0,0,0,0,1000000,4000000,7000000]
["Roads","ESD-15_Tarring Nkowankowa A Codesa and Hani Street Phase","PC001001002006000000000000000000000000_00151","Upgrading","An efficient, competitive and responsive economic infrastructure network",null,"Improve access to sustainable and affordable basic services  ","Infrastructure","Roads Infrastructure","Whole of the Municipality",0,0,0,7515091,0,0,1]
["Roads","ESD-77_Erection of concrete palisade fence at Nkowakowa cemetery","PC002002002002001000000000000000000000_03539","Upgrading","An efficient, competitive and responsive economic infrastructure network",null,"Improve access to sustainable and affordable basic services  ","Community Assets","Community Facilities","Whole of the Municipality",0,0,0,0,2000000,0,0]
["Roads","ESD-24_Rehabilitation of 1st Avenue street in Tzaneen","PC001001001006000000000000000000000000_03486","New","An efficient, competitive and responsive economic infrastructure network",null,"Improve access to sustainable and affordable basic services  ","Infrastructure","Roads Infrastructure","Whole of the Municipality",0,0,0,0,0,1500000,0]
["Roads","ESD-31_Relela Access Road: Phase 1 of 4 Upgrading from gravel to paving","PC001001002006000000000000000000000000_00507","Upgrading","An efficient, competitive and responsive economic infrastructure network",null,"Improve access to sustainable and affordable basic services  ","Infrastructure","Roads Infrastructure","Whole of the Municipality",0,0,0,9278930,0,0,1]
["Roads","ESD-42_Purchase of 1 x Trailer for traffic services","PC002003010000000000000000000000000000_03503","New","An efficient, competitive and responsive economic infrastructure network",null,"Improve access to sustainable and affordable basic services  ","Transport Assets","Transport Assets","Whole of the Municipality",0,0,0,0,270000,0,0]
["Roads","EED-49_High Mast Lights at Nkowankowa","PC002003009000000000000000000000000000_00204","New","All people in South Africa are and feel safe",null,"Optimize and sustain infrastructure investment and services  ","Machinery and Equipment","Machinery and Equipment","Whole of the Municipality",0,0,0,0,0,0,1]
["Roads","ESD-20_New generator for Head office","PC002003009000000000000000000000000000_00595","New","An efficient, competitive and responsive economic infrastructure network",null,"Optimize and sustain infrastructure investment and services","Machinery and Equipment","Machinery and Equipment","Whole of the Municipality",0,0,0,0,0,0,1]
["Roads","EED-50_High Mast Lights at Petanene","PC002003009000000000000000000000000000_00224","New","All people in South Africa are and feel safe",null,"Optimize and sustain infrastructure investment and services  ","Machinery and Equipment","Machinery and Equipment","Whole of the Municipality",0,0,0,0,0,0,1]
["Roads","ESD-62_Purchase of Diagnostic machine for the workshop and replacement of hydrolicjack and toolbox","PC002003009000000000000000000000000000_03524","New","An efficient, competitive and responsive economic infrastructure network",null,"Improve access to sustainable and affordable basic services  ","Machinery and Equipment","Machinery and Equipment","Whole of the Municipality",0,0,0,0,0,0,500000]
["Roads","EED-55_High Mast Lights at Moleketla","PC002003009000000000000000000000000000_00386","New","All people in South Africa are and feel safe",null,"Optimize and sustain infrastructure investment and services  ","Machinery and Equipment","Machinery and Equipment","Whole of the Municipality",0,0,0,0,0,0,1]
["Roads","EED-52_High Mast Lights at Moime and Shikwambana","PC002003009000000000000000000000000000_00149","New","All people in South Africa are and feel safe",null,"Optimize and sustain infrastructure investment and services  ","Machinery and Equipment","Machinery and Equipment","Whole of the Municipality",0,0,0,0,0,0,1]
["Roads","ESD-41_Purchase of the Waste removal truck","PC002003010000000000000000000000000000_03502","New","An efficient, competitive and responsive economic infrastructure network",null,"Improve access to sustainable and affordable basic services  ","Transport Assets","Transport Assets","Whole of the Municipality",0,0,0,0,1800000,1800000,0]
["Roads","ESD-82_Furniture for sport and recreation facilities at Juliesberg, Burgersdorp, Runnymede, Lenyenye, Nkowankowa","PC002003005000000000000000000000000000_03545","New","An efficient, competitive and responsive economic infrastructure network",null,"Optimize and sustain infrastructure investment and services  ","Furniture and Office Equipment","Furniture and Office Equipment","Whole of the Municipality",0,0,0,0,0,0,300000]
["Roads","EED-53_High Mast Lights at Lusaka","PC002003009000000000000000000000000000_00413","New","All people in South Africa are and feel safe",null,"Optimize and sustain infrastructure investment and services  ","Machinery and Equipment","Machinery and Equipment","Whole of the Municipality",0,0,0,0,0,0,1]
["Roads","EED-54_High Mast Lights at Sethong","PC002003009000000000000000000000000000_00071","New","All people in South Africa are and feel safe",null,"Optimize and sustain infrastructure investment and services  ","Machinery and Equipment","Machinery and Equipment","Whole of the Municipality",0,0,0,0,0,0,1]
["Roads","EED-48_High Mast Lights at Dan Village","PC002003009000000000000000000000000000_00027","New","All people in South Africa are and feel safe",null,"Optimize and sustain infrastructure investment and services  ","Machinery and Equipment","Machinery and Equipment","Whole of the Municipality",0,0,0,0,0,0,1]
["Roads","ESD-44_New generator for georges valley_standby generator for the pump","PC002003009000000000000000000000000000_00594","New","An efficient, competitive and responsive economic infrastructure network",null,"Optimize and sustain infrastructure investment and services","Machinery and Equipment","Machinery and Equipment","Whole of the Municipality",0,0,0,0,0,0,1]
["Roads","CSD-22_Purchase of Fleet: 1xTLB_1xEscavator_Purchase of Fleet 1xEscavator ","PC002003010000000000000000000000000000_00597","New","An efficient, competitive and responsive economic infrastructure network",null,"Optimize and sustain infrastructure investment and services  ","Transport Assets","Transport Assets","Whole of the Municipality",0,0,0,5000000,0,0,1]
["Roads","EED-51_High Mast Lights at Zanghoma/Mariven1","PC002003009000000000000000000000000000_00046","New","All people in South Africa are and feel safe",null,"Optimize and sustain infrastructure investment and services  ","Machinery and Equipment","Machinery and Equipment","Whole of the Municipality",0,0,0,0,0,0,1]
["Solid Waste Removal","CSD-37_Purchase of mobile Air Quality monitoring station and calibrate annually","PC002003009000000000000000000000000000_00601","New","An efficient, competitive and responsive economic infrastructure network",null,"Optimize and sustain infrastructure investment and services","Machinery and Equipment","Machinery and Equipment","Whole of the Municipality",0,0,0,0,0,0,1]
["Support to Local Municipalities","PED-30_Purchase of Geographical Information Systems Equipments","PC002003009000000000000000000000000000_00600","New","An efficient, competitive and responsive economic infrastructure network",null,"Optimize and sustain infrastructure investment and services","Machinery and Equipment","Machinery and Equipment","Whole of the Municipality",0,0,0,1000000,0,0,1]
["Taxi Ranks","ESD-101_New Lenyenye Taxi Rank Phase 1 of 2 and 2 of 3","PC001001002006000000000000000000000000_02424","Upgrading","An efficient, competitive and responsive economic infrastructure network",null,"Optimize and sustain infrastructure investment and services","Infrastructure","Roads Infrastructure","Whole of the Municipality",0,0,0,700000,0,0,1]
["Parent Capital expenditure",null,null,null,null,null,null,null,null,null,null,null,{"$f":"SUM(M7:M240)","v":0},{"$f":"SUM(N7:N240)","v":157492943},{"$f":"SUM(O7:O240)","v":130857450},{"$f":"SUM(P7:P240)","v":160103800},{"$f":"SUM(Q7:Q240)","v":176675281}]
[]
["Entities:"]
["List all capital projects grouped by Entity"]
[]
["Entity A"]
["Water project A"]
[]
["Entity B"]
["Electricity project B"]
[]
[]
[]
["Entity Capital expenditure",null,null,null,null,null,null,null,null,null,null,null,{"$f":"SUM(M246:M253)","v":0},{"$f":"SUM(N246:N253)","v":0},{"$f":"SUM(O246:O253)","v":0},{"$f":"SUM(P246:P253)","v":0},{"$f":"SUM(Q246:Q253)","v":0}]
["Total Capital expenditure",null,null,null,null,null,null,null,null,null,null,null,{"$f":"SUM(M7:M240)+SUM(M246:M253)","v":0},{"$f":"SUM(N7:N240)+SUM(N246:N253)","v":157492943},{"$f":"SUM(O7:O240)+SUM(O246:O253)","v":130857450},{"$f":"SUM(P7:P240)+SUM(P246:P253)","v":160103800},{"$f":"SUM(Q7:Q240)+SUM(Q246:Q253)","v":176675281}]
[{"$f":"head27a","v":"References"}]
["Must reconcile with Budgeted Capital Expenditure"]
["Projects that fall above the threshold values applicable to the municipality as identified in regulation 13 of the Municipal Budget and Reporting Regulations must be listed individually. Other projects by Function"]
["Asset class as per table A9 and asset sub-class as per table SA34"]
["GPS coordinates correct to seconds. Provide a logical starting point on networked infrastructure."]
["Distinguish projects approved in terms of MFMA section 19(1)(b) and MRRR Regulation 13",null,null,null,null,null,null,null,null,null,null,"check",{"$f":"SUM(SA34a!E167+SA34b!E167+SA34e!E167)-'SA36'!M255","v":190258111.33999997},{"$f":"SUM(SA34a!H167+SA34b!H167+SA34e!H167)-'SA36'!N255","v":4000000},{"$f":"SUM(SA34a!I167+SA34b!I167+SA34e!I167)-'SA36'!O255","v":0},{"$f":"SUM(SA34a!J167+SA34b!J167+SA34e!J167)-'SA36'!P255","v":0},{"$f":"SUM(SA34a!K167+SA34b!K167+SA34e!K167)-'SA36'!Q255","v":1}]
["Project Number consists of MSCOA Project Longcode and seq No (sample PC001002006002_00002)"]

{"sheet":"SA37","index":62,"n_rows":27,"n_cols":18,"rows_kept":27,"cut":false,"hidden":false,"merged":[[1,12,2,12],[1,13,1,14],[1,15,1,17]]}
[{"$f":"muni&\" - \"&TableA37","v":"Choose name from list - Supporting Table SA37 Projects delayed from previous financial year/s"}]
["R thousand",null,null,null,null,null,null,null,null,null,null,null,{"$f":"Head47","v":"Previous target year to complete"},{"$f":"Head2","v":"Current Year 2020/21"},null,{"$f":"Head3","v":"2021/22 Medium Term Revenue & Expenditure Framework"}]
["Function","Project name","Project number","Type","MTSF Service Outcome","IUDF","Own Strategic Objectives","Asset Class","Asset Sub-Class","Ward Location","GPS Longitude","GPS Lattitude",null,{"$f":"Head6","v":"Original Budget"},{"$f":"Head8","v":"Full Year Forecast"},{"$f":"Head9","v":"Budget Year 2021/22"},{"$f":"Head10","v":"Budget Year +1 2022/23"},{"$f":"Head11","v":"Budget Year +2 2023/24"}]
["Parent municipality:"]
["List all capital projects grouped by Function"]
[]
[]
[]
[]
[]
[]
[]
[]
["Entities:"]
["List all capital projects grouped by Entity"]
[]
["Entity Name"]
["Project name"]
[]
[]
[]
[]
[{"$f":"head27a","v":"References"}]
["List all projects with planned completion dates in current year that have been re-budgeted in the MTREF"]
["Asset class as per table A9 and asset sub-class as per table SA34"]
["GPS coordinates correct to seconds. Provide a logical starting point on networked infrastructure."]
["Project Number consists of MSCOA Project Longcode and seq No (sample PC001002006002_00002)"]

{"sheet":"SA38","index":63,"n_rows":205,"n_cols":17,"rows_kept":205,"cut":false,"hidden":false,"merged":[[1,12,1,13],[1,14,1,16]]}
[{"$f":"muni&\" - \"&TableA38","v":"Choose name from list - Supporting Table SA38 Consolidated detailed operational projects"}]
["R thousand",null,null,null,null,null,null,null,null,null,null,null,"Prior year outcomes",null,{"$f":"Head3","v":"2021/22 Medium Term Revenue & Expenditure Framework"}]
["Function","Project Description","Project Number","Type","MTSF Service Outcome","IUDF","Own Strategic Objectives","Asset Class","Asset Sub-Class","Ward Location","GPS Longitude","GPS Lattitude",{"$f":"Head5&\"    \"&Head1","v":"Audited Outcome    2019/20"},{"$f":"Head2 & \"        \"&Head8","v":"Current Year 2020/21        Full Year Forecast"},{"$f":"Head9","v":"Budget Year 2021/22"},{"$f":"Head10","v":"Budget Year +1 2022/23"},{"$f":"Head11","v":"Budget Year +2 2023/24"}]
["Parent municipality:"]
["List all operational projects grouped by Function"]
[]
["Administrative and Corporate Support","_052_LIM333_CONSUMABLE DOMESTIC ITEMS","PO001002002001005000000000000000000000_00011","Corrective Maintenance","An efficient, competitive and responsive economic infrastructure network",null,"Optimize and sustain infrastructure investment and services ","Furniture and Office Equipment","Furniture and Office Equipment","Whole of the Municipality",0,0,0,60000,0,0,1]
["Administrative and Corporate Support","_054_LIM333_CONSUMABLE DOMESTIC ITEMS","PO001002002001005000000000000000000000_00365","Corrective Maintenance","An efficient, competitive and responsive economic infrastructure network",null,"Optimize and sustain infrastructure investment and services ","Furniture and Office Equipment","Furniture and Office Equipment","Whole of the Municipality",0,0,0,63,0,0,1]
["Administrative and Corporate Support","_006_LIM333_NON-CAPITAL TOOLS & EQUIPMENT","PO001002002001009000000000000000000000_00513","Corrective Maintenance","An efficient, competitive and responsive economic infrastructure network",null,"Optimize and sustain infrastructure investment and services  ","Machinery and Equipment","Machinery and Equipment","Whole of the Municipality",0,0,0,2000,0,0,1]
["Administrative and Corporate Support","_056_LIM333_NON-CAPITAL TOOLS & EQUIPMENT","PO001002002001009000000000000000000000_00424","Corrective Maintenance","An efficient, competitive and responsive economic infrastructure network",null,"Optimize and sustain infrastructure investment and services  ","Machinery and Equipment","Machinery and Equipment","Whole of the Municipality",0,0,0,8292,8292,8641,9021]
["Administrative and Corporate Support","_052_LIM333_CONSUMABLE DOMESTIC ITEMS","PO001002002001005000000000000000000000_00011","Corrective Maintenance","An efficient, competitive and responsive economic infrastructure network",null,"Optimize and sustain infrastructure investment and services ","Furniture and Office Equipment","Furniture and Office Equipment","Whole of the Municipality",0,0,0,60000,40000,41680,43514]
["Administrative and Corporate Support","_054_LIM333_MACHINERY & EQUIPMENT","PO001002002001009000000000000000000000_00526","Corrective Maintenance","An efficient, competitive and responsive economic infrastructure network",null,"Optimize and sustain infrastructure investment and services  ","Machinery and Equipment","Machinery and Equipment","Whole of the Municipality",0,0,0,722,722,753,786]
["Administrative and Corporate Support","_052_LIM333_NON-CAPITAL TOOLS & EQUIPMENT","PO001002002001009000000000000000000000_00366","Corrective Maintenance","An efficient, competitive and responsive economic infrastructure network",null,"Optimize and sustain infrastructure investment and services  ","Machinery and Equipment","Machinery and Equipment","Whole of the Municipality",0,0,0,2054,2054,2141,2235]
["Administrative and Corporate Support","_054_LIM333_CONSUMABLE DOMESTIC ITEMS","PO001002002001005000000000000000000000_00365","Corrective Maintenance","An efficient, competitive and responsive economic infrastructure network",null,"Optimize and sustain infrastructure investment and services ","Furniture and Office Equipment","Furniture and Office Equipment","Whole of the Municipality",0,0,0,63,63,66,69]
["Administrative and Corporate Support","_052_LIM333_FURNITURE & OFFICE EQUIPMENT","PO001002002001005000000000000000000000_00531","Corrective Maintenance","An efficient, competitive and responsive economic infrastructure network",null,"Optimize and sustain infrastructure investment and services  ","Furniture and Office Equipment","Furniture and Office Equipment","Whole of the Municipality",0,0,0,69,69,72,76]
["Administrative and Corporate Support","_054_LIM333_NON-CAPITAL TOOLS & EQUIPMENT","PO001002002001009000000000000000000000_00199","Corrective Maintenance","An efficient, competitive and responsive economic infrastructure network",null,"Optimize and sustain infrastructure investment and services  ","Machinery and Equipment","Machinery and Equipment","Whole of the Municipality",0,0,0,2285,2285,2381,2486]
["Administrative and Corporate Support","_006_LIM333_NON-CAPITAL TOOLS & EQUIPMENT","PO001002002001009000000000000000000000_00513","Corrective Maintenance","An efficient, competitive and responsive economic infrastructure network",null,"Optimize and sustain infrastructure investment and services  ","Machinery and Equipment","Machinery and Equipment","Whole of the Municipality",0,0,0,2000,2000,2084,2176]
["Asset Management","_036_LIM333_NON-CAPITAL TOOLS & EQUIPMENT","PO001002002001009000000000000000000000_00144","Corrective Maintenance","An efficient, competitive and responsive economic infrastructure network",null,"Optimize and sustain infrastructure investment and services  ","Machinery and Equipment","Machinery and Equipment","Whole of the Municipality",0,0,0,3500,3500,3647,3808]
["Asset Management","_036_LIM333_MACHINERY & EQUIPMENT","PO001002002001009000000000000000000000_00354","Corrective Maintenance","An efficient, competitive and responsive economic infrastructure network",null,"Optimize and sustain infrastructure investment and services  ","Machinery and Equipment","Machinery and Equipment","Whole of the Municipality",0,0,0,1642,1642,1711,1787]
["Asset Management","_036_LIM333_FURNITURE & OFFICE EQUIPMENT","PO001002002001005000000000000000000000_00493","Corrective Maintenance","An efficient, competitive and responsive economic infrastructure network",null,"Optimize and sustain infrastructure investment and services  ","Furniture and Office Equipment","Furniture and Office Equipment","Whole of the Municipality",0,0,0,1455,1455,1517,1583]
["Asset Management","_036_LIM333_CONSUMABLE DOMESTIC ITEMS","PO001002002001005000000000000000000000_00042","Corrective Maintenance","An efficient, competitive and responsive economic infrastructure network",null,"Optimize and sustain infrastructure investment and services ","Furniture and Office Equipment","Furniture and Office Equipment","Whole of the Municipality",0,0,0,10000,0,0,1]
["Asset Management","_036_LIM333_CONSUMABLE DOMESTIC ITEMS","PO001002002001005000000000000000000000_00042","Corrective Maintenance","An efficient, competitive and responsive economic infrastructure network",null,"Optimize and sustain infrastructure investment and services ","Furniture and Office Equipment","Furniture and Office Equipment","Whole of the Municipality",0,0,0,10000,10000,10420,10879]
["Asset Management","_036_LIM333_COUNCIL-OWNED LAND","PO001002002001003001001001000000000000_00502","Corrective Maintenance","Protect and enhance our environmental assets and natural resources",null," Enhanced sustainable environmental management and social development  ","Land","Land","Whole of the Municipality",0,0,0,3507,3507,3655,3816]
["Control of Public Nuisances","_144_LIM333_NON-CAPITAL TOOLS & EQUIPMENT","PO001002002001009000000000000000000000_00534","Corrective Maintenance","An efficient, competitive and responsive economic infrastructure network",null,"Optimize and sustain infrastructure investment and services  ","Machinery and Equipment","Machinery and Equipment","Whole of the Municipality",0,0,0,4537,14537,15148,15815]
["Control of Public Nuisances","_144_LIM333_CONSUMABLE DOMESTIC ITEMS","PO001002002001005000000000000000000000_00411","Corrective Maintenance","An efficient, competitive and responsive economic infrastructure network",null,"Optimize and sustain infrastructure investment and services ","Furniture and Office Equipment","Furniture and Office Equipment","Whole of the Municipality",0,0,0,4241,0,0,1]
["Control of Public Nuisances","_144_LIM333_MACHINERY & EQUIPMENT","PO001002002001009000000000000000000000_00024","Corrective Maintenance","An efficient, competitive and responsive economic infrastructure network",null,"Optimize and sustain infrastructure investment and services  ","Machinery and Equipment","Machinery and Equipment","Whole of the Municipality",0,0,0,33500,33500,34907,36443]
["Control of Public Nuisances","_144_LIM333_FURNITURE & OFFICE EQUIPMENT","PO001002002001005000000000000000000000_00193","Corrective Maintenance","An efficient, competitive and responsive economic infrastructure network",null,"Optimize and sustain infrastructure investment and services  ","Furniture and Office Equipment","Furniture and Office Equipment","Whole of the Municipality",0,0,0,270,270,282,294]
["Control of Public Nuisances","_144_LIM333_TRAFFIC & ROAD SIGNS","PO001002002001010000000000000000000000_00069","Corrective Maintenance","An efficient, competitive and responsive economic infrastructure network",null,"Optimize and sustain infrastructure investment and services  ","Transport Assets","Transport Assets","Whole of the Municipality",0,0,0,93000,93000,96906,101170]
["Control of Public Nuisances","_144_LIM333_CONSUMABLE DOMESTIC ITEMS","PO001002002001005000000000000000000000_00411","Corrective Maintenance","An efficient, competitive and responsive economic infrastructure network",null,"Optimize and sustain infrastructure investment and services ","Furniture and Office Equipment","Furniture and Office Equipment","Whole of the Municipality",0,0,0,4241,4241,4420,4614]
["Corporate Wide Strategic Planning (IDPs, LEDs)","_005_LIM333_NON-CAPITAL TOOLS & EQUIPMENT","PO001002002001009000000000000000000000_00136","Corrective Maintenance","An efficient, competitive and responsive economic infrastructure network",null,"Optimize and sustain infrastructure investment and services  ","Machinery and Equipment","Machinery and Equipment","Whole of the Municipality",0,0,0,17000,17000,17714,18494]
["Corporate Wide Strategic Planning (IDPs, LEDs)","_005_LIM333_FURNITURE & OFFICE EQUIPMENT","PO001002002001005000000000000000000000_00032","Corrective Maintenance","An efficient, competitive and responsive economic infrastructure network",null,"Optimize and sustain infrastructure investment and services  ","Furniture and Office Equipment","Furniture and Office Equipment","Whole of the Municipality",0,0,0,815,815,850,887]
["Disaster Management","_153_LIM333_Non-Capital Tools and Equipment","PO001002002001009000000000000000000000_00192","Corrective Maintenance","An efficient, competitive and responsive economic infrastructure network",null,"Optimize and sustain infrastructure investment and services  ","Machinery and Equipment","Machinery and Equipment","Whole of the Municipality",0,0,0,5000,5000,5210,5440]
["Disaster Management","_153_LIM333_MACHINERY & EQUIPMENT","PO001002002001009000000000000000000000_00466","Corrective Maintenance","An efficient, competitive and responsive economic infrastructure network",null,"Optimize and sustain infrastructure investment and services  ","Machinery and Equipment","Machinery and Equipment","Whole of the Municipality",0,0,0,799,799,833,870]
["Disaster Management","_153_LIM333_FURNITURE & OFFICE EQUIPMENT","PO001002002001005000000000000000000000_00039","Corrective Maintenance","An efficient, competitive and responsive economic infrastructure network",null,"Optimize and sustain infrastructure investment and services  ","Furniture and Office Equipment","Furniture and Office Equipment","Whole of the Municipality",0,0,0,392,392,409,427]
["Economic Development/Planning","_012_LIM333_FURNITURE & OFFICE EQUIPMENT","PO001002002001005000000000000000000000_00521","Corrective Maintenance","An efficient, competitive and responsive economic infrastructure network",null,"Optimize and sustain infrastructure investment and services  ","Furniture and Office Equipment","Furniture and Office Equipment","Whole of the Municipality",0,0,0,400,400,417,436]
["Electricity","_162_LIM333_MACHINERY & EQUIPMENT","PO001002002001009000000000000000000000_00293","Corrective Maintenance","An efficient, competitive and responsive economic infrastructure network",null,"Optimize and sustain infrastructure investment and services  ","Machinery and Equipment","Machinery and Equipment","Whole of the Municipality",0,0,0,2322,2322,2420,2526]
["Electricity","183_LIM333_COUNCIL-OWNED VEHICLES - COUNCIL-OWNED VEHICLE USAGE","PO001002002001010000000000000000000000_00258","Corrective Maintenance","An efficient, competitive and responsive economic infrastructure network",null,"Optimize and sustain infrastructure investment and services  ","Transport Assets","Transport Assets","Whole of the Municipality",0,0,0,0,0,0,1]
["Electricity","183_LIM333_CONSUMABLE DOMESTIC ITEMS","PO001002002001005000000000000000000000_00449","Corrective Maintenance","An efficient, competitive and responsive economic infrastructure network",null,"Optimize and sustain infrastructure investment and services ","Furniture and Office Equipment","Furniture and Office Equipment","Whole of the Municipality",0,0,0,6000,6000,6252,6528]
["Electricity","183_LIM333_NON-CAPITAL TOOLS & EQUIPMENT","PO001002002001009000000000000000000000_00518","Corrective Maintenance","An efficient, competitive and responsive economic infrastructure network",null,"Optimize and sustain infrastructure investment and services  ","Machinery and Equipment","Machinery and Equipment","Whole of the Municipality",0,0,0,15955,15955,16626,17357]
["Electricity","_173_NON-CAPITAL TOOLS & EQUIPMENT","PO001002002001009000000000000000000000_00308","Corrective Maintenance","An efficient, competitive and responsive economic infrastructure network",null,"Optimize and sustain infrastructure investment and services  ","Machinery and Equipment","Machinery and Equipment","Whole of the Municipality",0,0,0,27731,27731,28896,30168]
["Electricity","_173_LIM333_COUNCIL-OWNED VEHICLES - COUNCIL-OWNED VEHICLE USAGE","PO001002002001010000000000000000000000_00045","Corrective Maintenance","An efficient, competitive and responsive economic infrastructure network",null,"Optimize and sustain infrastructure investment and services  ","Transport Assets","Transport Assets","Whole of the Municipality",0,0,0,0,0,0,1]
["Electricity","183_LIM333_MACHINERY & EQUIPMENT","PO001002002001009000000000000000000000_00194","Corrective Maintenance","An efficient, competitive and responsive economic infrastructure network",null,"Optimize and sustain infrastructure investment and services  ","Machinery and Equipment","Machinery and Equipment","Whole of the Municipality",0,0,0,1737,1737,1810,1890]
["Electricity","183_LIM333_CONSUMABLE DOMESTIC ITEMS","PO001002002001005000000000000000000000_00449","Corrective Maintenance","An efficient, competitive and responsive economic infrastructure network",null,"Optimize and sustain infrastructure investment and services ","Furniture and Office Equipment","Furniture and Office Equipment","Whole of the Municipality",0,0,0,6000,0,0,1]
["Electricity","_173_LIM333_MACHINERY & EQUIPMENT","PO001002002001009000000000000000000000_00003","Corrective Maintenance","An efficient, competitive and responsive economic infrastructure network",null,"Optimize and sustain infrastructure investment and services  ","Machinery and Equipment","Machinery and Equipment","Whole of the Municipality",0,0,0,14280,4280,4460,4656]
["Electricity","183_FUEL - VEHICLES","PO001002002001010000000000000000000000_02390","Corrective Maintenance","Responsive, accountable, effective and efficient local government",null,"Increase Financial viability  ","Transport Assets","Transport Assets","Whole of the Municipality",0,0,0,712,712,742,775]
["Electricity","173_FUEL - VEHICLES","PO001002002001010000000000000000000000_02389","Corrective Maintenance","Responsive, accountable, effective and efficient local government",null,"Increase Financial viability  ","Transport Assets","Transport Assets","Whole of the Municipality",0,0,0,737,737,768,802]
["Electricity","_173_LIM333_CONSUMABLE DOMESTIC ITEMS","PO001002002001005000000000000000000000_00398","Corrective Maintenance","An efficient, competitive and responsive economic infrastructure network",null,"Optimize and sustain infrastructure investment and services ","Furniture and Office Equipment","Furniture and Office Equipment","Whole of the Municipality",0,0,0,40006,0,0,1]
["Electricity","_173_LIM333_CONSUMABLE DOMESTIC ITEMS","PO001002002001005000000000000000000000_00398","Corrective Maintenance","An efficient, competitive and responsive economic infrastructure network",null,"Optimize and sustain infrastructure investment and services ","Furniture and Office Equipment","Furniture and Office Equipment","Whole of the Municipality",0,0,0,40006,40006,41687,43521]
["Finance","_035_LIM333_FURNITURE & OFFICE EQUIPMENT","PO001002002001005000000000000000000000_00197","Corrective Maintenance","An efficient, competitive and responsive economic infrastructure network",null,"Optimize and sustain infrastructure investment and services  ","Furniture and Office Equipment","Furniture and Office Equipment","Whole of the Municipality",0,0,0,2290,2290,2387,2492]
["Finance","_033_LIM333_FURNITURE & OFFICE EQUIPMENT","PO001002002001005000000000000000000000_00427","Corrective Maintenance","An efficient, competitive and responsive economic infrastructure network",null,"Optimize and sustain infrastructure investment and services  ","Furniture and Office Equipment","Furniture and Office Equipment","Whole of the Municipality",0,0,0,24,24,26,27]
["Finance","_032_LIM333_COUNCIL-OWNED BUILDINGS","PO001002002001003001001001000000000000_00484","Corrective Maintenance","An efficient, competitive and responsive economic infrastructure network",null,"Optimize and sustain infrastructure investment and services ","Land","Land","Whole of the Municipality",0,0,0,445,445,464,485]
["Finance","_035_LIM333_CONSUMABLE DOMESTIC ITEMS","PO001002002001005000000000000000000000_00101","Corrective Maintenance","An efficient, competitive and responsive economic infrastructure network",null,"Optimize and sustain infrastructure investment and services ","Furniture and Office Equipment","Furniture and Office Equipment","Whole of the Municipality",0,0,0,1000,0,0,1]
["Finance","_033_LIM333_COUNCIL-OWNED BUILDINGS","PO001002002001003001001001000000000000_00044","Corrective Maintenance","An efficient, competitive and responsive economic infrastructure network",null,"Optimize and sustain infrastructure investment and services ","Land","Land","Whole of the Municipality",0,0,0,447,447,466,487]
["Finance","_032_LIM333_CONSUMABLE DOMESTIC ITEMS","PO001002002001005000000000000000000000_00085","Corrective Maintenance","An efficient, competitive and responsive economic infrastructure network",null,"Optimize and sustain infrastructure investment and services ","Furniture and Office Equipment","Furniture and Office Equipment","Whole of the Municipality",0,0,0,829,0,0,1]
["Finance","_032_LIM333_NON-CAPITAL TOOLS & EQUIPMENT","PO001002002001009000000000000000000000_00504","Corrective Maintenance","An efficient, competitive and responsive economic infrastructure network",null,"Optimize and sustain infrastructure investment and services  ","Machinery and Equipment","Machinery and Equipment","Whole of the Municipality",0,0,0,2366,2366,2466,2574]
["Finance","_034_LIM333_FURNITURE & OFFICE EQUIPMENT","PO001002002001005000000000000000000000_00256","Corrective Maintenance","An efficient, competitive and responsive economic infrastructure network",null,"Optimize and sustain infrastructure investment and services  ","Furniture and Office Equipment","Furniture and Office Equipment","Whole of the Municipality",0,0,0,2222,2222,2316,2418]
["Finance","_035_LIM333_CONSUMABLE DOMESTIC ITEMS","PO001002002001005000000000000000000000_00101","Corrective Maintenance","An efficient, competitive and responsive economic infrastructure network",null,"Optimize and sustain infrastructure investment and services ","Furniture and Office Equipment","Furniture and Office Equipment","Whole of the Municipality",0,0,0,1000,1000,1042,1088]
["Finance","_034_LIM333_NON-CAPITAL TOOLS & EQUIPMENT","PO001002002001009000000000000000000000_00288","Corrective Maintenance","An efficient, competitive and responsive economic infrastructure network",null,"Optimize and sustain infrastructure investment and services  ","Machinery and Equipment","Machinery and Equipment","Whole of the Municipality",0,0,0,3500,3500,3647,3808]
["Finance","_033_LIM333_MACHINERY & EQUIPMENT","PO001002002001009000000000000000000000_00057","Corrective Maintenance","An efficient, competitive and responsive economic infrastructure network",null,"Optimize and sustain infrastructure investment and services  ","Machinery and Equipment","Machinery and Equipment","Whole of the Municipality",0,0,0,0,0,0,1]
["Finance","_034_LIM333_CONSUMABLE DOMESTIC ITEMS","PO001002002001005000000000000000000000_00172","Corrective Maintenance","An efficient, competitive and responsive economic infrastructure network",null,"Optimize and sustain infrastructure investment and services ","Furniture and Office Equipment","Furniture and Office Equipment","Whole of the Municipality",0,0,0,4000,4000,4168,4352]
["Finance","_032_LIM333_MACHINERY & EQUIPMENT","PO001002002001005000000000000000000000_00047","Corrective Maintenance","An efficient, competitive and responsive economic infrastructure network",null,"Optimize and sustain infrastructure investment and services  ","Furniture and Office Equipment","Furniture and Office Equipment","Whole of the Municipality",0,0,0,193,193,202,210]
["Finance","_033_LIM333_CONSUMABLE DOMESTIC ITEMS","PO001002002001005000000000000000000000_00451","Corrective Maintenance","An efficient, competitive and responsive economic infrastructure network",null,"Optimize and sustain infrastructure investment and services ","Furniture and Office Equipment","Furniture and Office Equipment","Whole of the Municipality",0,0,0,592,592,617,645]
["Finance","_035_LIM333_MACHINERY & EQUIPMENT","PO001002002001009000000000000000000000_00401","Corrective Maintenance","Responsive, accountable, effective and efficient local government",null,"Increase Financial viability  ","Machinery and Equipment","Machinery and Equipment","Whole of the Municipality",0,0,0,1910,1910,1991,2078]
["Finance","_034_LIM333_CONSUMABLE DOMESTIC ITEMS","PO001002002001005000000000000000000000_00172","Corrective Maintenance","An efficient, competitive and responsive economic infrastructure network",null,"Optimize and sustain infrastructure investment and services ","Furniture and Office Equipment","Furniture and Office Equipment","Whole of the Municipality",0,0,0,4000,0,0,1]
["Finance","_033_LIM333_NON-CAPITAL TOOLS & EQUIPMENT","PO001002002001009000000000000000000000_00143","Corrective Maintenance","An efficient, competitive and responsive economic infrastructure network",null,"Optimize and sustain infrastructure investment and services  ","Machinery and Equipment","Machinery and Equipment","Whole of the Municipality",0,0,0,2284,2284,2380,2485]
["Finance","_034_LIM333_MACHINERY & EQUIPMENT","PO001002002001009000000000000000000000_00062","Corrective Maintenance","An efficient, competitive and responsive economic infrastructure network",null,"Optimize and sustain infrastructure investment and services  ","Machinery and Equipment","Machinery and Equipment","Whole of the Municipality",0,0,0,1111,1111,1158,1209]
["Finance","_032_LIM333_CONSUMABLE DOMESTIC ITEMS","PO001002002001005000000000000000000000_00085","Corrective Maintenance","An efficient, competitive and responsive economic infrastructure network",null,"Optimize and sustain infrastructure investment and services ","Furniture and Office Equipment","Furniture and Office Equipment","Whole of the Municipality",0,0,0,829,829,864,902]
["Finance","_033_LIM333_CONSUMABLE DOMESTIC ITEMS","PO001002002001005000000000000000000000_00451","Corrective Maintenance","An efficient, competitive and responsive economic infrastructure network",null,"Optimize and sustain infrastructure investment and services ","Furniture and Office Equipment","Furniture and Office Equipment","Whole of the Municipality",0,0,0,592,0,0,1]
["Finance","_032_LIM333_FURNITURE & OFFICE EQUIPMENT","PO001002002001005000000000000000000000_00112","Corrective Maintenance","An efficient, competitive and responsive economic infrastructure network",null,"Optimize and sustain infrastructure investment and services  ","Furniture and Office Equipment","Furniture and Office Equipment","Whole of the Municipality",0,0,0,0,0,0,1]
["Finance","_035_LIM333_NON-CAPITAL TOOLS & EQUIPMENT","PO001002002001009000000000000000000000_00237","Corrective Maintenance","An efficient, competitive and responsive economic infrastructure network",null,"Optimize and sustain infrastructure investment and services  ","Machinery and Equipment","Machinery and Equipment","Whole of the Municipality",0,0,0,4100,4100,4273,4461]
["Finance","GTEDA_Repair and maintenance","PO001002002001005000000000000000000000_00313","Corrective Maintenance","An efficient, competitive and responsive economic infrastructure network",null,"Optimize and sustain infrastructure investment and services  ","Furniture and Office Equipment","Furniture and Office Equipment","Whole of the Municipality",0,0,0,5500,5500,5731,5984]
["Fleet Management","037_FUEL - VEHICLES","PO001002002001010000000000000000000000_02386","Corrective Maintenance","Responsive, accountable, effective and efficient local government",null,"Increase Financial viability  ","Transport Assets","Transport Assets","Whole of the Municipality",0,0,0,11683790,12052525,12558732,13111316]
["Fleet Management","037_Repairs and maintenance_Lawnmowers","PO001002002001009000000000000000000000_02381","Corrective Maintenance","Responsive, accountable, effective and efficient local government",null,"Increase Financial viability  ","Machinery and Equipment","Machinery and Equipment","Whole of the Municipality",0,0,0,134000,134000,139628,145772]
["Fleet Management","037_Repairs and maintenance_Machinery and Equipment","PO001002002001009000000000000000000000_02380","Corrective Maintenance","Responsive, accountable, effective and efficient local government",null,"Increase Financial viability  ","Machinery and Equipment","Machinery and Equipment","Whole of the Municipality",0,0,0,7616,7616,7936,8286]
["Fleet Management","037_COUNCIL-OWNED VEHICLES - CONTRACTORS_Repair and maintenance","PO001002002001010000000000000000000000_02385","Corrective Maintenance","Responsive, accountable, effective and efficient local government",null,"Increase Financial viability  ","Transport Assets","Transport Assets","Whole of the Municipality",0,0,0,302810,52810,55029,57450]
["Fleet Management","_037_LIM333_NON-CAPITAL TOOLS & EQUIPMENT","PO001002002001009000000000000000000000_00018","Corrective Maintenance","An efficient, competitive and responsive economic infrastructure network",null,"Optimize and sustain infrastructure investment and services  ","Machinery and Equipment","Machinery and Equipment","Whole of the Municipality",0,0,0,19673,19673,20500,21402]
["Fleet Management","_037_LIM333_CONSUMABLE DOMESTIC ITEMS","PO001002002001005000000000000000000000_00089","Corrective Maintenance","An efficient, competitive and responsive economic infrastructure network",null,"Optimize and sustain infrastructure investment and services ","Furniture and Office Equipment","Furniture and Office Equipment","Whole of the Municipality",0,0,0,14964,14964,15593,16279]
["Fleet Management","037_COUNCIL-OWNED VEHICLES - MATERIALS_Repair and maintenance","PO001002002001010000000000000000000000_02383","Corrective Maintenance","Responsive, accountable, effective and efficient local government",null,"Increase Financial viability  ","Transport Assets","Transport Assets","Whole of the Municipality",0,0,0,7287436,7936436,8269767,8633637]
["Fleet Management","_037_LIM333_CONSUMABLE DOMESTIC ITEMS","PO001002002001005000000000000000000000_00089","Corrective Maintenance","An efficient, competitive and responsive economic infrastructure network",null,"Optimize and sustain infrastructure investment and services ","Furniture and Office Equipment","Furniture and Office Equipment","Whole of the Municipality",0,0,0,14964,0,0,1]
["Fleet Management","037_COUNCIL-OWNED VEHICLES - COUNCIL-OWNED VEHICLE - GENERAL_Repair and maintenance","PO001002002001010000000000000000000000_02384","Corrective Maintenance","Responsive, accountable, effective and efficient local government",null,"Increase Financial viability  ","Transport Assets","Transport Assets","Whole of the Municipality",0,0,0,995905,995922,1037751,1083412]
["Governance Function","_004_LIM333_CONSUMABLE DOMESTIC ITEMS","PO001002002001005000000000000000000000_00170","Corrective Maintenance","An efficient, competitive and responsive economic infrastructure network",null,"Optimize and sustain infrastructure investment and services ","Furniture and Office Equipment","Furniture and Office Equipment","Whole of the Municipality",0,0,0,1592,1592,1659,1732]
["Governance Function","_004_LIM333_CONSUMABLE DOMESTIC ITEMS","PO001002002001005000000000000000000000_00170","Corrective Maintenance","An efficient, competitive and responsive economic infrastructure network",null,"Optimize and sustain infrastructure investment and services ","Furniture and Office Equipment","Furniture and Office Equipment","Whole of the Municipality",0,0,0,1592,0,0,1]
["Governance Function","_004_LIM333_NON-CAPITAL TOOLS & EQUIPMENT","PO001002002001009000000000000000000000_00012","Corrective Maintenance","An efficient, competitive and responsive economic infrastructure network",null,"Optimize and sustain infrastructure investment and services  ","Machinery and Equipment","Machinery and Equipment","Whole of the Municipality",0,0,0,3000,3000,3126,3264]
["Health Services","113_LIM333_FURNITURE & OFFICE EQUIPMENT","PO001002002001005000000000000000000000_00084","Corrective Maintenance","An efficient, competitive and responsive economic infrastructure network",null,"Optimize and sustain infrastructure investment and services  ","Furniture and Office Equipment","Furniture and Office Equipment","Whole of the Municipality",0,0,0,304,304,317,331]
["Health Services","115_LIM333_FURNITURE & OFFICE EQUIPMENT","PO001002002001005000000000000000000000_00137","Corrective Maintenance","An efficient, competitive and responsive economic infrastructure network",null,"Optimize and sustain infrastructure investment and services  ","Furniture and Office Equipment","Furniture and Office Equipment","Whole of the Municipality",0,0,0,1000,1000,1042,1088]
["Health Services","113_LIM333_CONSUMABLE DOMESTIC ITEMS","PO001002002001005000000000000000000000_00321","Corrective Maintenance","An efficient, competitive and responsive economic infrastructure network",null,"Optimize and sustain infrastructure investment and services ","Furniture and Office Equipment","Furniture and Office Equipment","Whole of the Municipality",0,0,0,8541,8541,8900,9292]
["Health Services","115_LIM333_CONSUMABLE DOMESTIC ITEMS","PO001002002001005000000000000000000000_00291","Corrective Maintenance","An efficient, competitive and responsive economic infrastructure network",null,"Optimize and sustain infrastructure investment and services ","Furniture and Office Equipment","Furniture and Office Equipment","Whole of the Municipality",0,0,0,113574,83574,87085,90916]
["Health Services","115_LIM333_COUNCIL-OWNED LAND","PO001002002001003001001001000000000000_00512","Corrective Maintenance","Protect and enhance our environmental assets and natural resources",null," Enhanced sustainable environmental management and social development  ","Land","Land","Whole of the Municipality",0,0,0,801,801,835,872]
["Health Services","115_LIM333_NON-CAPITAL TOOLS & EQUIPMENT","PO001002002001009000000000000000000000_00264","Corrective Maintenance","An efficient, competitive and responsive economic infrastructure network",null,"Optimize and sustain infrastructure investment and services  ","Machinery and Equipment","Machinery and Equipment","Whole of the Municipality",0,0,0,5148,5148,5365,5601]
["Health Services","113_LIM333_CONSUMABLE DOMESTIC ITEMS","PO001002002001005000000000000000000000_00321","Corrective Maintenance","An efficient, competitive and responsive economic infrastructure network",null,"Optimize and sustain infrastructure investment and services ","Furniture and Office Equipment","Furniture and Office Equipment","Whole of the Municipality",0,0,0,8541,0,0,1]
["Health Services","115_LIM333_MACHINERY & EQUIPMENT","PO001002002001009000000000000000000000_00471","Corrective Maintenance","An efficient, competitive and responsive economic infrastructure network",null,"Optimize and sustain infrastructure investment and services  ","Machinery and Equipment","Machinery and Equipment","Whole of the Municipality",0,0,0,1427,1427,1487,1553]
["Health Services","115_LIM333_CONSUMABLE DOMESTIC ITEMS","PO001002002001005000000000000000000000_00291","Corrective Maintenance","An efficient, competitive and responsive economic infrastructure network",null,"Optimize and sustain infrastructure investment and services ","Furniture and Office Equipment","Furniture and Office Equipment","Whole of the Municipality",0,0,0,113574,0,0,1]
["Housing","103_LIM333_CONSUMABLE DOMESTIC ITEMS","PO001002002001005000000000000000000000_00328","Corrective Maintenance","An efficient, competitive and responsive economic infrastructure network",null,"Optimize and sustain infrastructure investment and services ","Furniture and Office Equipment","Furniture and Office Equipment","Whole of the Municipality",0,0,0,10317,0,0,1]
["Housing","103_LIM333_NON-CAPITAL TOOLS & EQUIPMENT","PO001002002001009000000000000000000000_00378","Corrective Maintenance","An efficient, competitive and responsive economic infrastructure network",null,"Optimize and sustain infrastructure investment and services  ","Machinery and Equipment","Machinery and Equipment","Whole of the Municipality",0,0,0,17662,17662,18404,19214]
["Housing","103_LIM333_COUNCIL-OWNED VEHICLES - COUNCIL-OWNED VEHICLE USAGE","PO001002002001010000000000000000000000_00186","Corrective Maintenance","An efficient, competitive and responsive economic infrastructure network",null,"Optimize and sustain infrastructure investment and services  ","Transport Assets","Transport Assets","Whole of the Municipality",0,0,0,0,0,0,1]
["Housing","103_LIM333_MACHINERY & EQUIPMENT","PO001002002001009000000000000000000000_00432","Corrective Maintenance","An efficient, competitive and responsive economic infrastructure network",null,"Optimize and sustain infrastructure investment and services  ","Machinery and Equipment","Machinery and Equipment","Whole of the Municipality",0,0,0,19020,19020,19819,20691]
["Housing","103_LIM333_FURNITURE & OFFICE EQUIPMENT","PO001002002001005000000000000000000000_00445","Corrective Maintenance","An efficient, competitive and responsive economic infrastructure network",null,"Optimize and sustain infrastructure investment and services  ","Furniture and Office Equipment","Furniture and Office Equipment","Whole of the Municipality",0,0,0,1250,1250,1303,1360]
["Housing","103_LIM333_CONSUMABLE DOMESTIC ITEMS","PO001002002001005000000000000000000000_00328","Corrective Maintenance","An efficient, competitive and responsive economic infrastructure network",null,"Optimize and sustain infrastructure investment and services ","Furniture and Office Equipment","Furniture and Office Equipment","Whole of the Municipality",0,0,0,10317,10317,10751,11224]
["Human Resources","_053_LIM333_MACHINERY & EQUIPMENT","PO001002002001009000000000000000000000_00104","Corrective Maintenance","An efficient, competitive and responsive economic infrastructure network",null,"Optimize and sustain infrastructure investment and services  ","Machinery and Equipment","Machinery and Equipment","Whole of the Municipality",0,0,0,2345,2345,2444,2552]
["Human Resources","_053_LIM333_FURNITURE & OFFICE EQUIPMENT","PO001002002001005000000000000000000000_00124","Corrective Maintenance","An efficient, competitive and responsive economic infrastructure network",null,"Optimize and sustain infrastructure investment and services  ","Furniture and Office Equipment","Furniture and Office Equipment","Whole of the Municipality",0,0,0,3000,3000,3126,3264]
["Human Resources","_053_LIM333_NON-CAPITAL TOOLS & EQUIPMENT","PO001002002001009000000000000000000000_00176","Corrective Maintenance","An efficient, competitive and responsive economic infrastructure network",null,"Optimize and sustain infrastructure investment and services  ","Machinery and Equipment","Machinery and Equipment","Whole of the Municipality",0,0,0,14080,14080,14672,15317]
["Information Technology","_038_LIM333_CONSUMABLE DOMESTIC ITEMS","PO001002002001005000000000000000000000_00098","Corrective Maintenance","An efficient, competitive and responsive economic infrastructure network",null,"Optimize and sustain infrastructure investment and services ","Furniture and Office Equipment","Furniture and Office Equipment","Whole of the Municipality",0,0,0,3971,3971,4138,4320]
["Information Technology","_038_LIM333_CONSUMABLE DOMESTIC ITEMS","PO001002002001005000000000000000000000_00098","Corrective Maintenance","An efficient, competitive and responsive economic infrastructure network",null,"Optimize and sustain infrastructure investment and services ","Furniture and Office Equipment","Furniture and Office Equipment","Whole of the Municipality",0,0,0,3971,0,0,1]
["Information Technology","_038_LIM333_NON-CAPITAL TOOLS & EQUIPMENT","PO001002002001009000000000000000000000_00122","Corrective Maintenance","An efficient, competitive and responsive economic infrastructure network",null,"Optimize and sustain infrastructure investment and services  ","Machinery and Equipment","Machinery and Equipment","Whole of the Municipality",0,0,0,65240,65240,67981,70972]
["Information Technology","_038_LIM333_COMPUTER EQUIPMENT & SOFTWARE - CONTRACTORS","PO001002002001004000000000000000000000_00458","Corrective Maintenance","Responsive, accountable, effective and efficient local government",null,"Effective and Efficient Administration  ","Computer Equipment","Computer Equipment","Whole of the Municipality",0,0,0,899000,545000,567890,592878]
["Legal Services","_058_LIM333_NON-CAPITAL TOOLS & EQUIPMENT","PO001002002001009000000000000000000000_00301","Corrective Maintenance","An efficient, competitive and responsive economic infrastructure network",null,"Optimize and sustain infrastructure investment and services  ","Machinery and Equipment","Machinery and Equipment","Whole of the Municipality",0,0,0,5713,5713,5953,6215]
["Libraries and Archives","_123_LIM333_FURNITURE & OFFICE EQUIPMENT","PO001002002001005000000000000000000000_00273","Corrective Maintenance","An efficient, competitive and responsive economic infrastructure network",null,"Optimize and sustain infrastructure investment and services  ","Furniture and Office Equipment","Furniture and Office Equipment","Whole of the Municipality",0,0,0,13000,20173,20173,20173]
["Libraries and Archives","_123_LIM333_NON-CAPITAL TOOLS & EQUIPMENT","PO001002002001009000000000000000000000_00363","Corrective Maintenance","An efficient, competitive and responsive economic infrastructure network",null,"Optimize and sustain infrastructure investment and services  ","Machinery and Equipment","Machinery and Equipment","Whole of the Municipality",0,0,0,10000,10000,10420,10879]
["Libraries and Archives","_123_LIM333_CONSUMABLE DOMESTIC ITEMS","PO001002002001005000000000000000000000_00132","Corrective Maintenance","An efficient, competitive and responsive economic infrastructure network",null,"Optimize and sustain infrastructure investment and services ","Furniture and Office Equipment","Furniture and Office Equipment","Whole of the Municipality",0,0,0,15000,15000,15630,16318]
["Libraries and Archives","_123_LIM333_FURNITURE & OFFICE EQUIPMENT","PO001002002001005000000000000000000000_00273","Corrective Maintenance","An efficient, competitive and responsive economic infrastructure network",null,"Optimize and sustain infrastructure investment and services  ","Furniture and Office Equipment","Furniture and Office Equipment","Whole of the Municipality",0,0,0,13000,13000,13546,14143]
["Libraries and Archives","_123_LIM333_CONSUMABLE DOMESTIC ITEMS","PO001002002001005000000000000000000000_00132","Corrective Maintenance","An efficient, competitive and responsive economic infrastructure network",null,"Optimize and sustain infrastructure investment and services ","Furniture and Office Equipment","Furniture and Office Equipment","Whole of the Municipality",0,0,0,15000,0,0,1]
["Marketing, Customer Relations, Publicity and Media Co-ordination","_003_LIM333_FURNITURE & OFFICE EQUIPMENT","PO001002002001005000000000000000000000_00004","Corrective Maintenance","An efficient, competitive and responsive economic infrastructure network",null,"Optimize and sustain infrastructure investment and services  ","Furniture and Office Equipment","Furniture and Office Equipment","Whole of the Municipality",0,0,0,1814,1814,1891,1974]
["Marketing, Customer Relations, Publicity and Media Co-ordination","_003_LIM333_NON-CAPITAL TOOLS & EQUIPMENT","PO001002002001009000000000000000000000_00242","Corrective Maintenance","An efficient, competitive and responsive economic infrastructure network",null,"Optimize and sustain infrastructure investment and services  ","Machinery and Equipment","Machinery and Equipment","Whole of the Municipality",0,0,0,15549,15549,16203,16915]
["Municipal Manager, Town Secretary and Chief Executive","_057_LIM333_CONSUMABLE DOMESTIC ITEMS","PO001002002001005000000000000000000000_00050","Corrective Maintenance","An efficient, competitive and responsive economic infrastructure network",null,"Optimize and sustain infrastructure investment and services ","Furniture and Office Equipment","Furniture and Office Equipment","Whole of the Municipality",0,0,0,941,941,981,1024]
["Municipal Manager, Town Secretary and Chief Executive","_057_LIM333_CONSUMABLE DOMESTIC ITEMS","PO001002002001005000000000000000000000_00050","Corrective Maintenance","An efficient, competitive and responsive economic infrastructure network",null,"Optimize and sustain infrastructure investment and services ","Furniture and Office Equipment","Furniture and Office Equipment","Whole of the Municipality",0,0,0,941,0,0,1]
["Municipal Manager, Town Secretary and Chief Executive","_002_LIM333_NON-CAPITAL TOOLS & EQUIPMENT","PO001002002001009000000000000000000000_00255","Corrective Maintenance","Responsive, accountable, effective and efficient local government",null,"Increase Financial viability  ","Machinery and Equipment","Machinery and Equipment","Whole of the Municipality",0,0,0,5000,5000,5210,5440]
["Municipal Manager, Town Secretary and Chief Executive","_057_LIM333_NON-CAPITAL TOOLS & EQUIPMENT","PO001002002001009000000000000000000000_00009","Corrective Maintenance","An efficient, competitive and responsive economic infrastructure network",null,"Optimize and sustain infrastructure investment and services  ","Machinery and Equipment","Machinery and Equipment","Whole of the Municipality",0,0,0,4866,4866,5071,5294]
["Property Services","_024_LIM333_CONSUMABLE DOMESTIC ITEMS","PO001002002001005000000000000000000000_00250","Corrective Maintenance","An efficient, competitive and responsive economic infrastructure network",null,"Optimize and sustain infrastructure investment and services ","Furniture and Office Equipment","Furniture and Office Equipment","Whole of the Municipality",0,0,0,6000,6000,6252,6528]
["Property Services","_024_LIM333_NON-CAPITAL TOOLS & EQUIPMENT","PO001002002001009000000000000000000000_00016","Corrective Maintenance","An efficient, competitive and responsive economic infrastructure network",null,"Optimize and sustain infrastructure investment and services  ","Machinery and Equipment","Machinery and Equipment","Whole of the Municipality",0,0,0,2774,2774,2891,3018]
["Property Services","_024_LIM333_FURNITURE & OFFICE EQUIPMENT","PO001002002001005000000000000000000000_00251","Corrective Maintenance","An efficient, competitive and responsive economic infrastructure network",null,"Optimize and sustain infrastructure investment and services  ","Furniture and Office Equipment","Furniture and Office Equipment","Whole of the Municipality",0,0,0,1323,1323,1379,1440]
["Property Services","_016_LIM333_CONSUMABLE DOMESTIC ITEMS","PO001002002001005000000000000000000000_00246","Corrective Maintenance","An efficient, competitive and responsive economic infrastructure network",null,"Optimize and sustain infrastructure investment and services ","Furniture and Office Equipment","Furniture and Office Equipment","Whole of the Municipality",0,0,0,2579,2579,2688,2806]
["Property Services","_025_LIM333_FURNITURE & OFFICE EQUIPMENT","PO001002002001005000000000000000000000_00380","Corrective Maintenance","An efficient, competitive and responsive economic infrastructure network",null,"Optimize and sustain infrastructure investment and services  ","Furniture and Office Equipment","Furniture and Office Equipment","Whole of the Municipality",0,0,0,815,815,850,887]
["Property Services","_016_LIM333_COUNCIL-OWNED LAND","PO001002002001003001001001000000000000_00538","Corrective Maintenance","Protect and enhance our environmental assets and natural resources",null," Enhanced sustainable environmental management and social development  ","Land","Land","Whole of the Municipality",0,0,0,14000,14000,14588,15230]
["Property Services","_016_LIM333_CONSUMABLE DOMESTIC ITEMS","PO001002002001005000000000000000000000_00246","Corrective Maintenance","An efficient, competitive and responsive economic infrastructure network",null,"Optimize and sustain infrastructure investment and services ","Furniture and Office Equipment","Furniture and Office Equipment","Whole of the Municipality",0,0,0,2579,0,0,1]
["Property Services","_025_LIM333_MACHINERY & EQUIPMENT","PO001002002001009000000000000000000000_00492","Corrective Maintenance","An efficient, competitive and responsive economic infrastructure network",null,"Optimize and sustain infrastructure investment and services  ","Machinery and Equipment","Machinery and Equipment","Whole of the Municipality",0,0,0,1473,1473,1535,1603]
["Property Services","_023_LIM333_FURNITURE & OFFICE EQUIPMENT","PO001002002001005000000000000000000000_00184","Corrective Maintenance","An efficient, competitive and responsive economic infrastructure network",null,"Optimize and sustain infrastructure investment and services  ","Furniture and Office Equipment","Furniture and Office Equipment","Whole of the Municipality",0,0,0,1323,1323,1379,1440]
["Property Services","_016_LIM333_NON-CAPITAL TOOLS & EQUIPMENT","PO001002002001009000000000000000000000_00209","Corrective Maintenance","An efficient, competitive and responsive economic infrastructure network",null,"Optimize and sustain infrastructure investment and services  ","Machinery and Equipment","Machinery and Equipment","Whole of the Municipality",0,0,0,2500,2500,2605,2720]
["Property Services","_024_LIM333_CONSUMABLE DOMESTIC ITEMS","PO001002002001005000000000000000000000_00250","Corrective Maintenance","An efficient, competitive and responsive economic infrastructure network",null,"Optimize and sustain infrastructure investment and services ","Furniture and Office Equipment","Furniture and Office Equipment","Whole of the Municipality",0,0,0,6000,0,0,1]
["Property Services","_023_LIM333_CONSUMABLE DOMESTIC ITEMS","PO001002002001005000000000000000000000_00023","Corrective Maintenance","An efficient, competitive and responsive economic infrastructure network",null,"Optimize and sustain infrastructure investment and services ","Furniture and Office Equipment","Furniture and Office Equipment","Whole of the Municipality",0,0,0,9000,9000,9378,9791]
["Property Services","_025_LIM333_NON-CAPITAL TOOLS & EQUIPMENT","PO001002002001009000000000000000000000_00243","Corrective Maintenance","An efficient, competitive and responsive economic infrastructure network",null,"Optimize and sustain infrastructure investment and services  ","Machinery and Equipment","Machinery and Equipment","Whole of the Municipality",0,0,0,3726,3726,3883,4054]
["Public Toilets","135_LIM333_MACHINERY & EQUIPMENT","PO001002002001009000000000000000000000_00106","Corrective Maintenance","An efficient, competitive and responsive economic infrastructure network",null,"Optimize and sustain infrastructure investment and services  ","Machinery and Equipment","Machinery and Equipment","Whole of the Municipality",0,0,0,1700,1700,1772,1850]
["Public Toilets","135_LIM333_MACHINERY & EQUIPMENT","PO001002002001009000000000000000000000_00106","Corrective Maintenance","An efficient, competitive and responsive economic infrastructure network",null,"Optimize and sustain infrastructure investment and services  ","Machinery and Equipment","Machinery and Equipment","Whole of the Municipality",0,0,0,1700,2224059,2224059,2224059]
["Public Toilets","135_LIM333_FURNITURE & OFFICE EQUIPMENT","PO001002002001005000000000000000000000_00489","Corrective Maintenance","An efficient, competitive and responsive economic infrastructure network",null,"Optimize and sustain infrastructure investment and services  ","Furniture and Office Equipment","Furniture and Office Equipment","Whole of the Municipality",0,0,0,400,400,417,436]
["Public Toilets","135_LIM333_CONSUMABLE DOMESTIC ITEMS","PO001002002001005000000000000000000000_00118","Corrective Maintenance","An efficient, competitive and responsive economic infrastructure network",null,"Optimize and sustain infrastructure investment and services ","Furniture and Office Equipment","Furniture and Office Equipment","Whole of the Municipality",0,0,0,507327,507327,528635,551895]
["Public Toilets","135_LIM333_COUNCIL-OWNED BUILDINGS","PO001002002001003001001001000000000000_00257","Corrective Maintenance","An efficient, competitive and responsive economic infrastructure network",null,"Optimize and sustain infrastructure investment and services ","Land","Land","Whole of the Municipality",0,0,0,699,699,729,761]
["Public Toilets","135_LIM333_CONSUMABLE DOMESTIC ITEMS","PO001002002001005000000000000000000000_00118","Corrective Maintenance","An efficient, competitive and responsive economic infrastructure network",null,"Optimize and sustain infrastructure investment and services ","Furniture and Office Equipment","Furniture and Office Equipment","Whole of the Municipality",0,0,0,507327,0,0,1]
["Public Toilets","135_LIM333_NON-CAPITAL TOOLS & EQUIPMENT","PO001002002001009000000000000000000000_00387","Corrective Maintenance","An efficient, competitive and responsive economic infrastructure network",null,"Optimize and sustain infrastructure investment and services  ","Machinery and Equipment","Machinery and Equipment","Whole of the Municipality",0,0,0,12750,12750,13286,13871]
["Recreational Facilities","_105_LIM333_NON-COUNCIL-OWNED ASSETS - CONTRACTORS","PO001001002001001000000000000000000000_00055",null,"An efficient, competitive and responsive economic infrastructure network",null,"Optimize and sustain infrastructure investment and services  ","Infrastructure","Electrical Infrastructure","Whole of the Municipality",0,0,0,2341,2341,2440,2547]
["Recreational Facilities","_105_LIM333_CONSUMABLE DOMESTIC ITEMS","PO001002002001005000000000000000000000_00216","Corrective Maintenance","An efficient, competitive and responsive economic infrastructure network",null,"Optimize and sustain infrastructure investment and services ","Furniture and Office Equipment","Furniture and Office Equipment","Whole of the Municipality",0,0,0,112842,0,0,1]
["Recreational Facilities","_105_LIM333_MACHINERY & EQUIPMENT","PO001002002001009000000000000000000000_00304","Corrective Maintenance","An efficient, competitive and responsive economic infrastructure network",null,"Optimize and sustain infrastructure investment and services  ","Machinery and Equipment","Machinery and Equipment","Whole of the Municipality",0,0,0,39953,29953,31212,32585]
["Recreational Facilities","_105_LIM333_COUNCIL-OWNED VEHICLES - COUNCIL-OWNED VEHICLE USAGE","PO001002002001010000000000000000000000_00130","Corrective Maintenance","An efficient, competitive and responsive economic infrastructure network",null,"Optimize and sustain infrastructure investment and services  ","Transport Assets","Transport Assets","Whole of the Municipality",0,0,0,0,0,0,1]
["Recreational Facilities","_105_LIM333_NON-CAPITAL TOOLS & EQUIPMENT","PO001002002001009000000000000000000000_00269","Corrective Maintenance","An efficient, competitive and responsive economic infrastructure network",null,"Optimize and sustain infrastructure investment and services  ","Machinery and Equipment","Machinery and Equipment","Whole of the Municipality",0,0,0,24000,24000,25008,26109]
["Recreational Facilities","105_FUEL - VEHICLES_Repair and maintenance","PO001002002001010000000000000000000000_02388","Corrective Maintenance","Responsive, accountable, effective and efficient local government",null,"Increase Financial viability  ","Transport Assets","Transport Assets","Whole of the Municipality",0,0,0,206330,206330,214996,224456]
["Recreational Facilities","_105_LIM333_CONSUMABLE DOMESTIC ITEMS","PO001002002001005000000000000000000000_00216","Corrective Maintenance","An efficient, competitive and responsive economic infrastructure network",null,"Optimize and sustain infrastructure investment and services ","Furniture and Office Equipment","Furniture and Office Equipment","Whole of the Municipality",0,0,0,112842,107842,112372,117316]
["Risk Management","007_Maintenance_NON-CAPITAL TOOLS & EQUIPMENT","PO001002002001009000000000000000000000_02382","Corrective Maintenance","Responsive, accountable, effective and efficient local government",null,"Increase Financial viability  ","Machinery and Equipment","Machinery and Equipment","Whole of the Municipality",0,0,0,3000,3000,3126,3264]
["Risk Management","_007_LIM333_CONSUMABLE DOMESTIC ITEMS","PO001002002001005000000000000000000000_00540","Corrective Maintenance","An efficient, competitive and responsive economic infrastructure network",null,"Optimize and sustain infrastructure investment and services ","Furniture and Office Equipment","Furniture and Office Equipment","Whole of the Municipality",0,0,0,1000,1000,1042,1088]
["Roads","_140_LIM333_CONSUMABLE DOMESTIC ITEMS","PO001002002001005000000000000000000000_00087","Corrective Maintenance","An efficient, competitive and responsive economic infrastructure network",null,"Optimize and sustain infrastructure investment and services ","Furniture and Office Equipment","Furniture and Office Equipment","Whole of the Municipality",0,0,0,4241,4241,4420,4614]
["Roads","1_Entity_LIM333_Municipal Running Cost","PO001002002001005000000000000000000000_00429","Corrective Maintenance","An efficient, competitive and responsive economic infrastructure network",null,"Optimize and sustain infrastructure investment and services ","Furniture and Office Equipment","Furniture and Office Equipment","Whole of the Municipality",0,0,0,93000,53000,55226,57656]
["Roads","195_LIM333_NON-CAPITAL TOOLS & EQUIPMENT","PO001002002001009000000000000000000000_00219","Corrective Maintenance","An efficient, competitive and responsive economic infrastructure network",null,"Optimize and sustain infrastructure investment and services  ","Machinery and Equipment","Machinery and Equipment","Whole of the Municipality",0,0,0,93500,43500,45327,47322]
["Roads","_143_LIM333_COUNCIL-OWNED LAND","PO001002002001003001001001000000000000_00165","Corrective Maintenance","Protect and enhance our environmental assets and natural resources",null," Enhanced sustainable environmental management and social development  ","Land","Land","Whole of the Municipality",0,0,0,16666,16666,17366,18131]
["Roads","_140_LIM333_FURNITURE & OFFICE EQUIPMENT","PO001002002001005000000000000000000000_00072","Corrective Maintenance","An efficient, competitive and responsive economic infrastructure network",null,"Optimize and sustain infrastructure investment and services  ","Furniture and Office Equipment","Furniture and Office Equipment","Whole of the Municipality",0,0,0,85770,85770,89373,93305]
["Roads","063_FUEL - VEHICLES","PO001002002001010000000000000000000000_02387","Corrective Maintenance","Responsive, accountable, effective and efficient local government",null,"Increase Financial viability  ","Transport Assets","Transport Assets","Whole of the Municipality",0,0,0,58938,48938,50994,53238]
["Roads","_062_LIM333_MACHINERY & EQUIPMENT","PO001002002001009000000000000000000000_00174","Corrective Maintenance","An efficient, competitive and responsive economic infrastructure network",null,"Optimize and sustain infrastructure investment and services  ","Machinery and Equipment","Machinery and Equipment","Whole of the Municipality",0,0,0,822,822,857,895]
["Roads","_063_LIM333_NON-CAPITAL TOOLS & EQUIPMENT","PO001002002001009000000000000000000000_00111","Corrective Maintenance","An efficient, competitive and responsive economic infrastructure network",null,"Optimize and sustain infrastructure investment and services  ","Machinery and Equipment","Machinery and Equipment","Whole of the Municipality",0,0,0,60000,20000,20840,21757]
["Roads","_063_LIM333_MACHINERY & EQUIPMENT","PO001002002001009000000000000000000000_00007","Corrective Maintenance","An efficient, competitive and responsive economic infrastructure network",null,"Optimize and sustain infrastructure investment and services  ","Machinery and Equipment","Machinery and Equipment","Whole of the Municipality",0,0,0,8549,8549,8909,9301]
["Roads","_143_LIM333_MACHINERY & EQUIPMENT","PO001002002001009000000000000000000000_00074","Corrective Maintenance","An efficient, competitive and responsive economic infrastructure network",null,"Optimize and sustain infrastructure investment and services  ","Machinery and Equipment","Machinery and Equipment","Whole of the Municipality",0,0,0,500,500,521,544]
["Roads","_143_LIM333_NON-CAPITAL TOOLS & EQUIPMENT","PO001002002001009000000000000000000000_00441","Corrective Maintenance","An efficient, competitive and responsive economic infrastructure network",null,"Optimize and sustain infrastructure investment and services  ","Machinery and Equipment","Machinery and Equipment","Whole of the Municipality",0,0,0,14666,14666,15282,15955]
["Roads","_143_LIM333_CONSUMABLE DOMESTIC ITEMS","PO001002002001005000000000000000000000_00454","Corrective Maintenance","An efficient, competitive and responsive economic infrastructure network",null,"Optimize and sustain infrastructure investment and services ","Furniture and Office Equipment","Furniture and Office Equipment","Whole of the Municipality",0,0,0,13317,0,0,1]
["Roads","_062_LIM333_NON-CAPITAL TOOLS & EQUIPMENT","PO001002002001009000000000000000000000_00227","Corrective Maintenance","An efficient, competitive and responsive economic infrastructure network",null,"Optimize and sustain infrastructure investment and services  ","Machinery and Equipment","Machinery and Equipment","Whole of the Municipality",0,0,0,6183,6183,6443,6727]
["Roads","_063_LIM333_COUNCIL-OWNED VEHICLES - COUNCIL-OWNED VEHICLE USAGE","PO001002002001010000000000000000000000_00307","Corrective Maintenance","An efficient, competitive and responsive economic infrastructure network",null,"Optimize and sustain infrastructure investment and services  ","Transport Assets","Transport Assets","Whole of the Municipality",0,0,0,0,0,0,1]
["Roads","_143_LIM333_CONSUMABLE DOMESTIC ITEMS","PO001002002001005000000000000000000000_00454","Corrective Maintenance","An efficient, competitive and responsive economic infrastructure network",null,"Optimize and sustain infrastructure investment and services ","Furniture and Office Equipment","Furniture and Office Equipment","Whole of the Municipality",0,0,0,13317,10417,10855,11333]
["Roads","_143_LIM333_FURNITURE & OFFICE EQUIPMENT","PO001002002001005000000000000000000000_00385","Corrective Maintenance","An efficient, competitive and responsive economic infrastructure network",null,"Optimize and sustain infrastructure investment and services  ","Furniture and Office Equipment","Furniture and Office Equipment","Whole of the Municipality",0,0,0,2850,5750,5992,6256]
["Roads","_063_LIM333_FURNITURE & OFFICE EQUIPMENT","PO001002002001005000000000000000000000_00488","Corrective Maintenance","An efficient, competitive and responsive economic infrastructure network",null,"Optimize and sustain infrastructure investment and services  ","Furniture and Office Equipment","Furniture and Office Equipment","Whole of the Municipality",0,0,0,1000,1000,1042,1088]
["Roads","_140_LIM333_CONSUMABLE DOMESTIC ITEMS","PO001002002001005000000000000000000000_00087","Corrective Maintenance","An efficient, competitive and responsive economic infrastructure network",null,"Optimize and sustain infrastructure investment and services ","Furniture and Office Equipment","Furniture and Office Equipment","Whole of the Municipality",0,0,0,4241,0,0,1]
["Roads","_140_LIM333_MACHINERY & EQUIPMENT","PO001002002001009000000000000000000000_00337","Corrective Maintenance","An efficient, competitive and responsive economic infrastructure network",null,"Optimize and sustain infrastructure investment and services  ","Machinery and Equipment","Machinery and Equipment","Whole of the Municipality",0,0,0,3500,3500,3647,3808]
["Roads","_140_LIM333_NON-CAPITAL TOOLS & EQUIPMENT_1","PO001002002001009000000000000000000000_00509","Corrective Maintenance","An efficient, competitive and responsive economic infrastructure network",null,"Optimize and sustain infrastructure investment and services  ","Machinery and Equipment","Machinery and Equipment","Whole of the Municipality",0,0,0,91391,1391,1450,1514]
["Roads","_062_LIM333_FURNITURE & OFFICE EQUIPMENT","PO001002002001005000000000000000000000_00013","Corrective Maintenance","An efficient, competitive and responsive economic infrastructure network",null,"Optimize and sustain infrastructure investment and services  ","Furniture and Office Equipment","Furniture and Office Equipment","Whole of the Municipality",0,0,0,1056,1056,1101,1149]
["Roads","_063_LIM333_COUNCIL-OWNED BUILDINGS","PO001002002001003001001001000000000000_00206","Corrective Maintenance","An efficient, competitive and responsive economic infrastructure network",null,"Optimize and sustain infrastructure investment and services ","Land","Land","Whole of the Municipality",0,0,0,44543,44543,46414,48457]
["Solid Waste Removal","_133_LIM333_CONSUMABLE DOMESTIC ITEMS","PO001002002001005000000000000000000000_00022","Corrective Maintenance","An efficient, competitive and responsive economic infrastructure network",null,"Optimize and sustain infrastructure investment and services ","Furniture and Office Equipment","Furniture and Office Equipment","Whole of the Municipality",0,0,0,4267,4267,4447,4642]
["Solid Waste Removal","_133_LIM333_NON-COUNCIL-OWNED ASSETS - CONTRACTORS","PO001001002001001000000000000000000000_00481",null,"Protect and enhance our environmental assets and natural resources",null," Enhanced sustainable environmental management and social development  ","Infrastructure","Electrical Infrastructure","Whole of the Municipality",0,0,0,9500,9500,9899,10335]
["Solid Waste Removal","_112_LIM333_FURNITURE & OFFICE EQUIPMENT","PO001002002001005000000000000000000000_00266","Corrective Maintenance","An efficient, competitive and responsive economic infrastructure network",null,"Optimize and sustain infrastructure investment and services  ","Furniture and Office Equipment","Furniture and Office Equipment","Whole of the Municipality",0,0,0,9778,9778,10189,10637]
["Solid Waste Removal","_133_LIM333_MACHINERY & EQUIPMENT","PO001002002001009000000000000000000000_00456","Corrective Maintenance","An efficient, competitive and responsive economic infrastructure network",null,"Optimize and sustain infrastructure investment and services  ","Machinery and Equipment","Machinery and Equipment","Whole of the Municipality",0,0,0,4800,4800,5002,5222]
["Solid Waste Removal","_133_LIM333_CONSUMABLE DOMESTIC ITEMS","PO001002002001005000000000000000000000_00022","Corrective Maintenance","An efficient, competitive and responsive economic infrastructure network",null,"Optimize and sustain infrastructure investment and services ","Furniture and Office Equipment","Furniture and Office Equipment","Whole of the Municipality",0,0,0,4267,0,0,1]
["Solid Waste Removal","_133_LIM333_NON-CAPITAL TOOLS & EQUIPMENT","PO001002002001009000000000000000000000_00330","Corrective Maintenance","An efficient, competitive and responsive economic infrastructure network",null,"Optimize and sustain infrastructure investment and services  ","Machinery and Equipment","Machinery and Equipment","Whole of the Municipality",0,0,0,214,214,223,233]
["Solid Waste Removal","_133_LIM333_COUNCIL-OWNED LAND","PO001002002001003001001001000000000000_00289","Corrective Maintenance","Protect and enhance our environmental assets and natural resources",null," Enhanced sustainable environmental management and social development  ","Land","Land","Whole of the Municipality",0,0,0,82533,82533,86000,89784]
["Street Cleaning","134_LIM333_NON-CAPITAL TOOLS & EQUIPMENT","PO001002002001009000000000000000000000_00092","Corrective Maintenance","An efficient, competitive and responsive economic infrastructure network",null,"Optimize and sustain infrastructure investment and services  ","Machinery and Equipment","Machinery and Equipment","Whole of the Municipality",0,0,0,27108,27108,28247,29490]
["Street Cleaning","134_LIM333_CONSUMABLE DOMESTIC ITEMS","PO001002002001005000000000000000000000_00277","Corrective Maintenance","An efficient, competitive and responsive economic infrastructure network",null,"Optimize and sustain infrastructure investment and services ","Furniture and Office Equipment","Furniture and Office Equipment","Whole of the Municipality",0,0,0,6408,0,0,1]
["Street Cleaning","134_LIM333_CONSUMABLE DOMESTIC ITEMS","PO001002002001005000000000000000000000_00277","Corrective Maintenance","An efficient, competitive and responsive economic infrastructure network",null,"Optimize and sustain infrastructure investment and services ","Furniture and Office Equipment","Furniture and Office Equipment","Whole of the Municipality",0,0,0,6408,6408,6678,6971]
["Supply Chain Management","_039_LIM333_FURNITURE & OFFICE EQUIPMENT","PO001002002001005000000000000000000000_00352","Corrective Maintenance","An efficient, competitive and responsive economic infrastructure network",null,"Optimize and sustain infrastructure investment and services  ","Furniture and Office Equipment","Furniture and Office Equipment","Whole of the Municipality",0,0,0,24,24,26,27]
["Supply Chain Management","_039_LIM333_CONSUMABLE DOMESTIC ITEMS","PO001002002001005000000000000000000000_00196","Corrective Maintenance","An efficient, competitive and responsive economic infrastructure network",null,"Optimize and sustain infrastructure investment and services ","Furniture and Office Equipment","Furniture and Office Equipment","Whole of the Municipality",0,0,0,500,0,0,1]
["Supply Chain Management","_039_LIM333_NON-CAPITAL TOOLS & EQUIPMENT","PO001002002001009000000000000000000000_00510","Corrective Maintenance","An efficient, competitive and responsive economic infrastructure network",null,"Optimize and sustain infrastructure investment and services  ","Machinery and Equipment","Machinery and Equipment","Whole of the Municipality",0,0,0,2000,2000,2084,2176]
["Supply Chain Management","_039_LIM333_MACHINERY & EQUIPMENT","PO001002002001009000000000000000000000_00235","Corrective Maintenance","An efficient, competitive and responsive economic infrastructure network",null,"Optimize and sustain infrastructure investment and services  ","Machinery and Equipment","Machinery and Equipment","Whole of the Municipality",0,0,0,0,0,0,1]
["Supply Chain Management","_039_LIM333_COUNCIL-OWNED BUILDINGS","PO001002002001003001001001000000000000_00422","Corrective Maintenance","An efficient, competitive and responsive economic infrastructure network",null,"Optimize and sustain infrastructure investment and services ","Land","Land","Whole of the Municipality",0,0,0,447,447,466,487]
["Supply Chain Management","_039_LIM333_CONSUMABLE DOMESTIC ITEMS","PO001002002001005000000000000000000000_00196","Corrective Maintenance","An efficient, competitive and responsive economic infrastructure network",null,"Optimize and sustain infrastructure investment and services ","Furniture and Office Equipment","Furniture and Office Equipment","Whole of the Municipality",0,0,0,500,500,521,544]
["Town Planning, Building Regulations and Enforcement, and City Engineer","_015_LIM333_NON-CAPITAL TOOLS & EQUIPMENT","PO001002002001009000000000000000000000_00249","Corrective Maintenance","An efficient, competitive and responsive economic infrastructure network",null,"Optimize and sustain infrastructure investment and services  ","Machinery and Equipment","Machinery and Equipment","Whole of the Municipality",0,0,0,1000,1000,1042,1088]
["Parent Operational expenditure",null,null,null,null,null,null,null,null,null,null,null,{"$f":"SUM(M7:M185)","v":0},{"$f":"SUM(N7:N185)","v":24763923},{"$f":"SUM(O7:O185)","v":26157095},{"$f":"SUM(P7:P185)","v":27161486},{"$f":"SUM(Q7:Q185)","v":28257900}]
[]
["Entities:"]
["List all Operational projects grouped by Entity"]
[]
["Entity A"]
["Water project A"]
[]
["Entity B"]
["Electricity project B"]
[]
[]
[]
["Entity Operational expenditure",null,null,null,null,null,null,null,null,null,null,null,{"$f":"SUM(M191:M198)","v":0},{"$f":"SUM(N191:N198)","v":0},{"$f":"SUM(O191:O198)","v":0},{"$f":"SUM(P191:P198)","v":0},{"$f":"SUM(Q191:Q198)","v":0}]
["Total Operational expenditure",null,null,null,null,null,null,null,null,null,null,null,{"$f":"SUM(M7:M185)+SUM(M191:M198)","v":0},{"$f":"SUM(N7:N185)+SUM(N191:N198)","v":24763923},{"$f":"SUM(O7:O185)+SUM(O191:O198)","v":26157095},{"$f":"SUM(P7:P185)+SUM(P191:P198)","v":27161486},{"$f":"SUM(Q7:Q185)+SUM(Q191:Q198)","v":28257900}]
[{"$f":"head27a","v":"References"}]
["Must reconcile with Budgeted Operating Expenditure"]
["Asset class as per table A9 and asset sub-class as per table SA34"]
["GPS coordinates correct to seconds. Provide a logical starting point on networked infrastructure."]
["Project Number consists of MSCOA Project Longcode and seq No (sample PO001001002001002001002_00066)",null,null,null,null,null,null,null,null,null,null,"check",{"$f":"+'A4-FinPerf RE'!E35-'SA38'!M200","v":1106352377.2800002},{"$f":"+'A4-FinPerf RE'!H35-'SA38'!N200","v":1255957127},{"$f":"+'A4-FinPerf RE'!J35-'SA38'!O200","v":1296015546},{"$f":"+'A4-FinPerf RE'!K35-'SA38'!P200","v":1330134752},{"$f":"+'A4-FinPerf RE'!L35-'SA38'!Q200","v":1411860129}]

{"sheet":"LGDB_EXPORT","index":64,"n_rows":2876,"n_cols":23,"rows_kept":2876,"cut":false,"hidden":true,"merged":[]}
["FORM","YEAR END","MUNCDE","ITEMCODE","SEQ","DESCRIPTION",null,null,null,null,null,null,null,null,null,null,null,null,null,null,null,null,"~"]
["BSD",{"$f":"+MTREF","v":2021},{"$f":"LEFT(muni,(FIND(\" \",muni,1)-1))","v":"Choose"},"1000",1,"Household service targets (000)",null,null,null,null,null,null,null,null,null,null,null,null,null,null,null,null,"~"]
["BSD",2021,"Choose","1100",2,"Water:",null,null,null,null,null,null,null,null,null,null,null,null,null,null,null,null,"~"]
["BSD",2021,"Choose","1101",3,"Piped water inside dwelling",null,null,null,null,null,null,null,null,null,null,null,null,null,null,null,null,"~"]
["BSD",2021,"Choose","1102",4,"Piped water inside yard (but not in dwelling)",null,null,null,null,null,null,null,null,null,null,null,null,null,null,null,null,"~"]
["BSD",2021,"Choose","1103",5,"Using public tap (at least min.service level)",null,null,null,null,null,null,null,null,null,null,null,null,null,null,null,null,"~"]
["BSD",2021,"Choose","1104",6,"Other water supply (at least min.service level)",null,null,null,null,null,null,null,null,null,null,null,null,null,null,null,null,"~"]
["BSD",2021,"Choose","1105",7,"Minimum Service Level and Above sub-total",null,null,null,null,null,null,null,null,null,null,null,null,null,null,null,null,"~"]
["BSD",2021,"Choose","1106",8,"Using public tap (< min.service level)",null,null,null,null,null,null,null,null,null,null,null,null,null,null,null,null,"~"]
["BSD",2021,"Choose","1107",9,"Other water supply (< min.service level)",null,null,null,null,null,null,null,null,null,null,null,null,null,null,null,null,"~"]
["BSD",2021,"Choose","1108",10,"No water supply",null,null,null,null,null,null,null,null,null,null,null,null,null,null,null,null,"~"]
["BSD",2021,"Choose","1109",11,"Below Minimum Service Level sub-total",null,null,null,null,null,null,null,null,null,null,null,null,null,null,null,null,"~"]
["BSD",2021,"Choose","1110",12,"Total number of households",null,null,null,null,null,null,null,null,null,null,null,null,null,null,null,null,"~"]
["BSD",2021,"Choose","1200",13,"Sanitation/sewerage:",null,null,null,null,null,null,null,null,null,null,null,null,null,null,null,null,"~"]
["BSD",2021,"Choose","1201",14,"Flush toilet (connected to sewerage)",null,null,null,null,null,null,null,null,null,null,null,null,null,null,null,null,"~"]
["BSD",2021,"Choose","1202",15,"Flush toilet (with septic tank)",null,null,null,null,null,null,null,null,null,null,null,null,null,null,null,null,"~"]
["BSD",2021,"Choose","1203",16,"Chemical toilet",null,null,null,null,null,null,null,null,null,null,null,null,null,null,null,null,"~"]
["BSD",2021,"Choose","1204",17,"Pit toilet (ventilated)",null,null,null,null,null,null,null,null,null,null,null,null,null,null,null,null,"~"]
["BSD",2021,"Choose","1205",18,"Other toilet provisions (> min.service level)",null,null,null,null,null,null,null,null,null,null,null,null,null,null,null,null,"~"]
["BSD",2021,"Choose","1206",19,"Minimum Service Level and Above sub-total",null,null,null,null,null,null,null,null,null,null,null,null,null,null,null,null,"~"]
["BSD",2021,"Choose","1207",20,"Bucket toilet",null,null,null,null,null,null,null,null,null,null,null,null,null,null,null,null,"~"]
["BSD",2021,"Choose","1208",21,"Other toilet provisions (< min.service level)",null,null,null,null,null,null,null,null,null,null,null,null,null,null,null,null,"~"]
["BSD",2021,"Choose","1209",22,"No toilet provisions",null,null,null,null,null,null,null,null,null,null,null,null,null,null,null,null,"~"]
["BSD",2021,"Choose","1210",23,"Below Minimum Service Level sub-total",null,null,null,null,null,null,null,null,null,null,null,null,null,null,null,null,"~"]
["BSD",2021,"Choose","1211",24,"Total number of households",null,null,null,null,null,null,null,null,null,null,null,null,null,null,null,null,"~"]
["BSD",2021,"Choose","1300",25,"Energy:",null,null,null,null,null,null,null,null,null,null,null,null,null,null,null,null,"~"]
["BSD",2021,"Choose","1301",26,"Electricity (at least min.service level)",null,null,null,null,null,null,null,null,null,null,null,null,null,null,null,null,"~"]
["BSD",2021,"Choose","1302",27,"Electricity - prepaid (min.service level)",null,null,null,null,null,null,null,null,null,null,null,null,null,null,null,null,"~"]
["BSD",2021,"Choose","1303",28,"Minimum Service Level and Above sub-total",null,null,null,null,null,null,null,null,null,null,null,null,null,null,null,null,"~"]
["BSD",2021,"Choose","1304",29,"Electricity (< min.service level)",null,null,null,null,null,null,null,null,null,null,null,null,null,null,null,null,"~"]
["BSD",2021,"Choose","1305",30,"Electricity - prepaid (< min. service level)",null,null,null,null,null,null,null,null,null,null,null,null,null,null,null,null,"~"]
["BSD",2021,"Choose","1306",31,"Other energy sources",null,null,null,null,null,null,null,null,null,null,null,null,null,null,null,null,"~"]
["BSD",2021,"Choose","1307",32,"Below Minimum Service Level sub-total",null,null,null,null,null,null,null,null,null,null,null,null,null,null,null,null,"~"]
["BSD",2021,"Choose","1308",33,"Total number of households",null,null,null,null,null,null,null,null,null,null,null,null,null,null,null,null,"~"]
["BSD",2021,"Choose","1400",34,"Refuse:",null,null,null,null,null,null,null,null,null,null,null,null,null,null,null,null,"~"]
["BSD",2021,"Choose","1401",35,"Removed at least once a week",null,null,null,null,null,null,null,null,null,null,null,null,null,null,null,null,"~"]
["BSD",2021,"Choose","1402",36,"Minimum Service Level and Above sub-total",null,null,null,null,null,null,null,null,null,null,null,null,null,null,null,null,"~"]
["BSD",2021,"Choose","1403",37,"Removed less frequently than once a week",null,null,null,null,null,null,null,null,null,null,null,null,null,null,null,null,"~"]
["BSD",2021,"Choose","1404",38,"Using communal refuse dump",null,null,null,null,null,null,null,null,null,null,null,null,null,null,null,null,"~"]
["BSD",2021,"Choose","1405",39,"Using own refuse dump",null,null,null,null,null,null,null,null,null,null,null,null,null,null,null,null,"~"]
["BSD",2021,"Choose","1406",40,"Other rubbish disposal",null,null,null,null,null,null,null,null,null,null,null,null,null,null,null,null,"~"]
["BSD",2021,"Choose","1407",41,"No rubbish disposal",null,null,null,null,null,null,null,null,null,null,null,null,null,null,null,null,"~"]
["BSD",2021,"Choose","1408",42,"Below Minimum Service Level sub-total",null,null,null,null,null,null,null,null,null,null,null,null,null,null,null,null,"~"]
["BSD",2021,"Choose","1409",43,"Total number of households",null,null,null,null,null,null,null,null,null,null,null,null,null,null,null,null,"~"]
["BSD",2021,"Choose",null,null,null,null,null,null,null,null,null,null,null,null,null,null,null,null,null,null,null,"~"]
["BSD",2021,"Choose","1500",45,"Households receiving Free Basic Service",null,null,null,null,null,null,null,null,null,null,null,null,null,null,null,null,"~"]
["BSD",2021,"Choose","1501",46,"Water (6 kilolitres per household per month)",null,null,null,null,null,null,null,null,null,null,null,null,null,null,null,null,"~"]
["BSD",2021,"Choose","1502",47,"Sanitation (free minimum level service)",null,null,null,null,null,null,null,null,null,null,null,null,null,null,null,null,"~"]
["BSD",2021,"Choose","1503",48,"Electricity/other energy (50kwh per household per month)",null,null,null,null,null,null,null,null,null,null,null,null,null,null,null,null,"~"]
["BSD",2021,"Choose","1504",49,"Refuse (removed at least once a week)",null,null,null,null,null,null,null,null,null,null,null,null,null,null,null,null,"~"]
["BSD",2021,"Choose",null,null,null,null,null,null,null,null,null,null,null,null,null,null,null,null,null,null,null,"~"]
["BSD",2021,"Choose","1600",51,"Cost of Free Basic Services provided - Formal Settlements (R'000)",null,null,null,null,null,null,null,null,null,null,null,null,null,null,null,null,"~"]
["BSD",2021,"Choose","1601",52,"Water (6 kilolitres per indigent household per month)",null,null,null,null,null,null,null,null,null,null,null,null,null,null,null,null,"~"]
["BSD",2021,"Choose","1602",53,"Sanitation (free sanitation service to indigent households)",null,null,null,null,null,null,null,null,null,null,null,null,null,null,null,null,"~"]
["BSD",2021,"Choose","1603",54,"Electricity/other energy (50kwh per indigent household per month)",null,null,null,null,null,null,null,null,null,null,null,null,null,null,null,null,"~"]
["BSD",2021,"Choose","1604",55,"Refuse (removed once a week for indigent households)",null,null,null,null,null,null,null,null,null,null,null,null,null,null,null,null,"~"]
["BSD",2021,"Choose",1606,56,"Cost of Free Basic Services provided - Informal Formal Settlements (R'000)",null,null,null,null,null,null,null,null,null,null,null,null,null,null,null,null,"~"]
["BSD",2021,"Choose",1607,57,"Total cost of FBS provided  ",null,null,null,null,null,null,null,null,null,null,null,null,null,null,null,null,"~"]
["BSD",2021,"Choose",null,null,null,null,null,null,null,null,null,null,null,null,null,null,null,null,null,null,null,"~"]
["BSD",2021,"Choose","1700",58,"Highest level of free service provided per household",null,null,null,null,null,null,null,null,null,null,null,null,null,null,null,null,"~"]
["BSD",2021,"Choose","1701",59,"Property rates (R value threshold)",null,null,null,null,null,null,null,null,null,null,null,null,null,null,null,null,"~"]
["BSD",2021,"Choose","1702",60,"Water (kilolitres per household per month)",null,null,null,null,null,null,null,null,null,null,null,null,null,null,null,null,"~"]
["BSD",2021,"Choose","1703",61,"Sanitation (kilolitres per household per month)",null,null,null,null,null,null,null,null,null,null,null,null,null,null,null,null,"~"]
["BSD",2021,"Choose","1704",62,"Sanitation (Rand per household per month)",null,null,null,null,null,null,null,null,null,null,null,null,null,null,null,null,"~"]
["BSD",2021,"Choose","1705",63,"Electricity (kwh per household per month)",null,null,null,null,null,null,null,null,null,null,null,null,null,null,null,null,"~"]
["BSD",{"$f":"+MTREF","v":2021},{"$f":"LEFT(muni,(FIND(\" \",muni,1)-1))","v":"Choose"},"1706",64,"Refuse (average litres per week)",null,null,null,null,null,null,null,null,null,null,null,null,null,null,null,null,"~"]
["BSD",2021,"Choose","1707",65,"Revenue  cost of subsidised services provided (R'000)",null,null,null,null,null,null,null,null,null,null,null,null,null,null,null,null,"~"]
["BSD",2021,"Choose","1708",66,"Property rates (tariff adjustment) ( impermissable values per section 17 of MPRA)",null,null,null,null,null,null,null,null,null,null,null,null,null,null,null,null,"~"]
["BSD",2021,"Choose","1709",67,"Property rates  exemptions, reductions and rebates and impermissable values in excess of section 17 of MPRA)",null,null,null,null,null,null,null,null,null,null,null,null,null,null,null,null,"~"]
["BSD",2021,"Choose","1710",68,"Water (in excess of 6 kilolitres per indigent household per month)",null,null,null,null,null,null,null,null,null,null,null,null,null,null,null,null,"~"]
["BSD",2021,"Choose","1711",69,"Sanitation (in excess of free sanitation service to indigent households)",null,null,null,null,null,null,null,null,null,null,null,null,null,null,null,null,"~"]
["BSD",2021,"Choose","1712",70,"Electricity/other energy (in excess of 50 kwh per indigent household per month)",null,null,null,null,null,null,null,null,null,null,null,null,null,null,null,null,"~"]
["BSD",2021,"Choose","1713",71,"Refuse (in excess of one removal a week for indigent households)",null,null,null,null,null,null,null,null,null,null,null,null,null,null,null,null,"~"]
["BSD",2021,"Choose","1714",72,"Municipal Housing - rental rebates",null,null,null,null,null,null,null,null,null,null,null,null,null,null,null,null,"~"]
["BSD",2021,"Choose","1715",73,"Housing - top structure subsidies",null,null,null,null,null,null,null,null,null,null,null,null,null,null,null,null,"~"]
["BSD",2021,"Choose","1716",74,"Other",null,null,null,null,null,null,null,null,null,null,null,null,null,null,null,null,"~"]
["BSD",2021,"Choose","1717",75,"Total revenue cost of subsidised services provided ",null,null,null,null,null,null,null,null,null,null,null,null,null,null,null,null,"~"]
["SA11",2021,"Choose",1000,"T","Valuation:",null,null,null,null,null,null,null,null,null,null,null,null,null,null,null,null,"~"]
["SA11",2021,"Choose",1001,"T","Date of valuation:",null,null,null,null,null,null,null,null,null,null,null,null,null,null,null,null,"~"]
["SA11",2021,"Choose",1002,"T","Financial year valuation used",null,null,null,null,null,null,null,null,null,null,null,null,null,null,null,null,"~"]
["SA11",2021,"Choose",1003,"T","Municipal by-laws s6 in place? (Y/N)",null,null,null,null,null,null,null,null,null,null,null,null,null,null,null,null,"~"]
["SA11",2021,"Choose",1004,"T","Municipal/assistant valuer appointed? (Y/N)",null,null,null,null,null,null,null,null,null,null,null,null,null,null,null,null,"~"]
["SA11",2021,"Choose",1005,"T","Municipal partnership s38 used? (Y/N)",null,null,null,null,null,null,null,null,null,null,null,null,null,null,null,null,"~"]
["SA11",2021,"Choose",1006,"V","No. of assistant valuers (FTE)",null,null,null,null,null,null,null,null,null,null,null,null,null,null,null,null,"~"]
["SA11",2021,"Choose",1007,"V","No. of data collectors (FTE)",null,null,null,null,null,null,null,null,null,null,null,null,null,null,null,null,"~"]
["SA11",2021,"Choose",1008,"V","No. of internal valuers (FTE)",null,null,null,null,null,null,null,null,null,null,null,null,null,null,null,null,"~"]
["SA11",2021,"Choose",1009,"V","No. of external valuers (FTE)",null,null,null,null,null,null,null,null,null,null,null,null,null,null,null,null,"~"]
["SA11",2021,"Choose",1010,"V","No. of additional valuers (FTE)",null,null,null,null,null,null,null,null,null,null,null,null,null,null,null,null,"~"]
["SA11",2021,"Choose",1011,"T","Valuation appeal board established? (Y/N)",null,null,null,null,null,null,null,null,null,null,null,null,null,null,null,null,"~"]
["SA11",2021,"Choose",1012,"V","Implementation time of new valuation roll (mths)",null,null,null,null,null,null,null,null,null,null,null,null,null,null,null,null,"~"]
["SA11",2021,"Choose",1020,"V","No. of properties",null,null,null,null,null,null,null,null,null,null,null,null,null,null,null,null,"~"]
["SA11",2021,"Choose",1021,"V","No. of sectional title values",null,null,null,null,null,null,null,null,null,null,null,null,null,null,null,null,"~"]
["SA11",2021,"Choose",1022,"V","No. of unreasonably difficult properties s7(2)",null,null,null,null,null,null,null,null,null,null,null,null,null,null,null,null,"~"]
["SA11",2021,"Choose",1023,"V","No. of supplementary valuations",null,null,null,null,null,null,null,null,null,null,null,null,null,null,null,null,"~"]
["SA11",2021,"Choose",1024,"V","No. of valuation roll amendments",null,null,null,null,null,null,null,null,null,null,null,null,null,null,null,null,"~"]
["SA11",2021,"Choose",1025,"V","No. of objections by rate payers",null,null,null,null,null,null,null,null,null,null,null,null,null,null,null,null,"~"]
["SA11",2021,"Choose",1026,"V","No. of appeals by rate payers",null,null,null,null,null,null,null,null,null,null,null,null,null,null,null,null,"~"]
["SA11",2021,"Choose",1028,"V","No. of successful objections",null,null,null,null,null,null,null,null,null,null,null,null,null,null,null,null,"~"]
["SA11",2021,"Choose",1029,"V","No. of successful objections > 10%",null,null,null,null,null,null,null,null,null,null,null,null,null,null,null,null,"~"]
["SA11",2021,"Choose",1030,"V","Supplementary valuation",null,null,null,null,null,null,null,null,null,null,null,null,null,null,null,null,"~"]
["SA11",2021,"Choose",1031,"V","Public service infrastructure value ",null,null,null,null,null,null,null,null,null,null,null,null,null,null,null,null,"~"]
["SA11",2021,"Choose",1032,"V","Municipality owned property value ",null,null,null,null,null,null,null,null,null,null,null,null,null,null,null,null,"~"]
["SA11",2021,"Choose",1100,"T","Valuation reductions:",null,null,null,null,null,null,null,null,null,null,null,null,null,null,null,null,"~"]
["SA11",2021,"Choose",1101,"V","Valuation reductions-public infrastructure",null,null,null,null,null,null,null,null,null,null,null,null,null,null,null,null,"~"]
["SA11",2021,"Choose",1102,"V","Valuation reductions-nature reserves/park",null,null,null,null,null,null,null,null,null,null,null,null,null,null,null,null,"~"]
["SA11",2021,"Choose",1103,"V","Valuation reductions-mineral rights",null,null,null,null,null,null,null,null,null,null,null,null,null,null,null,null,"~"]
["SA11",2021,"Choose",1104,"V","Valuation reductions-R15,000 threshold",null,null,null,null,null,null,null,null,null,null,null,null,null,null,null,null,"~"]
["SA11",2021,"Choose",1105,"V","Valuation reductions-public worship ",null,null,null,null,null,null,null,null,null,null,null,null,null,null,null,null,"~"]
["SA11",2021,"Choose",1106,"V","Valuation reductions-other",null,null,null,null,null,null,null,null,null,null,null,null,null,null,null,null,"~"]
["SA11",2021,"Choose",1107,"V","Total valuation reductions:",null,null,null,null,null,null,null,null,null,null,null,null,null,null,null,null,"~"]
["SA11",2021,"Choose",1108,"V","Total value used for rating",null,null,null,null,null,null,null,null,null,null,null,null,null,null,null,null,"~"]
["SA11",2021,"Choose",1109,"V","Total land value ",null,null,null,null,null,null,null,null,null,null,null,null,null,null,null,null,"~"]
["SA11",2021,"Choose",1110,"V","Total value of improvements",null,null,null,null,null,null,null,null,null,null,null,null,null,null,null,null,"~"]
["SA11",2021,"Choose",1111,"V","Total market value",null,null,null,null,null,null,null,null,null,null,null,null,null,null,null,null,"~"]
["SA11",2021,"Choose",null,null,null,null,null,null,null,null,null,null,null,null,null,null,null,null,null,null,null,"~"]
["SA11",2021,"Choose",1200,"T","Rating:",null,null,null,null,null,null,null,null,null,null,null,null,null,null,null,null,"~"]
["SA11",2021,"Choose",1202,"T","Residential rate used to determine rate for other categories? (Y/N)",null,null,null,null,null,null,null,null,null,null,null,null,null,null,null,null,"~"]
["SA11",2021,"Choose",1203,"T","Differential rates used? (Y/N)",null,null,null,null,null,null,null,null,null,null,null,null,null,null,null,null,"~"]
["SA11",2021,"Choose",1204,"T","Limit on annual rate increase (s20)? (Y/N)",null,null,null,null,null,null,null,null,null,null,null,null,null,null,null,null,"~"]
["SA11",2021,"Choose",1205,"T","Special rating area used? (Y/N)",null,null,null,null,null,null,null,null,null,null,null,null,null,null,null,null,"~"]
["SA11",2021,"Choose",1206,"V","Phasing-in properties s21 (number)",null,null,null,null,null,null,null,null,null,null,null,null,null,null,null,null,"~"]
["SA11",2021,"Choose",1207,"T","Rates policy accompanying budget? (Y/N)",null,null,null,null,null,null,null,null,null,null,null,null,null,null,null,null,"~"]
["SA11",2021,"Choose",1208,"V","Fixed amount minimum value",null,null,null,null,null,null,null,null,null,null,null,null,null,null,null,null,"~"]
["SA11",2021,"Choose",1209,"P","Non-residential prescribed ratio s19? (%)",null,null,null,null,null,null,null,null,null,null,null,null,null,null,null,null,"~"]
["SA11",2021,"Choose",null,null,null,null,null,null,null,null,null,null,null,null,null,null,null,null,null,null,null,"~"]
["SA11",2021,"Choose",1300,"T","Rate revenue:",null,null,null,null,null,null,null,null,null,null,null,null,null,null,null,null,"~"]
["SA11",2021,"Choose",1301,"V","Rate revenue budget ",null,null,null,null,null,null,null,null,null,null,null,null,null,null,null,null,"~"]
["SA11",2021,"Choose",1302,"V","Rate revenue expected to collect",null,null,null,null,null,null,null,null,null,null,null,null,null,null,null,null,"~"]
["SA11",2021,"Choose",1303,"P","Expected cash collection rate (%)",null,null,null,null,null,null,null,null,null,null,null,null,null,null,null,null,"~"]
["SA11",{"$f":"+MTREF","v":2021},{"$f":"LEFT(muni,(FIND(\" \",muni,1)-1))","v":"Choose"},1304,"V","Special rating areas",null,null,null,null,null,null,null,null,null,null,null,null,null,null,null,null,"~"]
["SA11",2021,"Choose",1305,"V","Rebates, exemptions - indigent",null,null,null,null,null,null,null,null,null,null,null,null,null,null,null,null,"~"]
["SA11",2021,"Choose",1306,"V","Rebates, exemptions - pensioners",null,null,null,null,null,null,null,null,null,null,null,null,null,null,null,null,"~"]
["SA11",2021,"Choose",1307,"V","Rebates, exemptions - bona fide farm",null,null,null,null,null,null,null,null,null,null,null,null,null,null,null,null,"~"]
["SA11",2021,"Choose",1308,"V","Rebates, exemptions - other",null,null,null,null,null,null,null,null,null,null,null,null,null,null,null,null,"~"]
["SA11",2021,"Choose",1309,"V","Phase-in reductions/discounts",null,null,null,null,null,null,null,null,null,null,null,null,null,null,null,null,"~"]
["SA11",2021,"Choose",1310,"V","Total rebates,exemptns,reductns,discs",null,null,null,null,null,null,null,null,null,null,null,null,null,null,null,null,"~"]
["SA12",2021,"Choose",1000,"T","Valuation:",null,null,null,null,null,null,null,null,null,null,null,null,null,null,null,null,"~"]
["SA12",2021,"Choose",1020,"V","No. of properties",null,null,null,null,null,null,null,null,null,null,null,null,null,null,null,null,"~"]
["SA12",2021,"Choose",1021,"V","No. of sectional title property values",null,null,null,null,null,null,null,null,null,null,null,null,null,null,null,null,"~"]
["SA12",2021,"Choose",1022,"V","No. of unreasonably difficult properties s7(2)",null,null,null,null,null,null,null,null,null,null,null,null,null,null,null,null,"~"]
["SA12",2021,"Choose",1023,"V","No. of supplementary valuations",null,null,null,null,null,null,null,null,null,null,null,null,null,null,null,null,"~"]
["SA12",2021,"Choose",1030,"V","Supplementary valuation ",null,null,null,null,null,null,null,null,null,null,null,null,null,null,null,null,"~"]
["SA12",2021,"Choose",1024,"V","No. of valuation roll amendments",null,null,null,null,null,null,null,null,null,null,null,null,null,null,null,null,"~"]
["SA12",2021,"Choose",1025,"V","No. of objections by rate-payers",null,null,null,null,null,null,null,null,null,null,null,null,null,null,null,null,"~"]
["SA12",2021,"Choose",1026,"V","No. of appeals by rate-payers",null,null,null,null,null,null,null,null,null,null,null,null,null,null,null,null,"~"]
["SA12",2021,"Choose",1027,"V","No. of appeals by rate-payers finalised",null,null,null,null,null,null,null,null,null,null,null,null,null,null,null,null,"~"]
["SA12",2021,"Choose",1028,"V","No. of successful objections",null,null,null,null,null,null,null,null,null,null,null,null,null,null,null,null,"~"]
["SA12",2021,"Choose",1029,"V","No. of successful objections > 10%",null,null,null,null,null,null,null,null,null,null,null,null,null,null,null,null,"~"]
["SA12",2021,"Choose",1040,"V","Estimated no. of properties not valued",null,null,null,null,null,null,null,null,null,null,null,null,null,null,null,null,"~"]
["SA12",2021,"Choose",1041,"T","Years since last valuation",null,null,null,null,null,null,null,null,null,null,null,null,null,null,null,null,"~"]
["SA12",2021,"Choose",1042,"T","Frequency of valuation ",null,null,null,null,null,null,null,null,null,null,null,null,null,null,null,null,"~"]
["SA12",2021,"Choose",1043,"T","Method of valuation used",null,null,null,null,null,null,null,null,null,null,null,null,null,null,null,null,"~"]
["SA12",2021,"Choose",1044,"T","Base of valuation",null,null,null,null,null,null,null,null,null,null,null,null,null,null,null,null,"~"]
["SA12",2021,"Choose",1206,"V","Phasing-in properties s21 (number)",null,null,null,null,null,null,null,null,null,null,null,null,null,null,null,null,"~"]
["SA12",2021,"Choose",1046,"T","Combination of rating types used? (Y/N)",null,null,null,null,null,null,null,null,null,null,null,null,null,null,null,null,"~"]
["SA12",2021,"Choose",1047,"T","Flat rate used? (Y/N)",null,null,null,null,null,null,null,null,null,null,null,null,null,null,null,null,"~"]
["SA12",2021,"Choose",1048,"T","Is balance rated by uniform rate/variable rate?",null,null,null,null,null,null,null,null,null,null,null,null,null,null,null,null,"~"]
["SA12",2021,"Choose",1100,"T","Valuation reductions:",null,null,null,null,null,null,null,null,null,null,null,null,null,null,null,null,"~"]
["SA12",2021,"Choose",1101,"V","Valuation reductions-public infrastructure",null,null,null,null,null,null,null,null,null,null,null,null,null,null,null,null,"~"]
["SA12",2021,"Choose",1102,"V","Valuation reductions-nature reserves/park",null,null,null,null,null,null,null,null,null,null,null,null,null,null,null,null,"~"]
["SA12",2021,"Choose",1103,"V","Valuation reductions-mineral rights",null,null,null,null,null,null,null,null,null,null,null,null,null,null,null,null,"~"]
["SA12",2021,"Choose",1104,"V","Valuation reductions-R15,000 threshold ",null,null,null,null,null,null,null,null,null,null,null,null,null,null,null,null,"~"]
["SA12",2021,"Choose",1105,"V","Valuation reductions-public worship",null,null,null,null,null,null,null,null,null,null,null,null,null,null,null,null,"~"]
["SA12",2021,"Choose",1106,"V","Valuation reductions-other",null,null,null,null,null,null,null,null,null,null,null,null,null,null,null,null,"~"]
["SA12",2021,"Choose",1107,"V","Total valuation reductions:",null,null,null,null,null,null,null,null,null,null,null,null,null,null,null,null,"~"]
["SA12",2021,"Choose",1108,"V","Total value used for rating",null,null,null,null,null,null,null,null,null,null,null,null,null,null,null,null,"~"]
["SA12",2021,"Choose",1109,"V","Total land value ",null,null,null,null,null,null,null,null,null,null,null,null,null,null,null,null,"~"]
["SA12",2021,"Choose",1110,"V","Total value of improvements",null,null,null,null,null,null,null,null,null,null,null,null,null,null,null,null,"~"]
["SA12",2021,"Choose",1111,"V","Total market value ",null,null,null,null,null,null,null,null,null,null,null,null,null,null,null,null,"~"]
["SA12",2021,"Choose",1200,"T","Rating:",null,null,null,null,null,null,null,null,null,null,null,null,null,null,null,null,"~"]
["SA12",2021,"Choose",1201,"V","Average rate",null,null,null,null,null,null,null,null,null,null,null,null,null,null,null,null,"~"]
["SA12",2021,"Choose",1301,"V","Rate revenue budget ",null,null,null,null,null,null,null,null,null,null,null,null,null,null,null,null,"~"]
["SA12",2021,"Choose",1302,"V","Rate revenue expected to collect",null,null,null,null,null,null,null,null,null,null,null,null,null,null,null,null,"~"]
["SA12",2021,"Choose",1303,"P","Expected cash collection rate (%)",null,null,null,null,null,null,null,null,null,null,null,null,null,null,null,null,"~"]
["SA12",2021,"Choose",1304,"V","Special rating areas",null,null,null,null,null,null,null,null,null,null,null,null,null,null,null,null,"~"]
["SA12",2021,"Choose",1305,"V","Rebates, exemptions - indigent",null,null,null,null,null,null,null,null,null,null,null,null,null,null,null,null,"~"]
["SA12",2021,"Choose",1306,"V","Rebates, exemptions - pensioners",null,null,null,null,null,null,null,null,null,null,null,null,null,null,null,null,"~"]
["SA12",2021,"Choose",1307,"V","Rebates, exemptions - bona fide farm. ",null,null,null,null,null,null,null,null,null,null,null,null,null,null,null,null,"~"]
["SA12",2021,"Choose",1308,"V","Rebates, exemptions - other ",null,null,null,null,null,null,null,null,null,null,null,null,null,null,null,null,"~"]
["SA12",2021,"Choose",1309,"V","Phase-in reductions/discounts ",null,null,null,null,null,null,null,null,null,null,null,null,null,null,null,null,"~"]
["SA12",2021,"Choose",1310,"V","Total rebates,exemptns,reductns,discs",null,null,null,null,null,null,null,null,null,null,null,null,null,null,null,null,"~"]
["SA12",2021,"Choose",null,null,null,null,null,null,null,null,null,null,null,null,null,null,null,null,null,null,null,"~"]
["SA12",2021,"Choose",null,null,null,null,null,null,null,null,null,null,null,null,null,null,null,null,null,null,null,"~"]
["SA12",2021,"Choose",null,null,null,null,null,null,null,null,null,null,null,null,null,null,null,null,null,null,null,"~"]
["SA12",2021,"Choose",null,null,null,null,null,null,null,null,null,null,null,null,null,null,null,null,null,null,null,"~"]
["SA12",2021,"Choose",1000,"T","Valuation:",null,null,null,null,null,null,null,null,null,null,null,null,null,null,null,null,"~"]
["SA12",2021,"Choose",1020,"V","No. of properties",null,null,null,null,null,null,null,null,null,null,null,null,null,null,null,null,"~"]
["SA12",2021,"Choose",1021,"V","No. of sectional title property values",null,null,null,null,null,null,null,null,null,null,null,null,null,null,null,null,"~"]
["SA12",2021,"Choose",1022,"V","No. of unreasonably difficult properties s7(2)",null,null,null,null,null,null,null,null,null,null,null,null,null,null,null,null,"~"]
["SA12",2021,"Choose",1023,"V","No. of supplementary valuations",null,null,null,null,null,null,null,null,null,null,null,null,null,null,null,null,"~"]
["SA12",2021,"Choose",1030,"V","Supplementary valuation ",null,null,null,null,null,null,null,null,null,null,null,null,null,null,null,null,"~"]
["SA12",2021,"Choose",1024,"V","No. of valuation roll amendments",null,null,null,null,null,null,null,null,null,null,null,null,null,null,null,null,"~"]
["SA12",2021,"Choose",1025,"V","No. of objections by rate-payers",null,null,null,null,null,null,null,null,null,null,null,null,null,null,null,null,"~"]
["SA12",{"$f":"+MTREF","v":2021},{"$f":"LEFT(muni,(FIND(\" \",muni,1)-1))","v":"Choose"},1026,"V","No. of appeals by rate-payers",null,null,null,null,null,null,null,null,null,null,null,null,null,null,null,null,"~"]
["SA12",2021,"Choose",1027,"V","No. of appeals by rate-payers finalised",null,null,null,null,null,null,null,null,null,null,null,null,null,null,null,null,"~"]
["SA12",2021,"Choose",1028,"V","No. of successful objections",null,null,null,null,null,null,null,null,null,null,null,null,null,null,null,null,"~"]
["SA12",2021,"Choose",1029,"V","No. of successful objections > 10%",null,null,null,null,null,null,null,null,null,null,null,null,null,null,null,null,"~"]
["SA12",2021,"Choose",1040,"V","Estimated no. of properties not valued",null,null,null,null,null,null,null,null,null,null,null,null,null,null,null,null,"~"]
["SA12",2021,"Choose",1041,"T","Years since last valuation",null,null,null,null,null,null,null,null,null,null,null,null,null,null,null,null,"~"]
["SA12",2021,"Choose",1042,"T","Frequency of valuation ",null,null,null,null,null,null,null,null,null,null,null,null,null,null,null,null,"~"]
["SA12",2021,"Choose",1043,"T","Method of valuation used",null,null,null,null,null,null,null,null,null,null,null,null,null,null,null,null,"~"]
["SA12",2021,"Choose",1044,"T","Base of valuation",null,null,null,null,null,null,null,null,null,null,null,null,null,null,null,null,"~"]
["SA12",2021,"Choose",1206,"V","Phasing-in properties s21 (number)",null,null,null,null,null,null,null,null,null,null,null,null,null,null,null,null,"~"]
["SA12",2021,"Choose",1046,"T","Combination of rating types used? (Y/N)",null,null,null,null,null,null,null,null,null,null,null,null,null,null,null,null,"~"]
["SA12",2021,"Choose",1047,"T","Flat rate used? (Y/N)",null,null,null,null,null,null,null,null,null,null,null,null,null,null,null,null,"~"]
["SA12",2021,"Choose",1048,"T","Is balance rated by uniform rate/variable rate?",null,null,null,null,null,null,null,null,null,null,null,null,null,null,null,null,"~"]
["SA12",2021,"Choose",1100,"T","Valuation reductions:",null,null,null,null,null,null,null,null,null,null,null,null,null,null,null,null,"~"]
["SA12",2021,"Choose",1101,"V","Valuation reductions-public infrastructure",null,null,null,null,null,null,null,null,null,null,null,null,null,null,null,null,"~"]
["SA12",2021,"Choose",1102,"V","Valuation reductions-nature reserves/park",null,null,null,null,null,null,null,null,null,null,null,null,null,null,null,null,"~"]
["SA12",2021,"Choose",1103,"V","Valuation reductions-mineral rights",null,null,null,null,null,null,null,null,null,null,null,null,null,null,null,null,"~"]
["SA12",2021,"Choose",1104,"V","Valuation reductions-R15,000 threshold ",null,null,null,null,null,null,null,null,null,null,null,null,null,null,null,null,"~"]
["SA12",2021,"Choose",1105,"V","Valuation reductions-public worship",null,null,null,null,null,null,null,null,null,null,null,null,null,null,null,null,"~"]
["SA12",2021,"Choose",1106,"V","Valuation reductions-other",null,null,null,null,null,null,null,null,null,null,null,null,null,null,null,null,"~"]
["SA12",2021,"Choose",1107,"V","Total valuation reductions:",null,null,null,null,null,null,null,null,null,null,null,null,null,null,null,null,"~"]
["SA12",2021,"Choose",1108,"V","Total value used for rating",null,null,null,null,null,null,null,null,null,null,null,null,null,null,null,null,"~"]
["SA12",2021,"Choose",1109,"V","Total land value ",null,null,null,null,null,null,null,null,null,null,null,null,null,null,null,null,"~"]
["SA12",2021,"Choose",1110,"V","Total value of improvements",null,null,null,null,null,null,null,null,null,null,null,null,null,null,null,null,"~"]
["SA12",2021,"Choose",1111,"V","Total market value ",null,null,null,null,null,null,null,null,null,null,null,null,null,null,null,null,"~"]
["SA12",2021,"Choose",1200,"T","Rating:",null,null,null,null,null,null,null,null,null,null,null,null,null,null,null,null,"~"]
["SA12",2021,"Choose",1201,"V","Average rate",null,null,null,null,null,null,null,null,null,null,null,null,null,null,null,null,"~"]
["SA12",2021,"Choose",1301,"V","Rate revenue budget ",null,null,null,null,null,null,null,null,null,null,null,null,null,null,null,null,"~"]
["SA12",2021,"Choose",1302,"V","Rate revenue expected to collect",null,null,null,null,null,null,null,null,null,null,null,null,null,null,null,null,"~"]
["SA12",2021,"Choose",1303,"P","Expected cash collection rate (%)",null,null,null,null,null,null,null,null,null,null,null,null,null,null,null,null,"~"]
["SA12",2021,"Choose",1304,"V","Special rating areas",null,null,null,null,null,null,null,null,null,null,null,null,null,null,null,null,"~"]
["SA12",2021,"Choose",1305,"V","Rebates, exemptions - indigent",null,null,null,null,null,null,null,null,null,null,null,null,null,null,null,null,"~"]
["SA12",2021,"Choose",1306,"V","Rebates, exemptions - pensioners",null,null,null,null,null,null,null,null,null,null,null,null,null,null,null,null,"~"]
["SA12",2021,"Choose",1307,"V","Rebates, exemptions - bona fide farm. ",null,null,null,null,null,null,null,null,null,null,null,null,null,null,null,null,"~"]
["SA12",2021,"Choose",1308,"V","Rebates, exemptions - other ",null,null,null,null,null,null,null,null,null,null,null,null,null,null,null,null,"~"]
["SA12",2021,"Choose",1309,"V","Phase-in reductions/discounts ",null,null,null,null,null,null,null,null,null,null,null,null,null,null,null,null,"~"]
["SA12",2021,"Choose",1310,"V","Total rebates,exemptns,reductns,discs",null,null,null,null,null,null,null,null,null,null,null,null,null,null,null,null,"~"]
["SA13",2021,"Choose",1000,1,"Property rates (rate in the Rand)",null,null,null,null,null,null,null,null,null,null,null,null,null,null,null,null,"~"]
["SA13",2021,"Choose",1001,2,"Residential properties",null,null,null,null,null,null,null,null,null,null,null,null,null,null,null,null,"~"]
["SA13",2021,"Choose",1002,3,"Residential properties - vacant land",null,null,null,null,null,null,null,null,null,null,null,null,null,null,null,null,"~"]
["SA13",2021,"Choose",1003,4,"Formal/informal settlements",null,null,null,null,null,null,null,null,null,null,null,null,null,null,null,null,"~"]
["SA13",2021,"Choose",1004,5,"Small holdings",null,null,null,null,null,null,null,null,null,null,null,null,null,null,null,null,"~"]
["SA13",2021,"Choose",1005,6,"Farm properties - used",null,null,null,null,null,null,null,null,null,null,null,null,null,null,null,null,"~"]
["SA13",2021,"Choose",1006,7,"Farm properties - not used",null,null,null,null,null,null,null,null,null,null,null,null,null,null,null,null,"~"]
["SA13",2021,"Choose",1007,8,"Industrial properties",null,null,null,null,null,null,null,null,null,null,null,null,null,null,null,null,"~"]
["SA13",2021,"Choose",1008,9,"Business and commercial properties",null,null,null,null,null,null,null,null,null,null,null,null,null,null,null,null,"~"]
["SA13",2021,"Choose",1009,10,"Communal land - residential",null,null,null,null,null,null,null,null,null,null,null,null,null,null,null,null,"~"]
["SA13",2021,"Choose",1010,11,"Communal land - small holdings",null,null,null,null,null,null,null,null,null,null,null,null,null,null,null,null,"~"]
["SA13",2021,"Choose",1011,12,"Communal land - farm property",null,null,null,null,null,null,null,null,null,null,null,null,null,null,null,null,"~"]
["SA13",2021,"Choose",1012,13,"Communal land - business and commercial",null,null,null,null,null,null,null,null,null,null,null,null,null,null,null,null,"~"]
["SA13",2021,"Choose",1013,14,"Communal land - other",null,null,null,null,null,null,null,null,null,null,null,null,null,null,null,null,"~"]
["SA13",2021,"Choose",1014,15,"State-owned properties",null,null,null,null,null,null,null,null,null,null,null,null,null,null,null,null,"~"]
["SA13",2021,"Choose",1015,16,"Municipal properties",null,null,null,null,null,null,null,null,null,null,null,null,null,null,null,null,"~"]
["SA13",2021,"Choose",1016,17,"Public service infrastructure",null,null,null,null,null,null,null,null,null,null,null,null,null,null,null,null,"~"]
["SA13",2021,"Choose",1017,18,"Privately owned towns serviced by the owner",null,null,null,null,null,null,null,null,null,null,null,null,null,null,null,null,"~"]
["SA13",2021,"Choose",1018,19,"State trust land",null,null,null,null,null,null,null,null,null,null,null,null,null,null,null,null,"~"]
["SA13",2021,"Choose",1019,20,"Restitution and redistribution properties",null,null,null,null,null,null,null,null,null,null,null,null,null,null,null,null,"~"]
["SA13",2021,"Choose",1020,21,"Protected areas",null,null,null,null,null,null,null,null,null,null,null,null,null,null,null,null,"~"]
["SA13",2021,"Choose",1021,22,"National monuments properties",null,null,null,null,null,null,null,null,null,null,null,null,null,null,null,null,"~"]
["SA13",2021,"Choose",null,null,null,null,null,null,null,null,null,null,null,null,null,null,null,null,null,null,null,"~"]
["SA13",2021,"Choose",1030,23,"Exemptions, reductions and rebates (Rands)",null,null,null,null,null,null,null,null,null,null,null,null,null,null,null,null,"~"]
["SA13",2021,"Choose",1031,24,"Residential properties",null,null,null,null,null,null,null,null,null,null,null,null,null,null,null,null,"~"]
["SA13",2021,"Choose",1032,25,"R15 000 threshhold rebate",null,null,null,null,null,null,null,null,null,null,null,null,null,null,null,null,"~"]
["SA13",2021,"Choose",1033,26,"General residential rebate",null,null,null,null,null,null,null,null,null,null,null,null,null,null,null,null,"~"]
["SA13",{"$f":"+MTREF","v":2021},{"$f":"LEFT(muni,(FIND(\" \",muni,1)-1))","v":"Choose"},1034,27,"Indigent rebate or exemption",null,null,null,null,null,null,null,null,null,null,null,null,null,null,null,null,"~"]
["SA13",2021,"Choose",1035,28,"Pensioners/social grants rebate or exemption ",null,null,null,null,null,null,null,null,null,null,null,null,null,null,null,null,"~"]
["SA13",2021,"Choose",1036,29,"Temporary relief rebate or exemption",null,null,null,null,null,null,null,null,null,null,null,null,null,null,null,null,"~"]
["SA13",2021,"Choose",1037,30," Bona fide farmers rebate or exemption",null,null,null,null,null,null,null,null,null,null,null,null,null,null,null,null,"~"]
["SA13",2021,"Choose",1038,31,"Other rebates or exemptions",null,null,null,null,null,null,null,null,null,null,null,null,null,null,null,null,"~"]
["SA13",2021,"Choose",null,null,null,null,null,null,null,null,null,null,null,null,null,null,null,null,null,null,null,"~"]
["SA13",2021,"Choose",1100,32,"Water tariffs",null,null,null,null,null,null,null,null,null,null,null,null,null,null,null,null,"~"]
["SA13",2021,"Choose",1101,33,"Domestic",null,null,null,null,null,null,null,null,null,null,null,null,null,null,null,null,"~"]
["SA13",2021,"Choose",1102,34,"Basic charge/fixed fee (Rands/month)",null,null,null,null,null,null,null,null,null,null,null,null,null,null,null,null,"~"]
["SA13",2021,"Choose",1103,35,"Service point - vacant land (Rands/month)",null,null,null,null,null,null,null,null,null,null,null,null,null,null,null,null,"~"]
["SA13",2021,"Choose",1104,36,"Water usage - flat rate tariff (c/kl)",null,null,null,null,null,null,null,null,null,null,null,null,null,null,null,null,"~"]
["SA13",2021,"Choose",1105,37,"Water usage - life line tariff",null,null,null,null,null,null,null,null,null,null,null,null,null,null,null,null,"~"]
["SA13",2021,"Choose",1106,38,"Water usage - Block 1 (c/kl)",null,null,null,null,null,null,null,null,null,null,null,null,null,null,null,null,"~"]
["SA13",2021,"Choose",1107,39,"Water usage - Block 2 (c/kl)",null,null,null,null,null,null,null,null,null,null,null,null,null,null,null,null,"~"]
["SA13",2021,"Choose",1108,40,"Water usage - Block 3 (c/kl)",null,null,null,null,null,null,null,null,null,null,null,null,null,null,null,null,"~"]
["SA13",2021,"Choose",1109,41,"Water usage - Block 4 (c/kl)",null,null,null,null,null,null,null,null,null,null,null,null,null,null,null,null,"~"]
["SA13",2021,"Choose",1110,42,"Other",null,null,null,null,null,null,null,null,null,null,null,null,null,null,null,null,"~"]
["SA13",2021,"Choose",null,null,null,null,null,null,null,null,null,null,null,null,null,null,null,null,null,null,null,"~"]
["SA13",2021,"Choose",1200,43,"Waste water tariffs",null,null,null,null,null,null,null,null,null,null,null,null,null,null,null,null,"~"]
["SA13",2021,"Choose",1201,44,"Domestic",null,null,null,null,null,null,null,null,null,null,null,null,null,null,null,null,"~"]
["SA13",2021,"Choose",1202,45,"Basic charge/fixed fee (Rands/month)",null,null,null,null,null,null,null,null,null,null,null,null,null,null,null,null,"~"]
["SA13",2021,"Choose",1203,46,"Service point - vacant land (Rands/month)",null,null,null,null,null,null,null,null,null,null,null,null,null,null,null,null,"~"]
["SA13",2021,"Choose",1204,47,"Waste water - flat rate tariff (c/kl)",null,null,null,null,null,null,null,null,null,null,null,null,null,null,null,null,"~"]
["SA13",2021,"Choose",1205,48,"Volumetric charge - Block 1 (c/kl)",null,null,null,null,null,null,null,null,null,null,null,null,null,null,null,null,"~"]
["SA13",2021,"Choose",1206,49,"Volumetric charge - Block 2 (c/kl)",null,null,null,null,null,null,null,null,null,null,null,null,null,null,null,null,"~"]
["SA13",2021,"Choose",1207,50,"Volumetric charge - Block 3 (c/kl)",null,null,null,null,null,null,null,null,null,null,null,null,null,null,null,null,"~"]
["SA13",2021,"Choose",1208,51,"Volumetric charge - Block 4 (c/kl)",null,null,null,null,null,null,null,null,null,null,null,null,null,null,null,null,"~"]
["SA13",2021,"Choose",1209,52,"Other",null,null,null,null,null,null,null,null,null,null,null,null,null,null,null,null,"~"]
["SA13",2021,"Choose",null,null,null,null,null,null,null,null,null,null,null,null,null,null,null,null,null,null,null,"~"]
["SA13",2021,"Choose",1300,53,"Electricity tariffs",null,null,null,null,null,null,null,null,null,null,null,null,null,null,null,null,"~"]
["SA13",2021,"Choose",1301,54,"Domestic",null,null,null,null,null,null,null,null,null,null,null,null,null,null,null,null,"~"]
["SA13",2021,"Choose",1302,55,"Basic charge/fixed fee (Rands/month)",null,null,null,null,null,null,null,null,null,null,null,null,null,null,null,null,"~"]
["SA13",2021,"Choose",1303,56,"Service point - vacant land (Rands/month)",null,null,null,null,null,null,null,null,null,null,null,null,null,null,null,null,"~"]
["SA13",2021,"Choose",1304,57,"FBE",null,null,null,null,null,null,null,null,null,null,null,null,null,null,null,null,"~"]
["SA13",2021,"Choose",1305,58,"Life-line tariff - meter",null,null,null,null,null,null,null,null,null,null,null,null,null,null,null,null,"~"]
["SA13",2021,"Choose",1306,59,"Life-line tariff - prepaid",null,null,null,null,null,null,null,null,null,null,null,null,null,null,null,null,"~"]
["SA13",2021,"Choose",1307,60,"Flat rate tariff - meter (c/kwh)",null,null,null,null,null,null,null,null,null,null,null,null,null,null,null,null,"~"]
["SA13",2021,"Choose",1308,61,"Flat rate tariff - prepaid(c/kwh)",null,null,null,null,null,null,null,null,null,null,null,null,null,null,null,null,"~"]
["SA13",2021,"Choose",1309,62,"Meter - IBT Block 1 (c/kwh)",null,null,null,null,null,null,null,null,null,null,null,null,null,null,null,null,"~"]
["SA13",2021,"Choose",1310,63,"Meter - IBT Block 2 (c/kwh)",null,null,null,null,null,null,null,null,null,null,null,null,null,null,null,null,"~"]
["SA13",2021,"Choose",1311,64,"Meter - IBT Block 3 (c/kwh)",null,null,null,null,null,null,null,null,null,null,null,null,null,null,null,null,"~"]
["SA13",2021,"Choose",1312,65,"Meter - IBT Block 4 (c/kwh)",null,null,null,null,null,null,null,null,null,null,null,null,null,null,null,null,"~"]
["SA13",2021,"Choose",1313,66,"Meter - IBT Block 5 (c/kwh)",null,null,null,null,null,null,null,null,null,null,null,null,null,null,null,null,"~"]
["SA13",2021,"Choose",1314,67,"Prepaid - IBT Block 1 (c/kwh)",null,null,null,null,null,null,null,null,null,null,null,null,null,null,null,null,"~"]
["SA13",2021,"Choose",1315,68,"Prepaid - IBT Block 2 (c/kwh)",null,null,null,null,null,null,null,null,null,null,null,null,null,null,null,null,"~"]
["SA13",2021,"Choose",1316,69,"Prepaid - IBT Block 3 (c/kwh)",null,null,null,null,null,null,null,null,null,null,null,null,null,null,null,null,"~"]
["SA13",2021,"Choose",1317,70,"Prepaid - IBT Block 4 (c/kwh)",null,null,null,null,null,null,null,null,null,null,null,null,null,null,null,null,"~"]
["SA13",2021,"Choose",1318,71,"Prepaid - IBT Block 5 (c/kwh)",null,null,null,null,null,null,null,null,null,null,null,null,null,null,null,null,"~"]
["SA13",2021,"Choose",1319,72,"Other",null,null,null,null,null,null,null,null,null,null,null,null,null,null,null,null,"~"]
["SA13",2021,"Choose",null,null,null,null,null,null,null,null,null,null,null,null,null,null,null,null,null,null,null,"~"]
["SA13",2021,"Choose",1400,73,"Waste management tariffs",null,null,null,null,null,null,null,null,null,null,null,null,null,null,null,null,"~"]
["SA13",2021,"Choose",1401,74,"Domestic",null,null,null,null,null,null,null,null,null,null,null,null,null,null,null,null,"~"]
["SA13",2021,"Choose",1402,75,"Street cleaning charge",null,null,null,null,null,null,null,null,null,null,null,null,null,null,null,null,"~"]
["SA13",2021,"Choose",1403,76,"Basic charge/fixed fee",null,null,null,null,null,null,null,null,null,null,null,null,null,null,null,null,"~"]
["SA13",2021,"Choose",1404,77,"80l bin - once a week",null,null,null,null,null,null,null,null,null,null,null,null,null,null,null,null,"~"]
["SA13",2021,"Choose",1405,78,"250l bin - once a week",null,null,null,null,null,null,null,null,null,null,null,null,null,null,null,null,"~"]
["SA14",2021,"Choose",1000,1,"Monthly Account for Household - 'Middle Income Range'",null,null,null,null,null,null,null,null,null,null,null,null,null,null,null,null,"~"]
["SA14",2021,"Choose",1001,2,"Rates and services charges:",null,null,null,null,null,null,null,null,null,null,null,null,null,null,null,null,"~"]
["SA14",2021,"Choose",1002,3,"Property rates",null,null,null,null,null,null,null,null,null,null,null,null,null,null,null,null,"~"]
["SA14",2021,"Choose",1003,4,"Electricity: Basic levy",null,null,null,null,null,null,null,null,null,null,null,null,null,null,null,null,"~"]
["SA14",2021,"Choose",1004,5,"Electricity: Consumption",null,null,null,null,null,null,null,null,null,null,null,null,null,null,null,null,"~"]
["SA14",2021,"Choose",1005,6,"Water: Basic levy",null,null,null,null,null,null,null,null,null,null,null,null,null,null,null,null,"~"]
["SA14",2021,"Choose",1006,7,"Water: Consumption",null,null,null,null,null,null,null,null,null,null,null,null,null,null,null,null,"~"]
["SA14",2021,"Choose",1007,8,"Sanitation",null,null,null,null,null,null,null,null,null,null,null,null,null,null,null,null,"~"]
["SA14",{"$f":"+MTREF","v":2021},{"$f":"LEFT(muni,(FIND(\" \",muni,1)-1))","v":"Choose"},1008,9,"Refuse removal",null,null,null,null,null,null,null,null,null,null,null,null,null,null,null,null,"~"]
["SA14",2021,"Choose",1009,10,"Other",null,null,null,null,null,null,null,null,null,null,null,null,null,null,null,null,"~"]
["SA14",2021,"Choose",1090,11,"sub-total",null,null,null,null,null,null,null,null,null,null,null,null,null,null,null,null,"~"]
["SA14",2021,"Choose",1091,12,"VAT on Services",null,null,null,null,null,null,null,null,null,null,null,null,null,null,null,null,"~"]
["SA14",2021,"Choose",1095,13,"Total large household bill:",null,null,null,null,null,null,null,null,null,null,null,null,null,null,null,null,"~"]
["SA14",2021,"Choose",1096,14,"% increase/-decrease",null,null,null,null,null,null,null,null,null,null,null,null,null,null,null,null,"~"]
["SA14",2021,"Choose",null,null,null,null,null,null,null,null,null,null,null,null,null,null,null,null,null,null,null,"~"]
["SA14",2021,"Choose",1100,15,"Monthly Account for Household - 'Affordable Range' ",null,null,null,null,null,null,null,null,null,null,null,null,null,null,null,null,"~"]
["SA14",2021,"Choose",1101,16,"Rates and services charges:",null,null,null,null,null,null,null,null,null,null,null,null,null,null,null,null,"~"]
["SA14",2021,"Choose",1102,17,"Property rates",null,null,null,null,null,null,null,null,null,null,null,null,null,null,null,null,"~"]
["SA14",2021,"Choose",1103,18,"Electricity: Basic levy",null,null,null,null,null,null,null,null,null,null,null,null,null,null,null,null,"~"]
["SA14",2021,"Choose",1110,19,"Electricity: Consumption",null,null,null,null,null,null,null,null,null,null,null,null,null,null,null,null,"~"]
["SA14",2021,"Choose",1107,20,"Water: Basic levy",null,null,null,null,null,null,null,null,null,null,null,null,null,null,null,null,"~"]
["SA14",2021,"Choose",1104,21,"Water: Consumption",null,null,null,null,null,null,null,null,null,null,null,null,null,null,null,null,"~"]
["SA14",2021,"Choose",1105,22,"Sanitation",null,null,null,null,null,null,null,null,null,null,null,null,null,null,null,null,"~"]
["SA14",2021,"Choose",1106,23,"Refuse removal",null,null,null,null,null,null,null,null,null,null,null,null,null,null,null,null,"~"]
["SA14",2021,"Choose",1108,24,"Other",null,null,null,null,null,null,null,null,null,null,null,null,null,null,null,null,"~"]
["SA14",2021,"Choose",1190,25,"sub-total",null,null,null,null,null,null,null,null,null,null,null,null,null,null,null,null,"~"]
["SA14",2021,"Choose",1191,26,"VAT on Services",null,null,null,null,null,null,null,null,null,null,null,null,null,null,null,null,"~"]
["SA14",2021,"Choose",1195,27,"Total small household bill:",null,null,null,null,null,null,null,null,null,null,null,null,null,null,null,null,"~"]
["SA14",2021,"Choose",1196,28,"% increase/-decrease",null,null,null,null,null,null,null,null,null,null,null,null,null,null,null,null,"~"]
["SA14",2021,"Choose",null,null,null,null,null,null,null,null,null,null,null,null,null,null,null,null,null,null,null,"~"]
["SA14",2021,"Choose",1200,29,"Monthly Account for Household - 'Indigent' HH receiving FBS",null,null,null,null,null,null,null,null,null,null,null,null,null,null,null,null,"~"]
["SA14",2021,"Choose",1201,30,"Rates and services charges:",null,null,null,null,null,null,null,null,null,null,null,null,null,null,null,null,"~"]
["SA14",2021,"Choose",1202,31,"Property rates",null,null,null,null,null,null,null,null,null,null,null,null,null,null,null,null,"~"]
["SA14",2021,"Choose",1203,32,"Electricity: Basic levy",null,null,null,null,null,null,null,null,null,null,null,null,null,null,null,null,"~"]
["SA14",2021,"Choose",1207,33,"Electricity: Consumption",null,null,null,null,null,null,null,null,null,null,null,null,null,null,null,null,"~"]
["SA14",2021,"Choose",1208,34,"Water: Basic levy",null,null,null,null,null,null,null,null,null,null,null,null,null,null,null,null,"~"]
["SA14",2021,"Choose",1204,35,"Water: Consumption",null,null,null,null,null,null,null,null,null,null,null,null,null,null,null,null,"~"]
["SA14",2021,"Choose",1205,36,"Sanitation",null,null,null,null,null,null,null,null,null,null,null,null,null,null,null,null,"~"]
["SA14",2021,"Choose",1206,37,"Refuse removal",null,null,null,null,null,null,null,null,null,null,null,null,null,null,null,null,"~"]
["SA14",2021,"Choose",1209,38,"Other",null,null,null,null,null,null,null,null,null,null,null,null,null,null,null,null,"~"]
["SA14",2021,"Choose",1290,39,"sub-total",null,null,null,null,null,null,null,null,null,null,null,null,null,null,null,null,"~"]
["SA14",2021,"Choose",1291,40,"VAT on Services",null,null,null,null,null,null,null,null,null,null,null,null,null,null,null,null,"~"]
["SA14",2021,"Choose",1295,41,"Total small household bill:",null,null,null,null,null,null,null,null,null,null,null,null,null,null,null,null,"~"]
["SA14",2021,"Choose",1296,42,"% increase/-decrease",null,null,null,null,null,null,null,null,null,null,null,null,null,null,null,null,"~"]
["SA22",2021,"Choose",1000,1,"Councillors (Political Office Bearers plus Other)",null,null,null,null,null,null,null,null,null,null,null,null,null,null,null,null,"~"]
["SA22",2021,"Choose",1001,2,"Basic Salaries and Wages",null,null,null,null,null,null,null,null,null,null,null,null,null,null,null,null,"~"]
["SA22",2021,"Choose",1002,3,"Pension and UIF Contributions",null,null,null,null,null,null,null,null,null,null,null,null,null,null,null,null,"~"]
["SA22",2021,"Choose",1003,4,"Medical Aid Contributions",null,null,null,null,null,null,null,null,null,null,null,null,null,null,null,null,"~"]
["SA22",2021,"Choose",1004,5,"Motor Vehicle Allowance",null,null,null,null,null,null,null,null,null,null,null,null,null,null,null,null,"~"]
["SA22",2021,"Choose",1005,6,"Cellphone Allowance",null,null,null,null,null,null,null,null,null,null,null,null,null,null,null,null,"~"]
["SA22",2021,"Choose",1006,7,"Housing Allowances",null,null,null,null,null,null,null,null,null,null,null,null,null,null,null,null,"~"]
["SA22",2021,"Choose",1007,8,"Other benefits and allowances",null,null,null,null,null,null,null,null,null,null,null,null,null,null,null,null,"~"]
["SA22",2021,"Choose",1090,9,"Sub Total - Councillors",null,null,null,null,null,null,null,null,null,null,null,null,null,null,null,null,"~"]
["SA22",2021,"Choose",1091,10,"% increase",null,null,null,null,null,null,null,null,null,null,null,null,null,null,null,null,"~"]
["SA22",2021,"Choose",null,null,null,null,null,null,null,null,null,null,null,null,null,null,null,null,null,null,null,"~"]
["SA22",2021,"Choose",1100,11,"Senior Managers of the Municipality",null,null,null,null,null,null,null,null,null,null,null,null,null,null,null,null,"~"]
["SA22",2021,"Choose",1101,12,"Basic Salaries and Wages",null,null,null,null,null,null,null,null,null,null,null,null,null,null,null,null,"~"]
["SA22",2021,"Choose",1102,13,"Pension and UIF Contributions",null,null,null,null,null,null,null,null,null,null,null,null,null,null,null,null,"~"]
["SA22",2021,"Choose",1103,14,"Medical Aid Contributions",null,null,null,null,null,null,null,null,null,null,null,null,null,null,null,null,"~"]
["SA22",2021,"Choose",1110,15,"Overtime",null,null,null,null,null,null,null,null,null,null,null,null,null,null,null,null,"~"]
["SA22",2021,"Choose",1107,16,"Performance Bonus",null,null,null,null,null,null,null,null,null,null,null,null,null,null,null,null,"~"]
["SA22",2021,"Choose",1104,17,"Motor Vehicle Allowance",null,null,null,null,null,null,null,null,null,null,null,null,null,null,null,null,"~"]
["SA22",2021,"Choose",1105,18,"Cellphone Allowance",null,null,null,null,null,null,null,null,null,null,null,null,null,null,null,null,"~"]
["SA22",2021,"Choose",1106,19,"Housing Allowances",null,null,null,null,null,null,null,null,null,null,null,null,null,null,null,null,"~"]
["SA22",2021,"Choose",1108,20,"Other benefits and allowances",null,null,null,null,null,null,null,null,null,null,null,null,null,null,null,null,"~"]
["SA22",2021,"Choose",1111,21,"Payments in lieu of leave",null,null,null,null,null,null,null,null,null,null,null,null,null,null,null,null,"~"]
["SA22",2021,"Choose",1112,22,"Long service awards",null,null,null,null,null,null,null,null,null,null,null,null,null,null,null,null,"~"]
["SA22",2021,"Choose",1113,23,"Post-retirement benefit obligations",null,null,null,null,null,null,null,null,null,null,null,null,null,null,null,null,"~"]
["SA22",2021,"Choose",1190,24,"Sub Total - Senior Managers of Municipality",null,null,null,null,null,null,null,null,null,null,null,null,null,null,null,null,"~"]
["SA22",2021,"Choose",1191,25,"% increase",null,null,null,null,null,null,null,null,null,null,null,null,null,null,null,null,"~"]
["SA22",2021,"Choose",null,null,null,null,null,null,null,null,null,null,null,null,null,null,null,null,null,null,null,"~"]
["SA22",2021,"Choose",1200,26,"Other Municipal Staff",null,null,null,null,null,null,null,null,null,null,null,null,null,null,null,null,"~"]
["SA22",{"$f":"+MTREF","v":2021},{"$f":"LEFT(muni,(FIND(\" \",muni,1)-1))","v":"Choose"},1201,27,"Basic Salaries and Wages",null,null,null,null,null,null,null,null,null,null,null,null,null,null,null,null,"~"]
["SA22",2021,"Choose",1202,28,"Pension and UIF Contributions",null,null,null,null,null,null,null,null,null,null,null,null,null,null,null,null,"~"]
["SA22",2021,"Choose",1203,29,"Medical Aid Contributions",null,null,null,null,null,null,null,null,null,null,null,null,null,null,null,null,"~"]
["SA22",2021,"Choose",1207,30,"Overtime",null,null,null,null,null,null,null,null,null,null,null,null,null,null,null,null,"~"]
["SA22",2021,"Choose",1208,31,"Performance Bonus",null,null,null,null,null,null,null,null,null,null,null,null,null,null,null,null,"~"]
["SA22",2021,"Choose",1204,32,"Motor Vehicle Allowance",null,null,null,null,null,null,null,null,null,null,null,null,null,null,null,null,"~"]
["SA22",2021,"Choose",1205,33,"Cellphone Allowance",null,null,null,null,null,null,null,null,null,null,null,null,null,null,null,null,"~"]
["SA22",2021,"Choose",1206,34,"Housing Allowances",null,null,null,null,null,null,null,null,null,null,null,null,null,null,null,null,"~"]
["SA22",2021,"Choose",1209,35,"Other benefits and allowances",null,null,null,null,null,null,null,null,null,null,null,null,null,null,null,null,"~"]
["SA22",2021,"Choose",1211,36,"Payments in lieu of leave",null,null,null,null,null,null,null,null,null,null,null,null,null,null,null,null,"~"]
["SA22",2021,"Choose",1212,37,"Long service awards",null,null,null,null,null,null,null,null,null,null,null,null,null,null,null,null,"~"]
["SA22",2021,"Choose",1213,38,"Post-retirement benefit obligations",null,null,null,null,null,null,null,null,null,null,null,null,null,null,null,null,"~"]
["SA22",2021,"Choose",1290,39,"Sub Total - Other Municipal Staff",null,null,null,null,null,null,null,null,null,null,null,null,null,null,null,null,"~"]
["SA22",2021,"Choose",1291,40,"% increase",null,null,null,null,null,null,null,null,null,null,null,null,null,null,null,null,"~"]
["SA22",2021,"Choose",null,null,null,null,null,null,null,null,null,null,null,null,null,null,null,null,null,null,null,"~"]
["SA22",2021,"Choose",1295,41,"Total Parent Municipality",null,null,null,null,null,null,null,null,null,null,null,null,null,null,null,null,"~"]
["SA22",2021,"Choose",1297,42,"% increase",null,null,null,null,null,null,null,null,null,null,null,null,null,null,null,null,"~"]
["SA22",2021,"Choose",null,null,null,null,null,null,null,null,null,null,null,null,null,null,null,null,null,null,null,"~"]
["SA22",2021,"Choose",2000,43,"Board Members of Entities",null,null,null,null,null,null,null,null,null,null,null,null,null,null,null,null,"~"]
["SA22",2021,"Choose",2001,44,"Basic Salaries and Wages",null,null,null,null,null,null,null,null,null,null,null,null,null,null,null,null,"~"]
["SA22",2021,"Choose",2002,45,"Pension and UIF Contributions",null,null,null,null,null,null,null,null,null,null,null,null,null,null,null,null,"~"]
["SA22",2021,"Choose",2003,46,"Medical Aid Contributions",null,null,null,null,null,null,null,null,null,null,null,null,null,null,null,null,"~"]
["SA22",2021,"Choose",2010,47,"Overtime",null,null,null,null,null,null,null,null,null,null,null,null,null,null,null,null,"~"]
["SA22",2021,"Choose",2011,48,"Performance Bonus",null,null,null,null,null,null,null,null,null,null,null,null,null,null,null,null,"~"]
["SA22",2021,"Choose",2004,49,"Motor Vehicle Allowance",null,null,null,null,null,null,null,null,null,null,null,null,null,null,null,null,"~"]
["SA22",2021,"Choose",2005,50,"Cellphone Allowance",null,null,null,null,null,null,null,null,null,null,null,null,null,null,null,null,"~"]
["SA22",2021,"Choose",2006,51,"Housing Allowances",null,null,null,null,null,null,null,null,null,null,null,null,null,null,null,null,"~"]
["SA22",2021,"Choose",2008,52,"Other benefits and allowances",null,null,null,null,null,null,null,null,null,null,null,null,null,null,null,null,"~"]
["SA22",2021,"Choose",2007,53,"Board Fees",null,null,null,null,null,null,null,null,null,null,null,null,null,null,null,null,"~"]
["SA22",2021,"Choose",2012,54,"Payments in lieu of leave",null,null,null,null,null,null,null,null,null,null,null,null,null,null,null,null,"~"]
["SA22",2021,"Choose",2013,55,"Long service awards",null,null,null,null,null,null,null,null,null,null,null,null,null,null,null,null,"~"]
["SA22",2021,"Choose",2014,56,"Post-retirement benefit obligations",null,null,null,null,null,null,null,null,null,null,null,null,null,null,null,null,"~"]
["SA22",2021,"Choose",2090,57,"Sub Total - Board Members of Entities",null,null,null,null,null,null,null,null,null,null,null,null,null,null,null,null,"~"]
["SA22",2021,"Choose",2091,58,"% increase",null,null,null,null,null,null,null,null,null,null,null,null,null,null,null,null,"~"]
["SA22",2021,"Choose",null,null,null,null,null,null,null,null,null,null,null,null,null,null,null,null,null,null,null,"~"]
["SA22",2021,"Choose",2100,59,"Senior Managers of Entities",null,null,null,null,null,null,null,null,null,null,null,null,null,null,null,null,"~"]
["SA22",2021,"Choose",2101,60,"Basic Salaries and Wages",null,null,null,null,null,null,null,null,null,null,null,null,null,null,null,null,"~"]
["SA22",2021,"Choose",2102,61,"Pension and UIF Contributions",null,null,null,null,null,null,null,null,null,null,null,null,null,null,null,null,"~"]
["SA22",2021,"Choose",2103,62,"Medical Aid Contributions",null,null,null,null,null,null,null,null,null,null,null,null,null,null,null,null,"~"]
["SA22",2021,"Choose",2110,63,"Overtime",null,null,null,null,null,null,null,null,null,null,null,null,null,null,null,null,"~"]
["SA22",2021,"Choose",2107,64,"Performance Bonus",null,null,null,null,null,null,null,null,null,null,null,null,null,null,null,null,"~"]
["SA22",2021,"Choose",2104,65,"Motor Vehicle Allowance",null,null,null,null,null,null,null,null,null,null,null,null,null,null,null,null,"~"]
["SA22",2021,"Choose",2105,66,"Cellphone Allowance",null,null,null,null,null,null,null,null,null,null,null,null,null,null,null,null,"~"]
["SA22",2021,"Choose",2106,67,"Housing Allowances",null,null,null,null,null,null,null,null,null,null,null,null,null,null,null,null,"~"]
["SA22",2021,"Choose",2108,68,"Other benefits and allowances",null,null,null,null,null,null,null,null,null,null,null,null,null,null,null,null,"~"]
["SA22",2021,"Choose",2111,69,"Payments in lieu of leave",null,null,null,null,null,null,null,null,null,null,null,null,null,null,null,null,"~"]
["SA22",2021,"Choose",2112,70,"Long service awards",null,null,null,null,null,null,null,null,null,null,null,null,null,null,null,null,"~"]
["SA22",2021,"Choose",2113,71,"Post-retirement benefit obligations",null,null,null,null,null,null,null,null,null,null,null,null,null,null,null,null,"~"]
["SA22",2021,"Choose",2190,72,"Sub Total - Senior Managers of Entities",null,null,null,null,null,null,null,null,null,null,null,null,null,null,null,null,"~"]
["SA22",2021,"Choose",2191,73,"% increase",null,null,null,null,null,null,null,null,null,null,null,null,null,null,null,null,"~"]
["SA22",2021,"Choose",null,null,null,null,null,null,null,null,null,null,null,null,null,null,null,null,null,null,null,"~"]
["SA22",2021,"Choose",2200,74,"Other Staff of Entities",null,null,null,null,null,null,null,null,null,null,null,null,null,null,null,null,"~"]
["SA22",2021,"Choose",2201,75,"Basic Salaries and Wages",null,null,null,null,null,null,null,null,null,null,null,null,null,null,null,null,"~"]
["SA22",2021,"Choose",2202,76,"Pension and UIF Contributions",null,null,null,null,null,null,null,null,null,null,null,null,null,null,null,null,"~"]
["SA22",2021,"Choose",2203,77,"Medical Aid Contributions",null,null,null,null,null,null,null,null,null,null,null,null,null,null,null,null,"~"]
["SA22",2021,"Choose",2207,78,"Overtime",null,null,null,null,null,null,null,null,null,null,null,null,null,null,null,null,"~"]
["SA22",2021,"Choose",2208,79,"Performance Bonus",null,null,null,null,null,null,null,null,null,null,null,null,null,null,null,null,"~"]
["SA22",2021,"Choose",2204,80,"Motor Vehicle Allowance",null,null,null,null,null,null,null,null,null,null,null,null,null,null,null,null,"~"]
["SA22",2021,"Choose",2205,81,"Cellphone Allowance",null,null,null,null,null,null,null,null,null,null,null,null,null,null,null,null,"~"]
["SA22",2021,"Choose",2206,82,"Housing Allowances",null,null,null,null,null,null,null,null,null,null,null,null,null,null,null,null,"~"]
["SA22",2021,"Choose",2209,83,"Other benefits and allowances",null,null,null,null,null,null,null,null,null,null,null,null,null,null,null,null,"~"]
["SA22",2021,"Choose",2211,84,"Payments in lieu of leave",null,null,null,null,null,null,null,null,null,null,null,null,null,null,null,null,"~"]
["SA22",2021,"Choose",2212,85,"Long service awards",null,null,null,null,null,null,null,null,null,null,null,null,null,null,null,null,"~"]
["SA22",2021,"Choose",2213,86,"Post-retirement benefit obligations",null,null,null,null,null,null,null,null,null,null,null,null,null,null,null,null,"~"]
["SA22",{"$f":"+MTREF","v":2021},{"$f":"LEFT(muni,(FIND(\" \",muni,1)-1))","v":"Choose"},2290,87,"Sub Total - Other Staff of Entities",null,null,null,null,null,null,null,null,null,null,null,null,null,null,null,null,"~"]
["SA22",2021,"Choose",2291,89,"% increase",null,null,null,null,null,null,null,null,null,null,null,null,null,null,null,null,"~"]
["SA22",2021,"Choose",null,null,null,null,null,null,null,null,null,null,null,null,null,null,null,null,null,null,null,"~"]
["SA22",2021,"Choose",2295,90,"Total Municipal Entities",null,null,null,null,null,null,null,null,null,null,null,null,null,null,null,null,"~"]
["SA22",2021,"Choose",null,null,null,null,null,null,null,null,null,null,null,null,null,null,null,null,null,null,null,"~"]
["SA22",2021,"Choose",2296,91,"TOTAL SALARY, ALLOWANCES & BENEFITS",null,null,null,null,null,null,null,null,null,null,null,null,null,null,null,null,"~"]
["SA22",2021,"Choose",2297,92,"% increase",null,null,null,null,null,null,null,null,null,null,null,null,null,null,null,null,"~"]
["SA22",2021,"Choose",2298,93,"TOTAL MANAGERS AND STAFF",null,null,null,null,null,null,null,null,null,null,null,null,null,null,null,null,"~"]
["SA23",2021,"Choose",1000,1,null,null,null,null,null,null,null,null,null,null,null,null,null,null,null,null,null,"~"]
["SA23",2021,"Choose",1001,2,null,null,null,null,null,null,null,null,null,null,null,null,null,null,null,null,null,"~"]
["SA23",2021,"Choose",1002,3,null,null,null,null,null,null,null,null,null,null,null,null,null,null,null,null,null,"~"]
["SA23",2021,"Choose",1003,4,null,null,null,null,null,null,null,null,null,null,null,null,null,null,null,null,null,"~"]
["SA23",2021,"Choose",1004,5,null,null,null,null,null,null,null,null,null,null,null,null,null,null,null,null,null,"~"]
["SA23",2021,"Choose",1005,6,null,null,null,null,null,null,null,null,null,null,null,null,null,null,null,null,null,"~"]
["SA23",2021,"Choose",1006,7,null,null,null,null,null,null,null,null,null,null,null,null,null,null,null,null,null,"~"]
["SA23",2021,"Choose",1090,8,null,null,null,null,null,null,null,null,null,null,null,null,null,null,null,null,null,"~"]
["SA23",2021,"Choose",null,null,null,null,null,null,null,null,null,null,null,null,null,null,null,null,null,null,null,"~"]
["SA23",2021,"Choose",null,null,null,null,null,null,null,null,null,null,null,null,null,null,null,null,null,null,null,"~"]
["SA23",2021,"Choose",null,null,null,null,null,null,null,null,null,null,null,null,null,null,null,null,null,null,null,"~"]
["SA23",2021,"Choose",null,null,null,null,null,null,null,null,null,null,null,null,null,null,null,null,null,null,null,"~"]
["SA23",2021,"Choose",null,null,null,null,null,null,null,null,null,null,null,null,null,null,null,null,null,null,null,"~"]
["SA23",2021,"Choose",null,null,null,null,null,null,null,null,null,null,null,null,null,null,null,null,null,null,null,"~"]
["SA23",2021,"Choose",null,null,null,null,null,null,null,null,null,null,null,null,null,null,null,null,null,null,null,"~"]
["SA23",2021,"Choose",null,null,null,null,null,null,null,null,null,null,null,null,null,null,null,null,null,null,null,"~"]
["SA23",2021,"Choose",null,null,null,null,null,null,null,null,null,null,null,null,null,null,null,null,null,null,null,"~"]
["SA23",2021,"Choose",null,null,null,null,null,null,null,null,null,null,null,null,null,null,null,null,null,null,null,"~"]
["SA23",2021,"Choose",null,null,null,null,null,null,null,null,null,null,null,null,null,null,null,null,null,null,null,"~"]
["SA23",2021,"Choose",null,null,null,null,null,null,null,null,null,null,null,null,null,null,null,null,null,null,null,"~"]
["SA23",2021,"Choose",null,null,null,null,null,null,null,null,null,null,null,null,null,null,null,null,null,null,null,"~"]
["SA23",2021,"Choose",null,null,null,null,null,null,null,null,null,null,null,null,null,null,null,null,null,null,null,"~"]
["SA23",2021,"Choose",null,null,null,null,null,null,null,null,null,null,null,null,null,null,null,null,null,null,null,"~"]
["SA23",2021,"Choose",null,null,null,null,null,null,null,null,null,null,null,null,null,null,null,null,null,null,null,"~"]
["SA23",2021,"Choose",null,null,null,null,null,null,null,null,null,null,null,null,null,null,null,null,null,null,null,"~"]
["SA23",2021,"Choose",null,null,null,null,null,null,null,null,null,null,null,null,null,null,null,null,null,null,null,"~"]
["SA23",2021,"Choose",null,null,null,null,null,null,null,null,null,null,null,null,null,null,null,null,null,null,null,"~"]
["SA23",2021,"Choose",null,null,null,null,null,null,null,null,null,null,null,null,null,null,null,null,null,null,null,"~"]
["SA23",2021,"Choose",null,null,null,null,null,null,null,null,null,null,null,null,null,null,null,null,null,null,null,"~"]
["SA23",2021,"Choose",null,null,null,null,null,null,null,null,null,null,null,null,null,null,null,null,null,null,null,"~"]
["SA23",2021,"Choose",null,null,null,null,null,null,null,null,null,null,null,null,null,null,null,null,null,null,null,"~"]
["SA23",2021,"Choose",null,null,null,null,null,null,null,null,null,null,null,null,null,null,null,null,null,null,null,"~"]
["SA23",2021,"Choose",null,null,null,null,null,null,null,null,null,null,null,null,null,null,null,null,null,null,null,"~"]
["SA23",2021,"Choose",null,null,null,null,null,null,null,null,null,null,null,null,null,null,null,null,null,null,null,"~"]
["SA23",2021,"Choose",null,null,null,null,null,null,null,null,null,null,null,null,null,null,null,null,null,null,null,"~"]
["SA23",2021,"Choose",null,null,null,null,null,null,null,null,null,null,null,null,null,null,null,null,null,null,null,"~"]
["SA23",2021,"Choose",null,null,null,null,null,null,null,null,null,null,null,null,null,null,null,null,null,null,null,"~"]
["SA23",2021,"Choose",null,null,null,null,null,null,null,null,null,null,null,null,null,null,null,null,null,null,null,"~"]
["SA23",2021,"Choose",null,null,null,null,null,null,null,null,null,null,null,null,null,null,null,null,null,null,null,"~"]
["SA23",2021,"Choose",null,null,null,null,null,null,null,null,null,null,null,null,null,null,null,null,null,null,null,"~"]
["SA23",2021,"Choose",null,null,null,null,null,null,null,null,null,null,null,null,null,null,null,null,null,null,null,"~"]
["SA23",2021,"Choose",null,null,null,null,null,null,null,null,null,null,null,null,null,null,null,null,null,null,null,"~"]
["SA23",2021,"Choose",null,null,null,null,null,null,null,null,null,null,null,null,null,null,null,null,null,null,null,"~"]
["SA23",2021,"Choose",null,null,null,null,null,null,null,null,null,null,null,null,null,null,null,null,null,null,null,"~"]
["SA23",2021,"Choose",null,null,null,null,null,null,null,null,null,null,null,null,null,null,null,null,null,null,null,"~"]
["SA23",2021,"Choose",null,null,null,null,null,null,null,null,null,null,null,null,null,null,null,null,null,null,null,"~"]
["SA23",2021,"Choose",null,null,null,null,null,null,null,null,null,null,null,null,null,null,null,null,null,null,null,"~"]
["SA23",2021,"Choose",null,null,null,null,null,null,null,null,null,null,null,null,null,null,null,null,null,null,null,"~"]
["SA23",2021,"Choose",null,null,null,null,null,null,null,null,null,null,null,null,null,null,null,null,null,null,null,"~"]
["SA23",2021,"Choose",null,null,null,null,null,null,null,null,null,null,null,null,null,null,null,null,null,null,null,"~"]
["SA23",2021,"Choose",null,null,null,null,null,null,null,null,null,null,null,null,null,null,null,null,null,null,null,"~"]
["SA23",2021,"Choose",null,null,null,null,null,null,null,null,null,null,null,null,null,null,null,null,null,null,null,"~"]
["SA23",2021,"Choose",null,null,null,null,null,null,null,null,null,null,null,null,null,null,null,null,null,null,null,"~"]
["SA23",2021,"Choose",null,null,null,null,null,null,null,null,null,null,null,null,null,null,null,null,null,null,null,"~"]
["SA23",2021,"Choose",null,null,null,null,null,null,null,null,null,null,null,null,null,null,null,null,null,null,null,"~"]
["SA23",2021,"Choose",null,null,null,null,null,null,null,null,null,null,null,null,null,null,null,null,null,null,null,"~"]
["SA23",{"$f":"+MTREF","v":2021},{"$f":"LEFT(muni,(FIND(\" \",muni,1)-1))","v":"Choose"},null,null,null,null,null,null,null,null,null,null,null,null,null,null,null,null,null,null,null,"~"]
["SA23",2021,"Choose",null,null,null,null,null,null,null,null,null,null,null,null,null,null,null,null,null,null,null,"~"]
["SA23",2021,"Choose",null,null,null,null,null,null,null,null,null,null,null,null,null,null,null,null,null,null,null,"~"]
["SA23",2021,"Choose",null,null,null,null,null,null,null,null,null,null,null,null,null,null,null,null,null,null,null,"~"]
["SA23",2021,"Choose",null,null,null,null,null,null,null,null,null,null,null,null,null,null,null,null,null,null,null,"~"]
["SA23",2021,"Choose",null,null,null,null,null,null,null,null,null,null,null,null,null,null,null,null,null,null,null,"~"]
["SA23",2021,"Choose",null,null,null,null,null,null,null,null,null,null,null,null,null,null,null,null,null,null,null,"~"]
["SA23",2021,"Choose",null,null,null,null,null,null,null,null,null,null,null,null,null,null,null,null,null,null,null,"~"]
["SA23",2021,"Choose",null,null,null,null,null,null,null,null,null,null,null,null,null,null,null,null,null,null,null,"~"]
["SA23",2021,"Choose",null,null,null,null,null,null,null,null,null,null,null,null,null,null,null,null,null,null,null,"~"]
["SA23",2021,"Choose",null,null,null,null,null,null,null,null,null,null,null,null,null,null,null,null,null,null,null,"~"]
["SA23",2021,"Choose",null,null,null,null,null,null,null,null,null,null,null,null,null,null,null,null,null,null,null,"~"]
["SA23",2021,"Choose",null,null,null,null,null,null,null,null,null,null,null,null,null,null,null,null,null,null,null,"~"]
["SA23",2021,"Choose",null,null,null,null,null,null,null,null,null,null,null,null,null,null,null,null,null,null,null,"~"]
["SA23",2021,"Choose",null,null,null,null,null,null,null,null,null,null,null,null,null,null,null,null,null,null,null,"~"]
["SA23",2021,"Choose",null,null,null,null,null,null,null,null,null,null,null,null,null,null,null,null,null,null,null,"~"]
["SA23",2021,"Choose",null,null,null,null,null,null,null,null,null,null,null,null,null,null,null,null,null,null,null,"~"]
["SA23",2021,"Choose",null,null,null,null,null,null,null,null,null,null,null,null,null,null,null,null,null,null,null,"~"]
["SA23",2021,"Choose",null,null,null,null,null,null,null,null,null,null,null,null,null,null,null,null,null,null,null,"~"]
["SA23",2021,"Choose",null,null,null,null,null,null,null,null,null,null,null,null,null,null,null,null,null,null,null,"~"]
["SA23",2021,"Choose",null,null,null,null,null,null,null,null,null,null,null,null,null,null,null,null,null,null,null,"~"]
["SA23",2021,"Choose",null,null,null,null,null,null,null,null,null,null,null,null,null,null,null,null,null,null,null,"~"]
["SA23",2021,"Choose",null,null,null,null,null,null,null,null,null,null,null,null,null,null,null,null,null,null,null,"~"]
["SA23",2021,"Choose",null,null,null,null,null,null,null,null,null,null,null,null,null,null,null,null,null,null,null,"~"]
["SA23",2021,"Choose",null,null,null,null,null,null,null,null,null,null,null,null,null,null,null,null,null,null,null,"~"]
["SA23",2021,"Choose",null,null,null,null,null,null,null,null,null,null,null,null,null,null,null,null,null,null,null,"~"]
["SA23",2021,"Choose",null,null,null,null,null,null,null,null,null,null,null,null,null,null,null,null,null,null,null,"~"]
["SA23",2021,"Choose",null,null,null,null,null,null,null,null,null,null,null,null,null,null,null,null,null,null,null,"~"]
["SA23",2021,"Choose",null,null,null,null,null,null,null,null,null,null,null,null,null,null,null,null,null,null,null,"~"]
["SA23",2021,"Choose",null,null,null,null,null,null,null,null,null,null,null,null,null,null,null,null,null,null,null,"~"]
["SA23",2021,"Choose",null,null,null,null,null,null,null,null,null,null,null,null,null,null,null,null,null,null,null,"~"]
["SA23",2021,"Choose",null,null,null,null,null,null,null,null,null,null,null,null,null,null,null,null,null,null,null,"~"]
["SA23",2021,"Choose",null,null,null,null,null,null,null,null,null,null,null,null,null,null,null,null,null,null,null,"~"]
["SA23",2021,"Choose",null,null,null,null,null,null,null,null,null,null,null,null,null,null,null,null,null,null,null,"~"]
["SA23",2021,"Choose",null,null,null,null,null,null,null,null,null,null,null,null,null,null,null,null,null,null,null,"~"]
["SA23",2021,"Choose",null,null,null,null,null,null,null,null,null,null,null,null,null,null,null,null,null,null,null,"~"]
["SA23",2021,"Choose",null,null,null,null,null,null,null,null,null,null,null,null,null,null,null,null,null,null,null,"~"]
["SA23",2021,"Choose",null,null,null,null,null,null,null,null,null,null,null,null,null,null,null,null,null,null,null,"~"]
["SA23",2021,"Choose",null,null,null,null,null,null,null,null,null,null,null,null,null,null,null,null,null,null,null,"~"]
["SA23",2021,"Choose",null,null,null,null,null,null,null,null,null,null,null,null,null,null,null,null,null,null,null,"~"]
["SA23",2021,"Choose",null,null,null,null,null,null,null,null,null,null,null,null,null,null,null,null,null,null,null,"~"]
["SA23",2021,"Choose",null,null,null,null,null,null,null,null,null,null,null,null,null,null,null,null,null,null,null,"~"]
["SA23",2021,"Choose",null,null,null,null,null,null,null,null,null,null,null,null,null,null,null,null,null,null,null,"~"]
["SA24",2021,"Choose",1000,1,"Municipal Council and Boards of Municipal Entities",null,null,null,null,null,null,null,null,null,null,null,null,null,null,null,null,"~"]
["SA24",2021,"Choose",1001,2,"Councillors (Political Office Bearers and Other Councillors)",null,null,null,null,null,null,null,null,null,null,null,null,null,null,null,null,"~"]
["SA24",2021,"Choose",1002,3,"Board Members of municipal entities",null,null,null,null,null,null,null,null,null,null,null,null,null,null,null,null,"~"]
["SA24",2021,"Choose",1100,4,"Municipal employees",null,null,null,null,null,null,null,null,null,null,null,null,null,null,null,null,"~"]
["SA24",2021,"Choose",1101,5,"Municipal Manager and Senior Managers",null,null,null,null,null,null,null,null,null,null,null,null,null,null,null,null,"~"]
["SA24",2021,"Choose",1102,6,"Other Managers",null,null,null,null,null,null,null,null,null,null,null,null,null,null,null,null,"~"]
["SA24",2021,"Choose",1103,7,"Professionals",null,null,null,null,null,null,null,null,null,null,null,null,null,null,null,null,"~"]
["SA24",2021,"Choose",1104,8,"Finance",null,null,null,null,null,null,null,null,null,null,null,null,null,null,null,null,"~"]
["SA24",2021,"Choose",1105,9,"Spatial/town planning",null,null,null,null,null,null,null,null,null,null,null,null,null,null,null,null,"~"]
["SA24",2021,"Choose",1106,10,"Information Technology",null,null,null,null,null,null,null,null,null,null,null,null,null,null,null,null,"~"]
["SA24",2021,"Choose",1107,11,"Roads",null,null,null,null,null,null,null,null,null,null,null,null,null,null,null,null,"~"]
["SA24",2021,"Choose",1108,12,"Electricity",null,null,null,null,null,null,null,null,null,null,null,null,null,null,null,null,"~"]
["SA24",2021,"Choose",1109,13,"Water",null,null,null,null,null,null,null,null,null,null,null,null,null,null,null,null,"~"]
["SA24",2021,"Choose",1110,14,"Sanitation",null,null,null,null,null,null,null,null,null,null,null,null,null,null,null,null,"~"]
["SA24",2021,"Choose",1111,15,"Refuse",null,null,null,null,null,null,null,null,null,null,null,null,null,null,null,null,"~"]
["SA24",2021,"Choose",1112,16,"Other",null,null,null,null,null,null,null,null,null,null,null,null,null,null,null,null,"~"]
["SA24",2021,"Choose",1113,17,"Technicians",null,null,null,null,null,null,null,null,null,null,null,null,null,null,null,null,"~"]
["SA24",2021,"Choose",1114,18,"Finance",null,null,null,null,null,null,null,null,null,null,null,null,null,null,null,null,"~"]
["SA24",2021,"Choose",1115,19,"Spatial/town planning",null,null,null,null,null,null,null,null,null,null,null,null,null,null,null,null,"~"]
["SA24",2021,"Choose",1116,20,"Information Technology",null,null,null,null,null,null,null,null,null,null,null,null,null,null,null,null,"~"]
["SA24",2021,"Choose",1117,21,"Roads",null,null,null,null,null,null,null,null,null,null,null,null,null,null,null,null,"~"]
["SA24",{"$f":"+MTREF","v":2021},{"$f":"LEFT(muni,(FIND(\" \",muni,1)-1))","v":"Choose"},1118,22,"Electricity",null,null,null,null,null,null,null,null,null,null,null,null,null,null,null,null,"~"]
["SA24",2021,"Choose",1119,23,"Water",null,null,null,null,null,null,null,null,null,null,null,null,null,null,null,null,"~"]
["SA24",2021,"Choose",1120,24,"Sanitation",null,null,null,null,null,null,null,null,null,null,null,null,null,null,null,null,"~"]
["SA24",2021,"Choose",1121,25,"Refuse",null,null,null,null,null,null,null,null,null,null,null,null,null,null,null,null,"~"]
["SA24",2021,"Choose",1122,26,"Other",null,null,null,null,null,null,null,null,null,null,null,null,null,null,null,null,"~"]
["SA24",2021,"Choose",1123,27,"Clerks (Clerical and administrative)",null,null,null,null,null,null,null,null,null,null,null,null,null,null,null,null,"~"]
["SA24",2021,"Choose",1124,28,"Service and sales workers",null,null,null,null,null,null,null,null,null,null,null,null,null,null,null,null,"~"]
["SA24",2021,"Choose",1125,29,"Skilled agricultural and fishery workers",null,null,null,null,null,null,null,null,null,null,null,null,null,null,null,null,"~"]
["SA24",2021,"Choose",1126,30,"Craft and related trades",null,null,null,null,null,null,null,null,null,null,null,null,null,null,null,null,"~"]
["SA24",2021,"Choose",1127,31,"Plant and Machine Operators",null,null,null,null,null,null,null,null,null,null,null,null,null,null,null,null,"~"]
["SA24",2021,"Choose",1128,32,"Elementary Occupations",null,null,null,null,null,null,null,null,null,null,null,null,null,null,null,null,"~"]
["SA24",2021,"Choose",1190,33,"TOTAL PERSONNEL NUMBERS",null,null,null,null,null,null,null,null,null,null,null,null,null,null,null,null,"~"]
["SA24",2021,"Choose",1191,34,"% increase",null,null,null,null,null,null,null,null,null,null,null,null,null,null,null,null,"~"]
["SA24",2021,"Choose",null,null,null,null,null,null,null,null,null,null,null,null,null,null,null,null,null,null,null,"~"]
["SA24",2021,"Choose",1200,35,"Total municipal employees headcount",null,null,null,null,null,null,null,null,null,null,null,null,null,null,null,null,"~"]
["SA24",2021,"Choose",1201,36,"Finance personnel headcount",null,null,null,null,null,null,null,null,null,null,null,null,null,null,null,null,"~"]
["SA24",2021,"Choose",1202,37,"Human Resources personnel headcount",null,null,null,null,null,null,null,null,null,null,null,null,null,null,null,null,"~"]
["OTHER",2021,"Choose","1001",1,"Unspent conditional transfers",null,null,null,null,null,null,null,null,null,null,null,null,null,null,null,null,"~"]
["OTHER",2021,"Choose","1002",2,"Unspent borrowing",null,null,null,null,null,null,null,null,null,null,null,null,null,null,null,null,"~"]
["OTHER",2021,"Choose","1003",3,"Statutory requirements",null,null,null,null,null,null,null,null,null,null,null,null,null,null,null,null,"~"]
["OTHER",2021,"Choose","1005",5,"Other provisions",null,null,null,null,null,null,null,null,null,null,null,null,null,null,null,null,"~"]
["OTHER",2021,"Choose","1006",6,"Long term investments committed",null,null,null,null,null,null,null,null,null,null,null,null,null,null,null,null,"~"]
["OTHER",2021,"Choose","1007",7,"Reserves to be backed by cash/investments",null,null,null,null,null,null,null,null,null,null,null,null,null,null,null,null,"~"]
["OTHER",2021,"Choose","1008",8,"Estimate of other debtors > 90 days",null,null,null,null,null,null,null,null,null,null,null,null,null,null,null,null,"~"]
["OTHER",2021,"Choose",2001,9,"Contributions recognised - capital",null,null,null,null,null,null,null,null,null,null,null,null,null,null,null,null,"~"]
["OTHER",2021,"Choose","3001",10,"Depreciation offsets",null,null,null,null,null,null,null,null,null,null,null,null,null,null,null,null,"~"]
["OTHER",2021,"Choose","4001",11,"Fixed operational expenditure % assumption",null,null,null,null,null,null,null,null,null,null,null,null,null,null,null,null,"~"]
["OTHER",2021,"Choose",5000,50,"Repairs and Maintenance by Expenditure Item",null,null,null,null,null,null,null,null,null,null,null,null,null,null,null,null,"~"]
["OTHER",2021,"Choose",5001,51,"Employee related costs",null,null,null,null,null,null,null,null,null,null,null,null,null,null,null,null,"~"]
["OTHER",2021,"Choose",5002,52,"Other materials",null,null,null,null,null,null,null,null,null,null,null,null,null,null,null,null,"~"]
["OTHER",2021,"Choose",5003,53,"Contracted Services",null,null,null,null,null,null,null,null,null,null,null,null,null,null,null,null,"~"]
["OTHER",2021,"Choose",5004,54,"Other Expenditure",null,null,null,null,null,null,null,null,null,null,null,null,null,null,null,null,"~"]
["OTHER",2021,"Choose",5005,55,"Total Repairs and Maintenance Expenditure",null,null,null,null,null,null,null,null,null,null,null,null,null,null,null,null,"~"]
["OTHER",2021,"Choose",6001,61,"Volume Electricity Distribution Losses",null,null,null,null,null,null,null,null,null,null,null,null,null,null,null,null,"~"]
["OTHER",2021,"Choose",6002,62,"Cost Electiricty Distribution Losses",null,null,null,null,null,null,null,null,null,null,null,null,null,null,null,null,"~"]
["OTHER",2021,"Choose",null,null,null,null,null,null,null,null,null,null,null,null,null,null,null,null,null,null,null,"~"]
["OTHER",2021,"Choose",6003,63,"Volume Water Distribution Losses",null,null,null,null,null,null,null,null,null,null,null,null,null,null,null,null,"~"]
["OTHER",2021,"Choose",6004,64,"Cost Water Distribution Losses",null,null,null,null,null,null,null,null,null,null,null,null,null,null,null,null,"~"]
["OTHER",2021,"Choose",null,null,null,null,null,null,null,null,null,null,null,null,null,null,null,null,null,null,null,"~"]
["OTHER",2021,"Choose",7001,71,"Consultant Fees",null,null,null,null,null,null,null,null,null,null,null,null,null,null,null,null,"~"]
["OTHER",2021,"Choose",7002,72,"Audit Fees",null,null,null,null,null,null,null,null,null,null,null,null,null,null,null,null,"~"]
["SA36",2021,"Choose",1,null,null,null,null,null,null,null,null,null,null,null,null,null,null,null,null,null,null,"~"]
["SA36",2021,"Choose",2,null,null,null,null,null,null,null,null,null,null,null,null,null,null,null,null,null,null,"~"]
["SA36",2021,"Choose",3,null,null,null,null,null,null,null,null,null,null,null,null,null,null,null,null,null,null,"~"]
["SA36",2021,"Choose",4,null,null,null,null,null,null,null,null,null,null,null,null,null,null,null,null,null,null,"~"]
["SA36",2021,"Choose",5,null,null,null,null,null,null,null,null,null,null,null,null,null,null,null,null,null,null,"~"]
["SA36",2021,"Choose",6,null,null,null,null,null,null,null,null,null,null,null,null,null,null,null,null,null,null,"~"]
["SA36",2021,"Choose",7,null,null,null,null,null,null,null,null,null,null,null,null,null,null,null,null,null,null,"~"]
["SA36",2021,"Choose",8,null,null,null,null,null,null,null,null,null,null,null,null,null,null,null,null,null,null,"~"]
["SA36",2021,"Choose",9,null,null,null,null,null,null,null,null,null,null,null,null,null,null,null,null,null,null,"~"]
["SA36",2021,"Choose",10,null,null,null,null,null,null,null,null,null,null,null,null,null,null,null,null,null,null,"~"]
["SA36",2021,"Choose",11,null,null,null,null,null,null,null,null,null,null,null,null,null,null,null,null,null,null,"~"]
["SA36",2021,"Choose",12,null,null,null,null,null,null,null,null,null,null,null,null,null,null,null,null,null,null,"~"]
["SA36",2021,"Choose",13,null,null,null,null,null,null,null,null,null,null,null,null,null,null,null,null,null,null,"~"]
["SA36",2021,"Choose",14,null,null,null,null,null,null,null,null,null,null,null,null,null,null,null,null,null,null,"~"]
["SA36",2021,"Choose",15,null,null,null,null,null,null,null,null,null,null,null,null,null,null,null,null,null,null,"~"]
["SA36",2021,"Choose",16,null,null,null,null,null,null,null,null,null,null,null,null,null,null,null,null,null,null,"~"]
["SA36",2021,"Choose",17,null,null,null,null,null,null,null,null,null,null,null,0,0,null,null,0,null,null,"~"]
["SA36",2021,"Choose",18,null,null,null,null,null,null,null,null,null,null,null,null,null,null,null,null,null,null,"~"]
["SA36",2021,"Choose",19,null,null,null,null,null,null,null,null,null,null,null,null,null,null,null,null,null,null,"~"]
["SA36",2021,"Choose",20,null,null,null,null,null,null,null,null,null,null,null,null,null,null,null,null,null,null,"~"]
["SA36",2021,"Choose",21,null,null,null,null,null,null,null,null,null,null,null,null,null,null,null,null,null,null,"~"]
["SA36",2021,"Choose",22,null,null,null,null,null,null,null,null,null,null,null,null,null,null,null,null,null,null,"~"]
["SA36",2021,"Choose",23,null,null,null,null,null,null,null,null,null,null,null,null,null,null,null,null,null,null,"~"]
["SA36",{"$f":"+MTREF","v":2021},{"$f":"LEFT(muni,(FIND(\" \",muni,1)-1))","v":"Choose"},24,null,null,null,null,null,null,null,null,null,null,null,null,null,null,null,null,null,null,"~"]
["SA36",2021,"Choose",25,null,null,null,null,null,null,null,null,null,null,null,null,null,null,null,null,null,null,"~"]
["SA36",2021,"Choose",26,null,null,null,null,null,null,null,null,null,null,null,null,null,null,null,null,null,null,"~"]
["SA36",2021,"Choose",27,null,null,null,null,null,null,null,null,null,null,null,null,null,null,null,null,null,null,"~"]
["SA36",2021,"Choose",28,null,null,null,null,null,null,null,null,null,null,null,null,null,null,null,null,null,null,"~"]
["SA36",2021,"Choose",29,null,null,null,null,null,null,null,null,null,null,null,null,null,null,null,null,null,null,"~"]
["SA36",2021,"Choose",30,null,null,null,null,null,null,null,null,null,0,0,0,0,null,null,null,null,null,"~"]
["SA36",2021,"Choose",31,null,null,null,null,null,null,null,null,null,0,0,0,0,null,null,null,null,null,"~"]
["SA36",2021,"Choose",32,null,null,null,null,null,null,null,null,null,null,null,null,null,null,null,null,null,null,"~"]
["SA36",2021,"Choose",33,null,null,null,null,null,null,null,null,null,null,null,null,null,null,null,null,null,null,"~"]
["SA36",2021,"Choose",34,null,null,null,null,null,null,null,null,null,null,null,null,null,null,null,null,null,null,"~"]
["SA36",2021,"Choose",35,null,null,null,null,null,null,null,null,null,null,null,null,null,null,null,null,null,null,"~"]
["SA36",2021,"Choose",36,null,null,null,null,null,null,null,null,null,null,null,null,null,null,null,null,null,null,"~"]
["SA36",2021,"Choose",37,null,null,null,null,null,null,null,null,null,null,null,null,null,null,null,null,null,null,"~"]
["SA36",2021,"Choose",38,null,null,null,null,null,null,null,null,"Check",0,null,null,null,null,null,null,null,null,"~"]
["SA36",2021,"Choose",39,null,null,null,null,null,null,null,null,null,null,null,null,null,null,null,null,null,null,"~"]
["SA36",2021,"Choose",40,null,null,null,null,null,null,null,null,null,null,null,null,null,null,null,null,null,null,"~"]
["SA36",2021,"Choose",41,null,null,null,null,null,null,null,null,null,null,null,null,null,null,null,null,null,null,"~"]
["SA36",2021,"Choose",42,null,null,null,null,null,null,null,null,null,null,null,null,null,null,null,null,null,null,"~"]
["SA36",2021,"Choose",43,null,null,null,null,null,null,null,null,null,null,null,null,null,null,null,null,null,null,"~"]
["SA36",2021,"Choose",44,null,null,null,null,null,null,null,null,null,null,null,null,null,null,null,null,null,null,"~"]
["SA36",2021,"Choose",45,null,null,null,null,null,null,null,null,null,null,null,null,null,null,null,null,null,null,"~"]
["SA36",2021,"Choose",46,null,null,null,null,null,null,null,null,null,null,null,null,null,null,null,null,null,null,"~"]
["SA36",2021,"Choose",47,null,null,null,null,null,null,null,null,null,null,null,null,null,null,null,null,null,null,"~"]
["SA36",2021,"Choose",48,null,null,null,null,null,null,null,null,null,null,null,null,null,null,null,null,null,null,"~"]
["SA36",2021,"Choose",49,null,null,null,null,null,null,null,null,null,null,null,null,null,null,null,null,null,null,"~"]
["SA36",2021,"Choose",50,null,null,null,null,null,null,null,null,null,null,null,null,null,null,null,null,null,null,"~"]
["SA36",2021,"Choose",51,null,null,null,null,null,null,null,null,null,null,null,null,null,null,null,null,null,null,"~"]
["SA36",2021,"Choose",52,null,null,null,null,null,null,null,null,null,null,null,null,null,null,null,null,null,null,"~"]
["SA36",2021,"Choose",53,null,null,null,null,null,null,null,null,null,null,null,null,null,null,null,null,null,null,"~"]
["SA36",2021,"Choose",54,null,null,null,null,null,null,null,null,null,null,null,null,null,null,null,null,null,null,"~"]
["SA36",2021,"Choose",55,null,null,null,null,null,null,null,null,null,null,null,null,null,null,null,null,null,null,"~"]
["SA36",2021,"Choose",56,null,null,null,null,null,null,null,null,null,null,null,null,null,null,null,null,null,null,"~"]
["SA36",2021,"Choose",57,null,null,null,null,null,null,null,null,null,null,null,null,null,null,null,null,null,null,"~"]
["SA36",2021,"Choose",58,null,null,null,null,null,null,null,null,null,null,null,null,null,null,null,null,null,null,"~"]
["SA36",2021,"Choose",59,null,null,null,null,null,null,null,null,null,null,null,null,null,null,null,null,null,null,"~"]
["SA36",2021,"Choose",60,null,null,null,null,null,null,null,null,null,null,null,null,null,null,null,null,null,null,"~"]
["SA36",2021,"Choose",61,null,null,null,null,null,null,null,null,null,null,null,null,null,null,null,null,null,null,"~"]
["SA36",2021,"Choose",62,null,null,null,null,null,null,null,null,null,null,null,null,null,null,null,null,null,null,"~"]
["SA36",2021,"Choose",63,null,null,null,null,null,null,null,null,null,null,null,null,null,null,null,null,null,null,"~"]
["SA36",2021,"Choose",64,null,null,null,null,null,null,null,null,null,null,null,null,null,null,null,null,null,null,"~"]
["SA36",2021,"Choose",65,null,null,null,null,null,null,null,null,null,null,null,null,null,null,null,null,null,null,"~"]
["SA36",2021,"Choose",66,null,null,null,null,null,null,null,null,null,null,null,null,null,null,null,null,null,null,"~"]
["SA36",2021,"Choose",67,null,null,null,null,null,null,null,null,null,null,null,null,null,null,null,null,null,null,"~"]
["SA36",2021,"Choose",68,null,null,null,null,null,null,null,null,null,null,null,null,null,null,null,null,null,null,"~"]
["SA36",2021,"Choose",69,null,null,null,null,null,null,null,null,null,null,null,null,null,null,null,null,null,null,"~"]
["SA36",2021,"Choose",70,null,null,null,null,null,null,null,null,null,null,null,null,null,null,null,null,null,null,"~"]
["SA36",2021,"Choose",71,null,null,null,null,null,null,null,null,null,null,null,null,null,null,null,null,null,null,"~"]
["SA36",2021,"Choose",72,null,null,null,null,null,null,null,null,null,null,null,null,null,null,null,null,null,null,"~"]
["SA36",2021,"Choose",73,null,null,null,null,null,null,null,null,null,null,null,null,null,null,null,null,null,null,"~"]
["SA36",2021,"Choose",74,null,null,null,null,null,null,null,null,null,null,null,null,null,null,null,null,null,null,"~"]
["SA36",2021,"Choose",75,null,null,null,null,null,null,null,null,null,null,null,null,null,null,null,null,null,null,"~"]
["SA36",2021,"Choose",76,null,null,null,null,null,null,null,null,null,null,null,null,null,null,null,null,null,null,"~"]
["SA36",2021,"Choose",77,null,null,null,null,null,null,null,null,null,null,null,null,null,null,null,null,null,null,"~"]
["SA36",2021,"Choose",78,null,null,null,null,null,null,null,null,null,null,null,null,null,null,null,null,null,null,"~"]
["SA36",2021,"Choose",79,null,null,null,null,null,null,null,null,null,null,null,null,null,null,null,null,null,null,"~"]
["SA36",2021,"Choose",80,null,null,null,null,null,null,null,null,null,null,null,null,null,null,null,null,null,null,"~"]
["SA36",2021,"Choose",81,null,null,null,null,null,null,null,null,null,null,null,null,null,null,null,null,null,null,"~"]
["SA36",2021,"Choose",82,null,null,null,null,null,null,null,null,null,null,null,null,null,null,null,null,null,null,"~"]
["SA36",2021,"Choose",83,null,null,null,null,null,null,null,null,null,null,null,null,null,null,null,null,null,null,"~"]
["SA36",2021,"Choose",84,null,null,null,null,null,null,null,null,null,null,null,null,null,null,null,null,null,null,"~"]
["SA36",2021,"Choose",85,null,null,null,null,null,null,null,null,null,null,null,null,null,null,null,null,null,null,"~"]
["SA36",2021,"Choose",86,null,null,null,null,null,null,null,null,null,null,null,null,null,null,null,null,null,null,"~"]
["SA36",2021,"Choose",87,null,null,null,null,null,null,null,null,null,null,null,null,null,null,null,null,null,null,"~"]
["SA36",{"$f":"+MTREF","v":2021},{"$f":"LEFT(muni,(FIND(\" \",muni,1)-1))","v":"Choose"},88,null,null,null,null,null,null,null,null,null,null,null,null,null,null,null,null,null,null,"~"]
["SA36",2021,"Choose",89,null,null,null,null,null,null,null,null,null,null,null,null,null,null,null,null,null,null,"~"]
["SA36",2021,"Choose",90,null,null,null,null,null,null,null,null,null,null,null,null,null,null,null,null,null,null,"~"]
["SA36",2021,"Choose",91,null,null,null,null,null,null,null,null,null,null,null,null,null,null,null,null,null,null,"~"]
["SA36",2021,"Choose",92,null,null,null,null,null,null,null,null,null,null,null,null,null,null,null,null,null,null,"~"]
["SA36",2021,"Choose",93,null,null,null,null,null,null,null,null,null,null,null,null,null,null,null,null,null,null,"~"]
["SA36",2021,"Choose",94,null,null,null,null,null,null,null,null,null,null,null,null,null,null,null,null,null,null,"~"]
["SA36",2021,"Choose",95,null,null,null,null,null,null,null,null,null,null,null,null,null,null,null,null,null,null,"~"]
["SA36",2021,"Choose",96,null,null,null,null,null,null,null,null,null,null,null,null,null,null,null,null,null,null,"~"]
["SA36",2021,"Choose",97,null,null,null,null,null,null,null,null,null,null,null,null,null,null,null,null,null,null,"~"]
["SA36",2021,"Choose",98,null,null,null,null,null,null,null,null,null,null,null,null,null,null,null,null,null,null,"~"]
["SA36",2021,"Choose",99,null,null,null,null,null,null,null,null,null,null,null,null,null,null,null,null,null,null,"~"]
["SA36",2021,"Choose",100,null,null,null,null,null,null,null,null,null,null,null,null,null,null,null,null,null,null,"~"]
["SA36",2021,"Choose",101,null,null,null,null,null,null,null,null,null,null,null,null,null,null,null,null,null,null,"~"]
["SA36",2021,"Choose",102,null,null,null,null,null,null,null,null,null,null,null,null,null,null,null,null,null,null,"~"]
["SA36",2021,"Choose",103,null,null,null,null,null,null,null,null,null,null,null,null,null,null,null,null,null,null,"~"]
["SA36",2021,"Choose",104,null,null,null,null,null,null,null,null,null,null,null,null,null,null,null,null,null,null,"~"]
["SA36",2021,"Choose",105,null,null,null,null,null,null,null,null,null,null,null,null,null,null,null,null,null,null,"~"]
["SA36",2021,"Choose",106,null,null,null,null,null,null,null,null,null,null,null,null,null,null,null,null,null,null,"~"]
["SA36",2021,"Choose",107,null,null,null,null,null,null,null,null,null,null,null,null,null,null,null,null,null,null,"~"]
["SA36",2021,"Choose",108,null,null,null,null,null,null,null,null,null,null,null,null,null,null,null,null,null,null,"~"]
["SA36",2021,"Choose",109,null,null,null,null,null,null,null,null,null,null,null,null,null,null,null,null,null,null,"~"]
["SA36",2021,"Choose",110,null,null,null,null,null,null,null,null,null,null,null,null,null,null,null,null,null,null,"~"]
["SA36",2021,"Choose",111,null,null,null,null,null,null,null,null,null,null,null,null,null,null,null,null,null,null,"~"]
["SA36",2021,"Choose",112,null,null,null,null,null,null,null,null,null,null,null,null,null,null,null,null,null,null,"~"]
["SA36",2021,"Choose",113,null,null,null,null,null,null,null,null,null,null,null,null,null,null,null,null,null,null,"~"]
["SA36",2021,"Choose",114,null,null,null,null,null,null,null,null,null,null,null,null,null,null,null,null,null,null,"~"]
["SA36",2021,"Choose",115,null,null,null,null,null,null,null,null,null,null,null,null,null,null,null,null,null,null,"~"]
["SA36",2021,"Choose",116,null,null,null,null,null,null,null,null,null,null,null,null,null,null,null,null,null,null,"~"]
["SA36",2021,"Choose",117,null,null,null,null,null,null,null,null,null,null,null,null,null,null,null,null,null,null,"~"]
["SA36",2021,"Choose",118,null,null,null,null,null,null,null,null,null,null,null,null,null,null,null,null,null,null,"~"]
["SA36",2021,"Choose",119,null,null,null,null,null,null,null,null,null,null,null,null,null,null,null,null,null,null,"~"]
["SA36",2021,"Choose",120,null,null,null,null,null,null,null,null,null,null,null,null,null,null,null,null,null,null,"~"]
["SA36",2021,"Choose",121,null,null,null,null,null,null,null,null,null,null,null,null,null,null,null,null,null,null,"~"]
["SA36",2021,"Choose",122,null,null,null,null,null,null,null,null,null,null,null,null,null,null,null,null,null,null,"~"]
["SA36",2021,"Choose",123,null,null,null,null,null,null,null,null,null,null,null,null,null,null,null,null,null,null,"~"]
["SA36",2021,"Choose",124,null,null,null,null,null,null,null,null,null,null,null,null,null,null,null,null,null,null,"~"]
["SA36",2021,"Choose",125,null,null,null,null,null,null,null,null,null,null,null,null,null,null,null,null,null,null,"~"]
["SA36",2021,"Choose",126,null,null,null,null,null,null,null,null,null,null,null,null,null,null,null,null,null,null,"~"]
["SA36",2021,"Choose",127,null,null,null,null,null,null,null,null,null,null,null,null,null,null,null,null,null,null,"~"]
["SA36",2021,"Choose",128,null,null,null,null,null,null,null,null,null,null,null,null,null,null,null,null,null,null,"~"]
["SA36",2021,"Choose",129,null,null,null,null,null,null,null,null,null,null,null,null,null,null,null,null,null,null,"~"]
["SA36",2021,"Choose",130,null,null,null,null,null,null,null,null,null,null,null,null,null,null,null,null,null,null,"~"]
["SA36",2021,"Choose",131,null,null,null,null,null,null,null,null,null,null,null,null,null,null,null,null,null,null,"~"]
["SA36",2021,"Choose",132,null,null,null,null,null,null,null,null,null,null,null,null,null,null,null,null,null,null,"~"]
["SA36",2021,"Choose",133,null,null,null,null,null,null,null,null,null,null,null,null,null,null,null,null,null,null,"~"]
["SA36",2021,"Choose",134,null,null,null,null,null,null,null,null,null,null,null,null,null,null,null,null,null,null,"~"]
["SA36",2021,"Choose",135,null,null,null,null,null,null,null,null,null,null,null,null,null,null,null,null,null,null,"~"]
["SA36",2021,"Choose",136,null,null,null,null,null,null,null,null,null,null,null,null,null,null,null,null,null,null,"~"]
["SA36",2021,"Choose",137,null,null,null,null,null,null,null,null,null,null,null,null,null,null,null,null,null,null,"~"]
["SA36",2021,"Choose",138,null,null,null,null,null,null,null,null,null,null,null,null,null,null,null,null,null,null,"~"]
["SA36",2021,"Choose",139,null,null,null,null,null,null,null,null,null,null,null,null,null,null,null,null,null,null,"~"]
["SA36",2021,"Choose",140,null,null,null,null,null,null,null,null,null,null,null,null,null,null,null,null,null,null,"~"]
["SA36",2021,"Choose",141,null,null,null,null,null,null,null,null,null,null,null,null,null,null,null,null,null,null,"~"]
["SA36",2021,"Choose",142,null,null,null,null,null,null,null,null,null,null,null,null,null,null,null,null,null,null,"~"]
["SA36",2021,"Choose",143,null,null,null,null,null,null,null,null,null,null,null,null,null,null,null,null,null,null,"~"]
["SA36",2021,"Choose",144,null,null,null,null,null,null,null,null,null,null,null,null,null,null,null,null,null,null,"~"]
["SA36",2021,"Choose",145,null,null,null,null,null,null,null,null,null,null,null,null,null,null,null,null,null,null,"~"]
["SA36",2021,"Choose",146,null,null,null,null,null,null,null,null,null,null,null,null,null,null,null,null,null,null,"~"]
["SA36",2021,"Choose",147,null,null,null,null,null,null,null,null,null,null,null,null,null,null,null,null,null,null,"~"]
["SA36",2021,"Choose",148,null,null,null,null,null,null,null,null,null,null,null,null,null,null,null,null,null,null,"~"]
["SA36",2021,"Choose",149,null,null,null,null,null,null,null,null,null,null,null,null,null,null,null,null,null,null,"~"]
["SA36",2021,"Choose",150,null,null,null,null,null,null,null,null,null,null,null,null,null,null,null,null,null,null,"~"]
["SA36",2021,"Choose",151,null,null,null,null,null,null,null,null,null,null,null,null,null,null,null,null,null,null,"~"]
["SA36",{"$f":"+MTREF","v":2021},{"$f":"LEFT(muni,(FIND(\" \",muni,1)-1))","v":"Choose"},152,null,null,null,null,null,null,null,null,null,null,null,null,null,null,null,null,null,null,"~"]
["SA36",2021,"Choose",153,null,null,null,null,null,null,null,null,null,null,null,null,null,null,null,null,null,null,"~"]
["SA36",2021,"Choose",154,null,null,null,null,null,null,null,null,null,null,null,null,null,null,null,null,null,null,"~"]
["SA36",2021,"Choose",155,null,null,null,null,null,null,null,null,null,null,null,null,null,null,null,null,null,null,"~"]
["SA36",2021,"Choose",156,null,null,null,null,null,null,null,null,null,null,null,null,null,null,null,null,null,null,"~"]
["SA36",2021,"Choose",157,null,null,null,null,null,null,null,null,null,null,null,null,null,null,null,null,null,null,"~"]
["SA36",2021,"Choose",158,null,null,null,null,null,null,null,null,null,null,null,null,null,null,null,null,null,null,"~"]
["SA36",2021,"Choose",159,null,null,null,null,null,null,null,null,null,null,null,null,null,null,null,null,null,null,"~"]
["SA36",2021,"Choose",160,null,null,null,null,null,null,null,null,null,null,null,null,null,null,null,null,null,null,"~"]
["SA36",2021,"Choose",161,null,null,null,null,null,null,null,null,null,null,null,null,null,null,null,null,null,null,"~"]
["SA36",2021,"Choose",162,null,null,null,null,null,null,null,null,null,null,null,null,null,null,null,null,null,null,"~"]
["SA36",2021,"Choose",163,null,null,null,null,null,null,null,null,null,null,null,null,null,null,null,null,null,null,"~"]
["SA36",2021,"Choose",164,null,null,null,null,null,null,null,null,null,null,null,null,null,null,null,null,null,null,"~"]
["SA36",2021,"Choose",165,null,null,null,null,null,null,null,null,null,null,null,null,null,null,null,null,null,null,"~"]
["SA36",2021,"Choose",166,null,null,null,null,null,null,null,null,null,null,null,null,null,null,null,null,null,null,"~"]
["SA36",2021,"Choose",167,null,null,null,null,null,null,null,null,null,null,null,null,null,null,null,null,null,null,"~"]
["SA36",2021,"Choose",168,null,null,null,null,null,null,null,null,null,null,null,null,null,null,null,null,null,null,"~"]
["SA36",2021,"Choose",169,null,null,null,null,null,null,null,null,null,null,null,null,null,null,null,null,null,null,"~"]
["SA36",2021,"Choose",170,null,null,null,null,null,null,null,null,null,null,null,null,null,null,null,null,null,null,"~"]
["SA36",2021,"Choose",171,null,null,null,null,null,null,null,null,null,null,null,null,null,null,null,null,null,null,"~"]
["SA36",2021,"Choose",172,null,null,null,null,null,null,null,null,null,null,null,null,null,null,null,null,null,null,"~"]
["SA36",2021,"Choose",173,null,null,null,null,null,null,null,null,null,null,null,null,null,null,null,null,null,null,"~"]
["SA36",2021,"Choose",174,null,null,null,null,null,null,null,null,null,null,null,null,null,null,null,null,null,null,"~"]
["SA36",2021,"Choose",175,null,null,null,null,null,null,null,null,null,null,null,null,null,null,null,null,null,null,"~"]
["SA36",2021,"Choose",176,null,null,null,null,null,null,null,null,null,null,null,null,null,null,null,null,null,null,"~"]
["SA36",2021,"Choose",177,null,null,null,null,null,null,null,null,null,null,null,null,null,null,null,null,null,null,"~"]
["SA36",2021,"Choose",178,null,null,null,null,null,null,null,null,null,null,null,null,null,null,null,null,null,null,"~"]
["SA36",2021,"Choose",179,null,null,null,null,null,null,null,null,null,null,null,null,null,null,null,null,null,null,"~"]
["SA36",2021,"Choose",180,null,null,null,null,null,null,null,null,null,null,null,null,null,null,null,null,null,null,"~"]
["SA36",2021,"Choose",181,null,null,null,null,null,null,null,null,null,null,null,null,null,null,null,null,null,null,"~"]
["SA36",2021,"Choose",182,null,null,null,null,null,null,null,null,null,null,null,null,null,null,null,null,null,null,"~"]
["SA36",2021,"Choose",183,null,null,null,null,null,null,null,null,null,null,null,null,null,null,null,null,null,null,"~"]
["SA36",2021,"Choose",184,null,null,null,null,null,null,null,null,null,null,null,null,null,null,null,null,null,null,"~"]
["SA36",2021,"Choose",185,null,null,null,null,null,null,null,null,null,null,null,null,null,null,null,null,null,null,"~"]
["SA36",2021,"Choose",186,null,null,null,null,null,null,null,null,null,null,null,null,null,null,null,null,null,null,"~"]
["SA36",2021,"Choose",187,null,null,null,null,null,null,null,null,null,null,null,null,null,null,null,null,null,null,"~"]
["SA36",2021,"Choose",188,null,null,null,null,null,null,null,null,null,null,null,null,null,null,null,null,null,null,"~"]
["SA36",2021,"Choose",189,null,null,null,null,null,null,null,null,null,null,null,null,null,null,null,null,null,null,"~"]
["SA36",2021,"Choose",190,null,null,null,null,null,null,null,null,null,null,null,null,null,null,null,null,null,null,"~"]
["SA36",2021,"Choose",191,null,null,null,null,null,null,null,null,null,null,null,null,null,null,null,null,null,null,"~"]
["SA36",2021,"Choose",192,null,null,null,null,null,null,null,null,null,null,null,null,null,null,null,null,null,null,"~"]
["SA36",2021,"Choose",193,null,null,null,null,null,null,null,null,null,null,null,null,null,null,null,null,null,null,"~"]
["SA36",2021,"Choose",194,null,null,null,null,null,null,null,null,null,null,null,null,null,null,null,null,null,null,"~"]
["SA36",2021,"Choose",195,null,null,null,null,null,null,null,null,null,null,null,null,null,null,null,null,null,null,"~"]
["SA36",2021,"Choose",196,null,null,null,null,null,null,null,null,null,null,null,null,null,null,null,null,null,null,"~"]
["SA36",2021,"Choose",197,null,null,null,null,null,null,null,null,null,null,null,null,null,null,null,null,null,null,"~"]
["SA36",2021,"Choose",198,null,null,null,null,null,null,null,null,null,null,null,null,null,null,null,null,null,null,"~"]
["SA36",2021,"Choose",199,null,null,null,null,null,null,null,null,null,null,null,null,null,null,null,null,null,null,"~"]
["SA36",2021,"Choose",200,null,null,null,null,null,null,null,null,null,null,null,null,null,null,null,null,null,null,"~"]
["SA36",2021,"Choose",201,null,null,null,null,null,null,null,null,null,null,null,null,null,null,null,null,null,null,"~"]
["SA36",2021,"Choose",202,null,null,null,null,null,null,null,null,null,null,null,null,null,null,null,null,null,null,"~"]
["SA36",2021,"Choose",203,null,null,null,null,null,null,null,null,null,null,null,null,null,null,null,null,null,null,"~"]
["SA36",2021,"Choose",204,null,null,null,null,null,null,null,null,null,null,null,null,null,null,null,null,null,null,"~"]
["SA36",2021,"Choose",205,null,null,null,null,null,null,null,null,null,null,null,null,null,null,null,null,null,null,"~"]
["SA36",2021,"Choose",206,null,null,null,null,null,null,null,null,null,null,null,null,null,null,null,null,null,null,"~"]
["SA36",2021,"Choose",207,null,null,null,null,null,null,null,null,null,null,null,null,null,null,null,null,null,null,"~"]
["SA36",2021,"Choose",208,null,null,null,null,null,null,null,null,null,null,null,null,null,null,null,null,null,null,"~"]
["SA36",2021,"Choose",209,null,null,null,null,null,null,null,null,null,null,null,null,null,null,null,null,null,null,"~"]
["SA36",2021,"Choose",210,null,null,null,null,null,null,null,null,null,null,null,null,null,null,null,null,null,null,"~"]
["SA36",2021,"Choose",211,null,null,null,null,null,null,null,null,null,null,null,null,null,null,null,null,null,null,"~"]
["SA36",2021,"Choose",212,null,null,null,null,null,null,null,null,null,null,null,null,null,null,null,null,null,null,"~"]
["SA36",2021,"Choose",213,null,null,null,null,null,null,null,null,null,null,null,null,null,null,null,null,null,null,"~"]
["SA36",2021,"Choose",214,null,null,null,null,null,null,null,null,null,null,null,null,null,null,null,null,null,null,"~"]
["SA36",2021,"Choose",215,null,null,null,null,null,null,null,null,null,null,null,null,null,null,null,null,null,null,"~"]
["SA36",{"$f":"+MTREF","v":2021},{"$f":"LEFT(muni,(FIND(\" \",muni,1)-1))","v":"Choose"},216,null,null,null,null,null,null,null,null,null,null,null,null,null,null,null,null,null,null,"~"]
["SA36",2021,"Choose",217,null,null,null,null,null,null,null,null,null,null,null,null,null,null,null,null,null,null,"~"]
["SA36",2021,"Choose",218,null,null,null,null,null,null,null,null,null,null,null,null,null,null,null,null,null,null,"~"]
["SA36",2021,"Choose",219,null,null,null,null,null,null,null,null,null,null,null,null,null,null,null,null,null,null,"~"]
["SA36",2021,"Choose",220,null,null,null,null,null,null,null,null,null,null,null,null,null,null,null,null,null,null,"~"]
["SA36",2021,"Choose",221,null,null,null,null,null,null,null,null,null,null,null,null,null,null,null,null,null,null,"~"]
["SA36",2021,"Choose",222,null,null,null,null,null,null,null,null,null,null,null,null,null,null,null,null,null,null,"~"]
["SA36",2021,"Choose",223,null,null,null,null,null,null,null,null,null,null,null,null,null,null,null,null,null,null,"~"]
["SA36",2021,"Choose",224,null,null,null,null,null,null,null,null,null,null,null,null,null,null,null,null,null,null,"~"]
["SA36",2021,"Choose",225,null,null,null,null,null,null,null,null,null,null,null,null,null,null,null,null,null,null,"~"]
["SA36",2021,"Choose",226,null,null,null,null,null,null,null,null,null,null,null,null,null,null,null,null,null,null,"~"]
["SA36",2021,"Choose",227,null,null,null,null,null,null,null,null,null,null,null,null,null,null,null,null,null,null,"~"]
["SA36",2021,"Choose",228,null,null,null,null,null,null,null,null,null,null,null,null,null,null,null,null,null,null,"~"]
["SA36",2021,"Choose",229,null,null,null,null,null,null,null,null,null,null,null,null,null,null,null,null,null,null,"~"]
["SA36",2021,"Choose",230,null,null,null,null,null,null,null,null,null,null,null,null,null,null,null,null,null,null,"~"]
["SA36",2021,"Choose",231,null,null,null,null,null,null,null,null,null,null,null,null,null,null,null,null,null,null,"~"]
["SA36",2021,"Choose",232,null,null,null,null,null,null,null,null,null,null,null,null,null,null,null,null,null,null,"~"]
["SA36",2021,"Choose",233,null,null,null,null,null,null,null,null,null,null,null,null,null,null,null,null,null,null,"~"]
["SA36",2021,"Choose",234,null,null,null,null,null,null,null,null,null,null,null,null,null,null,null,null,null,null,"~"]
["SA36",2021,"Choose",235,null,null,null,null,null,null,null,null,null,null,null,null,null,null,null,null,null,null,"~"]
["SA36",2021,"Choose",236,null,null,null,null,null,null,null,null,null,null,null,null,null,null,null,null,null,null,"~"]
["SA36",2021,"Choose",237,null,null,null,null,null,null,null,null,null,null,null,null,null,null,null,null,null,null,"~"]
["SA36",2021,"Choose",238,null,null,null,null,null,null,null,null,null,null,null,null,null,null,null,null,null,null,"~"]
["SA36",2021,"Choose",239,null,null,null,null,null,null,null,null,null,null,null,null,null,null,null,null,null,null,"~"]
["SA36",2021,"Choose",240,null,null,null,null,null,null,null,null,null,null,null,null,null,null,null,null,null,null,"~"]
["SA36",2021,"Choose",241,null,null,null,null,null,null,null,null,null,null,null,null,null,null,null,null,null,null,"~"]
["SA36",2021,"Choose",242,null,null,null,null,null,null,null,null,null,null,null,null,null,null,null,null,null,null,"~"]
["SA36",2021,"Choose",243,null,null,null,null,null,null,null,null,null,null,null,null,null,null,null,null,null,null,"~"]
["SA36",2021,"Choose",244,null,null,null,null,null,null,null,null,null,null,null,null,null,null,null,null,null,null,"~"]
["SA36",2021,"Choose",245,null,null,null,null,null,null,null,null,null,null,null,null,null,null,null,null,null,null,"~"]
["SA36",2021,"Choose",246,null,null,null,null,null,null,null,null,null,null,null,null,null,null,null,null,null,null,"~"]
["SA36",2021,"Choose",247,null,null,null,null,null,null,null,null,null,null,null,null,null,null,null,null,null,null,"~"]
["SA36",2021,"Choose",248,null,null,null,null,null,null,null,null,null,null,null,null,null,null,null,null,null,null,"~"]
["SA36",2021,"Choose",249,null,null,null,null,null,null,null,null,null,null,null,null,null,null,null,null,null,null,"~"]
["SA36",2021,"Choose",250,null,null,null,null,null,null,null,null,null,null,null,null,null,null,null,null,null,null,"~"]
["SA36",2021,"Choose",251,null,null,null,null,null,null,null,null,null,null,null,null,null,null,null,null,null,null,"~"]
["SA36",2021,"Choose",252,null,null,null,null,null,null,null,null,null,null,null,null,null,null,null,null,null,null,"~"]
["SA36",2021,"Choose",253,null,null,null,null,null,null,null,null,null,null,null,null,null,null,null,null,null,null,"~"]
["SA36",2021,"Choose",254,null,null,null,null,null,null,null,null,null,null,null,null,null,null,null,null,null,null,"~"]
["SA36",2021,"Choose",255,null,null,null,null,null,null,null,null,null,null,null,null,null,null,null,null,null,null,"~"]
["SA36",2021,"Choose",256,null,null,null,null,null,null,null,null,null,null,null,null,null,null,null,null,null,null,"~"]
["SA36",2021,"Choose",257,null,null,null,null,null,null,null,null,null,null,null,null,null,null,null,null,null,null,"~"]
["SA36",2021,"Choose",258,null,null,null,null,null,null,null,null,null,null,null,null,null,null,null,null,null,null,"~"]
["SA36",2021,"Choose",259,null,null,null,null,null,null,null,null,null,null,null,null,null,null,null,null,null,null,"~"]
["SA36",2021,"Choose",260,null,null,null,null,null,null,null,null,null,null,null,null,null,null,null,null,null,null,"~"]
["SA36",2021,"Choose",261,null,null,null,null,null,null,null,null,null,null,null,null,null,null,null,null,null,null,"~"]
["SA36",2021,"Choose",262,null,null,null,null,null,null,null,null,null,null,null,null,null,null,null,null,null,null,"~"]
["SA36",2021,"Choose",263,null,null,null,null,null,null,null,null,null,null,null,null,null,null,null,null,null,null,"~"]
["SA36",2021,"Choose",264,null,null,null,null,null,null,null,null,null,null,null,null,null,null,null,null,null,null,"~"]
["SA36",2021,"Choose",265,null,null,null,null,null,null,null,null,null,null,null,null,null,null,null,null,null,null,"~"]
["SA36",2021,"Choose",266,null,null,null,null,null,null,null,null,null,null,null,null,null,null,null,null,null,null,"~"]
["SA36",2021,"Choose",267,null,null,null,null,null,null,null,null,null,null,null,null,null,null,null,null,null,null,"~"]
["SA36",2021,"Choose",268,null,null,null,null,null,null,null,null,null,null,null,null,null,null,null,null,null,null,"~"]
["SA36",2021,"Choose",269,null,null,null,null,null,null,null,null,null,null,null,null,null,null,null,null,null,null,"~"]
["SA36",2021,"Choose",270,null,null,null,null,null,null,null,null,null,null,null,null,null,null,null,null,null,null,"~"]
["SA36",2021,"Choose",271,null,null,null,null,null,null,null,null,null,null,null,null,null,null,null,null,null,null,"~"]
["SA36",2021,"Choose",272,null,null,null,null,null,null,null,null,null,null,null,null,null,null,null,null,null,null,"~"]
["SA36",2021,"Choose",273,null,null,null,null,null,null,null,null,null,null,null,null,null,null,null,null,null,null,"~"]
["SA36",2021,"Choose",274,null,null,null,null,null,null,null,null,null,null,null,null,null,null,null,null,null,null,"~"]
["SA36",2021,"Choose",275,null,null,null,null,null,null,null,null,null,null,null,null,null,null,null,null,null,null,"~"]
["SA36",2021,"Choose",276,null,null,null,null,null,null,null,null,null,null,null,null,null,null,null,null,null,null,"~"]
["SA36",2021,"Choose",277,null,null,null,null,null,null,null,null,null,null,null,null,null,null,null,null,null,null,"~"]
["SA36",2021,"Choose",278,null,null,null,null,null,null,null,null,null,null,null,null,null,null,null,null,null,null,"~"]
["SA36",2021,"Choose",279,null,null,null,null,null,null,null,null,null,null,null,null,null,null,null,null,null,null,"~"]
["SA36",{"$f":"+MTREF","v":2021},{"$f":"LEFT(muni,(FIND(\" \",muni,1)-1))","v":"Choose"},280,null,null,null,null,null,null,null,null,null,null,null,null,null,null,null,null,null,null,"~"]
["SA36",2021,"Choose",281,null,null,null,null,null,null,null,null,null,null,null,null,null,null,null,null,null,null,"~"]
["SA36",2021,"Choose",282,null,null,null,null,null,null,null,null,null,null,null,null,null,null,null,null,null,null,"~"]
["SA36",2021,"Choose",283,null,null,null,null,null,null,null,null,null,null,null,null,null,null,null,null,null,null,"~"]
["SA36",2021,"Choose",284,null,null,null,null,null,null,null,null,null,null,null,null,null,null,null,null,null,null,"~"]
["SA36",2021,"Choose",285,null,null,null,null,null,null,null,null,null,null,null,null,null,null,null,null,null,null,"~"]
["SA36",2021,"Choose",286,null,null,null,null,null,null,null,null,null,null,null,null,null,null,null,null,null,null,"~"]
["SA36",2021,"Choose",287,null,null,null,null,null,null,null,null,null,null,null,null,null,null,null,null,null,null,"~"]
["SA36",2021,"Choose",288,null,null,null,null,null,null,null,null,null,null,null,null,null,null,null,null,null,null,"~"]
["SA36",2021,"Choose",289,null,null,null,null,null,null,null,null,null,null,null,null,null,null,null,null,null,null,"~"]
["SA36",2021,"Choose",290,null,null,null,null,null,null,null,null,null,null,null,null,null,null,null,null,null,null,"~"]
["SA36",2021,"Choose",291,null,null,null,null,null,null,null,null,null,null,null,null,null,null,null,null,null,null,"~"]
["SA36",2021,"Choose",292,null,null,null,null,null,null,null,null,null,null,null,null,null,null,null,null,null,null,"~"]
["SA36",2021,"Choose",293,null,null,null,null,null,null,null,null,null,null,null,null,null,null,null,null,null,null,"~"]
["SA36",2021,"Choose",294,null,null,null,null,null,null,null,null,null,null,null,null,null,null,null,null,null,null,"~"]
["SA36",2021,"Choose",295,null,null,null,null,null,null,null,null,null,null,null,null,null,null,null,null,null,null,"~"]
["SA36",2021,"Choose",296,null,null,null,null,null,null,null,null,null,null,null,null,null,null,null,null,null,null,"~"]
["SA36",2021,"Choose",297,null,null,null,null,null,null,null,null,null,null,null,null,null,null,null,null,null,null,"~"]
["SA36",2021,"Choose",298,null,null,null,null,null,null,null,null,null,null,null,null,null,null,null,null,null,null,"~"]
["SA36",2021,"Choose",299,null,null,null,null,null,null,null,null,null,null,null,null,null,null,null,null,null,null,"~"]
["SA36",2021,"Choose",300,null,null,null,null,null,null,null,null,null,null,null,null,null,null,null,null,null,null,"~"]
["SA36",2021,"Choose",301,null,null,null,null,null,null,null,null,null,null,null,null,null,null,null,null,null,null,"~"]
["SA36",2021,"Choose",302,null,null,null,null,null,null,null,null,null,null,null,null,null,null,null,null,null,null,"~"]
["SA36",2021,"Choose",303,null,null,null,null,null,null,null,null,null,null,null,null,null,null,null,null,null,null,"~"]
["SA36",2021,"Choose",304,null,null,null,null,null,null,null,null,null,null,null,null,null,null,null,null,null,null,"~"]
["SA36",2021,"Choose",305,null,null,null,null,null,null,null,null,null,null,null,null,null,null,null,null,null,null,"~"]
["SA36",2021,"Choose",306,null,null,null,null,null,null,null,null,null,null,null,null,null,null,null,null,null,null,"~"]
["SA36",2021,"Choose",307,null,null,null,null,null,null,null,null,null,null,null,null,null,null,null,null,null,null,"~"]
["SA36",2021,"Choose",308,null,null,null,null,null,null,null,null,null,null,null,null,null,null,null,null,null,null,"~"]
["SA36",2021,"Choose",309,null,null,null,null,null,null,null,null,null,null,null,null,null,null,null,null,null,null,"~"]
["SA36",2021,"Choose",310,null,null,null,null,null,null,null,null,null,null,null,null,null,null,null,null,null,null,"~"]
["SA36",2021,"Choose",311,null,null,null,null,null,null,null,null,null,null,null,null,null,null,null,null,null,null,"~"]
["SA36",2021,"Choose",312,null,null,null,null,null,null,null,null,null,null,null,null,null,null,null,null,null,null,"~"]
["SA36",2021,"Choose",313,null,null,null,null,null,null,null,null,null,null,null,null,null,null,null,null,null,null,"~"]
["SA36",2021,"Choose",314,null,null,null,null,null,null,null,null,null,null,null,null,null,null,null,null,null,null,"~"]
["SA36",2021,"Choose",315,null,null,null,null,null,null,null,null,null,null,null,null,null,null,null,null,null,null,"~"]
["SA36",2021,"Choose",316,null,null,null,null,null,null,null,null,null,null,null,null,null,null,null,null,null,null,"~"]
["SA36",2021,"Choose",317,null,null,null,null,null,null,null,null,null,null,null,null,null,null,null,null,null,null,"~"]
["SA36",2021,"Choose",318,null,null,null,null,null,null,null,null,null,null,null,null,null,null,null,null,null,null,"~"]
["SA36",2021,"Choose",319,null,null,null,null,null,null,null,null,null,null,null,null,null,null,null,null,null,null,"~"]
["SA36",2021,"Choose",320,null,null,null,null,null,null,null,null,null,null,null,null,null,null,null,null,null,null,"~"]
["SA36",2021,"Choose",321,null,null,null,null,null,null,null,null,null,null,null,null,null,null,null,null,null,null,"~"]
["SA36",2021,"Choose",322,null,null,null,null,null,null,null,null,null,null,null,null,null,null,null,null,null,null,"~"]
["SA36",2021,"Choose",323,null,null,null,null,null,null,null,null,null,null,null,null,null,null,null,null,null,null,"~"]
["SA36",2021,"Choose",324,null,null,null,null,null,null,null,null,null,null,null,null,null,null,null,null,null,null,"~"]
["SA36",2021,"Choose",325,null,null,null,null,null,null,null,null,null,null,null,null,null,null,null,null,null,null,"~"]
["SA36",2021,"Choose",326,null,null,null,null,null,null,null,null,null,null,null,null,null,null,null,null,null,null,"~"]
["SA36",2021,"Choose",327,null,null,null,null,null,null,null,null,null,null,null,null,null,null,null,null,null,null,"~"]
["SA36",2021,"Choose",328,null,null,null,null,null,null,null,null,null,null,null,null,null,null,null,null,null,null,"~"]
["SA36",2021,"Choose",329,null,null,null,null,null,null,null,null,null,null,null,null,null,null,null,null,null,null,"~"]
["SA36",2021,"Choose",330,null,null,null,null,null,null,null,null,null,null,null,null,null,null,null,null,null,null,"~"]
["SA36",2021,"Choose",331,null,null,null,null,null,null,null,null,null,null,null,null,null,null,null,null,null,null,"~"]
["SA36",2021,"Choose",332,null,null,null,null,null,null,null,null,null,null,null,null,null,null,null,null,null,null,"~"]
["SA36",2021,"Choose",333,null,null,null,null,null,null,null,null,null,null,null,null,null,null,null,null,null,null,"~"]
["SA36",2021,"Choose",334,null,null,null,null,null,null,null,null,null,null,null,null,null,null,null,null,null,null,"~"]
["SA36",2021,"Choose",335,null,null,null,null,null,null,null,null,null,null,null,null,null,null,null,null,null,null,"~"]
["SA36",2021,"Choose",336,null,null,null,null,null,null,null,null,null,null,null,null,null,null,null,null,null,null,"~"]
["SA36",2021,"Choose",337,null,null,null,null,null,null,null,null,null,null,null,null,null,null,null,null,null,null,"~"]
["SA36",2021,"Choose",338,null,null,null,null,null,null,null,null,null,null,null,null,null,null,null,null,null,null,"~"]
["SA36",2021,"Choose",339,null,null,null,null,null,null,null,null,null,null,null,null,null,null,null,null,null,null,"~"]
["SA36",2021,"Choose",340,null,null,null,null,null,null,null,null,null,null,null,null,null,null,null,null,null,null,"~"]
["SA36",2021,"Choose",341,null,null,null,null,null,null,null,null,null,null,null,null,null,null,null,null,null,null,"~"]
["SA36",2021,"Choose",342,null,null,null,null,null,null,null,null,null,null,null,null,null,null,null,null,null,null,"~"]
["SA36",2021,"Choose",343,null,null,null,null,null,null,null,null,null,null,null,null,null,null,null,null,null,null,"~"]
["SA36",{"$f":"+MTREF","v":2021},{"$f":"LEFT(muni,(FIND(\" \",muni,1)-1))","v":"Choose"},344,null,null,null,null,null,null,null,null,null,null,null,null,null,null,null,null,null,null,"~"]
["SA36",2021,"Choose",345,null,null,null,null,null,null,null,null,null,null,null,null,null,null,null,null,null,null,"~"]
["SA36",2021,"Choose",346,null,null,null,null,null,null,null,null,null,null,null,null,null,null,null,null,null,null,"~"]
["SA36",2021,"Choose",347,null,null,null,null,null,null,null,null,null,null,null,null,null,null,null,null,null,null,"~"]
["SA36",2021,"Choose",348,null,null,null,null,null,null,null,null,null,null,null,null,null,null,null,null,null,null,"~"]
["SA36",2021,"Choose",349,null,null,null,null,null,null,null,null,null,null,null,null,null,null,null,null,null,null,"~"]
["SA36",2021,"Choose",350,null,null,null,null,null,null,null,null,null,null,null,null,null,null,null,null,null,null,"~"]
["SA36",2021,"Choose",351,null,null,null,null,null,null,null,null,null,null,null,null,null,null,null,null,null,null,"~"]
["SA36",2021,"Choose",352,null,null,null,null,null,null,null,null,null,null,null,null,null,null,null,null,null,null,"~"]
["SA36",2021,"Choose",353,null,null,null,null,null,null,null,null,null,null,null,null,null,null,null,null,null,null,"~"]
["SA36",2021,"Choose",354,null,null,null,null,null,null,null,null,null,null,null,null,null,null,null,null,null,null,"~"]
["SA36",2021,"Choose",355,null,null,null,null,null,null,null,null,null,null,null,null,null,null,null,null,null,null,"~"]
["SA36",2021,"Choose",356,null,null,null,null,null,null,null,null,null,null,null,null,null,null,null,null,null,null,"~"]
["SA36",2021,"Choose",357,null,null,null,null,null,null,null,null,null,null,null,null,null,null,null,null,null,null,"~"]
["SA36",2021,"Choose",358,null,null,null,null,null,null,null,null,null,null,null,null,null,null,null,null,null,null,"~"]
["SA36",2021,"Choose",359,null,null,null,null,null,null,null,null,null,null,null,null,null,null,null,null,null,null,"~"]
["SA36",2021,"Choose",360,null,null,null,null,null,null,null,null,null,null,null,null,null,null,null,null,null,null,"~"]
["SA36",2021,"Choose",361,null,null,null,null,null,null,null,null,null,null,null,null,null,null,null,null,null,null,"~"]
["SA36",2021,"Choose",362,null,null,null,null,null,null,null,null,null,null,null,null,null,null,null,null,null,null,"~"]
["SA36",2021,"Choose",363,null,null,null,null,null,null,null,null,null,null,null,null,null,null,null,null,null,null,"~"]
["SA36",2021,"Choose",364,null,null,null,null,null,null,null,null,null,null,null,null,null,null,null,null,null,null,"~"]
["SA36",2021,"Choose",365,null,null,null,null,null,null,null,null,null,null,null,null,null,null,null,null,null,null,"~"]
["SA36",2021,"Choose",366,null,null,null,null,null,null,null,null,null,null,null,null,null,null,null,null,null,null,"~"]
["SA36",2021,"Choose",367,null,null,null,null,null,null,null,null,null,null,null,null,null,null,null,null,null,null,"~"]
["SA36",2021,"Choose",368,null,null,null,null,null,null,null,null,null,null,null,null,null,null,null,null,null,null,"~"]
["SA36",2021,"Choose",369,null,null,null,null,null,null,null,null,null,null,null,null,null,null,null,null,null,null,"~"]
["SA36",2021,"Choose",370,null,null,null,null,null,null,null,null,null,null,null,null,null,null,null,null,null,null,"~"]
["SA36",2021,"Choose",371,null,null,null,null,null,null,null,null,null,null,null,null,null,null,null,null,null,null,"~"]
["SA36",2021,"Choose",372,null,null,null,null,null,null,null,null,null,null,null,null,null,null,null,null,null,null,"~"]
["SA36",2021,"Choose",373,null,null,null,null,null,null,null,null,null,null,null,null,null,null,null,null,null,null,"~"]
["SA36",2021,"Choose",374,null,null,null,null,null,null,null,null,null,null,null,null,null,null,null,null,null,null,"~"]
["SA36",2021,"Choose",375,null,null,null,null,null,null,null,null,null,null,null,null,null,null,null,null,null,null,"~"]
["SA36",2021,"Choose",376,null,null,null,null,null,null,null,null,null,null,null,null,null,null,null,null,null,null,"~"]
["SA36",2021,"Choose",377,null,null,null,null,null,null,null,null,null,null,null,null,null,null,null,null,null,null,"~"]
["SA36",2021,"Choose",378,null,null,null,null,null,null,null,null,null,null,null,null,null,null,null,null,null,null,"~"]
["SA36",2021,"Choose",379,null,null,null,null,null,null,null,null,null,null,null,null,null,null,null,null,null,null,"~"]
["SA36",2021,"Choose",380,null,null,null,null,null,null,null,null,null,null,null,null,null,null,null,null,null,null,"~"]
["SA36",2021,"Choose",381,null,null,null,null,null,null,null,null,null,null,null,null,null,null,null,null,null,null,"~"]
["SA36",2021,"Choose",382,null,null,null,null,null,null,null,null,null,null,null,null,null,null,null,null,null,null,"~"]
["SA36",2021,"Choose",383,null,null,null,null,null,null,null,null,null,null,null,null,null,null,null,null,null,null,"~"]
["SA36",2021,"Choose",384,null,null,null,null,null,null,null,null,null,null,null,null,null,null,null,null,null,null,"~"]
["SA36",2021,"Choose",385,null,null,null,null,null,null,null,null,null,null,null,null,null,null,null,null,null,null,"~"]
["SA36",2021,"Choose",386,null,null,null,null,null,null,null,null,null,null,null,null,null,null,null,null,null,null,"~"]
["SA36",2021,"Choose",387,null,null,null,null,null,null,null,null,null,null,null,null,null,null,null,null,null,null,"~"]
["SA36",2021,"Choose",388,null,null,null,null,null,null,null,null,null,null,null,null,null,null,null,null,null,null,"~"]
["SA36",2021,"Choose",389,null,null,null,null,null,null,null,null,null,null,null,null,null,null,null,null,null,null,"~"]
["SA36",2021,"Choose",390,null,null,null,null,null,null,null,null,null,null,null,null,null,null,null,null,null,null,"~"]
["SA36",2021,"Choose",391,null,null,null,null,null,null,null,null,null,null,null,null,null,null,null,null,null,null,"~"]
["SA36",2021,"Choose",392,null,null,null,null,null,null,null,null,null,null,null,null,null,null,null,null,null,null,"~"]
["SA36",2021,"Choose",393,null,null,null,null,null,null,null,null,null,null,null,null,null,null,null,null,null,null,"~"]
["SA36",2021,"Choose",394,null,null,null,null,null,null,null,null,null,null,null,null,null,null,null,null,null,null,"~"]
["SA36",2021,"Choose",395,null,null,null,null,null,null,null,null,null,null,null,null,null,null,null,null,null,null,"~"]
["SA36",2021,"Choose",396,null,null,null,null,null,null,null,null,null,null,null,null,null,null,null,null,null,null,"~"]
["SA36",2021,"Choose",397,null,null,null,null,null,null,null,null,null,null,null,null,null,null,null,null,null,null,"~"]
["SA36",2021,"Choose",398,null,null,null,null,null,null,null,null,null,null,null,null,null,null,null,null,null,null,"~"]
["SA36",2021,"Choose",399,null,null,null,null,null,null,null,null,null,null,null,null,null,null,null,null,null,null,"~"]
["SA36",2021,"Choose",400,null,null,null,null,null,null,null,null,null,null,null,null,null,null,null,null,null,null,"~"]
["SA36",2021,"Choose",401,null,null,null,null,null,null,null,null,null,null,null,null,null,null,null,null,null,null,"~"]
["SA36",2021,"Choose",402,null,null,null,null,null,null,null,null,null,null,null,null,null,null,null,null,null,null,"~"]
["SA36",2021,"Choose",403,null,null,null,null,null,null,null,null,null,null,null,null,null,null,null,null,null,null,"~"]
["SA36",2021,"Choose",404,null,null,null,null,null,null,null,null,null,null,null,null,null,null,null,null,null,null,"~"]
["SA36",2021,"Choose",405,null,null,null,null,null,null,null,null,null,null,null,null,null,null,null,null,null,null,"~"]
["SA36",2021,"Choose",406,null,null,null,null,null,null,null,null,null,null,null,null,null,null,null,null,null,null,"~"]
["SA36",2021,"Choose",407,null,null,null,null,null,null,null,null,null,null,null,null,null,null,null,null,null,null,"~"]
["SA36",{"$f":"+MTREF","v":2021},{"$f":"LEFT(muni,(FIND(\" \",muni,1)-1))","v":"Choose"},408,null,null,null,null,null,null,null,null,null,null,null,null,null,null,null,null,null,null,"~"]
["SA36",2021,"Choose",409,null,null,null,null,null,null,null,null,null,null,null,null,null,null,null,null,null,null,"~"]
["SA36",2021,"Choose",410,null,null,null,null,null,null,null,null,null,null,null,null,null,null,null,null,null,null,"~"]
["SA36",2021,"Choose",411,null,null,null,null,null,null,null,null,null,null,null,null,null,null,null,null,null,null,"~"]
["SA36",2021,"Choose",412,null,null,null,null,null,null,null,null,null,null,null,null,null,null,null,null,null,null,"~"]
["SA36",2021,"Choose",413,null,null,null,null,null,null,null,null,null,null,null,null,null,null,null,null,null,null,"~"]
["SA36",2021,"Choose",414,null,null,null,null,null,null,null,null,null,null,null,null,null,null,null,null,null,null,"~"]
["SA36",2021,"Choose",415,null,null,null,null,null,null,null,null,null,null,null,null,null,null,null,null,null,null,"~"]
["SA36",2021,"Choose",416,null,null,null,null,null,null,null,null,null,null,null,null,null,null,null,null,null,null,"~"]
["SA36",2021,"Choose",417,null,null,null,null,null,null,null,null,null,null,null,null,null,null,null,null,null,null,"~"]
["SA36",2021,"Choose",418,null,null,null,null,null,null,null,null,null,null,null,null,null,null,null,null,null,null,"~"]
["SA36",2021,"Choose",419,null,null,null,null,null,null,null,null,null,null,null,null,null,null,null,null,null,null,"~"]
["SA36",2021,"Choose",420,null,null,null,null,null,null,null,null,null,null,null,null,null,null,null,null,null,null,"~"]
["SA36",2021,"Choose",421,null,null,null,null,null,null,null,null,null,null,null,null,null,null,null,null,null,null,"~"]
["SA36",2021,"Choose",422,null,null,null,null,null,null,null,null,null,null,null,null,null,null,null,null,null,null,"~"]
["SA36",2021,"Choose",423,null,null,null,null,null,null,null,null,null,null,null,null,null,null,null,null,null,null,"~"]
["SA36",2021,"Choose",424,null,null,null,null,null,null,null,null,null,null,null,null,null,null,null,null,null,null,"~"]
["SA36",2021,"Choose",425,null,null,null,null,null,null,null,null,null,null,null,null,null,null,null,null,null,null,"~"]
["SA36",2021,"Choose",426,null,null,null,null,null,null,null,null,null,null,null,null,null,null,null,null,null,null,"~"]
["SA36",2021,"Choose",427,null,null,null,null,null,null,null,null,null,null,null,null,null,null,null,null,null,null,"~"]
["SA36",2021,"Choose",428,null,null,null,null,null,null,null,null,null,null,null,null,null,null,null,null,null,null,"~"]
["SA36",2021,"Choose",429,null,null,null,null,null,null,null,null,null,null,null,null,null,null,null,null,null,null,"~"]
["SA36",2021,"Choose",430,null,null,null,null,null,null,null,null,null,null,null,null,null,null,null,null,null,null,"~"]
["SA36",2021,"Choose",431,null,null,null,null,null,null,null,null,null,null,null,null,null,null,null,null,null,null,"~"]
["SA36",2021,"Choose",432,null,null,null,null,null,null,null,null,null,null,null,null,null,null,null,null,null,null,"~"]
["SA36",2021,"Choose",433,null,null,null,null,null,null,null,null,null,null,null,null,null,null,null,null,null,null,"~"]
["SA36",2021,"Choose",434,null,null,null,null,null,null,null,null,null,null,null,null,null,null,null,null,null,null,"~"]
["SA36",2021,"Choose",435,null,null,null,null,null,null,null,null,null,null,null,null,null,null,null,null,null,null,"~"]
["SA36",2021,"Choose",436,null,null,null,null,null,null,null,null,null,null,null,null,null,null,null,null,null,null,"~"]
["SA36",2021,"Choose",437,null,null,null,null,null,null,null,null,null,null,null,null,null,null,null,null,null,null,"~"]
["SA36",2021,"Choose",438,null,null,null,null,null,null,null,null,null,null,null,null,null,null,null,null,null,null,"~"]
["SA36",2021,"Choose",439,null,null,null,null,null,null,null,null,null,null,null,null,null,null,null,null,null,null,"~"]
["SA36",2021,"Choose",440,null,null,null,null,null,null,null,null,null,null,null,null,null,null,null,null,null,null,"~"]
["SA36",2021,"Choose",441,null,null,null,null,null,null,null,null,null,null,null,null,null,null,null,null,null,null,"~"]
["SA36",2021,"Choose",442,null,null,null,null,null,null,null,null,null,null,null,null,null,null,null,null,null,null,"~"]
["SA36",2021,"Choose",443,null,null,null,null,null,null,null,null,null,null,null,null,null,null,null,null,null,null,"~"]
["SA36",2021,"Choose",444,null,null,null,null,null,null,null,null,null,null,null,null,null,null,null,null,null,null,"~"]
["SA36",2021,"Choose",445,null,null,null,null,null,null,null,null,null,null,null,null,null,null,null,null,null,null,"~"]
["SA36",2021,"Choose",446,null,null,null,null,null,null,null,null,null,null,null,null,null,null,null,null,null,null,"~"]
["SA36",2021,"Choose",447,null,null,null,null,null,null,null,null,null,null,null,null,null,null,null,null,null,null,"~"]
["SA36",2021,"Choose",448,null,null,null,null,null,null,null,null,null,null,null,null,null,null,null,null,null,null,"~"]
["SA36",2021,"Choose",449,null,null,null,null,null,null,null,null,null,null,null,null,null,null,null,null,null,null,"~"]
["SA36",2021,"Choose",450,null,null,null,null,null,null,null,null,null,null,null,null,null,null,null,null,null,null,"~"]
["SA36",2021,"Choose",451,null,null,null,null,null,null,null,null,null,null,null,null,null,null,null,null,null,null,"~"]
["SA36",2021,"Choose",452,null,null,null,null,null,null,null,null,null,null,null,null,null,null,null,null,null,null,"~"]
["SA36",2021,"Choose",453,null,null,null,null,null,null,null,null,null,null,null,null,null,null,null,null,null,null,"~"]
["SA36",2021,"Choose",454,null,null,null,null,null,null,null,null,null,null,null,null,null,null,null,null,null,null,"~"]
["SA36",2021,"Choose",455,null,null,null,null,null,null,null,null,null,null,null,null,null,null,null,null,null,null,"~"]
["SA36",2021,"Choose",456,null,null,null,null,null,null,null,null,null,null,null,null,null,null,null,null,null,null,"~"]
["SA36",2021,"Choose",457,null,null,null,null,null,null,null,null,null,null,null,null,null,null,null,null,null,null,"~"]
["SA36",2021,"Choose",458,null,null,null,null,null,null,null,null,null,null,null,null,null,null,null,null,null,null,"~"]
["SA36",2021,"Choose",459,null,null,null,null,null,null,null,null,null,null,null,null,null,null,null,null,null,null,"~"]
["SA36",2021,"Choose",460,null,null,null,null,null,null,null,null,null,null,null,null,null,null,null,null,null,null,"~"]
["SA36",2021,"Choose",461,null,null,null,null,null,null,null,null,null,null,null,null,null,null,null,null,null,null,"~"]
["SA36",2021,"Choose",462,null,null,null,null,null,null,null,null,null,null,null,null,null,null,null,null,null,null,"~"]
["SA36",2021,"Choose",463,null,null,null,null,null,null,null,null,null,null,null,null,null,null,null,null,null,null,"~"]
["SA36",2021,"Choose",464,null,null,null,null,null,null,null,null,null,null,null,null,null,null,null,null,null,null,"~"]
["SA36",2021,"Choose",465,null,null,null,null,null,null,null,null,null,null,null,null,null,null,null,null,null,null,"~"]
["SA36",2021,"Choose",466,null,null,null,null,null,null,null,null,null,null,null,null,null,null,null,null,null,null,"~"]
["SA36",2021,"Choose",467,null,null,null,null,null,null,null,null,null,null,null,null,null,null,null,null,null,null,"~"]
["SA36",2021,"Choose",468,null,null,null,null,null,null,null,null,null,null,null,null,null,null,null,null,null,null,"~"]
["SA36",2021,"Choose",469,null,null,null,null,null,null,null,null,null,null,null,null,null,null,null,null,null,null,"~"]
["SA36",2021,"Choose",470,null,null,null,null,null,null,null,null,null,null,null,null,null,null,null,null,null,null,"~"]
["SA36",2021,"Choose",471,null,null,null,null,null,null,null,null,null,null,null,null,null,null,null,null,null,null,"~"]
["SA36",{"$f":"+MTREF","v":2021},{"$f":"LEFT(muni,(FIND(\" \",muni,1)-1))","v":"Choose"},472,null,null,null,null,null,null,null,null,null,null,null,null,null,null,null,null,null,null,"~"]
["SA36",2021,"Choose",473,null,null,null,null,null,null,null,null,null,null,null,null,null,null,null,null,null,null,"~"]
["SA36",2021,"Choose",474,null,null,null,null,null,null,null,null,null,null,null,null,null,null,null,null,null,null,"~"]
["SA36",2021,"Choose",475,null,null,null,null,null,null,null,null,null,null,null,null,null,null,null,null,null,null,"~"]
["SA36",2021,"Choose",476,null,null,null,null,null,null,null,null,null,null,null,null,null,null,null,null,null,null,"~"]
["SA36",2021,"Choose",477,null,null,null,null,null,null,null,null,null,null,null,null,null,null,null,null,null,null,"~"]
["SA36",2021,"Choose",478,null,null,null,null,null,null,null,null,null,null,null,null,null,null,null,null,null,null,"~"]
["SA36",2021,"Choose",479,null,null,null,null,null,null,null,null,null,null,null,null,null,null,null,null,null,null,"~"]
["SA36",2021,"Choose",480,null,null,null,null,null,null,null,null,null,null,null,null,null,null,null,null,null,null,"~"]
["SA36",2021,"Choose",481,null,null,null,null,null,null,null,null,null,null,null,null,null,null,null,null,null,null,"~"]
["SA36",2021,"Choose",482,null,null,null,null,null,null,null,null,null,null,null,null,null,null,null,null,null,null,"~"]
["SA36",2021,"Choose",483,null,null,null,null,null,null,null,null,null,null,null,null,null,null,null,null,null,null,"~"]
["SA36",2021,"Choose",484,null,null,null,null,null,null,null,null,null,null,null,null,null,null,null,null,null,null,"~"]
["SA36",2021,"Choose",485,null,null,null,null,null,null,null,null,null,null,null,null,null,null,null,null,null,null,"~"]
["SA36",2021,"Choose",486,null,null,null,null,null,null,null,null,null,null,null,null,null,null,null,null,null,null,"~"]
["SA36",2021,"Choose",487,null,null,null,null,null,null,null,null,null,null,null,null,null,null,null,null,null,null,"~"]
["SA36",2021,"Choose",488,null,null,null,null,null,null,null,null,null,null,null,null,null,null,null,null,null,null,"~"]
["SA36",2021,"Choose",489,null,null,null,null,null,null,null,null,null,null,null,null,null,null,null,null,null,null,"~"]
["SA36",2021,"Choose",490,null,null,null,null,null,null,null,null,null,null,null,null,null,null,null,null,null,null,"~"]
["SA36",2021,"Choose",491,null,null,null,null,null,null,null,null,null,null,null,null,null,null,null,null,null,null,"~"]
["SA36",2021,"Choose",492,null,null,null,null,null,null,null,null,null,null,null,null,null,null,null,null,null,null,"~"]
["SA36",2021,"Choose",493,null,null,null,null,null,null,null,null,null,null,null,null,null,null,null,null,null,null,"~"]
["SA36",2021,"Choose",494,null,null,null,null,null,null,null,null,null,null,null,null,null,null,null,null,null,null,"~"]
["SA36",2021,"Choose",495,null,null,null,null,null,null,null,null,null,null,null,null,null,null,null,null,null,null,"~"]
["SA36",2021,"Choose",496,null,null,null,null,null,null,null,null,null,null,null,null,null,null,null,null,null,null,"~"]
["SA36",2021,"Choose",497,null,null,null,null,null,null,null,null,null,null,null,null,null,null,null,null,null,null,"~"]
["SA36",2021,"Choose",498,null,null,null,null,null,null,null,null,null,null,null,null,null,null,null,null,null,null,"~"]
["SA36",2021,"Choose",499,null,null,null,null,null,null,null,null,null,null,null,null,null,null,null,null,null,null,"~"]
["SA36",2021,"Choose",500,null,null,null,null,null,null,null,null,null,null,null,null,null,null,null,null,null,null,"~"]
["SA36",2021,"Choose",501,null,null,null,null,null,null,null,null,null,null,null,null,null,null,null,null,null,null,"~"]
["SA36",2021,"Choose",502,null,null,null,null,null,null,null,null,null,null,null,null,null,null,null,null,null,null,"~"]
["SA36",2021,"Choose",503,null,null,null,null,null,null,null,null,null,null,null,null,null,null,null,null,null,null,"~"]
["SA36",2021,"Choose",504,null,null,null,null,null,null,null,null,null,null,null,null,null,null,null,null,null,null,"~"]
["SA36",2021,"Choose",505,null,null,null,null,null,null,null,null,null,null,null,null,null,null,null,null,null,null,"~"]
["SA36",2021,"Choose",506,null,null,null,null,null,null,null,null,null,null,null,null,null,null,null,null,null,null,"~"]
["SA36",2021,"Choose",507,null,null,null,null,null,null,null,null,null,null,null,null,null,null,null,null,null,null,"~"]
["SA36",2021,"Choose",508,null,null,null,null,null,null,null,null,null,null,null,null,null,null,null,null,null,null,"~"]
["SA36",2021,"Choose",509,null,null,null,null,null,null,null,null,null,null,null,null,null,null,null,null,null,null,"~"]
["SA36",2021,"Choose",510,null,null,null,null,null,null,null,null,null,null,null,null,null,null,null,null,null,null,"~"]
["SA36",2021,"Choose",511,null,null,null,null,null,null,null,null,null,null,null,null,null,null,null,null,null,null,"~"]
["SA36",2021,"Choose",512,null,null,null,null,null,null,null,null,null,null,null,null,null,null,null,null,null,null,"~"]
["SA36",2021,"Choose",513,null,null,null,null,null,null,null,null,null,null,null,null,null,null,null,null,null,null,"~"]
["SA36",2021,"Choose",514,null,null,null,null,null,null,null,null,null,null,null,null,null,null,null,null,null,null,"~"]
["SA36",2021,"Choose",515,null,null,null,null,null,null,null,null,null,null,null,null,null,null,null,null,null,null,"~"]
["SA36",2021,"Choose",516,null,null,null,null,null,null,null,null,null,null,null,null,null,null,null,null,null,null,"~"]
["SA36",2021,"Choose",517,null,null,null,null,null,null,null,null,null,null,null,null,null,null,null,null,null,null,"~"]
["SA36",2021,"Choose",518,null,null,null,null,null,null,null,null,null,null,null,null,null,null,null,null,null,null,"~"]
["SA36",2021,"Choose",519,null,null,null,null,null,null,null,null,null,null,null,null,null,null,null,null,null,null,"~"]
["SA36",2021,"Choose",520,null,null,null,null,null,null,null,null,null,null,null,null,null,null,null,null,null,null,"~"]
["SA36",2021,"Choose",521,null,null,null,null,null,null,null,null,null,null,null,null,null,null,null,null,null,null,"~"]
["SA36",2021,"Choose",522,null,null,null,null,null,null,null,null,null,null,null,null,null,null,null,null,null,null,"~"]
["SA36",2021,"Choose",523,null,null,null,null,null,null,null,null,null,null,null,null,null,null,null,null,null,null,"~"]
["SA36",2021,"Choose",524,null,null,null,null,null,null,null,null,null,null,null,null,null,null,null,null,null,null,"~"]
["SA36",2021,"Choose",525,null,null,null,null,null,null,null,null,null,null,null,null,null,null,null,null,null,null,"~"]
["SA36",2021,"Choose",526,null,null,null,null,null,null,null,null,null,null,null,null,null,null,null,null,null,null,"~"]
["SA36",2021,"Choose",527,null,null,null,null,null,null,null,null,null,null,null,null,null,null,null,null,null,null,"~"]
["SA36",2021,"Choose",528,null,null,null,null,null,null,null,null,null,null,null,null,null,null,null,null,null,null,"~"]
["SA36",2021,"Choose",529,null,null,null,null,null,null,null,null,null,null,null,null,null,null,null,null,null,null,"~"]
["SA36",2021,"Choose",530,null,null,null,null,null,null,null,null,null,null,null,null,null,null,null,null,null,null,"~"]
["SA36",2021,"Choose",531,null,null,null,null,null,null,null,null,null,null,null,null,null,null,null,null,null,null,"~"]
["SA36",2021,"Choose",532,null,null,null,null,null,null,null,null,null,null,null,null,null,null,null,null,null,null,"~"]
["SA36",2021,"Choose",533,null,null,null,null,null,null,null,null,null,null,null,null,null,null,null,null,null,null,"~"]
["SA36",2021,"Choose",534,null,null,null,null,null,null,null,null,null,null,null,null,null,null,null,null,null,null,"~"]
["SA36",2021,"Choose",535,null,null,null,null,null,null,null,null,null,null,null,null,null,null,null,null,null,null,"~"]
["SA36",{"$f":"+MTREF","v":2021},{"$f":"LEFT(muni,(FIND(\" \",muni,1)-1))","v":"Choose"},536,null,null,null,null,null,null,null,null,null,null,null,null,null,null,null,null,null,null,"~"]
["SA36",2021,"Choose",537,null,null,null,null,null,null,null,null,null,null,null,null,null,null,null,null,null,null,"~"]
["SA36",2021,"Choose",538,null,null,null,null,null,null,null,null,null,null,null,null,null,null,null,null,null,null,"~"]
["SA36",2021,"Choose",539,null,null,null,null,null,null,null,null,null,null,null,null,null,null,null,null,null,null,"~"]
["SA36",2021,"Choose",540,null,null,null,null,null,null,null,null,null,null,null,null,null,null,null,null,null,null,"~"]
["SA36",2021,"Choose",541,null,null,null,null,null,null,null,null,null,null,null,null,null,null,null,null,null,null,"~"]
["SA36",2021,"Choose",542,null,null,null,null,null,null,null,null,null,null,null,null,null,null,null,null,null,null,"~"]
["SA36",2021,"Choose",543,null,null,null,null,null,null,null,null,null,null,null,null,null,null,null,null,null,null,"~"]
["SA36",2021,"Choose",544,null,null,null,null,null,null,null,null,null,null,null,null,null,null,null,null,null,null,"~"]
["SA36",2021,"Choose",545,null,null,null,null,null,null,null,null,null,null,null,null,null,null,null,null,null,null,"~"]
["SA36",2021,"Choose",546,null,null,null,null,null,null,null,null,null,null,null,null,null,null,null,null,null,null,"~"]
["SA36",2021,"Choose",547,null,null,null,null,null,null,null,null,null,null,null,null,null,null,null,null,null,null,"~"]
["SA36",2021,"Choose",548,null,null,null,null,null,null,null,null,null,null,null,null,null,null,null,null,null,null,"~"]
["SA36",2021,"Choose",549,null,null,null,null,null,null,null,null,null,null,null,null,null,null,null,null,null,null,"~"]
["SA36",2021,"Choose",550,null,null,null,null,null,null,null,null,null,null,null,null,null,null,null,null,null,null,"~"]
["SA36",2021,"Choose",551,null,null,null,null,null,null,null,null,null,null,null,null,null,null,null,null,null,null,"~"]
["SA36",2021,"Choose",552,null,null,null,null,null,null,null,null,null,null,null,null,null,null,null,null,null,null,"~"]
["SA36",2021,"Choose",553,null,null,null,null,null,null,null,null,null,null,null,null,null,null,null,null,null,null,"~"]
["SA36",2021,"Choose",554,null,null,null,null,null,null,null,null,null,null,null,null,null,null,null,null,null,null,"~"]
["SA36",2021,"Choose",555,null,null,null,null,null,null,null,null,null,null,null,null,null,null,null,null,null,null,"~"]
["SA36",2021,"Choose",556,null,null,null,null,null,null,null,null,null,null,null,null,null,null,null,null,null,null,"~"]
["SA36",2021,"Choose",557,null,null,null,null,null,null,null,null,null,null,null,null,null,null,null,null,null,null,"~"]
["SA36",2021,"Choose",558,null,null,null,null,null,null,null,null,null,null,null,null,null,null,null,null,null,null,"~"]
["SA36",2021,"Choose",559,null,null,null,null,null,null,null,null,null,null,null,null,null,null,null,null,null,null,"~"]
["SA36",2021,"Choose",560,null,null,null,null,null,null,null,null,null,null,null,null,null,null,null,null,null,null,"~"]
["SA36",2021,"Choose",561,null,null,null,null,null,null,null,null,null,null,null,null,null,null,null,null,null,null,"~"]
["SA36",2021,"Choose",562,null,null,null,null,null,null,null,null,null,null,null,null,null,null,null,null,null,null,"~"]
["SA36",2021,"Choose",563,null,null,null,null,null,null,null,null,null,null,null,null,null,null,null,null,null,null,"~"]
["SA36",2021,"Choose",564,null,null,null,null,null,null,null,null,null,null,null,null,null,null,null,null,null,null,"~"]
["SA36",2021,"Choose",565,null,null,null,null,null,null,null,null,null,null,null,null,null,null,null,null,null,null,"~"]
["SA36",2021,"Choose",566,null,null,null,null,null,null,null,null,null,null,null,null,null,null,null,null,null,null,"~"]
["SA36",2021,"Choose",567,null,null,null,null,null,null,null,null,null,null,null,null,null,null,null,null,null,null,"~"]
["SA36",2021,"Choose",568,null,null,null,null,null,null,null,null,null,null,null,null,null,null,null,null,null,null,"~"]
["SA36",2021,"Choose",569,null,null,null,null,null,null,null,null,null,null,null,null,null,null,null,null,null,null,"~"]
["SA36",2021,"Choose",570,null,null,null,null,null,null,null,null,null,null,null,null,null,null,null,null,null,null,"~"]
["SA36",2021,"Choose",571,null,null,null,null,null,null,null,null,null,null,null,null,null,null,null,null,null,null,"~"]
["SA36",2021,"Choose",572,null,null,null,null,null,null,null,null,null,null,null,null,null,null,null,null,null,null,"~"]
["SA36",2021,"Choose",573,null,null,null,null,null,null,null,null,null,null,null,null,null,null,null,null,null,null,"~"]
["SA36",2021,"Choose",574,null,null,null,null,null,null,null,null,null,null,null,null,null,null,null,null,null,null,"~"]
["SA36",2021,"Choose",575,null,null,null,null,null,null,null,null,null,null,null,null,null,null,null,null,null,null,"~"]
["SA36",2021,"Choose",576,null,null,null,null,null,null,null,null,null,null,null,null,null,null,null,null,null,null,"~"]
["SA36",2021,"Choose",577,null,null,null,null,null,null,null,null,null,null,null,null,null,null,null,null,null,null,"~"]
["SA36",2021,"Choose",578,null,null,null,null,null,null,null,null,null,null,null,null,null,null,null,null,null,null,"~"]
["SA36",2021,"Choose",579,null,null,null,null,null,null,null,null,null,null,null,null,null,null,null,null,null,null,"~"]
["SA36",2021,"Choose",580,null,null,null,null,null,null,null,null,null,null,null,null,null,null,null,null,null,null,"~"]
["SA36",2021,"Choose",581,null,null,null,null,null,null,null,null,null,null,null,null,null,null,null,null,null,null,"~"]
["SA36",2021,"Choose",582,null,null,null,null,null,null,null,null,null,null,null,null,null,null,null,null,null,null,"~"]
["SA36",2021,"Choose",583,null,null,null,null,null,null,null,null,null,null,null,null,null,null,null,null,null,null,"~"]
["SA36",2021,"Choose",584,null,null,null,null,null,null,null,null,null,null,null,null,null,null,null,null,null,null,"~"]
["SA36",2021,"Choose",585,null,null,null,null,null,null,null,null,null,null,null,null,null,null,null,null,null,null,"~"]
["SA36",2021,"Choose",586,null,null,null,null,null,null,null,null,null,null,null,null,null,null,null,null,null,null,"~"]
["SA36",2021,"Choose",587,null,null,null,null,null,null,null,null,null,null,null,null,null,null,null,null,null,null,"~"]
["SA36",2021,"Choose",588,null,null,null,null,null,null,null,null,null,null,null,null,null,null,null,null,null,null,"~"]
["SA36",2021,"Choose",589,null,null,null,null,null,null,null,null,null,null,null,null,null,null,null,null,null,null,"~"]
["SA36",2021,"Choose",590,null,null,null,null,null,null,null,null,null,null,null,null,null,null,null,null,null,null,"~"]
["SA36",2021,"Choose",591,null,null,null,null,null,null,null,null,null,null,null,null,null,null,null,null,null,null,"~"]
["SA36",2021,"Choose",592,null,null,null,null,null,null,null,null,null,null,null,null,null,null,null,null,null,null,"~"]
["SA36",2021,"Choose",593,null,null,null,null,null,null,null,null,null,null,null,null,null,null,null,null,null,null,"~"]
["SA36",2021,"Choose",594,null,null,null,null,null,null,null,null,null,null,null,null,null,null,null,null,null,null,"~"]
["SA36",2021,"Choose",595,null,null,null,null,null,null,null,null,null,null,null,null,null,null,null,null,null,null,"~"]
["SA36",2021,"Choose",596,null,null,null,null,null,null,null,null,null,null,null,null,null,null,null,null,null,null,"~"]
["SA36",2021,"Choose",597,null,null,null,null,null,null,null,null,null,null,null,null,null,null,null,null,null,null,"~"]
["SA36",2021,"Choose",598,null,null,null,null,null,null,null,null,null,null,null,null,null,null,null,null,null,null,"~"]
["SA36",2021,"Choose",599,null,null,null,null,null,null,null,null,null,null,null,null,null,null,null,null,null,null,"~"]
["SA36",{"$f":"+MTREF","v":2021},{"$f":"LEFT(muni,(FIND(\" \",muni,1)-1))","v":"Choose"},600,null,null,null,null,null,null,null,null,null,null,null,null,null,null,null,null,null,null,"~"]
["SA36",2021,"Choose",601,null,null,null,null,null,null,null,null,null,null,null,null,null,null,null,null,null,null,"~"]
["SA36",2021,"Choose",602,null,null,null,null,null,null,null,null,null,null,null,null,null,null,null,null,null,null,"~"]
["SA36",2021,"Choose",603,null,null,null,null,null,null,null,null,null,null,null,null,null,null,null,null,null,null,"~"]
["SA36",2021,"Choose",604,null,null,null,null,null,null,null,null,null,null,null,null,null,null,null,null,null,null,"~"]
["SA36",2021,"Choose",605,null,null,null,null,null,null,null,null,null,null,null,null,null,null,null,null,null,null,"~"]
["SA36",2021,"Choose",606,null,null,null,null,null,null,null,null,null,null,null,null,null,null,null,null,null,null,"~"]
["SA36",2021,"Choose",607,null,null,null,null,null,null,null,null,null,null,null,null,null,null,null,null,null,null,"~"]
["SA36",2021,"Choose",608,null,null,null,null,null,null,null,null,null,null,null,null,null,null,null,null,null,null,"~"]
["SA36",2021,"Choose",609,null,null,null,null,null,null,null,null,null,null,null,null,null,null,null,null,null,null,"~"]
["SA36",2021,"Choose",610,null,null,null,null,null,null,null,null,null,null,null,null,null,null,null,null,null,null,"~"]
["SA36",2021,"Choose",611,null,null,null,null,null,null,null,null,null,null,null,null,null,null,null,null,null,null,"~"]
["SA36",2021,"Choose",612,null,null,null,null,null,null,null,null,null,null,null,null,null,null,null,null,null,null,"~"]
["SA36",2021,"Choose",613,null,null,null,null,null,null,null,null,null,null,null,null,null,null,null,null,null,null,"~"]
["SA36",2021,"Choose",614,null,null,null,null,null,null,null,null,null,null,null,null,null,null,null,null,null,null,"~"]
["SA36",2021,"Choose",615,null,null,null,null,null,null,null,null,null,null,null,null,null,null,null,null,null,null,"~"]
["SA36",2021,"Choose",616,null,null,null,null,null,null,null,null,null,null,null,null,null,null,null,null,null,null,"~"]
["SA36",2021,"Choose",617,null,null,null,null,null,null,null,null,null,null,null,null,null,null,null,null,null,null,"~"]
["SA36",2021,"Choose",618,null,null,null,null,null,null,null,null,null,null,null,null,null,null,null,null,null,null,"~"]
["SA36",2021,"Choose",619,null,null,null,null,null,null,null,null,null,null,null,null,null,null,null,null,null,null,"~"]
["SA36",2021,"Choose",620,null,null,null,null,null,null,null,null,null,null,null,null,null,null,null,null,null,null,"~"]
["SA36",2021,"Choose",621,null,null,null,null,null,null,null,null,null,null,null,null,null,null,null,null,null,null,"~"]
["SA36",2021,"Choose",622,null,null,null,null,null,null,null,null,null,null,null,null,null,null,null,null,null,null,"~"]
["SA36",2021,"Choose",623,null,null,null,null,null,null,null,null,null,null,null,null,null,null,null,null,null,null,"~"]
["SA36",2021,"Choose",624,null,null,null,null,null,null,null,null,null,null,null,null,null,null,null,null,null,null,"~"]
["SA36",2021,"Choose",625,null,null,null,null,null,null,null,null,null,null,null,null,null,null,null,null,null,null,"~"]
["SA36",2021,"Choose",626,null,null,null,null,null,null,null,null,null,null,null,null,null,null,null,null,null,null,"~"]
["SA36",2021,"Choose",627,null,null,null,null,null,null,null,null,null,null,null,null,null,null,null,null,null,null,"~"]
["SA36",2021,"Choose",628,null,null,null,null,null,null,null,null,null,null,null,null,null,null,null,null,null,null,"~"]
["SA36",2021,"Choose",629,null,null,null,null,null,null,null,null,null,null,null,null,null,null,null,null,null,null,"~"]
["SA36",2021,"Choose",630,null,null,null,null,null,null,null,null,null,null,null,null,null,null,null,null,null,null,"~"]
["SA36",2021,"Choose",631,null,null,null,null,null,null,null,null,null,null,null,null,null,null,null,null,null,null,"~"]
["SA36",2021,"Choose",632,null,null,null,null,null,null,null,null,null,null,null,null,null,null,null,null,null,null,"~"]
["SA36",2021,"Choose",633,null,null,null,null,null,null,null,null,null,null,null,null,null,null,null,null,null,null,"~"]
["SA36",2021,"Choose",634,null,null,null,null,null,null,null,null,null,null,null,null,null,null,null,null,null,null,"~"]
["SA36",2021,"Choose",635,null,null,null,null,null,null,null,null,null,null,null,null,null,null,null,null,null,null,"~"]
["SA36",2021,"Choose",636,null,null,null,null,null,null,null,null,null,null,null,null,null,null,null,null,null,null,"~"]
["SA36",2021,"Choose",637,null,null,null,null,null,null,null,null,null,null,null,null,null,null,null,null,null,null,"~"]
["SA36",2021,"Choose",638,null,null,null,null,null,null,null,null,null,null,null,null,null,null,null,null,null,null,"~"]
["SA36",2021,"Choose",639,null,null,null,null,null,null,null,null,null,null,null,null,null,null,null,null,null,null,"~"]
["SA36",2021,"Choose",640,null,null,null,null,null,null,null,null,null,null,null,null,null,null,null,null,null,null,"~"]
["SA36",2021,"Choose",641,null,null,null,null,null,null,null,null,null,null,null,null,null,null,null,null,null,null,"~"]
["SA36",2021,"Choose",642,null,null,null,null,null,null,null,null,null,null,null,null,null,null,null,null,null,null,"~"]
["SA36",2021,"Choose",643,null,null,null,null,null,null,null,null,null,null,null,null,null,null,null,null,null,null,"~"]
["SA36",2021,"Choose",644,null,null,null,null,null,null,null,null,null,null,null,null,null,null,null,null,null,null,"~"]
["SA36",2021,"Choose",645,null,null,null,null,null,null,null,null,null,null,null,null,null,null,null,null,null,null,"~"]
["SA36",2021,"Choose",646,null,null,null,null,null,null,null,null,null,null,null,null,null,null,null,null,null,null,"~"]
["SA36",2021,"Choose",647,null,null,null,null,null,null,null,null,null,null,null,null,null,null,null,null,null,null,"~"]
["SA36",2021,"Choose",648,null,null,null,null,null,null,null,null,null,null,null,null,null,null,null,null,null,null,"~"]
["SA36",2021,"Choose",649,null,null,null,null,null,null,null,null,null,null,null,null,null,null,null,null,null,null,"~"]
["SA36",2021,"Choose",650,null,null,null,null,null,null,null,null,null,null,null,null,null,null,null,null,null,null,"~"]
["SA36",2021,"Choose",651,null,null,null,null,null,null,null,null,null,null,null,null,null,null,null,null,null,null,"~"]
["SA36",2021,"Choose",652,null,null,null,null,null,null,null,null,null,null,null,null,null,null,null,null,null,null,"~"]
["SA36",2021,"Choose",653,null,null,null,null,null,null,null,null,null,null,null,null,null,null,null,null,null,null,"~"]
["SA36",2021,"Choose",654,null,null,null,null,null,null,null,null,null,null,null,null,null,null,null,null,null,null,"~"]
["SA36",2021,"Choose",655,null,null,null,null,null,null,null,null,null,null,null,null,null,null,null,null,null,null,"~"]
["SA36",2021,"Choose",656,null,null,null,null,null,null,null,null,null,null,null,null,null,null,null,null,null,null,"~"]
["SA36",2021,"Choose",657,null,null,null,null,null,null,null,null,null,null,null,null,null,null,null,null,null,null,"~"]
["SA36",2021,"Choose",658,null,null,null,null,null,null,null,null,null,null,null,null,null,null,null,null,null,null,"~"]
["SA36",2021,"Choose",659,null,null,null,null,null,null,null,null,null,null,null,null,null,null,null,null,null,null,"~"]
["SA36",2021,"Choose",660,null,null,null,null,null,null,null,null,null,null,null,null,null,null,null,null,null,null,"~"]
["SA36",2021,"Choose",661,null,null,null,null,null,null,null,null,null,null,null,null,null,null,null,null,null,null,"~"]
["SA36",2021,"Choose",662,null,null,null,null,null,null,null,null,null,null,null,null,null,null,null,null,null,null,"~"]
["SA36",2021,"Choose",663,null,null,null,null,null,null,null,null,null,null,null,null,null,null,null,null,null,null,"~"]
["SA36",{"$f":"+MTREF","v":2021},{"$f":"LEFT(muni,(FIND(\" \",muni,1)-1))","v":"Choose"},664,null,null,null,null,null,null,null,null,null,null,null,null,null,null,null,null,null,null,"~"]
["SA36",2021,"Choose",665,null,null,null,null,null,null,null,null,null,null,null,null,null,null,null,null,null,null,"~"]
["SA36",2021,"Choose",666,null,null,null,null,null,null,null,null,null,null,null,null,null,null,null,null,null,null,"~"]
["SA36",2021,"Choose",667,null,null,null,null,null,null,null,null,null,null,null,null,null,null,null,null,null,null,"~"]
["SA36",2021,"Choose",668,null,null,null,null,null,null,null,null,null,null,null,null,null,null,null,null,null,null,"~"]
["SA36",2021,"Choose",669,null,null,null,null,null,null,null,null,null,null,null,null,null,null,null,null,null,null,"~"]
["SA36",2021,"Choose",670,null,null,null,null,null,null,null,null,null,null,null,null,null,null,null,null,null,null,"~"]
["SA36",2021,"Choose",671,null,null,null,null,null,null,null,null,null,null,null,null,null,null,null,null,null,null,"~"]
["SA36",2021,"Choose",672,null,null,null,null,null,null,null,null,null,null,null,null,null,null,null,null,null,null,"~"]
["SA36",2021,"Choose",673,null,null,null,null,null,null,null,null,null,null,null,null,null,null,null,null,null,null,"~"]
["SA36",2021,"Choose",674,null,null,null,null,null,null,null,null,null,null,null,null,null,null,null,null,null,null,"~"]
["SA36",2021,"Choose",675,null,null,null,null,null,null,null,null,null,null,null,null,null,null,null,null,null,null,"~"]
["SA36",2021,"Choose",676,null,null,null,null,null,null,null,null,null,null,null,null,null,null,null,null,null,null,"~"]
["SA36",2021,"Choose",677,null,null,null,null,null,null,null,null,null,null,null,null,null,null,null,null,null,null,"~"]
["SA36",2021,"Choose",678,null,null,null,null,null,null,null,null,null,null,null,null,null,null,null,null,null,null,"~"]
["SA36",2021,"Choose",679,null,null,null,null,null,null,null,null,null,null,null,null,null,null,null,null,null,null,"~"]
["SA36",2021,"Choose",680,null,null,null,null,null,null,null,null,null,null,null,null,null,null,null,null,null,null,"~"]
["SA36",2021,"Choose",681,null,null,null,null,null,null,null,null,null,null,null,null,null,null,null,null,null,null,"~"]
["SA36",2021,"Choose",682,null,null,null,null,null,null,null,null,null,null,null,null,null,null,null,null,null,null,"~"]
["SA36",2021,"Choose",683,null,null,null,null,null,null,null,null,null,null,null,null,null,null,null,null,null,null,"~"]
["SA36",2021,"Choose",684,null,null,null,null,null,null,null,null,null,null,null,null,null,null,null,null,null,null,"~"]
["SA36",2021,"Choose",685,null,null,null,null,null,null,null,null,null,null,null,null,null,null,null,null,null,null,"~"]
["SA36",2021,"Choose",686,null,null,null,null,null,null,null,null,null,null,null,null,null,null,null,null,null,null,"~"]
["SA36",2021,"Choose",687,null,null,null,null,null,null,null,null,null,null,null,null,null,null,null,null,null,null,"~"]
["SA36",2021,"Choose",688,null,null,null,null,null,null,null,null,null,null,null,null,null,null,null,null,null,null,"~"]
["SA36",2021,"Choose",689,null,null,null,null,null,null,null,null,null,null,null,null,null,null,null,null,null,null,"~"]
["SA36",2021,"Choose",690,null,null,null,null,null,null,null,null,null,null,null,null,null,null,null,null,null,null,"~"]
["SA36",2021,"Choose",691,null,null,null,null,null,null,null,null,null,null,null,null,null,null,null,null,null,null,"~"]
["SA36",2021,"Choose",692,null,null,null,null,null,null,null,null,null,null,null,null,null,null,null,null,null,null,"~"]
["SA36",2021,"Choose",693,null,null,null,null,null,null,null,null,null,null,null,null,null,null,null,null,null,null,"~"]
["SA36",2021,"Choose",694,null,null,null,null,null,null,null,null,null,null,null,null,null,null,null,null,null,null,"~"]
["SA36",2021,"Choose",695,null,null,null,null,null,null,null,null,null,null,null,null,null,null,null,null,null,null,"~"]
["SA36",2021,"Choose",696,null,null,null,null,null,null,null,null,null,null,null,null,null,null,null,null,null,null,"~"]
["SA36",2021,"Choose",697,null,null,null,null,null,null,null,null,null,null,null,null,null,null,null,null,null,null,"~"]
["SA36",2021,"Choose",698,null,null,null,null,null,null,null,null,null,null,null,null,null,null,null,null,null,null,"~"]
["SA36",2021,"Choose",699,null,null,null,null,null,null,null,null,null,null,null,null,null,null,null,null,null,null,"~"]
["SA36",2021,"Choose",700,null,null,null,null,null,null,null,null,null,null,null,null,null,null,null,null,null,null,"~"]
["SA36",2021,"Choose",701,null,null,null,null,null,null,null,null,null,null,null,null,null,null,null,null,null,null,"~"]
["SA36",2021,"Choose",702,null,null,null,null,null,null,null,null,null,null,null,null,null,null,null,null,null,null,"~"]
["SA36",2021,"Choose",703,null,null,null,null,null,null,null,null,null,null,null,null,null,null,null,null,null,null,"~"]
["SA36",2021,"Choose",704,null,null,null,null,null,null,null,null,null,null,null,null,null,null,null,null,null,null,"~"]
["SA36",2021,"Choose",705,null,null,null,null,null,null,null,null,null,null,null,null,null,null,null,null,null,null,"~"]
["SA36",2021,"Choose",706,null,null,null,null,null,null,null,null,null,null,null,null,null,null,null,null,null,null,"~"]
["SA36",2021,"Choose",707,null,null,null,null,null,null,null,null,null,null,null,null,null,null,null,null,null,null,"~"]
["SA36",2021,"Choose",708,null,null,null,null,null,null,null,null,null,null,null,null,null,null,null,null,null,null,"~"]
["SA36",2021,"Choose",709,null,null,null,null,null,null,null,null,null,null,null,null,null,null,null,null,null,null,"~"]
["SA36",2021,"Choose",710,null,null,null,null,null,null,null,null,null,null,null,null,null,null,null,null,null,null,"~"]
["SA36",2021,"Choose",711,null,null,null,null,null,null,null,null,null,null,null,null,null,null,null,null,null,null,"~"]
["SA36",2021,"Choose",712,null,null,null,null,null,null,null,null,null,null,null,null,null,null,null,null,null,null,"~"]
["SA36",2021,"Choose",713,null,null,null,null,null,null,null,null,null,null,null,null,null,null,null,null,null,null,"~"]
["SA36",2021,"Choose",714,null,null,null,null,null,null,null,null,null,null,null,null,null,null,null,null,null,null,"~"]
["SA36",2021,"Choose",715,null,null,null,null,null,null,null,null,null,null,null,null,null,null,null,null,null,null,"~"]
["SA36",2021,"Choose",716,null,null,null,null,null,null,null,null,null,null,null,null,null,null,null,null,null,null,"~"]
["SA36",2021,"Choose",717,null,null,null,null,null,null,null,null,null,null,null,null,null,null,null,null,null,null,"~"]
["SA36",2021,"Choose",718,null,null,null,null,null,null,null,null,null,null,null,null,null,null,null,null,null,null,"~"]
["SA36",2021,"Choose",719,null,null,null,null,null,null,null,null,null,null,null,null,null,null,null,null,null,null,"~"]
["SA36",2021,"Choose",720,null,null,null,null,null,null,null,null,null,null,null,null,null,null,null,null,null,null,"~"]
["SA36",2021,"Choose",721,null,null,null,null,null,null,null,null,null,null,null,null,null,null,null,null,null,null,"~"]
["SA36",2021,"Choose",722,null,null,null,null,null,null,null,null,null,null,null,null,null,null,null,null,null,null,"~"]
["SA36",2021,"Choose",723,null,null,null,null,null,null,null,null,null,null,null,null,null,null,null,null,null,null,"~"]
["SA36",2021,"Choose",724,null,null,null,null,null,null,null,null,null,null,null,null,null,null,null,null,null,null,"~"]
["SA36",2021,"Choose",725,null,null,null,null,null,null,null,null,null,null,null,null,null,null,null,null,null,null,"~"]
["SA36",2021,"Choose",726,null,null,null,null,null,null,null,null,null,null,null,null,null,null,null,null,null,null,"~"]
["SA36",2021,"Choose",727,null,null,null,null,null,null,null,null,null,null,null,null,null,null,null,null,null,null,"~"]
["SA36",{"$f":"+MTREF","v":2021},{"$f":"LEFT(muni,(FIND(\" \",muni,1)-1))","v":"Choose"},728,null,null,null,null,null,null,null,null,null,null,null,null,null,null,null,null,null,null,"~"]
["SA36",2021,"Choose",729,null,null,null,null,null,null,null,null,null,null,null,null,null,null,null,null,null,null,"~"]
["SA36",2021,"Choose",730,null,null,null,null,null,null,null,null,null,null,null,null,null,null,null,null,null,null,"~"]
["SA36",2021,"Choose",731,null,null,null,null,null,null,null,null,null,null,null,null,null,null,null,null,null,null,"~"]
["SA36",2021,"Choose",732,null,null,null,null,null,null,null,null,null,null,null,null,null,null,null,null,null,null,"~"]
["SA36",2021,"Choose",733,null,null,null,null,null,null,null,null,null,null,null,null,null,null,null,null,null,null,"~"]
["SA36",2021,"Choose",734,null,null,null,null,null,null,null,null,null,null,null,null,null,null,null,null,null,null,"~"]
["SA36",2021,"Choose",735,null,null,null,null,null,null,null,null,null,null,null,null,null,null,null,null,null,null,"~"]
["SA36",2021,"Choose",736,null,null,null,null,null,null,null,null,null,null,null,null,null,null,null,null,null,null,"~"]
["SA36",2021,"Choose",737,null,null,null,null,null,null,null,null,null,null,null,null,null,null,null,null,null,null,"~"]
["SA36",2021,"Choose",738,null,null,null,null,null,null,null,null,null,null,null,null,null,null,null,null,null,null,"~"]
["SA36",2021,"Choose",739,null,null,null,null,null,null,null,null,null,null,null,null,null,null,null,null,null,null,"~"]
["SA36",2021,"Choose",740,null,null,null,null,null,null,null,null,null,null,null,null,null,null,null,null,null,null,"~"]
["SA36",2021,"Choose",741,null,null,null,null,null,null,null,null,null,null,null,null,null,null,null,null,null,null,"~"]
["SA36",2021,"Choose",742,null,null,null,null,null,null,null,null,null,null,null,null,null,null,null,null,null,null,"~"]
["SA36",2021,"Choose",743,null,null,null,null,null,null,null,null,null,null,null,null,null,null,null,null,null,null,"~"]
["SA36",2021,"Choose",744,null,null,null,null,null,null,null,null,null,null,null,null,null,null,null,null,null,null,"~"]
["SA36",2021,"Choose",745,null,null,null,null,null,null,null,null,null,null,null,null,null,null,null,null,null,null,"~"]
["SA36",2021,"Choose",746,null,null,null,null,null,null,null,null,null,null,null,null,null,null,null,null,null,null,"~"]
["SA36",2021,"Choose",747,null,null,null,null,null,null,null,null,null,null,null,null,null,null,null,null,null,null,"~"]
["SA36",2021,"Choose",748,null,null,null,null,null,null,null,null,null,null,null,null,null,null,null,null,null,null,"~"]
["SA36",2021,"Choose",749,null,null,null,null,null,null,null,null,null,null,null,null,null,null,null,null,null,null,"~"]
["SA36",2021,"Choose",750,null,null,null,null,null,null,null,null,null,null,null,null,null,null,null,null,null,null,"~"]
["SA36",2021,"Choose",751,null,null,null,null,null,null,null,null,null,null,null,null,null,null,null,null,null,null,"~"]
["SA36",2021,"Choose",752,null,null,null,null,null,null,null,null,null,null,null,null,null,null,null,null,null,null,"~"]
["SA36",2021,"Choose",753,null,null,null,null,null,null,null,null,null,null,null,null,null,null,null,null,null,null,"~"]
["SA36",2021,"Choose",754,null,null,null,null,null,null,null,null,null,null,null,null,null,null,null,null,null,null,"~"]
["SA36",2021,"Choose",755,null,null,null,null,null,null,null,null,null,null,null,null,null,null,null,null,null,null,"~"]
["SA36",2021,"Choose",756,null,null,null,null,null,null,null,null,null,null,null,null,null,null,null,null,null,null,"~"]
["SA36",2021,"Choose",757,null,null,null,null,null,null,null,null,null,null,null,null,null,null,null,null,null,null,"~"]
["SA36",2021,"Choose",758,null,null,null,null,null,null,null,null,null,null,null,null,null,null,null,null,null,null,"~"]
["SA36",2021,"Choose",759,null,null,null,null,null,null,null,null,null,null,null,null,null,null,null,null,null,null,"~"]
["SA36",2021,"Choose",760,null,null,null,null,null,null,null,null,null,null,null,null,null,null,null,null,null,null,"~"]
["SA36",2021,"Choose",761,null,null,null,null,null,null,null,null,null,null,null,null,null,null,null,null,null,null,"~"]
["SA36",2021,"Choose",762,null,null,null,null,null,null,null,null,null,null,null,null,null,null,null,null,null,null,"~"]
["SA36",2021,"Choose",763,null,null,null,null,null,null,null,null,null,null,null,null,null,null,null,null,null,null,"~"]
["SA36",2021,"Choose",764,null,null,null,null,null,null,null,null,null,null,null,null,null,null,null,null,null,null,"~"]
["SA36",2021,"Choose",765,null,null,null,null,null,null,null,null,null,null,null,null,null,null,null,null,null,null,"~"]
["SA36",2021,"Choose",766,null,null,null,null,null,null,null,null,null,null,null,null,null,null,null,null,null,null,"~"]
["SA36",2021,"Choose",767,null,null,null,null,null,null,null,null,null,null,null,null,null,null,null,null,null,null,"~"]
["SA36",2021,"Choose",768,null,null,null,null,null,null,null,null,null,null,null,null,null,null,null,null,null,null,"~"]
["SA36",2021,"Choose",769,null,null,null,null,null,null,null,null,null,null,null,null,null,null,null,null,null,null,"~"]
["SA36",2021,"Choose",770,null,null,null,null,null,null,null,null,null,null,null,null,null,null,null,null,null,null,"~"]
["SA36",2021,"Choose",771,null,null,null,null,null,null,null,null,null,null,null,null,null,null,null,null,null,null,"~"]
["SA36",2021,"Choose",772,null,null,null,null,null,null,null,null,null,null,null,null,null,null,null,null,null,null,"~"]
["SA36",2021,"Choose",773,null,null,null,null,null,null,null,null,null,null,null,null,null,null,null,null,null,null,"~"]
["SA36",2021,"Choose",774,null,null,null,null,null,null,null,null,null,null,null,null,null,null,null,null,null,null,"~"]
["SA36",2021,"Choose",775,null,null,null,null,null,null,null,null,null,null,null,null,null,null,null,null,null,null,"~"]
["SA36",2021,"Choose",776,null,null,null,null,null,null,null,null,null,null,null,null,null,null,null,null,null,null,"~"]
["SA36",2021,"Choose",777,null,null,null,null,null,null,null,null,null,null,null,null,null,null,null,null,null,null,"~"]
["SA36",2021,"Choose",778,null,null,null,null,null,null,null,null,null,null,null,null,null,null,null,null,null,null,"~"]
["SA36",2021,"Choose",779,null,null,null,null,null,null,null,null,null,null,null,null,null,null,null,null,null,null,"~"]
["SA36",2021,"Choose",780,null,null,null,null,null,null,null,null,null,null,null,null,null,null,null,null,null,null,"~"]
["SA36",2021,"Choose",781,null,null,null,null,null,null,null,null,null,null,null,null,null,null,null,null,null,null,"~"]
["SA36",2021,"Choose",782,null,null,null,null,null,null,null,null,null,null,null,null,null,null,null,null,null,null,"~"]
["SA36",2021,"Choose",783,null,null,null,null,null,null,null,null,null,null,null,null,null,null,null,null,null,null,"~"]
["SA36",2021,"Choose",784,null,null,null,null,null,null,null,null,null,null,null,null,null,null,null,null,null,null,"~"]
["SA36",2021,"Choose",785,null,null,null,null,null,null,null,null,null,null,null,null,null,null,null,null,null,null,"~"]
["SA36",2021,"Choose",786,null,null,null,null,null,null,null,null,null,null,null,null,null,null,null,null,null,null,"~"]
["SA36",2021,"Choose",787,null,null,null,null,null,null,null,null,null,null,null,null,null,null,null,null,null,null,"~"]
["SA36",2021,"Choose",788,null,null,null,null,null,null,null,null,null,null,null,null,null,null,null,null,null,null,"~"]
["SA36",2021,"Choose",789,null,null,null,null,null,null,null,null,null,null,null,null,null,null,null,null,null,null,"~"]
["SA36",2021,"Choose",790,null,null,null,null,null,null,null,null,null,null,null,null,null,null,null,null,null,null,"~"]
["SA36",2021,"Choose",791,null,null,null,null,null,null,null,null,null,null,null,null,null,null,null,null,null,null,"~"]
["SA36",{"$f":"+MTREF","v":2021},{"$f":"LEFT(muni,(FIND(\" \",muni,1)-1))","v":"Choose"},792,null,null,null,null,null,null,null,null,null,null,null,null,null,null,null,null,null,null,"~"]
["SA36",2021,"Choose",793,null,null,null,null,null,null,null,null,null,null,null,null,null,null,null,null,null,null,"~"]
["SA36",2021,"Choose",794,null,null,null,null,null,null,null,null,null,null,null,null,null,null,null,null,null,null,"~"]
["SA36",2021,"Choose",795,null,null,null,null,null,null,null,null,null,null,null,null,null,null,null,null,null,null,"~"]
["SA36",2021,"Choose",796,null,null,null,null,null,null,null,null,null,null,null,null,null,null,null,null,null,null,"~"]
["SA36",2021,"Choose",797,null,null,null,null,null,null,null,null,null,null,null,null,null,null,null,null,null,null,"~"]
["SA36",2021,"Choose",798,null,null,null,null,null,null,null,null,null,null,null,null,null,null,null,null,null,null,"~"]
["SA36",2021,"Choose",799,null,null,null,null,null,null,null,null,null,null,null,null,null,null,null,null,null,null,"~"]
["SA36",2021,"Choose",800,null,null,null,null,null,null,null,null,null,null,null,null,null,null,null,null,null,null,"~"]
["SA36",2021,"Choose",801,null,null,null,null,null,null,null,null,null,null,null,null,null,null,null,null,null,null,"~"]
["SA36",2021,"Choose",802,null,null,null,null,null,null,null,null,null,null,null,null,null,null,null,null,null,null,"~"]
["SA36",2021,"Choose",803,null,null,null,null,null,null,null,null,null,null,null,null,null,null,null,null,null,null,"~"]
["SA36",2021,"Choose",804,null,null,null,null,null,null,null,null,null,null,null,null,null,null,null,null,null,null,"~"]
["SA36",2021,"Choose",805,null,null,null,null,null,null,null,null,null,null,null,null,null,null,null,null,null,null,"~"]
["SA36",2021,"Choose",806,null,null,null,null,null,null,null,null,null,null,null,null,null,null,null,null,null,null,"~"]
["SA36",2021,"Choose",807,null,null,null,null,null,null,null,null,null,null,null,null,null,null,null,null,null,null,"~"]
["SA36",2021,"Choose",808,null,null,null,null,null,null,null,null,null,null,null,null,null,null,null,null,null,null,"~"]
["SA36",2021,"Choose",809,null,null,null,null,null,null,null,null,null,null,null,null,null,null,null,null,null,null,"~"]
["SA36",2021,"Choose",810,null,null,null,null,null,null,null,null,null,null,null,null,null,null,null,null,null,null,"~"]
["SA36",2021,"Choose",811,null,null,null,null,null,null,null,null,null,null,null,null,null,null,null,null,null,null,"~"]
["SA36",2021,"Choose",812,null,null,null,null,null,null,null,null,null,null,null,null,null,null,null,null,null,null,"~"]
["SA36",2021,"Choose",813,null,null,null,null,null,null,null,null,null,null,null,null,null,null,null,null,null,null,"~"]
["SA36",2021,"Choose",814,null,null,null,null,null,null,null,null,null,null,null,null,null,null,null,null,null,null,"~"]
["SA36",2021,"Choose",815,null,null,null,null,null,null,null,null,null,null,null,null,null,null,null,null,null,null,"~"]
["SA36",2021,"Choose",816,null,null,null,null,null,null,null,null,null,null,null,null,null,null,null,null,null,null,"~"]
["SA36",2021,"Choose",817,null,null,null,null,null,null,null,null,null,null,null,null,null,null,null,null,null,null,"~"]
["SA36",2021,"Choose",818,null,null,null,null,null,null,null,null,null,null,null,null,null,null,null,null,null,null,"~"]
["SA36",2021,"Choose",819,null,null,null,null,null,null,null,null,null,null,null,null,null,null,null,null,null,null,"~"]
["SA36",2021,"Choose",820,null,null,null,null,null,null,null,null,null,null,null,null,null,null,null,null,null,null,"~"]
["SA36",2021,"Choose",821,null,null,null,null,null,null,null,null,null,null,null,null,null,null,null,null,null,null,"~"]
["SA36",2021,"Choose",822,null,null,null,null,null,null,null,null,null,null,null,null,null,null,null,null,null,null,"~"]
["SA36",2021,"Choose",823,null,null,null,null,null,null,null,null,null,null,null,null,null,null,null,null,null,null,"~"]
["SA36",2021,"Choose",824,null,null,null,null,null,null,null,null,null,null,null,null,null,null,null,null,null,null,"~"]
["SA36",2021,"Choose",825,null,null,null,null,null,null,null,null,null,null,null,null,null,null,null,null,null,null,"~"]
["SA36",2021,"Choose",826,null,null,null,null,null,null,null,null,null,null,null,null,null,null,null,null,null,null,"~"]
["SA36",2021,"Choose",827,null,null,null,null,null,null,null,null,null,null,null,null,null,null,null,null,null,null,"~"]
["SA36",2021,"Choose",828,null,null,null,null,null,null,null,null,null,null,null,null,null,null,null,null,null,null,"~"]
["SA36",2021,"Choose",829,null,null,null,null,null,null,null,null,null,null,null,null,null,null,null,null,null,null,"~"]
["SA36",2021,"Choose",830,null,null,null,null,null,null,null,null,null,null,null,null,null,null,null,null,null,null,"~"]
["SA36",2021,"Choose",831,null,null,null,null,null,null,null,null,null,null,null,null,null,null,null,null,null,null,"~"]
["SA36",2021,"Choose",832,null,null,null,null,null,null,null,null,null,null,null,null,null,null,null,null,null,null,"~"]
["SA36",2021,"Choose",833,null,null,null,null,null,null,null,null,null,null,null,null,null,null,null,null,null,null,"~"]
["SA36",2021,"Choose",834,null,null,null,null,null,null,null,null,null,null,null,null,null,null,null,null,null,null,"~"]
["SA36",2021,"Choose",835,null,null,null,null,null,null,null,null,null,null,null,null,null,null,null,null,null,null,"~"]
["SA36",2021,"Choose",836,null,null,null,null,null,null,null,null,null,null,null,null,null,null,null,null,null,null,"~"]
["SA36",2021,"Choose",837,null,null,null,null,null,null,null,null,null,null,null,null,null,null,null,null,null,null,"~"]
["SA36",2021,"Choose",838,null,null,null,null,null,null,null,null,null,null,null,null,null,null,null,null,null,null,"~"]
["SA36",2021,"Choose",839,null,null,null,null,null,null,null,null,null,null,null,null,null,null,null,null,null,null,"~"]
["SA36",2021,"Choose",840,null,null,null,null,null,null,null,null,null,null,null,null,null,null,null,null,null,null,"~"]
["SA36",2021,"Choose",841,null,null,null,null,null,null,null,null,null,null,null,null,null,null,null,null,null,null,"~"]
["SA36",2021,"Choose",842,null,null,null,null,null,null,null,null,null,null,null,null,null,null,null,null,null,null,"~"]
["SA36",2021,"Choose",843,null,null,null,null,null,null,null,null,null,null,null,null,null,null,null,null,null,null,"~"]
["SA36",2021,"Choose",844,null,null,null,null,null,null,null,null,null,null,null,null,null,null,null,null,null,null,"~"]
["SA36",2021,"Choose",845,null,null,null,null,null,null,null,null,null,null,null,null,null,null,null,null,null,null,"~"]
["SA36",2021,"Choose",846,null,null,null,null,null,null,null,null,null,null,null,null,null,null,null,null,null,null,"~"]
["SA36",2021,"Choose",847,null,null,null,null,null,null,null,null,null,null,null,null,null,null,null,null,null,null,"~"]
["SA36",2021,"Choose",848,null,null,null,null,null,null,null,null,null,null,null,null,null,null,null,null,null,null,"~"]
["SA36",2021,"Choose",849,null,null,null,null,null,null,null,null,null,null,null,null,null,null,null,null,null,null,"~"]
["SA36",2021,"Choose",850,null,null,null,null,null,null,null,null,null,null,null,null,null,null,null,null,null,null,"~"]
["SA36",2021,"Choose",851,null,null,null,null,null,null,null,null,null,null,null,null,null,null,null,null,null,null,"~"]
["SA36",2021,"Choose",852,null,null,null,null,null,null,null,null,null,null,null,null,null,null,null,null,null,null,"~"]
["SA36",2021,"Choose",853,null,null,null,null,null,null,null,null,null,null,null,null,null,null,null,null,null,null,"~"]
["SA36",2021,"Choose",854,null,null,null,null,null,null,null,null,null,null,null,null,null,null,null,null,null,null,"~"]
["SA36",2021,"Choose",855,null,null,null,null,null,null,null,null,null,null,null,null,null,null,null,null,null,null,"~"]
["SA36",{"$f":"+MTREF","v":2021},{"$f":"LEFT(muni,(FIND(\" \",muni,1)-1))","v":"Choose"},856,null,null,null,null,null,null,null,null,null,null,null,null,null,null,null,null,null,null,"~"]
["SA36",2021,"Choose",857,null,null,null,null,null,null,null,null,null,null,null,null,null,null,null,null,null,null,"~"]
["SA36",2021,"Choose",858,null,null,null,null,null,null,null,null,null,null,null,null,null,null,null,null,null,null,"~"]
["SA36",2021,"Choose",859,null,null,null,null,null,null,null,null,null,null,null,null,null,null,null,null,null,null,"~"]
["SA36",2021,"Choose",860,null,null,null,null,null,null,null,null,null,null,null,null,null,null,null,null,null,null,"~"]
["SA36",2021,"Choose",861,null,null,null,null,null,null,null,null,null,null,null,null,null,null,null,null,null,null,"~"]
["SA36",2021,"Choose",862,null,null,null,null,null,null,null,null,null,null,null,null,null,null,null,null,null,null,"~"]
["SA36",2021,"Choose",863,null,null,null,null,null,null,null,null,null,null,null,null,null,null,null,null,null,null,"~"]
["SA36",2021,"Choose",864,null,null,null,null,null,null,null,null,null,null,null,null,null,null,null,null,null,null,"~"]
["SA36",2021,"Choose",865,null,null,null,null,null,null,null,null,null,null,null,null,null,null,null,null,null,null,"~"]
["SA36",2021,"Choose",866,null,null,null,null,null,null,null,null,null,null,null,null,null,null,null,null,null,null,"~"]
["SA36",2021,"Choose",867,null,null,null,null,null,null,null,null,null,null,null,null,null,null,null,null,null,null,"~"]
["SA36",2021,"Choose",868,null,null,null,null,null,null,null,null,null,null,null,null,null,null,null,null,null,null,"~"]
["SA36",2021,"Choose",869,null,null,null,null,null,null,null,null,null,null,null,null,null,null,null,null,null,null,"~"]
["SA36",2021,"Choose",870,null,null,null,null,null,null,null,null,null,null,null,null,null,null,null,null,null,null,"~"]
["SA36",2021,"Choose",871,null,null,null,null,null,null,null,null,null,null,null,null,null,null,null,null,null,null,"~"]
["SA36",2021,"Choose",872,null,null,null,null,null,null,null,null,null,null,null,null,null,null,null,null,null,null,"~"]
["SA36",2021,"Choose",873,null,null,null,null,null,null,null,null,null,null,null,null,null,null,null,null,null,null,"~"]
["SA36",2021,"Choose",874,null,null,null,null,null,null,null,null,null,null,null,null,null,null,null,null,null,null,"~"]
["SA36",2021,"Choose",875,null,null,null,null,null,null,null,null,null,null,null,null,null,null,null,null,null,null,"~"]
["SA36",2021,"Choose",876,null,null,null,null,null,null,null,null,null,null,null,null,null,null,null,null,null,null,"~"]
["SA36",2021,"Choose",877,null,null,null,null,null,null,null,null,null,null,null,null,null,null,null,null,null,null,"~"]
["SA36",2021,"Choose",878,null,null,null,null,null,null,null,null,null,null,null,null,null,null,null,null,null,null,"~"]
["SA36",2021,"Choose",879,null,null,null,null,null,null,null,null,null,null,null,null,null,null,null,null,null,null,"~"]
["SA36",2021,"Choose",880,null,null,null,null,null,null,null,null,null,null,null,null,null,null,null,null,null,null,"~"]
["SA36",2021,"Choose",881,null,null,null,null,null,null,null,null,null,null,null,null,null,null,null,null,null,null,"~"]
["SA36",2021,"Choose",882,null,null,null,null,null,null,null,null,null,null,null,null,null,null,null,null,null,null,"~"]
["SA36",2021,"Choose",883,null,null,null,null,null,null,null,null,null,null,null,null,null,null,null,null,null,null,"~"]
["SA36",2021,"Choose",884,null,null,null,null,null,null,null,null,null,null,null,null,null,null,null,null,null,null,"~"]
["SA36",2021,"Choose",885,null,null,null,null,null,null,null,null,null,null,null,null,null,null,null,null,null,null,"~"]
["SA36",2021,"Choose",886,null,null,null,null,null,null,null,null,null,null,null,null,null,null,null,null,null,null,"~"]
["SA36",2021,"Choose",887,null,null,null,null,null,null,null,null,null,null,null,null,null,null,null,null,null,null,"~"]
["SA36",2021,"Choose",888,null,null,null,null,null,null,null,null,null,null,null,null,null,null,null,null,null,null,"~"]
["SA36",2021,"Choose",889,null,null,null,null,null,null,null,null,null,null,null,null,null,null,null,null,null,null,"~"]
["SA36",2021,"Choose",890,null,null,null,null,null,null,null,null,null,null,null,null,null,null,null,null,null,null,"~"]
["SA36",2021,"Choose",891,null,null,null,null,null,null,null,null,null,null,null,null,null,null,null,null,null,null,"~"]
["SA36",2021,"Choose",892,null,null,null,null,null,null,null,null,null,null,null,null,null,null,null,null,null,null,"~"]
["SA36",2021,"Choose",893,null,null,null,null,null,null,null,null,null,null,null,null,null,null,null,null,null,null,"~"]
["SA36",2021,"Choose",894,null,null,null,null,null,null,null,null,null,null,null,null,null,null,null,null,null,null,"~"]
["SA36",2021,"Choose",895,null,null,null,null,null,null,null,null,null,null,null,null,null,null,null,null,null,null,"~"]
["SA36",2021,"Choose",896,null,null,null,null,null,null,null,null,null,null,null,null,null,null,null,null,null,null,"~"]
["SA36",2021,"Choose",897,null,null,null,null,null,null,null,null,null,null,null,null,null,null,null,null,null,null,"~"]
["SA36",2021,"Choose",898,null,null,null,null,null,null,null,null,null,null,null,null,null,null,null,null,null,null,"~"]
["SA36",2021,"Choose",899,null,null,null,null,null,null,null,null,null,null,null,null,null,null,null,null,null,null,"~"]
["SA36",2021,"Choose",900,null,null,null,null,null,null,null,null,null,null,null,null,null,null,null,null,null,null,"~"]
["SA36",2021,"Choose",901,null,null,null,null,null,null,null,null,null,null,null,null,null,null,null,null,null,null,"~"]
["SA36",2021,"Choose",902,null,null,null,null,null,null,null,null,null,null,null,null,null,null,null,null,null,null,"~"]
["SA36",2021,"Choose",903,null,null,null,null,null,null,null,null,null,null,null,null,null,null,null,null,null,null,"~"]
["SA36",2021,"Choose",904,null,null,null,null,null,null,null,null,null,null,null,null,null,null,null,null,null,null,"~"]
["SA36",2021,"Choose",905,null,null,null,null,null,null,null,null,null,null,null,null,null,null,null,null,null,null,"~"]
["SA36",2021,"Choose",906,null,null,null,null,null,null,null,null,null,null,null,null,null,null,null,null,null,null,"~"]
["SA36",2021,"Choose",907,null,null,null,null,null,null,null,null,null,null,null,null,null,null,null,null,null,null,"~"]
["SA36",2021,"Choose",908,null,null,null,null,null,null,null,null,null,null,null,null,null,null,null,null,null,null,"~"]
["SA36",2021,"Choose",909,null,null,null,null,null,null,null,null,null,null,null,null,null,null,null,null,null,null,"~"]
["SA36",2021,"Choose",910,null,null,null,null,null,null,null,null,null,null,null,null,null,null,null,null,null,null,"~"]
["SA36",2021,"Choose",911,null,null,null,null,null,null,null,null,null,null,null,null,null,null,null,null,null,null,"~"]
["SA36",2021,"Choose",912,null,null,null,null,null,null,null,null,null,null,null,null,null,null,null,null,null,null,"~"]
["SA36",2021,"Choose",913,null,null,null,null,null,null,null,null,null,null,null,null,null,null,null,null,null,null,"~"]
["SA36",2021,"Choose",914,null,null,null,null,null,null,null,null,null,null,null,null,null,null,null,null,null,null,"~"]
["SA36",2021,"Choose",915,null,null,null,null,null,null,null,null,null,null,null,null,null,null,null,null,null,null,"~"]
["SA36",2021,"Choose",916,null,null,null,null,null,null,null,null,null,null,null,null,null,null,null,null,null,null,"~"]
["SA36",2021,"Choose",917,null,null,null,null,null,null,null,null,null,null,null,null,null,null,null,null,null,null,"~"]
["SA36",2021,"Choose",918,null,null,null,null,null,null,null,null,null,null,null,null,null,null,null,null,null,null,"~"]
["SA36",2021,"Choose",919,null,null,null,null,null,null,null,null,null,null,null,null,null,null,null,null,null,null,"~"]
["SA36",{"$f":"+MTREF","v":2021},{"$f":"LEFT(muni,(FIND(\" \",muni,1)-1))","v":"Choose"},920,null,null,null,null,null,null,null,null,null,null,null,null,null,null,null,null,null,null,"~"]
["SA36",2021,"Choose",921,null,null,null,null,null,null,null,null,null,null,null,null,null,null,null,null,null,null,"~"]
["SA36",2021,"Choose",922,null,null,null,null,null,null,null,null,null,null,null,null,null,null,null,null,null,null,"~"]
["SA36",2021,"Choose",923,null,null,null,null,null,null,null,null,null,null,null,null,null,null,null,null,null,null,"~"]
["SA36",2021,"Choose",924,null,null,null,null,null,null,null,null,null,null,null,null,null,null,null,null,null,null,"~"]
["SA36",2021,"Choose",925,null,null,null,null,null,null,null,null,null,null,null,null,null,null,null,null,null,null,"~"]
["SA36",2021,"Choose",926,null,null,null,null,null,null,null,null,null,null,null,null,null,null,null,null,null,null,"~"]
["SA36",2021,"Choose",927,null,null,null,null,null,null,null,null,null,null,null,null,null,null,null,null,null,null,"~"]
["SA36",2021,"Choose",928,null,null,null,null,null,null,null,null,null,null,null,null,null,null,null,null,null,null,"~"]
["SA36",2021,"Choose",929,null,null,null,null,null,null,null,null,null,null,null,null,null,null,null,null,null,null,"~"]
["SA36",2021,"Choose",930,null,null,null,null,null,null,null,null,null,null,null,null,null,null,null,null,null,null,"~"]
["SA36",2021,"Choose",931,null,null,null,null,null,null,null,null,null,null,null,null,null,null,null,null,null,null,"~"]
["SA36",2021,"Choose",932,null,null,null,null,null,null,null,null,null,null,null,null,null,null,null,null,null,null,"~"]
["SA36",2021,"Choose",933,null,null,null,null,null,null,null,null,null,null,null,null,null,null,null,null,null,null,"~"]
["SA36",2021,"Choose",934,null,null,null,null,null,null,null,null,null,null,null,null,null,null,null,null,null,null,"~"]
["SA36",2021,"Choose",935,null,null,null,null,null,null,null,null,null,null,null,null,null,null,null,null,null,null,"~"]
["SA36",2021,"Choose",936,null,null,null,null,null,null,null,null,null,null,null,null,null,null,null,null,null,null,"~"]
["SA36",2021,"Choose",937,null,null,null,null,null,null,null,null,null,null,null,null,null,null,null,null,null,null,"~"]
["SA36",2021,"Choose",938,null,null,null,null,null,null,null,null,null,null,null,null,null,null,null,null,null,null,"~"]
["SA36",2021,"Choose",939,null,null,null,null,null,null,null,null,null,null,null,null,null,null,null,null,null,null,"~"]
["SA36",2021,"Choose",940,null,null,null,null,null,null,null,null,null,null,null,null,null,null,null,null,null,null,"~"]
["SA36",2021,"Choose",941,null,null,null,null,null,null,null,null,null,null,null,null,null,null,null,null,null,null,"~"]
["SA36",2021,"Choose",942,null,null,null,null,null,null,null,null,null,null,null,null,null,null,null,null,null,null,"~"]
["SA36",2021,"Choose",943,null,null,null,null,null,null,null,null,null,null,null,null,null,null,null,null,null,null,"~"]
["SA36",2021,"Choose",944,null,null,null,null,null,null,null,null,null,null,null,null,null,null,null,null,null,null,"~"]
["SA36",2021,"Choose",945,null,null,null,null,null,null,null,null,null,null,null,null,null,null,null,null,null,null,"~"]
["SA36",2021,"Choose",946,null,null,null,null,null,null,null,null,null,null,null,null,null,null,null,null,null,null,"~"]
["SA36",2021,"Choose",947,null,null,null,null,null,null,null,null,null,null,null,null,null,null,null,null,null,null,"~"]
["SA36",2021,"Choose",948,null,null,null,null,null,null,null,null,null,null,null,null,null,null,null,null,null,null,"~"]
["SA36",2021,"Choose",949,null,null,null,null,null,null,null,null,null,null,null,null,null,null,null,null,null,null,"~"]
["SA36",2021,"Choose",950,null,null,null,null,null,null,null,null,null,null,null,null,null,null,null,null,null,null,"~"]
["SA36",2021,"Choose",951,null,null,null,null,null,null,null,null,null,null,null,null,null,null,null,null,null,null,"~"]
["SA36",2021,"Choose",952,null,null,null,null,null,null,null,null,null,null,null,null,null,null,null,null,null,null,"~"]
["SA36",2021,"Choose",953,null,null,null,null,null,null,null,null,null,null,null,null,null,null,null,null,null,null,"~"]
["SA36",2021,"Choose",954,null,null,null,null,null,null,null,null,null,null,null,null,null,null,null,null,null,null,"~"]
["SA36",2021,"Choose",955,null,null,null,null,null,null,null,null,null,null,null,null,null,null,null,null,null,null,"~"]
["SA36",2021,"Choose",956,null,null,null,null,null,null,null,null,null,null,null,null,null,null,null,null,null,null,"~"]
["SA36",2021,"Choose",957,null,null,null,null,null,null,null,null,null,null,null,null,null,null,null,null,null,null,"~"]
["SA36",2021,"Choose",958,null,null,null,null,null,null,null,null,null,null,null,null,null,null,null,null,null,null,"~"]
["SA36",2021,"Choose",959,null,null,null,null,null,null,null,null,null,null,null,null,null,null,null,null,null,null,"~"]
["SA36",2021,"Choose",960,null,null,null,null,null,null,null,null,null,null,null,null,null,null,null,null,null,null,"~"]
["SA36",2021,"Choose",961,null,null,null,null,null,null,null,null,null,null,null,null,null,null,null,null,null,null,"~"]
["SA36",2021,"Choose",962,null,null,null,null,null,null,null,null,null,null,null,null,null,null,null,null,null,null,"~"]
["SA36",2021,"Choose",963,null,null,null,null,null,null,null,null,null,null,null,null,null,null,null,null,null,null,"~"]
["SA36",2021,"Choose",964,null,null,null,null,null,null,null,null,null,null,null,null,null,null,null,null,null,null,"~"]
["SA36",2021,"Choose",965,null,null,null,null,null,null,null,null,null,null,null,null,null,null,null,null,null,null,"~"]
["SA36",2021,"Choose",966,null,null,null,null,null,null,null,null,null,null,null,null,null,null,null,null,null,null,"~"]
["SA36",2021,"Choose",967,null,null,null,null,null,null,null,null,null,null,null,null,null,null,null,null,null,null,"~"]
["SA36",2021,"Choose",968,null,null,null,null,null,null,null,null,null,null,null,null,null,null,null,null,null,null,"~"]
["SA36",2021,"Choose",969,null,null,null,null,null,null,null,null,null,null,null,null,null,null,null,null,null,null,"~"]
["SA36",2021,"Choose",970,null,null,null,null,null,null,null,null,null,null,null,null,null,null,null,null,null,null,"~"]
["SA36",2021,"Choose",971,null,null,null,null,null,null,null,null,null,null,null,null,null,null,null,null,null,null,"~"]
["SA36",2021,"Choose",972,null,null,null,null,null,null,null,null,null,null,null,null,null,null,null,null,null,null,"~"]
["SA36",2021,"Choose",973,null,null,null,null,null,null,null,null,null,null,null,null,null,null,null,null,null,null,"~"]
["SA36",2021,"Choose",974,null,null,null,null,null,null,null,null,null,null,null,null,null,null,null,null,null,null,"~"]
["SA36",2021,"Choose",975,null,null,null,null,null,null,null,null,null,null,null,null,null,null,null,null,null,null,"~"]
["SA36",2021,"Choose",976,null,null,null,null,null,null,null,null,null,null,null,null,null,null,null,null,null,null,"~"]
["SA36",2021,"Choose",977,null,null,null,null,null,null,null,null,null,null,null,null,null,null,null,null,null,null,"~"]
["SA36",2021,"Choose",978,null,null,null,null,null,null,null,null,null,null,null,null,null,null,null,null,null,null,"~"]
["SA36",2021,"Choose",979,null,null,null,null,null,null,null,null,null,null,null,null,null,null,null,null,null,null,"~"]
["SA36",2021,"Choose",980,null,null,null,null,null,null,null,null,null,null,null,null,null,null,null,null,null,null,"~"]
["SA36",2021,"Choose",981,null,null,null,null,null,null,null,null,null,null,null,null,null,null,null,null,null,null,"~"]
["SA36",2021,"Choose",982,null,null,null,null,null,null,null,null,null,null,null,null,null,null,null,null,null,null,"~"]
["SA36",2021,"Choose",983,null,null,null,null,null,null,null,null,null,null,null,null,null,null,null,null,null,null,"~"]
["SA36",{"$f":"+MTREF","v":2021},{"$f":"LEFT(muni,(FIND(\" \",muni,1)-1))","v":"Choose"},984,null,null,null,null,null,null,null,null,null,null,null,null,null,null,null,null,null,null,"~"]
["SA36",2021,"Choose",985,null,null,null,null,null,null,null,null,null,null,null,null,null,null,null,null,null,null,"~"]
["SA36",2021,"Choose",986,null,null,null,null,null,null,null,null,null,null,null,null,null,null,null,null,null,null,"~"]
["SA36",2021,"Choose",987,null,null,null,null,null,null,null,null,null,null,null,null,null,null,null,null,null,null,"~"]
["SA36",2021,"Choose",988,null,null,null,null,null,null,null,null,null,null,null,null,null,null,null,null,null,null,"~"]
["SA36",2021,"Choose",989,null,null,null,null,null,null,null,null,null,null,null,null,null,null,null,null,null,null,"~"]
["SA36",2021,"Choose",990,null,null,null,null,null,null,null,null,null,null,null,null,null,null,null,null,null,null,"~"]
["SA36",2021,"Choose",991,null,null,null,null,null,null,null,null,null,null,null,null,null,null,null,null,null,null,"~"]
["SA36",2021,"Choose",992,null,null,null,null,null,null,null,null,null,null,null,null,null,null,null,null,null,null,"~"]
["SA36",2021,"Choose",993,null,null,null,null,null,null,null,null,null,null,null,null,null,null,null,null,null,null,"~"]
["SA36",2021,"Choose",994,null,null,null,null,null,null,null,null,null,null,null,null,null,null,null,null,null,null,"~"]
["SA36",2021,"Choose",995,null,null,null,null,null,null,null,null,null,null,null,null,null,null,null,null,null,null,"~"]
["SA36",2021,"Choose",996,null,null,null,null,null,null,null,null,null,null,null,null,null,null,null,null,null,null,"~"]
["SA36",2021,"Choose",997,null,null,null,null,null,null,null,null,null,null,null,null,null,null,null,null,null,null,"~"]
["SA36",2021,"Choose",998,null,null,null,null,null,null,null,null,null,null,null,null,null,null,null,null,null,null,"~"]
["SA36",2021,"Choose",999,null,null,null,null,null,null,null,null,null,null,null,null,null,null,null,null,null,null,"~"]
["SA36",2021,"Choose",1000,null,null,null,null,null,null,null,null,null,null,null,null,null,null,null,null,null,null,"~"]
["SA37",2021,"Choose",1,null,null,null,null,null,null,null,null,null,null,null,null,null,null,null,null,null,null,"~"]
["SA37",2021,"Choose",2,null,null,null,null,null,null,null,null,null,null,null,null,null,null,null,null,null,null,"~"]
["SA37",2021,"Choose",3,null,null,null,null,null,null,null,null,null,null,null,null,null,null,null,null,null,null,"~"]
["SA37",2021,"Choose",4,null,null,null,null,null,null,null,null,null,null,null,null,null,null,null,null,null,null,"~"]
["SA37",2021,"Choose",5,null,null,null,null,null,null,null,null,null,null,null,null,null,null,null,null,null,null,"~"]
["SA37",2021,"Choose",6,null,null,null,null,null,null,null,null,null,null,null,null,null,null,null,null,null,null,"~"]
["SA37",2021,"Choose",7,null,null,null,null,null,null,null,null,null,null,null,null,null,null,null,null,null,null,"~"]
["SA37",2021,"Choose",8,null,null,null,null,null,null,null,null,null,null,null,null,null,null,null,null,null,null,"~"]
["SA37",2021,"Choose",9,null,null,null,null,null,null,null,null,null,null,null,null,null,null,null,null,null,null,"~"]
["SA37",2021,"Choose",10,null,null,null,null,null,null,null,null,null,null,null,null,null,null,null,null,null,null,"~"]
["SA37",2021,"Choose",11,null,null,null,null,null,null,null,null,null,null,null,null,null,null,null,null,null,null,"~"]
["SA37",2021,"Choose",12,null,null,null,null,null,null,null,null,null,null,null,null,null,null,null,null,null,null,"~"]
["SA37",2021,"Choose",13,null,null,null,null,null,null,null,null,null,null,null,null,null,null,null,null,null,null,"~"]
["SA37",2021,"Choose",14,null,null,null,null,null,null,null,null,null,null,null,null,null,null,null,null,null,null,"~"]
["SA37",2021,"Choose",15,null,null,null,null,null,null,null,null,null,null,null,null,null,null,null,null,null,null,"~"]
["SA37",2021,"Choose",16,null,null,null,null,null,null,null,null,null,null,null,null,null,null,null,null,null,null,"~"]
["SA37",2021,"Choose",17,null,null,null,null,null,null,null,null,null,null,null,null,null,null,null,null,null,null,"~"]
["SA37",2021,"Choose",18,null,null,null,null,null,null,null,null,null,null,null,null,null,null,null,null,null,null,"~"]
["SA37",2021,"Choose",19,null,null,null,null,null,null,null,null,null,null,null,null,null,null,null,null,null,null,"~"]
["SA37",2021,"Choose",20,null,null,null,null,null,null,null,null,null,null,null,null,null,null,null,null,null,null,"~"]
["SA37",2021,"Choose",21,null,null,null,null,null,null,null,null,null,null,null,null,null,null,null,null,null,null,"~"]
["SA37",2021,"Choose",22,null,null,null,null,null,null,null,null,null,null,null,null,null,null,null,null,null,null,"~"]
["SA37",2021,"Choose",23,null,null,null,null,null,null,null,null,null,null,null,null,null,null,null,null,null,null,"~"]
["SA37",2021,"Choose",24,null,null,null,null,null,null,null,null,null,null,null,null,null,null,null,null,null,null,"~"]
["SA37",2021,"Choose",25,null,null,null,null,null,null,null,null,null,null,null,null,null,null,null,null,null,null,"~"]
["SA37",2021,"Choose",26,null,null,null,null,null,null,null,null,null,null,null,null,null,null,null,null,null,null,"~"]
["SA37",2021,"Choose",27,null,null,null,null,null,null,null,null,null,null,null,null,null,null,null,null,null,null,"~"]
["SA37",2021,"Choose",28,null,null,null,null,null,null,null,null,null,null,null,null,null,null,null,null,null,null,"~"]
["SA37",2021,"Choose",29,null,null,null,null,null,null,null,null,null,null,null,null,null,null,null,null,null,null,"~"]
["SA37",2021,"Choose",30,null,null,null,null,null,null,null,null,null,null,null,null,null,null,null,null,null,null,"~"]
["SA37",2021,"Choose",31,null,null,null,null,null,null,null,null,null,null,null,null,null,null,null,null,null,null,"~"]
["SA37",2021,"Choose",32,null,null,null,null,null,null,null,null,null,null,null,null,null,null,null,null,null,null,"~"]
["SA37",2021,"Choose",33,null,null,null,null,null,null,null,null,null,null,null,null,null,null,null,null,null,null,"~"]
["SA37",2021,"Choose",34,null,null,null,null,null,null,null,null,null,null,null,null,null,null,null,null,null,null,"~"]
["SA37",2021,"Choose",35,null,null,null,null,null,null,null,null,null,null,null,null,null,null,null,null,null,null,"~"]
["SA37",2021,"Choose",36,null,null,null,null,null,null,null,null,null,null,null,null,null,null,null,null,null,null,"~"]
["SA37",2021,"Choose",37,null,null,null,null,null,null,null,null,null,null,null,null,null,null,null,null,null,null,"~"]
["SA37",2021,"Choose",38,null,null,null,null,null,null,null,null,null,null,null,null,null,null,null,null,null,null,"~"]
["SA37",2021,"Choose",39,null,null,null,null,null,null,null,null,null,null,null,null,null,null,null,null,null,null,"~"]
["SA37",2021,"Choose",40,null,null,null,null,null,null,null,null,null,null,null,null,null,null,null,null,null,null,"~"]
["SA37",2021,"Choose",41,null,null,null,null,null,null,null,null,null,null,null,null,null,null,null,null,null,null,"~"]
["SA37",2021,"Choose",42,null,null,null,null,null,null,null,null,null,null,null,null,null,null,null,null,null,null,"~"]
["SA37",2021,"Choose",43,null,null,null,null,null,null,null,null,null,null,null,null,null,null,null,null,null,null,"~"]
["SA37",2021,"Choose",44,null,null,null,null,null,null,null,null,null,null,null,null,null,null,null,null,null,null,"~"]
["SA37",2021,"Choose",45,null,null,null,null,null,null,null,null,null,null,null,null,null,null,null,null,null,null,"~"]
["SA37",2021,"Choose",46,null,null,null,null,null,null,null,null,null,null,null,null,null,null,null,null,null,null,"~"]
["SA37",2021,"Choose",47,null,null,null,null,null,null,null,null,null,null,null,null,null,null,null,null,null,null,"~"]
["SA37",{"$f":"+MTREF","v":2021},{"$f":"LEFT(muni,(FIND(\" \",muni,1)-1))","v":"Choose"},48,null,null,null,null,null,null,null,null,null,null,null,null,null,null,null,null,null,null,"~"]
["SA37",2021,"Choose",49,null,null,null,null,null,null,null,null,null,null,null,null,null,null,null,null,null,null,"~"]
["SA37",2021,"Choose",50,null,null,null,null,null,null,null,null,null,null,null,null,null,null,null,null,null,null,"~"]
["SA37",2021,"Choose",51,null,null,null,null,null,null,null,null,null,null,null,null,null,null,null,null,null,null,"~"]
["SA37",2021,"Choose",52,null,null,null,null,null,null,null,null,null,null,null,null,null,null,null,null,null,null,"~"]
["SA37",2021,"Choose",53,null,null,null,null,null,null,null,null,null,null,null,null,null,null,null,null,null,null,"~"]
["SA37",2021,"Choose",54,null,null,null,null,null,null,null,null,null,null,null,null,null,null,null,null,null,null,"~"]
["SA37",2021,"Choose",55,null,null,null,null,null,null,null,null,null,null,null,null,null,null,null,null,null,null,"~"]
["SA37",2021,"Choose",56,null,null,null,null,null,null,null,null,null,null,null,null,null,null,null,null,null,null,"~"]
["SA37",2021,"Choose",57,null,null,null,null,null,null,null,null,null,null,null,null,null,null,null,null,null,null,"~"]
["SA37",2021,"Choose",58,null,null,null,null,null,null,null,null,null,null,null,null,null,null,null,null,null,null,"~"]
["SA37",2021,"Choose",59,null,null,null,null,null,null,null,null,null,null,null,null,null,null,null,null,null,null,"~"]
["SA37",2021,"Choose",60,null,null,null,null,null,null,null,null,null,null,null,null,null,null,null,null,null,null,"~"]
["SA37",2021,"Choose",61,null,null,null,null,null,null,null,null,null,null,null,null,null,null,null,null,null,null,"~"]
["SA37",2021,"Choose",62,null,null,null,null,null,null,null,null,null,null,null,null,null,null,null,null,null,null,"~"]
["SA37",2021,"Choose",63,null,null,null,null,null,null,null,null,null,null,null,null,null,null,null,null,null,null,"~"]
["SA37",2021,"Choose",64,null,null,null,null,null,null,null,null,null,null,null,null,null,null,null,null,null,null,"~"]
["SA37",2021,"Choose",65,null,null,null,null,null,null,null,null,null,null,null,null,null,null,null,null,null,null,"~"]
["SA37",2021,"Choose",66,null,null,null,null,null,null,null,null,null,null,null,null,null,null,null,null,null,null,"~"]
["SA37",2021,"Choose",67,null,null,null,null,null,null,null,null,null,null,null,null,null,null,null,null,null,null,"~"]
["SA37",2021,"Choose",68,null,null,null,null,null,null,null,null,null,null,null,null,null,null,null,null,null,null,"~"]
["SA37",2021,"Choose",69,null,null,null,null,null,null,null,null,null,null,null,null,null,null,null,null,null,null,"~"]
["SA37",2021,"Choose",70,null,null,null,null,null,null,null,null,null,null,null,null,null,null,null,null,null,null,"~"]
["SA37",2021,"Choose",71,null,null,null,null,null,null,null,null,null,null,null,null,null,null,null,null,null,null,"~"]
["SA37",2021,"Choose",72,null,null,null,null,null,null,null,null,null,null,null,null,null,null,null,null,null,null,"~"]
["SA37",2021,"Choose",73,null,null,null,null,null,null,null,null,null,null,null,null,null,null,null,null,null,null,"~"]
["SA37",2021,"Choose",74,null,null,null,null,null,null,null,null,null,null,null,null,null,null,null,null,null,null,"~"]
["SA37",2021,"Choose",75,null,null,null,null,null,null,null,null,null,null,null,null,null,null,null,null,null,null,"~"]
["SA37",2021,"Choose",76,null,null,null,null,null,null,null,null,null,null,null,null,null,null,null,null,null,null,"~"]
["SA37",2021,"Choose",77,null,null,null,null,null,null,null,null,null,null,null,null,null,null,null,null,null,null,"~"]
["SA37",2021,"Choose",78,null,null,null,null,null,null,null,null,null,null,null,null,null,null,null,null,null,null,"~"]
["SA37",2021,"Choose",79,null,null,null,null,null,null,null,null,null,null,null,null,null,null,null,null,null,null,"~"]
["SA37",2021,"Choose",80,null,null,null,null,null,null,null,null,null,null,null,null,null,null,null,null,null,null,"~"]
["SA37",2021,"Choose",81,null,null,null,null,null,null,null,null,null,null,null,null,null,null,null,null,null,null,"~"]
["SA37",2021,"Choose",82,null,null,null,null,null,null,null,null,null,null,null,null,null,null,null,null,null,null,"~"]
["SA37",2021,"Choose",83,null,null,null,null,null,null,null,null,null,null,null,null,null,null,null,null,null,null,"~"]
["SA37",2021,"Choose",84,null,null,null,null,null,null,null,null,null,null,null,null,null,null,null,null,null,null,"~"]
["SA37",2021,"Choose",85,null,null,null,null,null,null,null,null,null,null,null,null,null,null,null,null,null,null,"~"]
["SA37",2021,"Choose",86,null,null,null,null,null,null,null,null,null,null,null,null,null,null,null,null,null,null,"~"]
["SA37",2021,"Choose",87,null,null,null,null,null,null,null,null,null,null,null,null,null,null,null,null,null,null,"~"]
["SA37",2021,"Choose",88,null,null,null,null,null,null,null,null,null,null,null,null,null,null,null,null,null,null,"~"]
["SA37",2021,"Choose",89,null,null,null,null,null,null,null,null,null,null,null,null,null,null,null,null,null,null,"~"]
["SA37",2021,"Choose",90,null,null,null,null,null,null,null,null,null,null,null,null,null,null,null,null,null,null,"~"]
["SA37",2021,"Choose",91,null,null,null,null,null,null,null,null,null,null,null,null,null,null,null,null,null,null,"~"]
["SA37",2021,"Choose",92,null,null,null,null,null,null,null,null,null,null,null,null,null,null,null,null,null,null,"~"]
["SA37",2021,"Choose",93,null,null,null,null,null,null,null,null,null,null,null,null,null,null,null,null,null,null,"~"]
["SA37",2021,"Choose",94,null,null,null,null,null,null,null,null,null,null,null,null,null,null,null,null,null,null,"~"]
["SA37",2021,"Choose",95,null,null,null,null,null,null,null,null,null,null,null,null,null,null,null,null,null,null,"~"]
["SA37",2021,"Choose",96,null,null,null,null,null,null,null,null,null,null,null,null,null,null,null,null,null,null,"~"]
["SA37",2021,"Choose",97,null,null,null,null,null,null,null,null,null,null,null,null,null,null,null,null,null,null,"~"]
["SA37",2021,"Choose",98,null,null,null,null,null,null,null,null,null,null,null,null,null,null,null,null,null,null,"~"]
["SA37",2021,"Choose",99,null,null,null,null,null,null,null,null,null,null,null,null,null,null,null,null,null,null,"~"]
["SA37",2021,"Choose",100,null,null,null,null,null,null,null,null,null,null,null,null,null,null,null,null,null,null,"~"]
["SA37",2021,"Choose",101,null,null,null,null,null,null,null,null,null,null,null,null,null,null,null,null,null,null,"~"]
["SA37",2021,"Choose",102,null,null,null,null,null,null,null,null,null,null,null,null,null,null,null,null,null,null,"~"]
["SA37",2021,"Choose",103,null,null,null,null,null,null,null,null,null,null,null,null,null,null,null,null,null,null,"~"]
["SA37",2021,"Choose",104,null,null,null,null,null,null,null,null,null,null,null,null,null,null,null,null,null,null,"~"]
["SA37",2021,"Choose",105,null,null,null,null,null,null,null,null,null,null,null,null,null,null,null,null,null,null,"~"]
["SA37",2021,"Choose",106,null,null,null,null,null,null,null,null,null,null,null,null,null,null,null,null,null,null,"~"]
["SA37",2021,"Choose",107,null,null,null,null,null,null,null,null,null,null,null,null,null,null,null,null,null,null,"~"]
["SA37",2021,"Choose",108,null,null,null,null,null,null,null,null,null,null,null,null,null,null,null,null,null,null,"~"]
["SA37",2021,"Choose",109,null,null,null,null,null,null,null,null,null,null,null,null,null,null,null,null,null,null,"~"]
["SA37",2021,"Choose",110,null,null,null,null,null,null,null,null,null,null,null,null,null,null,null,null,null,null,"~"]
["SA37",2021,"Choose",111,null,null,null,null,null,null,null,null,null,null,null,null,null,null,null,null,null,null,"~"]
["SA37",{"$f":"+MTREF","v":2021},{"$f":"LEFT(muni,(FIND(\" \",muni,1)-1))","v":"Choose"},112,null,null,null,null,null,null,null,null,null,null,null,null,null,null,null,null,null,null,"~"]
["SA37",2021,"Choose",113,null,null,null,null,null,null,null,null,null,null,null,null,null,null,null,null,null,null,"~"]
["SA37",2021,"Choose",114,null,null,null,null,null,null,null,null,null,null,null,null,null,null,null,null,null,null,"~"]
["SA37",2021,"Choose",115,null,null,null,null,null,null,null,null,null,null,null,null,null,null,null,null,null,null,"~"]
["SA37",2021,"Choose",116,null,null,null,null,null,null,null,null,null,null,null,null,null,null,null,null,null,null,"~"]
["SA37",2021,"Choose",117,null,null,null,null,null,null,null,null,null,null,null,null,null,null,null,null,null,null,"~"]
["SA37",2021,"Choose",118,null,null,null,null,null,null,null,null,null,null,null,null,null,null,null,null,null,null,"~"]
["SA37",2021,"Choose",119,null,null,null,null,null,null,null,null,null,null,null,null,null,null,null,null,null,null,"~"]
["SA37",2021,"Choose",120,null,null,null,null,null,null,null,null,null,null,null,null,null,null,null,null,null,null,"~"]
["SA37",2021,"Choose",121,null,null,null,null,null,null,null,null,null,null,null,null,null,null,null,null,null,null,"~"]
["SA37",2021,"Choose",122,null,null,null,null,null,null,null,null,null,null,null,null,null,null,null,null,null,null,"~"]
["SA37",2021,"Choose",123,null,null,null,null,null,null,null,null,null,null,null,null,null,null,null,null,null,null,"~"]
["SA37",2021,"Choose",124,null,null,null,null,null,null,null,null,null,null,null,null,null,null,null,null,null,null,"~"]
["SA37",2021,"Choose",125,null,null,null,null,null,null,null,null,null,null,null,null,null,null,null,null,null,null,"~"]
["SA37",2021,"Choose",126,null,null,null,null,null,null,null,null,null,null,null,null,null,null,null,null,null,null,"~"]
["SA37",2021,"Choose",127,null,null,null,null,null,null,null,null,null,null,null,null,null,null,null,null,null,null,"~"]
["SA37",2021,"Choose",128,null,null,null,null,null,null,null,null,null,null,null,null,null,null,null,null,null,null,"~"]
["SA37",2021,"Choose",129,null,null,null,null,null,null,null,null,null,null,null,null,null,null,null,null,null,null,"~"]
["SA37",2021,"Choose",130,null,null,null,null,null,null,null,null,null,null,null,null,null,null,null,null,null,null,"~"]
["SA37",2021,"Choose",131,null,null,null,null,null,null,null,null,null,null,null,null,null,null,null,null,null,null,"~"]
["SA37",2021,"Choose",132,null,null,null,null,null,null,null,null,null,null,null,null,null,null,null,null,null,null,"~"]
["SA37",2021,"Choose",133,null,null,null,null,null,null,null,null,null,null,null,null,null,null,null,null,null,null,"~"]
["SA37",2021,"Choose",134,null,null,null,null,null,null,null,null,null,null,null,null,null,null,null,null,null,null,"~"]
["SA37",2021,"Choose",135,null,null,null,null,null,null,null,null,null,null,null,null,null,null,null,null,null,null,"~"]
["SA37",2021,"Choose",136,null,null,null,null,null,null,null,null,null,null,null,null,null,null,null,null,null,null,"~"]
["SA37",2021,"Choose",137,null,null,null,null,null,null,null,null,null,null,null,null,null,null,null,null,null,null,"~"]
["SA37",2021,"Choose",138,null,null,null,null,null,null,null,null,null,null,null,null,null,null,null,null,null,null,"~"]
["SA37",2021,"Choose",139,null,null,null,null,null,null,null,null,null,null,null,null,null,null,null,null,null,null,"~"]
["SA37",2021,"Choose",140,null,null,null,null,null,null,null,null,null,null,null,null,null,null,null,null,null,null,"~"]
["SA37",2021,"Choose",141,null,null,null,null,null,null,null,null,null,null,null,null,null,null,null,null,null,null,"~"]
["SA37",2021,"Choose",142,null,null,null,null,null,null,null,null,null,null,null,null,null,null,null,null,null,null,"~"]
["SA37",2021,"Choose",143,null,null,null,null,null,null,null,null,null,null,null,null,null,null,null,null,null,null,"~"]
["SA37",2021,"Choose",144,null,null,null,null,null,null,null,null,null,null,null,null,null,null,null,null,null,null,"~"]
["SA37",2021,"Choose",145,null,null,null,null,null,null,null,null,null,null,null,null,null,null,null,null,null,null,"~"]
["SA37",2021,"Choose",146,null,null,null,null,null,null,null,null,null,null,null,null,null,null,null,null,null,null,"~"]
["SA37",2021,"Choose",147,null,null,null,null,null,null,null,null,null,null,null,null,null,null,null,null,null,null,"~"]
["SA37",2021,"Choose",148,null,null,null,null,null,null,null,null,null,null,null,null,null,null,null,null,null,null,"~"]
["SA37",2021,"Choose",149,null,null,null,null,null,null,null,null,null,null,null,null,null,null,null,null,null,null,"~"]
["SA37",2021,"Choose",150,null,null,null,null,null,null,null,null,null,null,null,null,null,null,null,null,null,null,"~"]
["SA37",2021,"Choose",151,null,null,null,null,null,null,null,null,null,null,null,null,null,null,null,null,null,null,"~"]
["SA37",2021,"Choose",152,null,null,null,null,null,null,null,null,null,null,null,null,null,null,null,null,null,null,"~"]
["SA37",2021,"Choose",153,null,null,null,null,null,null,null,null,null,null,null,null,null,null,null,null,null,null,"~"]
["SA37",2021,"Choose",154,null,null,null,null,null,null,null,null,null,null,null,null,null,null,null,null,null,null,"~"]
["SA37",2021,"Choose",155,null,null,null,null,null,null,null,null,null,null,null,null,null,null,null,null,null,null,"~"]
["SA37",2021,"Choose",156,null,null,null,null,null,null,null,null,null,null,null,null,null,null,null,null,null,null,"~"]
["SA37",2021,"Choose",157,null,null,null,null,null,null,null,null,null,null,null,null,null,null,null,null,null,null,"~"]
["SA37",2021,"Choose",158,null,null,null,null,null,null,null,null,null,null,null,null,null,null,null,null,null,null,"~"]
["SA37",2021,"Choose",159,null,null,null,null,null,null,null,null,null,null,null,null,null,null,null,null,null,null,"~"]
["SA37",2021,"Choose",160,null,null,null,null,null,null,null,null,null,null,null,null,null,null,null,null,null,null,"~"]
["SA37",2021,"Choose",161,null,null,null,null,null,null,null,null,null,null,null,null,null,null,null,null,null,null,"~"]
["SA37",2021,"Choose",162,null,null,null,null,null,null,null,null,null,null,null,null,null,null,null,null,null,null,"~"]
["SA37",2021,"Choose",163,null,null,null,null,null,null,null,null,null,null,null,null,null,null,null,null,null,null,"~"]
["SA37",2021,"Choose",164,null,null,null,null,null,null,null,null,null,null,null,null,null,null,null,null,null,null,"~"]
["SA37",2021,"Choose",165,null,null,null,null,null,null,null,null,null,null,null,null,null,null,null,null,null,null,"~"]
["SA37",2021,"Choose",166,null,null,null,null,null,null,null,null,null,null,null,null,null,null,null,null,null,null,"~"]
["SA37",2021,"Choose",167,null,null,null,null,null,null,null,null,null,null,null,null,null,null,null,null,null,null,"~"]
["SA37",2021,"Choose",168,null,null,null,null,null,null,null,null,null,null,null,null,null,null,null,null,null,null,"~"]
["SA37",2021,"Choose",169,null,null,null,null,null,null,null,null,null,null,null,null,null,null,null,null,null,null,"~"]
["SA37",2021,"Choose",170,null,null,null,null,null,null,null,null,null,null,null,null,null,null,null,null,null,null,"~"]
["SA37",2021,"Choose",171,null,null,null,null,null,null,null,null,null,null,null,null,null,null,null,null,null,null,"~"]
["SA37",2021,"Choose",172,null,null,null,null,null,null,null,null,null,null,null,null,null,null,null,null,null,null,"~"]
["SA37",2021,"Choose",173,null,null,null,null,null,null,null,null,null,null,null,null,null,null,null,null,null,null,"~"]
["SA37",2021,"Choose",174,null,null,null,null,null,null,null,null,null,null,null,null,null,null,null,null,null,null,"~"]
["SA37",2021,"Choose",175,null,null,null,null,null,null,null,null,null,null,null,null,null,null,null,null,null,null,"~"]
["SA37",{"$f":"+MTREF","v":2021},{"$f":"LEFT(muni,(FIND(\" \",muni,1)-1))","v":"Choose"},176,null,null,null,null,null,null,null,null,null,null,null,null,null,null,null,null,null,null,"~"]
["SA37",2021,"Choose",177,null,null,null,null,null,null,null,null,null,null,null,null,null,null,null,null,null,null,"~"]
["SA37",2021,"Choose",178,null,null,null,null,null,null,null,null,null,null,null,null,null,null,null,null,null,null,"~"]
["SA37",2021,"Choose",179,null,null,null,null,null,null,null,null,null,null,null,null,null,null,null,null,null,null,"~"]
["SA37",2021,"Choose",180,null,null,null,null,null,null,null,null,null,null,null,null,null,null,null,null,null,null,"~"]
["SA37",2021,"Choose",181,null,null,null,null,null,null,null,null,null,null,null,null,null,null,null,null,null,null,"~"]
["SA37",2021,"Choose",182,null,null,null,null,null,null,null,null,null,null,null,null,null,null,null,null,null,null,"~"]
["SA37",2021,"Choose",183,null,null,null,null,null,null,null,null,null,null,null,null,null,null,null,null,null,null,"~"]
["SA37",2021,"Choose",184,null,null,null,null,null,null,null,null,null,null,null,null,null,null,null,null,null,null,"~"]
["SA37",2021,"Choose",185,null,null,null,null,null,null,null,null,null,null,null,null,null,null,null,null,null,null,"~"]
["SA37",2021,"Choose",186,null,null,null,null,null,null,null,null,null,null,null,null,null,null,null,null,null,null,"~"]
["SA37",2021,"Choose",187,null,null,null,null,null,null,null,null,null,null,null,null,null,null,null,null,null,null,"~"]
["SA37",2021,"Choose",188,null,null,null,null,null,null,null,null,null,null,null,null,null,null,null,null,null,null,"~"]
["SA37",2021,"Choose",189,null,null,null,null,null,null,null,null,null,null,null,null,null,null,null,null,null,null,"~"]
["SA37",2021,"Choose",190,null,null,null,null,null,null,null,null,null,null,null,null,null,null,null,null,null,null,"~"]
["SA37",2021,"Choose",191,null,null,null,null,null,null,null,null,null,null,null,null,null,null,null,null,null,null,"~"]
["SA37",2021,"Choose",192,null,null,null,null,null,null,null,null,null,null,null,null,null,null,null,null,null,null,"~"]
["SA37",2021,"Choose",193,null,null,null,null,null,null,null,null,null,null,null,null,null,null,null,null,null,null,"~"]
["SA37",2021,"Choose",194,null,null,null,null,null,null,null,null,null,null,null,null,null,null,null,null,null,null,"~"]
["SA37",2021,"Choose",195,null,null,null,null,null,null,null,null,null,null,null,null,null,null,null,null,null,null,"~"]
["SA37",2021,"Choose",196,null,null,null,null,null,null,null,null,null,null,null,null,null,null,null,null,null,null,"~"]
["SA37",2021,"Choose",197,null,null,null,null,null,null,null,null,null,null,null,null,null,null,null,null,null,null,"~"]
["SA37",2021,"Choose",198,null,null,null,null,null,null,null,null,null,null,null,null,null,null,null,null,null,null,"~"]
["SA37",2021,"Choose",199,null,null,null,null,null,null,null,null,null,null,null,null,null,null,null,null,null,null,"~"]
["SA37",2021,"Choose",200,null,null,null,null,null,null,null,null,null,null,null,null,null,null,null,null,null,null,"~"]
["SA37",2021,"Choose",201,null,null,null,null,null,null,null,null,null,null,null,null,null,null,null,null,null,null,"~"]
["SA37",2021,"Choose",202,null,null,null,null,null,null,null,null,null,null,null,null,null,null,null,null,null,null,"~"]
["SA37",2021,"Choose",203,null,null,null,null,null,null,null,null,null,null,null,null,null,null,null,null,null,null,"~"]
["SA37",2021,"Choose",204,null,null,null,null,null,null,null,null,null,null,null,null,null,null,null,null,null,null,"~"]
["SA37",2021,"Choose",205,null,null,null,null,null,null,null,null,null,null,null,null,null,null,null,null,null,null,"~"]
["SA37",2021,"Choose",206,null,null,null,null,null,null,null,null,null,null,null,null,null,null,null,null,null,null,"~"]
["SA37",2021,"Choose",207,null,null,null,null,null,null,null,null,null,null,null,null,null,null,null,null,null,null,"~"]
["SA37",2021,"Choose",208,null,null,null,null,null,null,null,null,null,null,null,null,null,null,null,null,null,null,"~"]
["SA37",2021,"Choose",209,null,null,null,null,null,null,null,null,null,null,null,null,null,null,null,null,null,null,"~"]
["SA37",2021,"Choose",210,null,null,null,null,null,null,null,null,null,null,null,null,null,null,null,null,null,null,"~"]
["SA37",2021,"Choose",211,null,null,null,null,null,null,null,null,null,null,null,null,null,null,null,null,null,null,"~"]
["SA37",2021,"Choose",212,null,null,null,null,null,null,null,null,null,null,null,null,null,null,null,null,null,null,"~"]
["SA37",2021,"Choose",213,null,null,null,null,null,null,null,null,null,null,null,null,null,null,null,null,null,null,"~"]
["SA37",2021,"Choose",214,null,null,null,null,null,null,null,null,null,null,null,null,null,null,null,null,null,null,"~"]
["SA37",2021,"Choose",215,null,null,null,null,null,null,null,null,null,null,null,null,null,null,null,null,null,null,"~"]
["SA37",2021,"Choose",216,null,null,null,null,null,null,null,null,null,null,null,null,null,null,null,null,null,null,"~"]
["SA37",2021,"Choose",217,null,null,null,null,null,null,null,null,null,null,null,null,null,null,null,null,null,null,"~"]
["SA37",2021,"Choose",218,null,null,null,null,null,null,null,null,null,null,null,null,null,null,null,null,null,null,"~"]
["SA37",2021,"Choose",219,null,null,null,null,null,null,null,null,null,null,null,null,null,null,null,null,null,null,"~"]
["SA37",2021,"Choose",220,null,null,null,null,null,null,null,null,null,null,null,null,null,null,null,null,null,null,"~"]
["SA37",2021,"Choose",221,null,null,null,null,null,null,null,null,null,null,null,null,null,null,null,null,null,null,"~"]
["SA37",2021,"Choose",222,null,null,null,null,null,null,null,null,null,null,null,null,null,null,null,null,null,null,"~"]
["SA37",2021,"Choose",223,null,null,null,null,null,null,null,null,null,null,null,null,null,null,null,null,null,null,"~"]
["SA37",2021,"Choose",224,null,null,null,null,null,null,null,null,null,null,null,null,null,null,null,null,null,null,"~"]
["SA37",2021,"Choose",225,null,null,null,null,null,null,null,null,null,null,null,null,null,null,null,null,null,null,"~"]
["SA37",2021,"Choose",226,null,null,null,null,null,null,null,null,null,null,null,null,null,null,null,null,null,null,"~"]
["SA37",2021,"Choose",227,null,null,null,null,null,null,null,null,null,null,null,null,null,null,null,null,null,null,"~"]
["SA37",2021,"Choose",228,null,null,null,null,null,null,null,null,null,null,null,null,null,null,null,null,null,null,"~"]
["SA37",2021,"Choose",229,null,null,null,null,null,null,null,null,null,null,null,null,null,null,null,null,null,null,"~"]
["SA37",2021,"Choose",230,null,null,null,null,null,null,null,null,null,null,null,null,null,null,null,null,null,null,"~"]
["SA37",2021,"Choose",231,null,null,null,null,null,null,null,null,null,null,null,null,null,null,null,null,null,null,"~"]
["SA37",2021,"Choose",232,null,null,null,null,null,null,null,null,null,null,null,null,null,null,null,null,null,null,"~"]
["SA37",2021,"Choose",233,null,null,null,null,null,null,null,null,null,null,null,null,null,null,null,null,null,null,"~"]
["SA37",2021,"Choose",234,null,null,null,null,null,null,null,null,null,null,null,null,null,null,null,null,null,null,"~"]
["SA37",2021,"Choose",235,null,null,null,null,null,null,null,null,null,null,null,null,null,null,null,null,null,null,"~"]
["SA37",2021,"Choose",236,null,null,null,null,null,null,null,null,null,null,null,null,null,null,null,null,null,null,"~"]
["SA37",2021,"Choose",237,null,null,null,null,null,null,null,null,null,null,null,null,null,null,null,null,null,null,"~"]
["SA37",2021,"Choose",238,null,null,null,null,null,null,null,null,null,null,null,null,null,null,null,null,null,null,"~"]
["SA37",2021,"Choose",239,null,null,null,null,null,null,null,null,null,null,null,null,null,null,null,null,null,null,"~"]
["SA37",{"$f":"+MTREF","v":2021},{"$f":"LEFT(muni,(FIND(\" \",muni,1)-1))","v":"Choose"},240,null,null,null,null,null,null,null,null,null,null,null,null,null,null,null,null,null,null,"~"]
["SA37",2021,"Choose",241,null,null,null,null,null,null,null,null,null,null,null,null,null,null,null,null,null,null,"~"]
["SA37",2021,"Choose",242,null,null,null,null,null,null,null,null,null,null,null,null,null,null,null,null,null,null,"~"]
["SA37",2021,"Choose",243,null,null,null,null,null,null,null,null,null,null,null,null,null,null,null,null,null,null,"~"]
["SA37",2021,"Choose",244,null,null,null,null,null,null,null,null,null,null,null,null,null,null,null,null,null,null,"~"]
["SA37",2021,"Choose",245,null,null,null,null,null,null,null,null,null,null,null,null,null,null,null,null,null,null,"~"]
["SA37",2021,"Choose",246,null,null,null,null,null,null,null,null,null,null,null,null,null,null,null,null,null,null,"~"]
["SA37",2021,"Choose",247,null,null,null,null,null,null,null,null,null,null,null,null,null,null,null,null,null,null,"~"]
["SA37",2021,"Choose",248,null,null,null,null,null,null,null,null,null,null,null,null,null,null,null,null,null,null,"~"]
["SA37",2021,"Choose",249,null,null,null,null,null,null,null,null,null,null,null,null,null,null,null,null,null,null,"~"]
["SA37",2021,"Choose",250,null,null,null,null,null,null,null,null,null,null,null,null,null,null,null,null,null,null,"~"]
["SA37",2021,"Choose",251,null,null,null,null,null,null,null,null,null,null,null,null,null,null,null,null,null,null,"~"]
["SA37",2021,"Choose",252,null,null,null,null,null,null,null,null,null,null,null,null,null,null,null,null,null,null,"~"]
["SA37",2021,"Choose",253,null,null,null,null,null,null,null,null,null,null,null,null,null,null,null,null,null,null,"~"]
["SA37",2021,"Choose",254,null,null,null,null,null,null,null,null,null,null,null,null,null,null,null,null,null,null,"~"]
["SA37",2021,"Choose",255,null,null,null,null,null,null,null,null,null,null,null,null,null,null,null,null,null,null,"~"]
["SA37",2021,"Choose",256,null,null,null,null,null,null,null,null,null,null,null,null,null,null,null,null,null,null,"~"]
["SA37",2021,"Choose",257,null,null,null,null,null,null,null,null,null,null,null,null,null,null,null,null,null,null,"~"]
["SA37",2021,"Choose",258,null,null,null,null,null,null,null,null,null,null,null,null,null,null,null,null,null,null,"~"]
["SA37",2021,"Choose",259,null,null,null,null,null,null,null,null,null,null,null,null,null,null,null,null,null,null,"~"]
["SA37",2021,"Choose",260,null,null,null,null,null,null,null,null,null,null,null,null,null,null,null,null,null,null,"~"]
["SA37",2021,"Choose",261,null,null,null,null,null,null,null,null,null,null,null,null,null,null,null,null,null,null,"~"]
["SA37",2021,"Choose",262,null,null,null,null,null,null,null,null,null,null,null,null,null,null,null,null,null,null,"~"]
["SA37",2021,"Choose",263,null,null,null,null,null,null,null,null,null,null,null,null,null,null,null,null,null,null,"~"]
["SA37",2021,"Choose",264,null,null,null,null,null,null,null,null,null,null,null,null,null,null,null,null,null,null,"~"]
["SA37",2021,"Choose",265,null,null,null,null,null,null,null,null,null,null,null,null,null,null,null,null,null,null,"~"]
["SA37",2021,"Choose",266,null,null,null,null,null,null,null,null,null,null,null,null,null,null,null,null,null,null,"~"]
["SA37",2021,"Choose",267,null,null,null,null,null,null,null,null,null,null,null,null,null,null,null,null,null,null,"~"]
["SA37",2021,"Choose",268,null,null,null,null,null,null,null,null,null,null,null,null,null,null,null,null,null,null,"~"]
["SA37",2021,"Choose",269,null,null,null,null,null,null,null,null,null,null,null,null,null,null,null,null,null,null,"~"]
["SA37",2021,"Choose",270,null,null,null,null,null,null,null,null,null,null,null,null,null,null,null,null,null,null,"~"]
["SA37",2021,"Choose",271,null,null,null,null,null,null,null,null,null,null,null,null,null,null,null,null,null,null,"~"]
["SA37",2021,"Choose",272,null,null,null,null,null,null,null,null,null,null,null,null,null,null,null,null,null,null,"~"]
["SA37",2021,"Choose",273,null,null,null,null,null,null,null,null,null,null,null,null,null,null,null,null,null,null,"~"]
["SA37",2021,"Choose",274,null,null,null,null,null,null,null,null,null,null,null,null,null,null,null,null,null,null,"~"]
["SA37",2021,"Choose",275,null,null,null,null,null,null,null,null,null,null,null,null,null,null,null,null,null,null,"~"]
["SA37",2021,"Choose",276,null,null,null,null,null,null,null,null,null,null,null,null,null,null,null,null,null,null,"~"]
["SA37",2021,"Choose",277,null,null,null,null,null,null,null,null,null,null,null,null,null,null,null,null,null,null,"~"]
["SA37",2021,"Choose",278,null,null,null,null,null,null,null,null,null,null,null,null,null,null,null,null,null,null,"~"]
["SA37",2021,"Choose",279,null,null,null,null,null,null,null,null,null,null,null,null,null,null,null,null,null,null,"~"]
["SA37",2021,"Choose",280,null,null,null,null,null,null,null,null,null,null,null,null,null,null,null,null,null,null,"~"]
["SA37",2021,"Choose",281,null,null,null,null,null,null,null,null,null,null,null,null,null,null,null,null,null,null,"~"]
["SA37",2021,"Choose",282,null,null,null,null,null,null,null,null,null,null,null,null,null,null,null,null,null,null,"~"]
["SA37",2021,"Choose",283,null,null,null,null,null,null,null,null,null,null,null,null,null,null,null,null,null,null,"~"]
["SA37",2021,"Choose",284,null,null,null,null,null,null,null,null,null,null,null,null,null,null,null,null,null,null,"~"]
["SA37",2021,"Choose",285,null,null,null,null,null,null,null,null,null,null,null,null,null,null,null,null,null,null,"~"]
["SA37",2021,"Choose",286,null,null,null,null,null,null,null,null,null,null,null,null,null,null,null,null,null,null,"~"]
["SA37",2021,"Choose",287,null,null,null,null,null,null,null,null,null,null,null,null,null,null,null,null,null,null,"~"]
["SA37",2021,"Choose",288,null,null,null,null,null,null,null,null,null,null,null,null,null,null,null,null,null,null,"~"]
["SA37",2021,"Choose",289,null,null,null,null,null,null,null,null,null,null,null,null,null,null,null,null,null,null,"~"]
["SA37",2021,"Choose",290,null,null,null,null,null,null,null,null,null,null,null,null,null,null,null,null,null,null,"~"]
["SA37",2021,"Choose",291,null,null,null,null,null,null,null,null,null,null,null,null,null,null,null,null,null,null,"~"]
["SA37",2021,"Choose",292,null,null,null,null,null,null,null,null,null,null,null,null,null,null,null,null,null,null,"~"]
["SA37",2021,"Choose",293,null,null,null,null,null,null,null,null,null,null,null,null,null,null,null,null,null,null,"~"]
["SA37",2021,"Choose",294,null,null,null,null,null,null,null,null,null,null,null,null,null,null,null,null,null,null,"~"]
["SA37",2021,"Choose",295,null,null,null,null,null,null,null,null,null,null,null,null,null,null,null,null,null,null,"~"]
["SA37",2021,"Choose",296,null,null,null,null,null,null,null,null,null,null,null,null,null,null,null,null,null,null,"~"]
["SA37",2021,"Choose",297,null,null,null,null,null,null,null,null,null,null,null,null,null,null,null,null,null,null,"~"]
["SA37",2021,"Choose",298,null,null,null,null,null,null,null,null,null,null,null,null,null,null,null,null,null,null,"~"]
["SA37",2021,"Choose",299,null,null,null,null,null,null,null,null,null,null,null,null,null,null,null,null,null,null,"~"]
["SA37",2021,"Choose",300,null,null,null,null,null,null,null,null,null,null,null,null,null,null,null,null,null,null,"~"]
["SA37",2021,"Choose",301,null,null,null,null,null,null,null,null,null,null,null,null,null,null,null,null,null,null,"~"]
["SA37",2021,"Choose",302,null,null,null,null,null,null,null,null,null,null,null,null,null,null,null,null,null,null,"~"]
["SA37",2021,"Choose",303,null,null,null,null,null,null,null,null,null,null,null,null,null,null,null,null,null,null,"~"]
["SA37",{"$f":"+MTREF","v":2021},{"$f":"LEFT(muni,(FIND(\" \",muni,1)-1))","v":"Choose"},304,null,null,null,null,null,null,null,null,null,null,null,null,null,null,null,null,null,null,"~"]
["SA37",2021,"Choose",305,null,null,null,null,null,null,null,null,null,null,null,null,null,null,null,null,null,null,"~"]
["SA37",2021,"Choose",306,null,null,null,null,null,null,null,null,null,null,null,null,null,null,null,null,null,null,"~"]
["SA37",2021,"Choose",307,null,null,null,null,null,null,null,null,null,null,null,null,null,null,null,null,null,null,"~"]
["SA37",2021,"Choose",308,null,null,null,null,null,null,null,null,null,null,null,null,null,null,null,null,null,null,"~"]
["SA37",2021,"Choose",309,null,null,null,null,null,null,null,null,null,null,null,null,null,null,null,null,null,null,"~"]
["SA37",2021,"Choose",310,null,null,null,null,null,null,null,null,null,null,null,null,null,null,null,null,null,null,"~"]
["SA37",2021,"Choose",311,null,null,null,null,null,null,null,null,null,null,null,null,null,null,null,null,null,null,"~"]
["SA37",2021,"Choose",312,null,null,null,null,null,null,null,null,null,null,null,null,null,null,null,null,null,null,"~"]
["SA37",2021,"Choose",313,null,null,null,null,null,null,null,null,null,null,null,null,null,null,null,null,null,null,"~"]
["SA37",2021,"Choose",314,null,null,null,null,null,null,null,null,null,null,null,null,null,null,null,null,null,null,"~"]
["SA37",2021,"Choose",315,null,null,null,null,null,null,null,null,null,null,null,null,null,null,null,null,null,null,"~"]
["SA37",2021,"Choose",316,null,null,null,null,null,null,null,null,null,null,null,null,null,null,null,null,null,null,"~"]
["SA37",2021,"Choose",317,null,null,null,null,null,null,null,null,null,null,null,null,null,null,null,null,null,null,"~"]
["SA37",2021,"Choose",318,null,null,null,null,null,null,null,null,null,null,null,null,null,null,null,null,null,null,"~"]
["SA37",2021,"Choose",319,null,null,null,null,null,null,null,null,null,null,null,null,null,null,null,null,null,null,"~"]
["SA37",2021,"Choose",320,null,null,null,null,null,null,null,null,null,null,null,null,null,null,null,null,null,null,"~"]
["SA37",2021,"Choose",321,null,null,null,null,null,null,null,null,null,null,null,null,null,null,null,null,null,null,"~"]
["SA37",2021,"Choose",322,null,null,null,null,null,null,null,null,null,null,null,null,null,null,null,null,null,null,"~"]
["SA37",2021,"Choose",323,null,null,null,null,null,null,null,null,null,null,null,null,null,null,null,null,null,null,"~"]
["SA37",2021,"Choose",324,null,null,null,null,null,null,null,null,null,null,null,null,null,null,null,null,null,null,"~"]
["SA37",2021,"Choose",325,null,null,null,null,null,null,null,null,null,null,null,null,null,null,null,null,null,null,"~"]
["SA37",2021,"Choose",326,null,null,null,null,null,null,null,null,null,null,null,null,null,null,null,null,null,null,"~"]
["SA37",2021,"Choose",327,null,null,null,null,null,null,null,null,null,null,null,null,null,null,null,null,null,null,"~"]
["SA37",2021,"Choose",328,null,null,null,null,null,null,null,null,null,null,null,null,null,null,null,null,null,null,"~"]
["SA37",2021,"Choose",329,null,null,null,null,null,null,null,null,null,null,null,null,null,null,null,null,null,null,"~"]
["SA37",2021,"Choose",330,null,null,null,null,null,null,null,null,null,null,null,null,null,null,null,null,null,null,"~"]
["SA37",2021,"Choose",331,null,null,null,null,null,null,null,null,null,null,null,null,null,null,null,null,null,null,"~"]
["SA37",2021,"Choose",332,null,null,null,null,null,null,null,null,null,null,null,null,null,null,null,null,null,null,"~"]
["SA37",2021,"Choose",333,null,null,null,null,null,null,null,null,null,null,null,null,null,null,null,null,null,null,"~"]
["SA37",2021,"Choose",334,null,null,null,null,null,null,null,null,null,null,null,null,null,null,null,null,null,null,"~"]
["SA37",2021,"Choose",335,null,null,null,null,null,null,null,null,null,null,null,null,null,null,null,null,null,null,"~"]
["SA37",2021,"Choose",336,null,null,null,null,null,null,null,null,null,null,null,null,null,null,null,null,null,null,"~"]
["SA37",2021,"Choose",337,null,null,null,null,null,null,null,null,null,null,null,null,null,null,null,null,null,null,"~"]
["SA37",2021,"Choose",338,null,null,null,null,null,null,null,null,null,null,null,null,null,null,null,null,null,null,"~"]
["SA37",2021,"Choose",339,null,null,null,null,null,null,null,null,null,null,null,null,null,null,null,null,null,null,"~"]
["SA37",2021,"Choose",340,null,null,null,null,null,null,null,null,null,null,null,null,null,null,null,null,null,null,"~"]
["SA37",2021,"Choose",341,null,null,null,null,null,null,null,null,null,null,null,null,null,null,null,null,null,null,"~"]
["SA37",2021,"Choose",342,null,null,null,null,null,null,null,null,null,null,null,null,null,null,null,null,null,null,"~"]
["SA37",2021,"Choose",343,null,null,null,null,null,null,null,null,null,null,null,null,null,null,null,null,null,null,"~"]
["SA37",2021,"Choose",344,null,null,null,null,null,null,null,null,null,null,null,null,null,null,null,null,null,null,"~"]
["SA37",2021,"Choose",345,null,null,null,null,null,null,null,null,null,null,null,null,null,null,null,null,null,null,"~"]
["SA37",2021,"Choose",346,null,null,null,null,null,null,null,null,null,null,null,null,null,null,null,null,null,null,"~"]
["SA37",2021,"Choose",347,null,null,null,null,null,null,null,null,null,null,null,null,null,null,null,null,null,null,"~"]
["SA37",2021,"Choose",348,null,null,null,null,null,null,null,null,null,null,null,null,null,null,null,null,null,null,"~"]
["SA37",2021,"Choose",349,null,null,null,null,null,null,null,null,null,null,null,null,null,null,null,null,null,null,"~"]
["SA37",2021,"Choose",350,null,null,null,null,null,null,null,null,null,null,null,null,null,null,null,null,null,null,"~"]
["SA37",2021,"Choose",351,null,null,null,null,null,null,null,null,null,null,null,null,null,null,null,null,null,null,"~"]
["SA37",2021,"Choose",352,null,null,null,null,null,null,null,null,null,null,null,null,null,null,null,null,null,null,"~"]
["SA37",2021,"Choose",353,null,null,null,null,null,null,null,null,null,null,null,null,null,null,null,null,null,null,"~"]
["SA37",2021,"Choose",354,null,null,null,null,null,null,null,null,null,null,null,null,null,null,null,null,null,null,"~"]
["SA37",2021,"Choose",355,null,null,null,null,null,null,null,null,null,null,null,null,null,null,null,null,null,null,"~"]
["SA37",2021,"Choose",356,null,null,null,null,null,null,null,null,null,null,null,null,null,null,null,null,null,null,"~"]
["SA37",2021,"Choose",357,null,null,null,null,null,null,null,null,null,null,null,null,null,null,null,null,null,null,"~"]
["SA37",2021,"Choose",358,null,null,null,null,null,null,null,null,null,null,null,null,null,null,null,null,null,null,"~"]
["SA37",2021,"Choose",359,null,null,null,null,null,null,null,null,null,null,null,null,null,null,null,null,null,null,"~"]
["SA37",2021,"Choose",360,null,null,null,null,null,null,null,null,null,null,null,null,null,null,null,null,null,null,"~"]
["SA37",2021,"Choose",361,null,null,null,null,null,null,null,null,null,null,null,null,null,null,null,null,null,null,"~"]
["SA37",2021,"Choose",362,null,null,null,null,null,null,null,null,null,null,null,null,null,null,null,null,null,null,"~"]
["SA37",2021,"Choose",363,null,null,null,null,null,null,null,null,null,null,null,null,null,null,null,null,null,null,"~"]
["SA37",2021,"Choose",364,null,null,null,null,null,null,null,null,null,null,null,null,null,null,null,null,null,null,"~"]
["SA37",2021,"Choose",365,null,null,null,null,null,null,null,null,null,null,null,null,null,null,null,null,null,null,"~"]
["SA37",2021,"Choose",366,null,null,null,null,null,null,null,null,null,null,null,null,null,null,null,null,null,null,"~"]
["SA37",2021,"Choose",367,null,null,null,null,null,null,null,null,null,null,null,null,null,null,null,null,null,null,"~"]
["SA37",{"$f":"+MTREF","v":2021},{"$f":"LEFT(muni,(FIND(\" \",muni,1)-1))","v":"Choose"},368,null,null,null,null,null,null,null,null,null,null,null,null,null,null,null,null,null,null,"~"]
["SA37",2021,"Choose",369,null,null,null,null,null,null,null,null,null,null,null,null,null,null,null,null,null,null,"~"]
["SA37",2021,"Choose",370,null,null,null,null,null,null,null,null,null,null,null,null,null,null,null,null,null,null,"~"]
["SA37",2021,"Choose",371,null,null,null,null,null,null,null,null,null,null,null,null,null,null,null,null,null,null,"~"]
["SA37",2021,"Choose",372,null,null,null,null,null,null,null,null,null,null,null,null,null,null,null,null,null,null,"~"]
["SA37",2021,"Choose",373,null,null,null,null,null,null,null,null,null,null,null,null,null,null,null,null,null,null,"~"]
["SA37",2021,"Choose",374,null,null,null,null,null,null,null,null,null,null,null,null,null,null,null,null,null,null,"~"]
["SA37",2021,"Choose",375,null,null,null,null,null,null,null,null,null,null,null,null,null,null,null,null,null,null,"~"]
["SA37",2021,"Choose",376,null,null,null,null,null,null,null,null,null,null,null,null,null,null,null,null,null,null,"~"]
["SA37",2021,"Choose",377,null,null,null,null,null,null,null,null,null,null,null,null,null,null,null,null,null,null,"~"]
["SA37",2021,"Choose",378,null,null,null,null,null,null,null,null,null,null,null,null,null,null,null,null,null,null,"~"]
["SA37",2021,"Choose",379,null,null,null,null,null,null,null,null,null,null,null,null,null,null,null,null,null,null,"~"]
["SA37",2021,"Choose",380,null,null,null,null,null,null,null,null,null,null,null,null,null,null,null,null,null,null,"~"]
["SA37",2021,"Choose",381,null,null,null,null,null,null,null,null,null,null,null,null,null,null,null,null,null,null,"~"]
["SA37",2021,"Choose",382,null,null,null,null,null,null,null,null,null,null,null,null,null,null,null,null,null,null,"~"]
["SA37",2021,"Choose",383,null,null,null,null,null,null,null,null,null,null,null,null,null,null,null,null,null,null,"~"]
["SA37",2021,"Choose",384,null,null,null,null,null,null,null,null,null,null,null,null,null,null,null,null,null,null,"~"]
["SA37",2021,"Choose",385,null,null,null,null,null,null,null,null,null,null,null,null,null,null,null,null,null,null,"~"]
["SA37",2021,"Choose",386,null,null,null,null,null,null,null,null,null,null,null,null,null,null,null,null,null,null,"~"]
["SA37",2021,"Choose",387,null,null,null,null,null,null,null,null,null,null,null,null,null,null,null,null,null,null,"~"]
["SA37",2021,"Choose",388,null,null,null,null,null,null,null,null,null,null,null,null,null,null,null,null,null,null,"~"]
["SA37",2021,"Choose",389,null,null,null,null,null,null,null,null,null,null,null,null,null,null,null,null,null,null,"~"]
["SA37",2021,"Choose",390,null,null,null,null,null,null,null,null,null,null,null,null,null,null,null,null,null,null,"~"]
["SA37",2021,"Choose",391,null,null,null,null,null,null,null,null,null,null,null,null,null,null,null,null,null,null,"~"]
["SA37",2021,"Choose",392,null,null,null,null,null,null,null,null,null,null,null,null,null,null,null,null,null,null,"~"]
["SA37",2021,"Choose",393,null,null,null,null,null,null,null,null,null,null,null,null,null,null,null,null,null,null,"~"]
["SA37",2021,"Choose",394,null,null,null,null,null,null,null,null,null,null,null,null,null,null,null,null,null,null,"~"]
["SA37",2021,"Choose",395,null,null,null,null,null,null,null,null,null,null,null,null,null,null,null,null,null,null,"~"]
["SA37",2021,"Choose",396,null,null,null,null,null,null,null,null,null,null,null,null,null,null,null,null,null,null,"~"]
["SA37",2021,"Choose",397,null,null,null,null,null,null,null,null,null,null,null,null,null,null,null,null,null,null,"~"]
["SA37",2021,"Choose",398,null,null,null,null,null,null,null,null,null,null,null,null,null,null,null,null,null,null,"~"]
["SA37",2021,"Choose",399,null,null,null,null,null,null,null,null,null,null,null,null,null,null,null,null,null,null,"~"]
["SA37",2021,"Choose",400,null,null,null,null,null,null,null,null,null,null,null,null,null,null,null,null,null,null,"~"]
["SA37",2021,"Choose",401,null,null,null,null,null,null,null,null,null,null,null,null,null,null,null,null,null,null,"~"]
["SA37",2021,"Choose",402,null,null,null,null,null,null,null,null,null,null,null,null,null,null,null,null,null,null,"~"]
["SA37",2021,"Choose",403,null,null,null,null,null,null,null,null,null,null,null,null,null,null,null,null,null,null,"~"]
["SA37",2021,"Choose",404,null,null,null,null,null,null,null,null,null,null,null,null,null,null,null,null,null,null,"~"]
["SA37",2021,"Choose",405,null,null,null,null,null,null,null,null,null,null,null,null,null,null,null,null,null,null,"~"]
["SA37",2021,"Choose",406,null,null,null,null,null,null,null,null,null,null,null,null,null,null,null,null,null,null,"~"]
["SA37",2021,"Choose",407,null,null,null,null,null,null,null,null,null,null,null,null,null,null,null,null,null,null,"~"]
["SA37",2021,"Choose",408,null,null,null,null,null,null,null,null,null,null,null,null,null,null,null,null,null,null,"~"]
["SA37",2021,"Choose",409,null,null,null,null,null,null,null,null,null,null,null,null,null,null,null,null,null,null,"~"]
["SA37",2021,"Choose",410,null,null,null,null,null,null,null,null,null,null,null,null,null,null,null,null,null,null,"~"]
["SA37",2021,"Choose",411,null,null,null,null,null,null,null,null,null,null,null,null,null,null,null,null,null,null,"~"]
["SA37",2021,"Choose",412,null,null,null,null,null,null,null,null,null,null,null,null,null,null,null,null,null,null,"~"]
["SA37",2021,"Choose",413,null,null,null,null,null,null,null,null,null,null,null,null,null,null,null,null,null,null,"~"]
["SA37",2021,"Choose",414,null,null,null,null,null,null,null,null,null,null,null,null,null,null,null,null,null,null,"~"]
["SA37",2021,"Choose",415,null,null,null,null,null,null,null,null,null,null,null,null,null,null,null,null,null,null,"~"]
["SA37",2021,"Choose",416,null,null,null,null,null,null,null,null,null,null,null,null,null,null,null,null,null,null,"~"]
["SA37",2021,"Choose",417,null,null,null,null,null,null,null,null,null,null,null,null,null,null,null,null,null,null,"~"]
["SA37",2021,"Choose",418,null,null,null,null,null,null,null,null,null,null,null,null,null,null,null,null,null,null,"~"]
["SA37",2021,"Choose",419,null,null,null,null,null,null,null,null,null,null,null,null,null,null,null,null,null,null,"~"]
["SA37",2021,"Choose",420,null,null,null,null,null,null,null,null,null,null,null,null,null,null,null,null,null,null,"~"]
["SA37",2021,"Choose",421,null,null,null,null,null,null,null,null,null,null,null,null,null,null,null,null,null,null,"~"]
["SA37",2021,"Choose",422,null,null,null,null,null,null,null,null,null,null,null,null,null,null,null,null,null,null,"~"]
["SA37",2021,"Choose",423,null,null,null,null,null,null,null,null,null,null,null,null,null,null,null,null,null,null,"~"]
["SA37",2021,"Choose",424,null,null,null,null,null,null,null,null,null,null,null,null,null,null,null,null,null,null,"~"]
["SA37",2021,"Choose",425,null,null,null,null,null,null,null,null,null,null,null,null,null,null,null,null,null,null,"~"]
["SA37",2021,"Choose",426,null,null,null,null,null,null,null,null,null,null,null,null,null,null,null,null,null,null,"~"]
["SA37",2021,"Choose",427,null,null,null,null,null,null,null,null,null,null,null,null,null,null,null,null,null,null,"~"]
["SA37",2021,"Choose",428,null,null,null,null,null,null,null,null,null,null,null,null,null,null,null,null,null,null,"~"]
["SA37",2021,"Choose",429,null,null,null,null,null,null,null,null,null,null,null,null,null,null,null,null,null,null,"~"]
["SA37",2021,"Choose",430,null,null,null,null,null,null,null,null,null,null,null,null,null,null,null,null,null,null,"~"]
["SA37",2021,"Choose",431,null,null,null,null,null,null,null,null,null,null,null,null,null,null,null,null,null,null,"~"]
["SA37",{"$f":"+MTREF","v":2021},{"$f":"LEFT(muni,(FIND(\" \",muni,1)-1))","v":"Choose"},432,null,null,null,null,null,null,null,null,null,null,null,null,null,null,null,null,null,null,"~"]
["SA37",2021,"Choose",433,null,null,null,null,null,null,null,null,null,null,null,null,null,null,null,null,null,null,"~"]
["SA37",2021,"Choose",434,null,null,null,null,null,null,null,null,null,null,null,null,null,null,null,null,null,null,"~"]
["SA37",2021,"Choose",435,null,null,null,null,null,null,null,null,null,null,null,null,null,null,null,null,null,null,"~"]
["SA37",2021,"Choose",436,null,null,null,null,null,null,null,null,null,null,null,null,null,null,null,null,null,null,"~"]
["SA37",2021,"Choose",437,null,null,null,null,null,null,null,null,null,null,null,null,null,null,null,null,null,null,"~"]
["SA37",2021,"Choose",438,null,null,null,null,null,null,null,null,null,null,null,null,null,null,null,null,null,null,"~"]
["SA37",2021,"Choose",439,null,null,null,null,null,null,null,null,null,null,null,null,null,null,null,null,null,null,"~"]
["SA37",2021,"Choose",440,null,null,null,null,null,null,null,null,null,null,null,null,null,null,null,null,null,null,"~"]
["SA37",2021,"Choose",441,null,null,null,null,null,null,null,null,null,null,null,null,null,null,null,null,null,null,"~"]
["SA37",2021,"Choose",442,null,null,null,null,null,null,null,null,null,null,null,null,null,null,null,null,null,null,"~"]
["SA37",2021,"Choose",443,null,null,null,null,null,null,null,null,null,null,null,null,null,null,null,null,null,null,"~"]
["SA37",2021,"Choose",444,null,null,null,null,null,null,null,null,null,null,null,null,null,null,null,null,null,null,"~"]
["SA37",2021,"Choose",445,null,null,null,null,null,null,null,null,null,null,null,null,null,null,null,null,null,null,"~"]
["SA37",2021,"Choose",446,null,null,null,null,null,null,null,null,null,null,null,null,null,null,null,null,null,null,"~"]
["SA37",2021,"Choose",447,null,null,null,null,null,null,null,null,null,null,null,null,null,null,null,null,null,null,"~"]
["SA37",2021,"Choose",448,null,null,null,null,null,null,null,null,null,null,null,null,null,null,null,null,null,null,"~"]
["SA37",2021,"Choose",449,null,null,null,null,null,null,null,null,null,null,null,null,null,null,null,null,null,null,"~"]
["SA37",2021,"Choose",450,null,null,null,null,null,null,null,null,null,null,null,null,null,null,null,null,null,null,"~"]
["SA37",2021,"Choose",451,null,null,null,null,null,null,null,null,null,null,null,null,null,null,null,null,null,null,"~"]
["SA37",2021,"Choose",452,null,null,null,null,null,null,null,null,null,null,null,null,null,null,null,null,null,null,"~"]
["SA37",2021,"Choose",453,null,null,null,null,null,null,null,null,null,null,null,null,null,null,null,null,null,null,"~"]
["SA37",2021,"Choose",454,null,null,null,null,null,null,null,null,null,null,null,null,null,null,null,null,null,null,"~"]
["SA37",2021,"Choose",455,null,null,null,null,null,null,null,null,null,null,null,null,null,null,null,null,null,null,"~"]
["SA37",2021,"Choose",456,null,null,null,null,null,null,null,null,null,null,null,null,null,null,null,null,null,null,"~"]
["SA37",2021,"Choose",457,null,null,null,null,null,null,null,null,null,null,null,null,null,null,null,null,null,null,"~"]
["SA37",2021,"Choose",458,null,null,null,null,null,null,null,null,null,null,null,null,null,null,null,null,null,null,"~"]
["SA37",2021,"Choose",459,null,null,null,null,null,null,null,null,null,null,null,null,null,null,null,null,null,null,"~"]
["SA37",2021,"Choose",460,null,null,null,null,null,null,null,null,null,null,null,null,null,null,null,null,null,null,"~"]
["SA37",2021,"Choose",461,null,null,null,null,null,null,null,null,null,null,null,null,null,null,null,null,null,null,"~"]
["SA37",2021,"Choose",462,null,null,null,null,null,null,null,null,null,null,null,null,null,null,null,null,null,null,"~"]
["SA37",2021,"Choose",463,null,null,null,null,null,null,null,null,null,null,null,null,null,null,null,null,null,null,"~"]
["SA37",2021,"Choose",464,null,null,null,null,null,null,null,null,null,null,null,null,null,null,null,null,null,null,"~"]
["SA37",2021,"Choose",465,null,null,null,null,null,null,null,null,null,null,null,null,null,null,null,null,null,null,"~"]
["SA37",2021,"Choose",466,null,null,null,null,null,null,null,null,null,null,null,null,null,null,null,null,null,null,"~"]
["SA37",2021,"Choose",467,null,null,null,null,null,null,null,null,null,null,null,null,null,null,null,null,null,null,"~"]
["SA37",2021,"Choose",468,null,null,null,null,null,null,null,null,null,null,null,null,null,null,null,null,null,null,"~"]
["SA37",2021,"Choose",469,null,null,null,null,null,null,null,null,null,null,null,null,null,null,null,null,null,null,"~"]
["SA37",2021,"Choose",470,null,null,null,null,null,null,null,null,null,null,null,null,null,null,null,null,null,null,"~"]
["SA37",2021,"Choose",471,null,null,null,null,null,null,null,null,null,null,null,null,null,null,null,null,null,null,"~"]
["SA37",2021,"Choose",472,null,null,null,null,null,null,null,null,null,null,null,null,null,null,null,null,null,null,"~"]
["SA37",2021,"Choose",473,null,null,null,null,null,null,null,null,null,null,null,null,null,null,null,null,null,null,"~"]
["SA37",2021,"Choose",474,null,null,null,null,null,null,null,null,null,null,null,null,null,null,null,null,null,null,"~"]
["SA37",2021,"Choose",475,null,null,null,null,null,null,null,null,null,null,null,null,null,null,null,null,null,null,"~"]
["SA37",2021,"Choose",476,null,null,null,null,null,null,null,null,null,null,null,null,null,null,null,null,null,null,"~"]
["SA37",2021,"Choose",477,null,null,null,null,null,null,null,null,null,null,null,null,null,null,null,null,null,null,"~"]
["SA37",2021,"Choose",478,null,null,null,null,null,null,null,null,null,null,null,null,null,null,null,null,null,null,"~"]
["SA37",2021,"Choose",479,null,null,null,null,null,null,null,null,null,null,null,null,null,null,null,null,null,null,"~"]
["SA37",2021,"Choose",480,null,null,null,null,null,null,null,null,null,null,null,null,null,null,null,null,null,null,"~"]
["SA37",2021,"Choose",481,null,null,null,null,null,null,null,null,null,null,null,null,null,null,null,null,null,null,"~"]
["SA37",2021,"Choose",482,null,null,null,null,null,null,null,null,null,null,null,null,null,null,null,null,null,null,"~"]
["SA37",2021,"Choose",483,null,null,null,null,null,null,null,null,null,null,null,null,null,null,null,null,null,null,"~"]
["SA37",2021,"Choose",484,null,null,null,null,null,null,null,null,null,null,null,null,null,null,null,null,null,null,"~"]
["SA37",2021,"Choose",485,null,null,null,null,null,null,null,null,null,null,null,null,null,null,null,null,null,null,"~"]
["SA37",2021,"Choose",486,null,null,null,null,null,null,null,null,null,null,null,null,null,null,null,null,null,null,"~"]
["SA37",2021,"Choose",487,null,null,null,null,null,null,null,null,null,null,null,null,null,null,null,null,null,null,"~"]
["SA37",2021,"Choose",488,null,null,null,null,null,null,null,null,null,null,null,null,null,null,null,null,null,null,"~"]
["SA37",2021,"Choose",489,null,null,null,null,null,null,null,null,null,null,null,null,null,null,null,null,null,null,"~"]
["SA37",2021,"Choose",490,null,null,null,null,null,null,null,null,null,null,null,null,null,null,null,null,null,null,"~"]
["SA37",2021,"Choose",491,null,null,null,null,null,null,null,null,null,null,null,null,null,null,null,null,null,null,"~"]
["SA37",2021,"Choose",492,null,null,null,null,null,null,null,null,null,null,null,null,null,null,null,null,null,null,"~"]
["SA37",2021,"Choose",493,null,null,null,null,null,null,null,null,null,null,null,null,null,null,null,null,null,null,"~"]
["SA37",2021,"Choose",494,null,null,null,null,null,null,null,null,null,null,null,null,null,null,null,null,null,null,"~"]
["SA37",2021,"Choose",495,null,null,null,null,null,null,null,null,null,null,null,null,null,null,null,null,null,null,"~"]
["SA37",{"$f":"+MTREF","v":2021},{"$f":"LEFT(muni,(FIND(\" \",muni,1)-1))","v":"Choose"},496,null,null,null,null,null,null,null,null,null,null,null,null,null,null,null,null,null,null,"~"]
["SA37",2021,"Choose",497,null,null,null,null,null,null,null,null,null,null,null,null,null,null,null,null,null,null,"~"]
["SA37",2021,"Choose",498,null,null,null,null,null,null,null,null,null,null,null,null,null,null,null,null,null,null,"~"]
["SA37",2021,"Choose",499,null,null,null,null,null,null,null,null,null,null,null,null,null,null,null,null,null,null,"~"]
["SA37",2021,"Choose",500,null,null,null,null,null,null,null,null,null,null,null,null,null,null,null,null,null,null,"~"]
["SA37",2021,"Choose",501,null,null,null,null,null,null,null,null,null,null,null,null,null,null,null,null,null,null,"~"]
["SA37",2021,"Choose",502,null,null,null,null,null,null,null,null,null,null,null,null,null,null,null,null,null,null,"~"]
["SA37",2021,"Choose",503,null,null,null,null,null,null,null,null,null,null,null,null,null,null,null,null,null,null,"~"]
["SA37",2021,"Choose",504,null,null,null,null,null,null,null,null,null,null,null,null,null,null,null,null,null,null,"~"]
["SA37",2021,"Choose",505,null,null,null,null,null,null,null,null,null,null,null,null,null,null,null,null,null,null,"~"]
["SA37",2021,"Choose",506,null,null,null,null,null,null,null,null,null,null,null,null,null,null,null,null,null,null,"~"]
["SA37",2021,"Choose",507,null,null,null,null,null,null,null,null,null,null,null,null,null,null,null,null,null,null,"~"]
["SA37",2021,"Choose",508,null,null,null,null,null,null,null,null,null,null,null,null,null,null,null,null,null,null,"~"]
["SA37",2021,"Choose",509,null,null,null,null,null,null,null,null,null,null,null,null,null,null,null,null,null,null,"~"]
["SA37",2021,"Choose",510,null,null,null,null,null,null,null,null,null,null,null,null,null,null,null,null,null,null,"~"]
["SA37",2021,"Choose",511,null,null,null,null,null,null,null,null,null,null,null,null,null,null,null,null,null,null,"~"]
["SA37",2021,"Choose",512,null,null,null,null,null,null,null,null,null,null,null,null,null,null,null,null,null,null,"~"]
["SA37",2021,"Choose",513,null,null,null,null,null,null,null,null,null,null,null,null,null,null,null,null,null,null,"~"]
["SA37",2021,"Choose",514,null,null,null,null,null,null,null,null,null,null,null,null,null,null,null,null,null,null,"~"]
["SA37",2021,"Choose",515,null,null,null,null,null,null,null,null,null,null,null,null,null,null,null,null,null,null,"~"]
["SA37",2021,"Choose",516,null,null,null,null,null,null,null,null,null,null,null,null,null,null,null,null,null,null,"~"]
["SA37",2021,"Choose",517,null,null,null,null,null,null,null,null,null,null,null,null,null,null,null,null,null,null,"~"]
["SA37",2021,"Choose",518,null,null,null,null,null,null,null,null,null,null,null,null,null,null,null,null,null,null,"~"]
["SA37",2021,"Choose",519,null,null,null,null,null,null,null,null,null,null,null,null,null,null,null,null,null,null,"~"]
["SA37",2021,"Choose",520,null,null,null,null,null,null,null,null,null,null,null,null,null,null,null,null,null,null,"~"]
["SA37",2021,"Choose",521,null,null,null,null,null,null,null,null,null,null,null,null,null,null,null,null,null,null,"~"]
["SA37",2021,"Choose",522,null,null,null,null,null,null,null,null,null,null,null,null,null,null,null,null,null,null,"~"]
["SA37",2021,"Choose",523,null,null,null,null,null,null,null,null,null,null,null,null,null,null,null,null,null,null,"~"]
["SA37",2021,"Choose",524,null,null,null,null,null,null,null,null,null,null,null,null,null,null,null,null,null,null,"~"]
["SA37",2021,"Choose",525,null,null,null,null,null,null,null,null,null,null,null,null,null,null,null,null,null,null,"~"]
["SA37",2021,"Choose",526,null,null,null,null,null,null,null,null,null,null,null,null,null,null,null,null,null,null,"~"]
["SA37",2021,"Choose",527,null,null,null,null,null,null,null,null,null,null,null,null,null,null,null,null,null,null,"~"]
["SA37",2021,"Choose",528,null,null,null,null,null,null,null,null,null,null,null,null,null,null,null,null,null,null,"~"]
["SA37",2021,"Choose",529,null,null,null,null,null,null,null,null,null,null,null,null,null,null,null,null,null,null,"~"]
["SA37",2021,"Choose",530,null,null,null,null,null,null,null,null,null,null,null,null,null,null,null,null,null,null,"~"]
["SA37",2021,"Choose",531,null,null,null,null,null,null,null,null,null,null,null,null,null,null,null,null,null,null,"~"]
["SA37",2021,"Choose",532,null,null,null,null,null,null,null,null,null,null,null,null,null,null,null,null,null,null,"~"]
["SA37",2021,"Choose",533,null,null,null,null,null,null,null,null,null,null,null,null,null,null,null,null,null,null,"~"]
["SA37",2021,"Choose",534,null,null,null,null,null,null,null,null,null,null,null,null,null,null,null,null,null,null,"~"]
["SA37",2021,"Choose",535,null,null,null,null,null,null,null,null,null,null,null,null,null,null,null,null,null,null,"~"]
["SA37",2021,"Choose",536,null,null,null,null,null,null,null,null,null,null,null,null,null,null,null,null,null,null,"~"]
["SA37",2021,"Choose",537,null,null,null,null,null,null,null,null,null,null,null,null,null,null,null,null,null,null,"~"]
["SA37",2021,"Choose",538,null,null,null,null,null,null,null,null,null,null,null,null,null,null,null,null,null,null,"~"]
["SA37",2021,"Choose",539,null,null,null,null,null,null,null,null,null,null,null,null,null,null,null,null,null,null,"~"]
["SA37",2021,"Choose",540,null,null,null,null,null,null,null,null,null,null,null,null,null,null,null,null,null,null,"~"]
["SA37",2021,"Choose",541,null,null,null,null,null,null,null,null,null,null,null,null,null,null,null,null,null,null,"~"]
["SA37",2021,"Choose",542,null,null,null,null,null,null,null,null,null,null,null,null,null,null,null,null,null,null,"~"]
["SA37",2021,"Choose",543,null,null,null,null,null,null,null,null,null,null,null,null,null,null,null,null,null,null,"~"]
["SA37",2021,"Choose",544,null,null,null,null,null,null,null,null,null,null,null,null,null,null,null,null,null,null,"~"]
["SA37",2021,"Choose",545,null,null,null,null,null,null,null,null,null,null,null,null,null,null,null,null,null,null,"~"]
["SA37",2021,"Choose",546,null,null,null,null,null,null,null,null,null,null,null,null,null,null,null,null,null,null,"~"]
["SA37",2021,"Choose",547,null,null,null,null,null,null,null,null,null,null,null,null,null,null,null,null,null,null,"~"]
["SA37",2021,"Choose",548,null,null,null,null,null,null,null,null,null,null,null,null,null,null,null,null,null,null,"~"]
["SA37",2021,"Choose",549,null,null,null,null,null,null,null,null,null,null,null,null,null,null,null,null,null,null,"~"]
["SA37",2021,"Choose",550,null,null,null,null,null,null,null,null,null,null,null,null,null,null,null,null,null,null,"~"]
["SA37",2021,"Choose",551,null,null,null,null,null,null,null,null,null,null,null,null,null,null,null,null,null,null,"~"]
["SA37",2021,"Choose",552,null,null,null,null,null,null,null,null,null,null,null,null,null,null,null,null,null,null,"~"]
["SA37",2021,"Choose",553,null,null,null,null,null,null,null,null,null,null,null,null,null,null,null,null,null,null,"~"]
["SA37",2021,"Choose",554,null,null,null,null,null,null,null,null,null,null,null,null,null,null,null,null,null,null,"~"]
["SA37",2021,"Choose",555,null,null,null,null,null,null,null,null,null,null,null,null,null,null,null,null,null,null,"~"]
["SA37",2021,"Choose",556,null,null,null,null,null,null,null,null,null,null,null,null,null,null,null,null,null,null,"~"]
["SA37",2021,"Choose",557,null,null,null,null,null,null,null,null,null,null,null,null,null,null,null,null,null,null,"~"]
["SA37",2021,"Choose",558,null,null,null,null,null,null,null,null,null,null,null,null,null,null,null,null,null,null,"~"]
["SA37",2021,"Choose",559,null,null,null,null,null,null,null,null,null,null,null,null,null,null,null,null,null,null,"~"]
["SA37",{"$f":"+MTREF","v":2021},{"$f":"LEFT(muni,(FIND(\" \",muni,1)-1))","v":"Choose"},560,null,null,null,null,null,null,null,null,null,null,null,null,null,null,null,null,null,null,"~"]
["SA37",2021,"Choose",561,null,null,null,null,null,null,null,null,null,null,null,null,null,null,null,null,null,null,"~"]
["SA37",2021,"Choose",562,null,null,null,null,null,null,null,null,null,null,null,null,null,null,null,null,null,null,"~"]
["SA37",2021,"Choose",563,null,null,null,null,null,null,null,null,null,null,null,null,null,null,null,null,null,null,"~"]
["SA37",2021,"Choose",564,null,null,null,null,null,null,null,null,null,null,null,null,null,null,null,null,null,null,"~"]
["SA37",2021,"Choose",565,null,null,null,null,null,null,null,null,null,null,null,null,null,null,null,null,null,null,"~"]
["SA37",2021,"Choose",566,null,null,null,null,null,null,null,null,null,null,null,null,null,null,null,null,null,null,"~"]
["SA37",2021,"Choose",567,null,null,null,null,null,null,null,null,null,null,null,null,null,null,null,null,null,null,"~"]
["SA37",2021,"Choose",568,null,null,null,null,null,null,null,null,null,null,null,null,null,null,null,null,null,null,"~"]
["SA37",2021,"Choose",569,null,null,null,null,null,null,null,null,null,null,null,null,null,null,null,null,null,null,"~"]
["SA37",2021,"Choose",570,null,null,null,null,null,null,null,null,null,null,null,null,null,null,null,null,null,null,"~"]
["SA37",2021,"Choose",571,null,null,null,null,null,null,null,null,null,null,null,null,null,null,null,null,null,null,"~"]
["SA37",2021,"Choose",572,null,null,null,null,null,null,null,null,null,null,null,null,null,null,null,null,null,null,"~"]
["SA37",2021,"Choose",573,null,null,null,null,null,null,null,null,null,null,null,null,null,null,null,null,null,null,"~"]
["SA37",2021,"Choose",574,null,null,null,null,null,null,null,null,null,null,null,null,null,null,null,null,null,null,"~"]
["SA37",2021,"Choose",575,null,null,null,null,null,null,null,null,null,null,null,null,null,null,null,null,null,null,"~"]
["SA37",2021,"Choose",576,null,null,null,null,null,null,null,null,null,null,null,null,null,null,null,null,null,null,"~"]
["SA37",2021,"Choose",577,null,null,null,null,null,null,null,null,null,null,null,null,null,null,null,null,null,null,"~"]
["SA37",2021,"Choose",578,null,null,null,null,null,null,null,null,null,null,null,null,null,null,null,null,null,null,"~"]
["SA37",2021,"Choose",579,null,null,null,null,null,null,null,null,null,null,null,null,null,null,null,null,null,null,"~"]
["SA37",2021,"Choose",580,null,null,null,null,null,null,null,null,null,null,null,null,null,null,null,null,null,null,"~"]
["SA37",2021,"Choose",581,null,null,null,null,null,null,null,null,null,null,null,null,null,null,null,null,null,null,"~"]
["SA37",2021,"Choose",582,null,null,null,null,null,null,null,null,null,null,null,null,null,null,null,null,null,null,"~"]
["SA37",2021,"Choose",583,null,null,null,null,null,null,null,null,null,null,null,null,null,null,null,null,null,null,"~"]
["SA37",2021,"Choose",584,null,null,null,null,null,null,null,null,null,null,null,null,null,null,null,null,null,null,"~"]
["SA37",2021,"Choose",585,null,null,null,null,null,null,null,null,null,null,null,null,null,null,null,null,null,null,"~"]
["SA37",2021,"Choose",586,null,null,null,null,null,null,null,null,null,null,null,null,null,null,null,null,null,null,"~"]
["SA37",2021,"Choose",587,null,null,null,null,null,null,null,null,null,null,null,null,null,null,null,null,null,null,"~"]
["SA37",2021,"Choose",588,null,null,null,null,null,null,null,null,null,null,null,null,null,null,null,null,null,null,"~"]
["SA37",2021,"Choose",589,null,null,null,null,null,null,null,null,null,null,null,null,null,null,null,null,null,null,"~"]
["SA37",2021,"Choose",590,null,null,null,null,null,null,null,null,null,null,null,null,null,null,null,null,null,null,"~"]
["SA37",2021,"Choose",591,null,null,null,null,null,null,null,null,null,null,null,null,null,null,null,null,null,null,"~"]
["SA37",2021,"Choose",592,null,null,null,null,null,null,null,null,null,null,null,null,null,null,null,null,null,null,"~"]
["SA37",2021,"Choose",593,null,null,null,null,null,null,null,null,null,null,null,null,null,null,null,null,null,null,"~"]
["SA37",2021,"Choose",594,null,null,null,null,null,null,null,null,null,null,null,null,null,null,null,null,null,null,"~"]
["SA37",2021,"Choose",595,null,null,null,null,null,null,null,null,null,null,null,null,null,null,null,null,null,null,"~"]
["SA37",2021,"Choose",596,null,null,null,null,null,null,null,null,null,null,null,null,null,null,null,null,null,null,"~"]
["SA37",2021,"Choose",597,null,null,null,null,null,null,null,null,null,null,null,null,null,null,null,null,null,null,"~"]
["SA37",2021,"Choose",598,null,null,null,null,null,null,null,null,null,null,null,null,null,null,null,null,null,null,"~"]
["SA37",2021,"Choose",599,null,null,null,null,null,null,null,null,null,null,null,null,null,null,null,null,null,null,"~"]
["SA37",2021,"Choose",600,null,null,null,null,null,null,null,null,null,null,null,null,null,null,null,null,null,null,"~"]
["SA37",2021,"Choose",601,null,null,null,null,null,null,null,null,null,null,null,null,null,null,null,null,null,null,"~"]
["SA37",2021,"Choose",602,null,null,null,null,null,null,null,null,null,null,null,null,null,null,null,null,null,null,"~"]
["SA37",2021,"Choose",603,null,null,null,null,null,null,null,null,null,null,null,null,null,null,null,null,null,null,"~"]
["SA37",2021,"Choose",604,null,null,null,null,null,null,null,null,null,null,null,null,null,null,null,null,null,null,"~"]
["SA37",2021,"Choose",605,null,null,null,null,null,null,null,null,null,null,null,null,null,null,null,null,null,null,"~"]
["SA37",2021,"Choose",606,null,null,null,null,null,null,null,null,null,null,null,null,null,null,null,null,null,null,"~"]
["SA37",2021,"Choose",607,null,null,null,null,null,null,null,null,null,null,null,null,null,null,null,null,null,null,"~"]
["SA37",2021,"Choose",608,null,null,null,null,null,null,null,null,null,null,null,null,null,null,null,null,null,null,"~"]
["SA37",2021,"Choose",609,null,null,null,null,null,null,null,null,null,null,null,null,null,null,null,null,null,null,"~"]
["SA37",2021,"Choose",610,null,null,null,null,null,null,null,null,null,null,null,null,null,null,null,null,null,null,"~"]
["SA37",2021,"Choose",611,null,null,null,null,null,null,null,null,null,null,null,null,null,null,null,null,null,null,"~"]
["SA37",2021,"Choose",612,null,null,null,null,null,null,null,null,null,null,null,null,null,null,null,null,null,null,"~"]
["SA37",2021,"Choose",613,null,null,null,null,null,null,null,null,null,null,null,null,null,null,null,null,null,null,"~"]
["SA37",2021,"Choose",614,null,null,null,null,null,null,null,null,null,null,null,null,null,null,null,null,null,null,"~"]
["SA37",2021,"Choose",615,null,null,null,null,null,null,null,null,null,null,null,null,null,null,null,null,null,null,"~"]
["SA37",2021,"Choose",616,null,null,null,null,null,null,null,null,null,null,null,null,null,null,null,null,null,null,"~"]
["SA37",2021,"Choose",617,null,null,null,null,null,null,null,null,null,null,null,null,null,null,null,null,null,null,"~"]
["SA37",2021,"Choose",618,null,null,null,null,null,null,null,null,null,null,null,null,null,null,null,null,null,null,"~"]
["SA37",2021,"Choose",619,null,null,null,null,null,null,null,null,null,null,null,null,null,null,null,null,null,null,"~"]
["SA37",2021,"Choose",620,null,null,null,null,null,null,null,null,null,null,null,null,null,null,null,null,null,null,"~"]
["SA37",2021,"Choose",621,null,null,null,null,null,null,null,null,null,null,null,null,null,null,null,null,null,null,"~"]
["SA37",2021,"Choose",622,null,null,null,null,null,null,null,null,null,null,null,null,null,null,null,null,null,null,"~"]
["SA37",2021,"Choose",623,null,null,null,null,null,null,null,null,null,null,null,null,null,null,null,null,null,null,"~"]
["SA37",{"$f":"+MTREF","v":2021},{"$f":"LEFT(muni,(FIND(\" \",muni,1)-1))","v":"Choose"},624,null,null,null,null,null,null,null,null,null,null,null,null,null,null,null,null,null,null,"~"]
["SA37",2021,"Choose",625,null,null,null,null,null,null,null,null,null,null,null,null,null,null,null,null,null,null,"~"]
["SA37",2021,"Choose",626,null,null,null,null,null,null,null,null,null,null,null,null,null,null,null,null,null,null,"~"]
["SA37",2021,"Choose",627,null,null,null,null,null,null,null,null,null,null,null,null,null,null,null,null,null,null,"~"]
["SA37",2021,"Choose",628,null,null,null,null,null,null,null,null,null,null,null,null,null,null,null,null,null,null,"~"]
["SA37",2021,"Choose",629,null,null,null,null,null,null,null,null,null,null,null,null,null,null,null,null,null,null,"~"]
["SA37",2021,"Choose",630,null,null,null,null,null,null,null,null,null,null,null,null,null,null,null,null,null,null,"~"]
["SA37",2021,"Choose",631,null,null,null,null,null,null,null,null,null,null,null,null,null,null,null,null,null,null,"~"]
["SA37",2021,"Choose",632,null,null,null,null,null,null,null,null,null,null,null,null,null,null,null,null,null,null,"~"]
["SA37",2021,"Choose",633,null,null,null,null,null,null,null,null,null,null,null,null,null,null,null,null,null,null,"~"]
["SA37",2021,"Choose",634,null,null,null,null,null,null,null,null,null,null,null,null,null,null,null,null,null,null,"~"]
["SA37",2021,"Choose",635,null,null,null,null,null,null,null,null,null,null,null,null,null,null,null,null,null,null,"~"]
["SA37",2021,"Choose",636,null,null,null,null,null,null,null,null,null,null,null,null,null,null,null,null,null,null,"~"]
["SA37",2021,"Choose",637,null,null,null,null,null,null,null,null,null,null,null,null,null,null,null,null,null,null,"~"]
["SA37",2021,"Choose",638,null,null,null,null,null,null,null,null,null,null,null,null,null,null,null,null,null,null,"~"]
["SA37",2021,"Choose",639,null,null,null,null,null,null,null,null,null,null,null,null,null,null,null,null,null,null,"~"]
["SA37",2021,"Choose",640,null,null,null,null,null,null,null,null,null,null,null,null,null,null,null,null,null,null,"~"]
["SA37",2021,"Choose",641,null,null,null,null,null,null,null,null,null,null,null,null,null,null,null,null,null,null,"~"]
["SA37",2021,"Choose",642,null,null,null,null,null,null,null,null,null,null,null,null,null,null,null,null,null,null,"~"]
["SA37",2021,"Choose",643,null,null,null,null,null,null,null,null,null,null,null,null,null,null,null,null,null,null,"~"]
["SA37",2021,"Choose",644,null,null,null,null,null,null,null,null,null,null,null,null,null,null,null,null,null,null,"~"]
["SA37",2021,"Choose",645,null,null,null,null,null,null,null,null,null,null,null,null,null,null,null,null,null,null,"~"]
["SA37",2021,"Choose",646,null,null,null,null,null,null,null,null,null,null,null,null,null,null,null,null,null,null,"~"]
["SA37",2021,"Choose",647,null,null,null,null,null,null,null,null,null,null,null,null,null,null,null,null,null,null,"~"]
["SA37",2021,"Choose",648,null,null,null,null,null,null,null,null,null,null,null,null,null,null,null,null,null,null,"~"]
["SA37",2021,"Choose",649,null,null,null,null,null,null,null,null,null,null,null,null,null,null,null,null,null,null,"~"]
["SA37",2021,"Choose",650,null,null,null,null,null,null,null,null,null,null,null,null,null,null,null,null,null,null,"~"]
["SA37",2021,"Choose",651,null,null,null,null,null,null,null,null,null,null,null,null,null,null,null,null,null,null,"~"]
["SA37",2021,"Choose",652,null,null,null,null,null,null,null,null,null,null,null,null,null,null,null,null,null,null,"~"]
["SA37",2021,"Choose",653,null,null,null,null,null,null,null,null,null,null,null,null,null,null,null,null,null,null,"~"]
["SA37",2021,"Choose",654,null,null,null,null,null,null,null,null,null,null,null,null,null,null,null,null,null,null,"~"]
["SA37",2021,"Choose",655,null,null,null,null,null,null,null,null,null,null,null,null,null,null,null,null,null,null,"~"]
["SA37",2021,"Choose",656,null,null,null,null,null,null,null,null,null,null,null,null,null,null,null,null,null,null,"~"]
["SA37",2021,"Choose",657,null,null,null,null,null,null,null,null,null,null,null,null,null,null,null,null,null,null,"~"]
["SA37",2021,"Choose",658,null,null,null,null,null,null,null,null,null,null,null,null,null,null,null,null,null,null,"~"]
["SA37",2021,"Choose",659,null,null,null,null,null,null,null,null,null,null,null,null,null,null,null,null,null,null,"~"]
["SA37",2021,"Choose",660,null,null,null,null,null,null,null,null,null,null,null,null,null,null,null,null,null,null,"~"]
["SA37",2021,"Choose",661,null,null,null,null,null,null,null,null,null,null,null,null,null,null,null,null,null,null,"~"]
["SA37",2021,"Choose",662,null,null,null,null,null,null,null,null,null,null,null,null,null,null,null,null,null,null,"~"]
["SA37",2021,"Choose",663,null,null,null,null,null,null,null,null,null,null,null,null,null,null,null,null,null,null,"~"]
["SA37",2021,"Choose",664,null,null,null,null,null,null,null,null,null,null,null,null,null,null,null,null,null,null,"~"]
["SA37",2021,"Choose",665,null,null,null,null,null,null,null,null,null,null,null,null,null,null,null,null,null,null,"~"]
["SA37",2021,"Choose",666,null,null,null,null,null,null,null,null,null,null,null,null,null,null,null,null,null,null,"~"]
["SA37",2021,"Choose",667,null,null,null,null,null,null,null,null,null,null,null,null,null,null,null,null,null,null,"~"]
["SA37",2021,"Choose",668,null,null,null,null,null,null,null,null,null,null,null,null,null,null,null,null,null,null,"~"]
["SA37",2021,"Choose",669,null,null,null,null,null,null,null,null,null,null,null,null,null,null,null,null,null,null,"~"]
["SA37",2021,"Choose",670,null,null,null,null,null,null,null,null,null,null,null,null,null,null,null,null,null,null,"~"]
["SA37",2021,"Choose",671,null,null,null,null,null,null,null,null,null,null,null,null,null,null,null,null,null,null,"~"]
["SA37",2021,"Choose",672,null,null,null,null,null,null,null,null,null,null,null,null,null,null,null,null,null,null,"~"]
["SA37",2021,"Choose",673,null,null,null,null,null,null,null,null,null,null,null,null,null,null,null,null,null,null,"~"]
["SA37",2021,"Choose",674,null,null,null,null,null,null,null,null,null,null,null,null,null,null,null,null,null,null,"~"]
["SA37",2021,"Choose",675,null,null,null,null,null,null,null,null,null,null,null,null,null,null,null,null,null,null,"~"]
["SA37",2021,"Choose",676,null,null,null,null,null,null,null,null,null,null,null,null,null,null,null,null,null,null,"~"]
["SA37",2021,"Choose",677,null,null,null,null,null,null,null,null,null,null,null,null,null,null,null,null,null,null,"~"]
["SA37",2021,"Choose",678,null,null,null,null,null,null,null,null,null,null,null,null,null,null,null,null,null,null,"~"]
["SA37",2021,"Choose",679,null,null,null,null,null,null,null,null,null,null,null,null,null,null,null,null,null,null,"~"]
["SA37",2021,"Choose",680,null,null,null,null,null,null,null,null,null,null,null,null,null,null,null,null,null,null,"~"]
["SA37",2021,"Choose",681,null,null,null,null,null,null,null,null,null,null,null,null,null,null,null,null,null,null,"~"]
["SA37",2021,"Choose",682,null,null,null,null,null,null,null,null,null,null,null,null,null,null,null,null,null,null,"~"]
["SA37",2021,"Choose",683,null,null,null,null,null,null,null,null,null,null,null,null,null,null,null,null,null,null,"~"]
["SA37",2021,"Choose",684,null,null,null,null,null,null,null,null,null,null,null,null,null,null,null,null,null,null,"~"]
["SA37",2021,"Choose",685,null,null,null,null,null,null,null,null,null,null,null,null,null,null,null,null,null,null,"~"]
["SA37",2021,"Choose",686,null,null,null,null,null,null,null,null,null,null,null,null,null,null,null,null,null,null,"~"]
["SA37",2021,"Choose",687,null,null,null,null,null,null,null,null,null,null,null,null,null,null,null,null,null,null,"~"]
["SA37",{"$f":"+MTREF","v":2021},{"$f":"LEFT(muni,(FIND(\" \",muni,1)-1))","v":"Choose"},688,null,null,null,null,null,null,null,null,null,null,null,null,null,null,null,null,null,null,"~"]
["SA37",2021,"Choose",689,null,null,null,null,null,null,null,null,null,null,null,null,null,null,null,null,null,null,"~"]
["SA37",2021,"Choose",690,null,null,null,null,null,null,null,null,null,null,null,null,null,null,null,null,null,null,"~"]
["SA37",2021,"Choose",691,null,null,null,null,null,null,null,null,null,null,null,null,null,null,null,null,null,null,"~"]
["SA37",2021,"Choose",692,null,null,null,null,null,null,null,null,null,null,null,null,null,null,null,null,null,null,"~"]
["SA37",2021,"Choose",693,null,null,null,null,null,null,null,null,null,null,null,null,null,null,null,null,null,null,"~"]
["SA37",2021,"Choose",694,null,null,null,null,null,null,null,null,null,null,null,null,null,null,null,null,null,null,"~"]
["SA37",2021,"Choose",695,null,null,null,null,null,null,null,null,null,null,null,null,null,null,null,null,null,null,"~"]
["SA37",2021,"Choose",696,null,null,null,null,null,null,null,null,null,null,null,null,null,null,null,null,null,null,"~"]
["SA37",2021,"Choose",697,null,null,null,null,null,null,null,null,null,null,null,null,null,null,null,null,null,null,"~"]
["SA37",2021,"Choose",698,null,null,null,null,null,null,null,null,null,null,null,null,null,null,null,null,null,null,"~"]
["SA37",2021,"Choose",699,null,null,null,null,null,null,null,null,null,null,null,null,null,null,null,null,null,null,"~"]
["SA37",2021,"Choose",700,null,null,null,null,null,null,null,null,null,null,null,null,null,null,null,null,null,null,"~"]
["SA37",2021,"Choose",701,null,null,null,null,null,null,null,null,null,null,null,null,null,null,null,null,null,null,"~"]
["SA37",2021,"Choose",702,null,null,null,null,null,null,null,null,null,null,null,null,null,null,null,null,null,null,"~"]
["SA37",2021,"Choose",703,null,null,null,null,null,null,null,null,null,null,null,null,null,null,null,null,null,null,"~"]
["SA37",2021,"Choose",704,null,null,null,null,null,null,null,null,null,null,null,null,null,null,null,null,null,null,"~"]
["SA37",2021,"Choose",705,null,null,null,null,null,null,null,null,null,null,null,null,null,null,null,null,null,null,"~"]
["SA37",2021,"Choose",706,null,null,null,null,null,null,null,null,null,null,null,null,null,null,null,null,null,null,"~"]
["SA37",2021,"Choose",707,null,null,null,null,null,null,null,null,null,null,null,null,null,null,null,null,null,null,"~"]
["SA37",2021,"Choose",708,null,null,null,null,null,null,null,null,null,null,null,null,null,null,null,null,null,null,"~"]
["SA37",2021,"Choose",709,null,null,null,null,null,null,null,null,null,null,null,null,null,null,null,null,null,null,"~"]
["SA37",2021,"Choose",710,null,null,null,null,null,null,null,null,null,null,null,null,null,null,null,null,null,null,"~"]
["SA37",2021,"Choose",711,null,null,null,null,null,null,null,null,null,null,null,null,null,null,null,null,null,null,"~"]
["SA37",2021,"Choose",712,null,null,null,null,null,null,null,null,null,null,null,null,null,null,null,null,null,null,"~"]
["SA37",2021,"Choose",713,null,null,null,null,null,null,null,null,null,null,null,null,null,null,null,null,null,null,"~"]
["SA37",2021,"Choose",714,null,null,null,null,null,null,null,null,null,null,null,null,null,null,null,null,null,null,"~"]
["SA37",2021,"Choose",715,null,null,null,null,null,null,null,null,null,null,null,null,null,null,null,null,null,null,"~"]
["SA37",2021,"Choose",716,null,null,null,null,null,null,null,null,null,null,null,null,null,null,null,null,null,null,"~"]
["SA37",2021,"Choose",717,null,null,null,null,null,null,null,null,null,null,null,null,null,null,null,null,null,null,"~"]
["SA37",2021,"Choose",718,null,null,null,null,null,null,null,null,null,null,null,null,null,null,null,null,null,null,"~"]
["SA37",2021,"Choose",719,null,null,null,null,null,null,null,null,null,null,null,null,null,null,null,null,null,null,"~"]
["SA37",2021,"Choose",720,null,null,null,null,null,null,null,null,null,null,null,null,null,null,null,null,null,null,"~"]
["SA37",2021,"Choose",721,null,null,null,null,null,null,null,null,null,null,null,null,null,null,null,null,null,null,"~"]
["SA37",2021,"Choose",722,null,null,null,null,null,null,null,null,null,null,null,null,null,null,null,null,null,null,"~"]
["SA37",2021,"Choose",723,null,null,null,null,null,null,null,null,null,null,null,null,null,null,null,null,null,null,"~"]
["SA37",2021,"Choose",724,null,null,null,null,null,null,null,null,null,null,null,null,null,null,null,null,null,null,"~"]
["SA37",2021,"Choose",725,null,null,null,null,null,null,null,null,null,null,null,null,null,null,null,null,null,null,"~"]
["SA37",2021,"Choose",726,null,null,null,null,null,null,null,null,null,null,null,null,null,null,null,null,null,null,"~"]
["SA37",2021,"Choose",727,null,null,null,null,null,null,null,null,null,null,null,null,null,null,null,null,null,null,"~"]
["SA37",2021,"Choose",728,null,null,null,null,null,null,null,null,null,null,null,null,null,null,null,null,null,null,"~"]
["SA37",2021,"Choose",729,null,null,null,null,null,null,null,null,null,null,null,null,null,null,null,null,null,null,"~"]
["SA37",2021,"Choose",730,null,null,null,null,null,null,null,null,null,null,null,null,null,null,null,null,null,null,"~"]
["SA37",2021,"Choose",731,null,null,null,null,null,null,null,null,null,null,null,null,null,null,null,null,null,null,"~"]
["SA37",2021,"Choose",732,null,null,null,null,null,null,null,null,null,null,null,null,null,null,null,null,null,null,"~"]
["SA37",2021,"Choose",733,null,null,null,null,null,null,null,null,null,null,null,null,null,null,null,null,null,null,"~"]
["SA37",2021,"Choose",734,null,null,null,null,null,null,null,null,null,null,null,null,null,null,null,null,null,null,"~"]
["SA37",2021,"Choose",735,null,null,null,null,null,null,null,null,null,null,null,null,null,null,null,null,null,null,"~"]
["SA37",2021,"Choose",736,null,null,null,null,null,null,null,null,null,null,null,null,null,null,null,null,null,null,"~"]
["SA37",2021,"Choose",737,null,null,null,null,null,null,null,null,null,null,null,null,null,null,null,null,null,null,"~"]
["SA37",2021,"Choose",738,null,null,null,null,null,null,null,null,null,null,null,null,null,null,null,null,null,null,"~"]
["SA37",2021,"Choose",739,null,null,null,null,null,null,null,null,null,null,null,null,null,null,null,null,null,null,"~"]
["SA37",2021,"Choose",740,null,null,null,null,null,null,null,null,null,null,null,null,null,null,null,null,null,null,"~"]
["SA37",2021,"Choose",741,null,null,null,null,null,null,null,null,null,null,null,null,null,null,null,null,null,null,"~"]
["SA37",2021,"Choose",742,null,null,null,null,null,null,null,null,null,null,null,null,null,null,null,null,null,null,"~"]
["SA37",2021,"Choose",743,null,null,null,null,null,null,null,null,null,null,null,null,null,null,null,null,null,null,"~"]
["SA37",2021,"Choose",744,null,null,null,null,null,null,null,null,null,null,null,null,null,null,null,null,null,null,"~"]
["SA37",2021,"Choose",745,null,null,null,null,null,null,null,null,null,null,null,null,null,null,null,null,null,null,"~"]
["SA37",2021,"Choose",746,null,null,null,null,null,null,null,null,null,null,null,null,null,null,null,null,null,null,"~"]
["SA37",2021,"Choose",747,null,null,null,null,null,null,null,null,null,null,null,null,null,null,null,null,null,null,"~"]
["SA37",2021,"Choose",748,null,null,null,null,null,null,null,null,null,null,null,null,null,null,null,null,null,null,"~"]
["SA37",2021,"Choose",749,null,null,null,null,null,null,null,null,null,null,null,null,null,null,null,null,null,null,"~"]
["SA37",2021,"Choose",750,null,null,null,null,null,null,null,null,null,null,null,null,null,null,null,null,null,null,"~"]
["SA37",2021,"Choose",751,null,null,null,null,null,null,null,null,null,null,null,null,null,null,null,null,null,null,"~"]
["SA37",{"$f":"+MTREF","v":2021},{"$f":"LEFT(muni,(FIND(\" \",muni,1)-1))","v":"Choose"},752,null,null,null,null,null,null,null,null,null,null,null,null,null,null,null,null,null,null,"~"]
["SA37",2021,"Choose",753,null,null,null,null,null,null,null,null,null,null,null,null,null,null,null,null,null,null,"~"]
["SA37",2021,"Choose",754,null,null,null,null,null,null,null,null,null,null,null,null,null,null,null,null,null,null,"~"]
["SA37",2021,"Choose",755,null,null,null,null,null,null,null,null,null,null,null,null,null,null,null,null,null,null,"~"]
["SA37",2021,"Choose",756,null,null,null,null,null,null,null,null,null,null,null,null,null,null,null,null,null,null,"~"]
["SA37",2021,"Choose",757,null,null,null,null,null,null,null,null,null,null,null,null,null,null,null,null,null,null,"~"]
["SA37",2021,"Choose",758,null,null,null,null,null,null,null,null,null,null,null,null,null,null,null,null,null,null,"~"]
["SA37",2021,"Choose",759,null,null,null,null,null,null,null,null,null,null,null,null,null,null,null,null,null,null,"~"]
["SA37",2021,"Choose",760,null,null,null,null,null,null,null,null,null,null,null,null,null,null,null,null,null,null,"~"]
["SA37",2021,"Choose",761,null,null,null,null,null,null,null,null,null,null,null,null,null,null,null,null,null,null,"~"]
["SA37",2021,"Choose",762,null,null,null,null,null,null,null,null,null,null,null,null,null,null,null,null,null,null,"~"]
["SA37",2021,"Choose",763,null,null,null,null,null,null,null,null,null,null,null,null,null,null,null,null,null,null,"~"]
["SA37",2021,"Choose",764,null,null,null,null,null,null,null,null,null,null,null,null,null,null,null,null,null,null,"~"]
["SA37",2021,"Choose",765,null,null,null,null,null,null,null,null,null,null,null,null,null,null,null,null,null,null,"~"]
["SA37",2021,"Choose",766,null,null,null,null,null,null,null,null,null,null,null,null,null,null,null,null,null,null,"~"]
["SA37",2021,"Choose",767,null,null,null,null,null,null,null,null,null,null,null,null,null,null,null,null,null,null,"~"]
["SA37",2021,"Choose",768,null,null,null,null,null,null,null,null,null,null,null,null,null,null,null,null,null,null,"~"]
["SA37",2021,"Choose",769,null,null,null,null,null,null,null,null,null,null,null,null,null,null,null,null,null,null,"~"]
["SA37",2021,"Choose",770,null,null,null,null,null,null,null,null,null,null,null,null,null,null,null,null,null,null,"~"]
["SA37",2021,"Choose",771,null,null,null,null,null,null,null,null,null,null,null,null,null,null,null,null,null,null,"~"]
["SA37",2021,"Choose",772,null,null,null,null,null,null,null,null,null,null,null,null,null,null,null,null,null,null,"~"]
["SA37",2021,"Choose",773,null,null,null,null,null,null,null,null,null,null,null,null,null,null,null,null,null,null,"~"]
["SA37",2021,"Choose",774,null,null,null,null,null,null,null,null,null,null,null,null,null,null,null,null,null,null,"~"]
["SA37",2021,"Choose",775,null,null,null,null,null,null,null,null,null,null,null,null,null,null,null,null,null,null,"~"]
["SA37",2021,"Choose",776,null,null,null,null,null,null,null,null,null,null,null,null,null,null,null,null,null,null,"~"]
["SA37",2021,"Choose",777,null,null,null,null,null,null,null,null,null,null,null,null,null,null,null,null,null,null,"~"]
["SA37",2021,"Choose",778,null,null,null,null,null,null,null,null,null,null,null,null,null,null,null,null,null,null,"~"]
["SA37",2021,"Choose",779,null,null,null,null,null,null,null,null,null,null,null,null,null,null,null,null,null,null,"~"]
["SA37",2021,"Choose",780,null,null,null,null,null,null,null,null,null,null,null,null,null,null,null,null,null,null,"~"]
["SA37",2021,"Choose",781,null,null,null,null,null,null,null,null,null,null,null,null,null,null,null,null,null,null,"~"]
["SA37",2021,"Choose",782,null,null,null,null,null,null,null,null,null,null,null,null,null,null,null,null,null,null,"~"]
["SA37",2021,"Choose",783,null,null,null,null,null,null,null,null,null,null,null,null,null,null,null,null,null,null,"~"]
["SA37",2021,"Choose",784,null,null,null,null,null,null,null,null,null,null,null,null,null,null,null,null,null,null,"~"]
["SA37",2021,"Choose",785,null,null,null,null,null,null,null,null,null,null,null,null,null,null,null,null,null,null,"~"]
["SA37",2021,"Choose",786,null,null,null,null,null,null,null,null,null,null,null,null,null,null,null,null,null,null,"~"]
["SA37",2021,"Choose",787,null,null,null,null,null,null,null,null,null,null,null,null,null,null,null,null,null,null,"~"]
["SA37",2021,"Choose",788,null,null,null,null,null,null,null,null,null,null,null,null,null,null,null,null,null,null,"~"]
["SA37",2021,"Choose",789,null,null,null,null,null,null,null,null,null,null,null,null,null,null,null,null,null,null,"~"]
["SA37",2021,"Choose",790,null,null,null,null,null,null,null,null,null,null,null,null,null,null,null,null,null,null,"~"]
["SA37",2021,"Choose",791,null,null,null,null,null,null,null,null,null,null,null,null,null,null,null,null,null,null,"~"]
["SA37",2021,"Choose",792,null,null,null,null,null,null,null,null,null,null,null,null,null,null,null,null,null,null,"~"]
["SA37",2021,"Choose",793,null,null,null,null,null,null,null,null,null,null,null,null,null,null,null,null,null,null,"~"]
["SA37",2021,"Choose",794,null,null,null,null,null,null,null,null,null,null,null,null,null,null,null,null,null,null,"~"]
["SA37",2021,"Choose",795,null,null,null,null,null,null,null,null,null,null,null,null,null,null,null,null,null,null,"~"]
["SA37",2021,"Choose",796,null,null,null,null,null,null,null,null,null,null,null,null,null,null,null,null,null,null,"~"]
["SA37",2021,"Choose",797,null,null,null,null,null,null,null,null,null,null,null,null,null,null,null,null,null,null,"~"]
["SA37",2021,"Choose",798,null,null,null,null,null,null,null,null,null,null,null,null,null,null,null,null,null,null,"~"]
["SA37",2021,"Choose",799,null,null,null,null,null,null,null,null,null,null,null,null,null,null,null,null,null,null,"~"]
["SA37",2021,"Choose",800,null,null,null,null,null,null,null,null,null,null,null,null,null,null,null,null,null,null,"~"]
["SA37",2021,"Choose",801,null,null,null,null,null,null,null,null,null,null,null,null,null,null,null,null,null,null,"~"]
["SA37",2021,"Choose",802,null,null,null,null,null,null,null,null,null,null,null,null,null,null,null,null,null,null,"~"]
["SA37",2021,"Choose",803,null,null,null,null,null,null,null,null,null,null,null,null,null,null,null,null,null,null,"~"]
["SA37",2021,"Choose",804,null,null,null,null,null,null,null,null,null,null,null,null,null,null,null,null,null,null,"~"]
["SA37",2021,"Choose",805,null,null,null,null,null,null,null,null,null,null,null,null,null,null,null,null,null,null,"~"]
["SA37",2021,"Choose",806,null,null,null,null,null,null,null,null,null,null,null,null,null,null,null,null,null,null,"~"]
["SA37",2021,"Choose",807,null,null,null,null,null,null,null,null,null,null,null,null,null,null,null,null,null,null,"~"]
["SA37",2021,"Choose",808,null,null,null,null,null,null,null,null,null,null,null,null,null,null,null,null,null,null,"~"]
["SA37",2021,"Choose",809,null,null,null,null,null,null,null,null,null,null,null,null,null,null,null,null,null,null,"~"]
["SA37",2021,"Choose",810,null,null,null,null,null,null,null,null,null,null,null,null,null,null,null,null,null,null,"~"]
["SA37",2021,"Choose",811,null,null,null,null,null,null,null,null,null,null,null,null,null,null,null,null,null,null,"~"]
["SA37",2021,"Choose",812,null,null,null,null,null,null,null,null,null,null,null,null,null,null,null,null,null,null,"~"]
["SA37",2021,"Choose",813,null,null,null,null,null,null,null,null,null,null,null,null,null,null,null,null,null,null,"~"]
["SA37",2021,"Choose",814,null,null,null,null,null,null,null,null,null,null,null,null,null,null,null,null,null,null,"~"]
["SA37",2021,"Choose",815,null,null,null,null,null,null,null,null,null,null,null,null,null,null,null,null,null,null,"~"]
["SA37",{"$f":"+MTREF","v":2021},{"$f":"LEFT(muni,(FIND(\" \",muni,1)-1))","v":"Choose"},816,null,null,null,null,null,null,null,null,null,null,null,null,null,null,null,null,null,null,"~"]
["SA37",2021,"Choose",817,null,null,null,null,null,null,null,null,null,null,null,null,null,null,null,null,null,null,"~"]
["SA37",2021,"Choose",818,null,null,null,null,null,null,null,null,null,null,null,null,null,null,null,null,null,null,"~"]
["SA37",2021,"Choose",819,null,null,null,null,null,null,null,null,null,null,null,null,null,null,null,null,null,null,"~"]
["SA37",2021,"Choose",820,null,null,null,null,null,null,null,null,null,null,null,null,null,null,null,null,null,null,"~"]
["SA37",2021,"Choose",821,null,null,null,null,null,null,null,null,null,null,null,null,null,null,null,null,null,null,"~"]
["SA37",2021,"Choose",822,null,null,null,null,null,null,null,null,null,null,null,null,null,null,null,null,null,null,"~"]
["SA37",2021,"Choose",823,null,null,null,null,null,null,null,null,null,null,null,null,null,null,null,null,null,null,"~"]
["SA37",2021,"Choose",824,null,null,null,null,null,null,null,null,null,null,null,null,null,null,null,null,null,null,"~"]
["SA37",2021,"Choose",825,null,null,null,null,null,null,null,null,null,null,null,null,null,null,null,null,null,null,"~"]
["SA37",2021,"Choose",826,null,null,null,null,null,null,null,null,null,null,null,null,null,null,null,null,null,null,"~"]
["SA37",2021,"Choose",827,null,null,null,null,null,null,null,null,null,null,null,null,null,null,null,null,null,null,"~"]
["SA37",2021,"Choose",828,null,null,null,null,null,null,null,null,null,null,null,null,null,null,null,null,null,null,"~"]
["SA37",2021,"Choose",829,null,null,null,null,null,null,null,null,null,null,null,null,null,null,null,null,null,null,"~"]
["SA37",2021,"Choose",830,null,null,null,null,null,null,null,null,null,null,null,null,null,null,null,null,null,null,"~"]
["SA37",2021,"Choose",831,null,null,null,null,null,null,null,null,null,null,null,null,null,null,null,null,null,null,"~"]
["SA37",2021,"Choose",832,null,null,null,null,null,null,null,null,null,null,null,null,null,null,null,null,null,null,"~"]
["SA37",2021,"Choose",833,null,null,null,null,null,null,null,null,null,null,null,null,null,null,null,null,null,null,"~"]
["SA37",2021,"Choose",834,null,null,null,null,null,null,null,null,null,null,null,null,null,null,null,null,null,null,"~"]
["SA37",2021,"Choose",835,null,null,null,null,null,null,null,null,null,null,null,null,null,null,null,null,null,null,"~"]
["SA37",2021,"Choose",836,null,null,null,null,null,null,null,null,null,null,null,null,null,null,null,null,null,null,"~"]
["SA37",2021,"Choose",837,null,null,null,null,null,null,null,null,null,null,null,null,null,null,null,null,null,null,"~"]
["SA37",2021,"Choose",838,null,null,null,null,null,null,null,null,null,null,null,null,null,null,null,null,null,null,"~"]
["SA37",2021,"Choose",839,null,null,null,null,null,null,null,null,null,null,null,null,null,null,null,null,null,null,"~"]
["SA37",2021,"Choose",840,null,null,null,null,null,null,null,null,null,null,null,null,null,null,null,null,null,null,"~"]
["SA37",2021,"Choose",841,null,null,null,null,null,null,null,null,null,null,null,null,null,null,null,null,null,null,"~"]
["SA37",2021,"Choose",842,null,null,null,null,null,null,null,null,null,null,null,null,null,null,null,null,null,null,"~"]
["SA37",2021,"Choose",843,null,null,null,null,null,null,null,null,null,null,null,null,null,null,null,null,null,null,"~"]
["SA37",2021,"Choose",844,null,null,null,null,null,null,null,null,null,null,null,null,null,null,null,null,null,null,"~"]
["SA37",2021,"Choose",845,null,null,null,null,null,null,null,null,null,null,null,null,null,null,null,null,null,null,"~"]
["SA37",2021,"Choose",846,null,null,null,null,null,null,null,null,null,null,null,null,null,null,null,null,null,null,"~"]
["SA37",2021,"Choose",847,null,null,null,null,null,null,null,null,null,null,null,null,null,null,null,null,null,null,"~"]
["SA37",2021,"Choose",848,null,null,null,null,null,null,null,null,null,null,null,null,null,null,null,null,null,null,"~"]
["SA37",2021,"Choose",849,null,null,null,null,null,null,null,null,null,null,null,null,null,null,null,null,null,null,"~"]
["SA37",2021,"Choose",850,null,null,null,null,null,null,null,null,null,null,null,null,null,null,null,null,null,null,"~"]
["SA37",2021,"Choose",851,null,null,null,null,null,null,null,null,null,null,null,null,null,null,null,null,null,null,"~"]
["SA37",2021,"Choose",852,null,null,null,null,null,null,null,null,null,null,null,null,null,null,null,null,null,null,"~"]
["SA37",2021,"Choose",853,null,null,null,null,null,null,null,null,null,null,null,null,null,null,null,null,null,null,"~"]
["SA37",2021,"Choose",854,null,null,null,null,null,null,null,null,null,null,null,null,null,null,null,null,null,null,"~"]
["SA37",2021,"Choose",855,null,null,null,null,null,null,null,null,null,null,null,null,null,null,null,null,null,null,"~"]
["SA37",2021,"Choose",856,null,null,null,null,null,null,null,null,null,null,null,null,null,null,null,null,null,null,"~"]
["SA37",2021,"Choose",857,null,null,null,null,null,null,null,null,null,null,null,null,null,null,null,null,null,null,"~"]
["SA37",2021,"Choose",858,null,null,null,null,null,null,null,null,null,null,null,null,null,null,null,null,null,null,"~"]
["SA37",2021,"Choose",859,null,null,null,null,null,null,null,null,null,null,null,null,null,null,null,null,null,null,"~"]
["SA37",2021,"Choose",860,null,null,null,null,null,null,null,null,null,null,null,null,null,null,null,null,null,null,"~"]
["SA37",2021,"Choose",861,null,null,null,null,null,null,null,null,null,null,null,null,null,null,null,null,null,null,"~"]
["SA37",2021,"Choose",862,null,null,null,null,null,null,null,null,null,null,null,null,null,null,null,null,null,null,"~"]
["SA37",2021,"Choose",863,null,null,null,null,null,null,null,null,null,null,null,null,null,null,null,null,null,null,"~"]
["SA37",2021,"Choose",864,null,null,null,null,null,null,null,null,null,null,null,null,null,null,null,null,null,null,"~"]
["SA37",2021,"Choose",865,null,null,null,null,null,null,null,null,null,null,null,null,null,null,null,null,null,null,"~"]
["SA37",2021,"Choose",866,null,null,null,null,null,null,null,null,null,null,null,null,null,null,null,null,null,null,"~"]
["SA37",2021,"Choose",867,null,null,null,null,null,null,null,null,null,null,null,null,null,null,null,null,null,null,"~"]
["SA37",2021,"Choose",868,null,null,null,null,null,null,null,null,null,null,null,null,null,null,null,null,null,null,"~"]
["SA37",2021,"Choose",869,null,null,null,null,null,null,null,null,null,null,null,null,null,null,null,null,null,null,"~"]
["SA37",2021,"Choose",870,null,null,null,null,null,null,null,null,null,null,null,null,null,null,null,null,null,null,"~"]
["SA37",2021,"Choose",871,null,null,null,null,null,null,null,null,null,null,null,null,null,null,null,null,null,null,"~"]
["SA37",2021,"Choose",872,null,null,null,null,null,null,null,null,null,null,null,null,null,null,null,null,null,null,"~"]
["SA37",2021,"Choose",873,null,null,null,null,null,null,null,null,null,null,null,null,null,null,null,null,null,null,"~"]
["SA37",2021,"Choose",874,null,null,null,null,null,null,null,null,null,null,null,null,null,null,null,null,null,null,"~"]
["SA37",2021,"Choose",875,null,null,null,null,null,null,null,null,null,null,null,null,null,null,null,null,null,null,"~"]
["SA37",2021,"Choose",876,null,null,null,null,null,null,null,null,null,null,null,null,null,null,null,null,null,null,"~"]
["SA37",2021,"Choose",877,null,null,null,null,null,null,null,null,null,null,null,null,null,null,null,null,null,null,"~"]
["SA37",2021,"Choose",878,null,null,null,null,null,null,null,null,null,null,null,null,null,null,null,null,null,null,"~"]
["SA37",2021,"Choose",879,null,null,null,null,null,null,null,null,null,null,null,null,null,null,null,null,null,null,"~"]
["SA37",{"$f":"+MTREF","v":2021},{"$f":"LEFT(muni,(FIND(\" \",muni,1)-1))","v":"Choose"},880,null,null,null,null,null,null,null,null,null,null,null,null,null,null,null,null,null,null,"~"]
["SA37",2021,"Choose",881,null,null,null,null,null,null,null,null,null,null,null,null,null,null,null,null,null,null,"~"]
["SA37",2021,"Choose",882,null,null,null,null,null,null,null,null,null,null,null,null,null,null,null,null,null,null,"~"]
["SA37",2021,"Choose",883,null,null,null,null,null,null,null,null,null,null,null,null,null,null,null,null,null,null,"~"]
["SA37",2021,"Choose",884,null,null,null,null,null,null,null,null,null,null,null,null,null,null,null,null,null,null,"~"]
["SA37",2021,"Choose",885,null,null,null,null,null,null,null,null,null,null,null,null,null,null,null,null,null,null,"~"]
["SA37",2021,"Choose",886,null,null,null,null,null,null,null,null,null,null,null,null,null,null,null,null,null,null,"~"]
["SA37",2021,"Choose",887,null,null,null,null,null,null,null,null,null,null,null,null,null,null,null,null,null,null,"~"]
["SA37",2021,"Choose",888,null,null,null,null,null,null,null,null,null,null,null,null,null,null,null,null,null,null,"~"]
["SA37",2021,"Choose",889,null,null,null,null,null,null,null,null,null,null,null,null,null,null,null,null,null,null,"~"]
["SA37",2021,"Choose",890,null,null,null,null,null,null,null,null,null,null,null,null,null,null,null,null,null,null,"~"]
["SA37",2021,"Choose",891,null,null,null,null,null,null,null,null,null,null,null,null,null,null,null,null,null,null,"~"]
["SA37",2021,"Choose",892,null,null,null,null,null,null,null,null,null,null,null,null,null,null,null,null,null,null,"~"]
["SA37",2021,"Choose",893,null,null,null,null,null,null,null,null,null,null,null,null,null,null,null,null,null,null,"~"]
["SA37",2021,"Choose",894,null,null,null,null,null,null,null,null,null,null,null,null,null,null,null,null,null,null,"~"]
["SA37",2021,"Choose",895,null,null,null,null,null,null,null,null,null,null,null,null,null,null,null,null,null,null,"~"]
["SA37",2021,"Choose",896,null,null,null,null,null,null,null,null,null,null,null,null,null,null,null,null,null,null,"~"]
["SA37",2021,"Choose",897,null,null,null,null,null,null,null,null,null,null,null,null,null,null,null,null,null,null,"~"]
["SA37",2021,"Choose",898,null,null,null,null,null,null,null,null,null,null,null,null,null,null,null,null,null,null,"~"]
["SA37",2021,"Choose",899,null,null,null,null,null,null,null,null,null,null,null,null,null,null,null,null,null,null,"~"]
["SA37",2021,"Choose",900,null,null,null,null,null,null,null,null,null,null,null,null,null,null,null,null,null,null,"~"]
["SA37",2021,"Choose",901,null,null,null,null,null,null,null,null,null,null,null,null,null,null,null,null,null,null,"~"]
["SA37",2021,"Choose",902,null,null,null,null,null,null,null,null,null,null,null,null,null,null,null,null,null,null,"~"]
["SA37",2021,"Choose",903,null,null,null,null,null,null,null,null,null,null,null,null,null,null,null,null,null,null,"~"]
["SA37",2021,"Choose",904,null,null,null,null,null,null,null,null,null,null,null,null,null,null,null,null,null,null,"~"]
["SA37",2021,"Choose",905,null,null,null,null,null,null,null,null,null,null,null,null,null,null,null,null,null,null,"~"]
["SA37",2021,"Choose",906,null,null,null,null,null,null,null,null,null,null,null,null,null,null,null,null,null,null,"~"]
["SA37",2021,"Choose",907,null,null,null,null,null,null,null,null,null,null,null,null,null,null,null,null,null,null,"~"]
["SA37",2021,"Choose",908,null,null,null,null,null,null,null,null,null,null,null,null,null,null,null,null,null,null,"~"]
["SA37",2021,"Choose",909,null,null,null,null,null,null,null,null,null,null,null,null,null,null,null,null,null,null,"~"]
["SA37",2021,"Choose",910,null,null,null,null,null,null,null,null,null,null,null,null,null,null,null,null,null,null,"~"]
["SA37",2021,"Choose",911,null,null,null,null,null,null,null,null,null,null,null,null,null,null,null,null,null,null,"~"]
["SA37",2021,"Choose",912,null,null,null,null,null,null,null,null,null,null,null,null,null,null,null,null,null,null,"~"]
["SA37",2021,"Choose",913,null,null,null,null,null,null,null,null,null,null,null,null,null,null,null,null,null,null,"~"]
["SA37",2021,"Choose",914,null,null,null,null,null,null,null,null,null,null,null,null,null,null,null,null,null,null,"~"]
["SA37",2021,"Choose",915,null,null,null,null,null,null,null,null,null,null,null,null,null,null,null,null,null,null,"~"]
["SA37",2021,"Choose",916,null,null,null,null,null,null,null,null,null,null,null,null,null,null,null,null,null,null,"~"]
["SA37",2021,"Choose",917,null,null,null,null,null,null,null,null,null,null,null,null,null,null,null,null,null,null,"~"]
["SA37",2021,"Choose",918,null,null,null,null,null,null,null,null,null,null,null,null,null,null,null,null,null,null,"~"]
["SA37",2021,"Choose",919,null,null,null,null,null,null,null,null,null,null,null,null,null,null,null,null,null,null,"~"]
["SA37",2021,"Choose",920,null,null,null,null,null,null,null,null,null,null,null,null,null,null,null,null,null,null,"~"]
["SA37",2021,"Choose",921,null,null,null,null,null,null,null,null,null,null,null,null,null,null,null,null,null,null,"~"]
["SA37",2021,"Choose",922,null,null,null,null,null,null,null,null,null,null,null,null,null,null,null,null,null,null,"~"]
["SA37",2021,"Choose",923,null,null,null,null,null,null,null,null,null,null,null,null,null,null,null,null,null,null,"~"]
["SA37",2021,"Choose",924,null,null,null,null,null,null,null,null,null,null,null,null,null,null,null,null,null,null,"~"]
["SA37",2021,"Choose",925,null,null,null,null,null,null,null,null,null,null,null,null,null,null,null,null,null,null,"~"]
["SA37",2021,"Choose",926,null,null,null,null,null,null,null,null,null,null,null,null,null,null,null,null,null,null,"~"]
["SA37",2021,"Choose",927,null,null,null,null,null,null,null,null,null,null,null,null,null,null,null,null,null,null,"~"]
["SA37",2021,"Choose",928,null,null,null,null,null,null,null,null,null,null,null,null,null,null,null,null,null,null,"~"]
["SA37",2021,"Choose",929,null,null,null,null,null,null,null,null,null,null,null,null,null,null,null,null,null,null,"~"]
["SA37",2021,"Choose",930,null,null,null,null,null,null,null,null,null,null,null,null,null,null,null,null,null,null,"~"]
["SA37",2021,"Choose",931,null,null,null,null,null,null,null,null,null,null,null,null,null,null,null,null,null,null,"~"]
["SA37",2021,"Choose",932,null,null,null,null,null,null,null,null,null,null,null,null,null,null,null,null,null,null,"~"]
["SA37",2021,"Choose",933,null,null,null,null,null,null,null,null,null,null,null,null,null,null,null,null,null,null,"~"]
["SA37",2021,"Choose",934,null,null,null,null,null,null,null,null,null,null,null,null,null,null,null,null,null,null,"~"]
["SA37",2021,"Choose",935,null,null,null,null,null,null,null,null,null,null,null,null,null,null,null,null,null,null,"~"]
["SA37",2021,"Choose",936,null,null,null,null,null,null,null,null,null,null,null,null,null,null,null,null,null,null,"~"]
["SA37",2021,"Choose",937,null,null,null,null,null,null,null,null,null,null,null,null,null,null,null,null,null,null,"~"]
["SA37",2021,"Choose",938,null,null,null,null,null,null,null,null,null,null,null,null,null,null,null,null,null,null,"~"]
["SA37",2021,"Choose",939,null,null,null,null,null,null,null,null,null,null,null,null,null,null,null,null,null,null,"~"]
["SA37",2021,"Choose",940,null,null,null,null,null,null,null,null,null,null,null,null,null,null,null,null,null,null,"~"]
["SA37",2021,"Choose",941,null,null,null,null,null,null,null,null,null,null,null,null,null,null,null,null,null,null,"~"]
["SA37",2021,"Choose",942,null,null,null,null,null,null,null,null,null,null,null,null,null,null,null,null,null,null,"~"]
["SA37",2021,"Choose",943,null,null,null,null,null,null,null,null,null,null,null,null,null,null,null,null,null,null,"~"]
["SA37",{"$f":"+MTREF","v":2021},{"$f":"LEFT(muni,(FIND(\" \",muni,1)-1))","v":"Choose"},944,null,null,null,null,null,null,null,null,null,null,null,null,null,null,null,null,null,null,"~"]
["SA37",2021,"Choose",945,null,null,null,null,null,null,null,null,null,null,null,null,null,null,null,null,null,null,"~"]
["SA37",2021,"Choose",946,null,null,null,null,null,null,null,null,null,null,null,null,null,null,null,null,null,null,"~"]
["SA37",2021,"Choose",947,null,null,null,null,null,null,null,null,null,null,null,null,null,null,null,null,null,null,"~"]
["SA37",2021,"Choose",948,null,null,null,null,null,null,null,null,null,null,null,null,null,null,null,null,null,null,"~"]
["SA37",2021,"Choose",949,null,null,null,null,null,null,null,null,null,null,null,null,null,null,null,null,null,null,"~"]
["SA37",2021,"Choose",950,null,null,null,null,null,null,null,null,null,null,null,null,null,null,null,null,null,null,"~"]
["SA37",2021,"Choose",951,null,null,null,null,null,null,null,null,null,null,null,null,null,null,null,null,null,null,"~"]
["SA37",2021,"Choose",952,null,null,null,null,null,null,null,null,null,null,null,null,null,null,null,null,null,null,"~"]
["SA37",2021,"Choose",953,null,null,null,null,null,null,null,null,null,null,null,null,null,null,null,null,null,null,"~"]
["SA37",2021,"Choose",954,null,null,null,null,null,null,null,null,null,null,null,null,null,null,null,null,null,null,"~"]
["SA37",2021,"Choose",955,null,null,null,null,null,null,null,null,null,null,null,null,null,null,null,null,null,null,"~"]
["SA37",2021,"Choose",956,null,null,null,null,null,null,null,null,null,null,null,null,null,null,null,null,null,null,"~"]
["SA37",2021,"Choose",957,null,null,null,null,null,null,null,null,null,null,null,null,null,null,null,null,null,null,"~"]
["SA37",2021,"Choose",958,null,null,null,null,null,null,null,null,null,null,null,null,null,null,null,null,null,null,"~"]
["SA37",2021,"Choose",959,null,null,null,null,null,null,null,null,null,null,null,null,null,null,null,null,null,null,"~"]
["SA37",2021,"Choose",960,null,null,null,null,null,null,null,null,null,null,null,null,null,null,null,null,null,null,"~"]
["SA37",2021,"Choose",961,null,null,null,null,null,null,null,null,null,null,null,null,null,null,null,null,null,null,"~"]
["SA37",2021,"Choose",962,null,null,null,null,null,null,null,null,null,null,null,null,null,null,null,null,null,null,"~"]
["SA37",2021,"Choose",963,null,null,null,null,null,null,null,null,null,null,null,null,null,null,null,null,null,null,"~"]
["SA37",2021,"Choose",964,null,null,null,null,null,null,null,null,null,null,null,null,null,null,null,null,null,null,"~"]
["SA37",2021,"Choose",965,null,null,null,null,null,null,null,null,null,null,null,null,null,null,null,null,null,null,"~"]
["SA37",2021,"Choose",966,null,null,null,null,null,null,null,null,null,null,null,null,null,null,null,null,null,null,"~"]
["SA37",2021,"Choose",967,null,null,null,null,null,null,null,null,null,null,null,null,null,null,null,null,null,null,"~"]
["SA37",2021,"Choose",968,null,null,null,null,null,null,null,null,null,null,null,null,null,null,null,null,null,null,"~"]
["SA37",2021,"Choose",969,null,null,null,null,null,null,null,null,null,null,null,null,null,null,null,null,null,null,"~"]
["SA37",2021,"Choose",970,null,null,null,null,null,null,null,null,null,null,null,null,null,null,null,null,null,null,"~"]
["SA37",2021,"Choose",971,null,null,null,null,null,null,null,null,null,null,null,null,null,null,null,null,null,null,"~"]
["SA37",2021,"Choose",972,null,null,null,null,null,null,null,null,null,null,null,null,null,null,null,null,null,null,"~"]
["SA37",2021,"Choose",973,null,null,null,null,null,null,null,null,null,null,null,null,null,null,null,null,null,null,"~"]
["SA37",2021,"Choose",974,null,null,null,null,null,null,null,null,null,null,null,null,null,null,null,null,null,null,"~"]
["SA37",2021,"Choose",975,null,null,null,null,null,null,null,null,null,null,null,null,null,null,null,null,null,null,"~"]
["SA37",2021,"Choose",976,null,null,null,null,null,null,null,null,null,null,null,null,null,null,null,null,null,null,"~"]
["SA37",2021,"Choose",977,null,null,null,null,null,null,null,null,null,null,null,null,null,null,null,null,null,null,"~"]
["SA37",2021,"Choose",978,null,null,null,null,null,null,null,null,null,null,null,null,null,null,null,null,null,null,"~"]
["SA37",2021,"Choose",979,null,null,null,null,null,null,null,null,null,null,null,null,null,null,null,null,null,null,"~"]
["SA37",2021,"Choose",980,null,null,null,null,null,null,null,null,null,null,null,null,null,null,null,null,null,null,"~"]
["SA37",2021,"Choose",981,null,null,null,null,null,null,null,null,null,null,null,null,null,null,null,null,null,null,"~"]
["SA37",2021,"Choose",982,null,null,null,null,null,null,null,null,null,null,null,null,null,null,null,null,null,null,"~"]
["SA37",2021,"Choose",983,null,null,null,null,null,null,null,null,null,null,null,null,null,null,null,null,null,null,"~"]
["SA37",2021,"Choose",984,null,null,null,null,null,null,null,null,null,null,null,null,null,null,null,null,null,null,"~"]
["SA37",2021,"Choose",985,null,null,null,null,null,null,null,null,null,null,null,null,null,null,null,null,null,null,"~"]
["SA37",2021,"Choose",986,null,null,null,null,null,null,null,null,null,null,null,null,null,null,null,null,null,null,"~"]
["SA37",2021,"Choose",987,null,null,null,null,null,null,null,null,null,null,null,null,null,null,null,null,null,null,"~"]
["SA37",2021,"Choose",988,null,null,null,null,null,null,null,null,null,null,null,null,null,null,null,null,null,null,"~"]
["SA37",2021,"Choose",989,null,null,null,null,null,null,null,null,null,null,null,null,null,null,null,null,null,null,"~"]
["SA37",2021,"Choose",990,null,null,null,null,null,null,null,null,null,null,null,null,null,null,null,null,null,null,"~"]
["SA37",2021,"Choose",991,null,null,null,null,null,null,null,null,null,null,null,null,null,null,null,null,null,null,"~"]
["SA37",2021,"Choose",992,null,null,null,null,null,null,null,null,null,null,null,null,null,null,null,null,null,null,"~"]
["SA37",2021,"Choose",993,null,null,null,null,null,null,null,null,null,null,null,null,null,null,null,null,null,null,"~"]
["SA37",2021,"Choose",994,null,null,null,null,null,null,null,null,null,null,null,null,null,null,null,null,null,null,"~"]
["SA37",2021,"Choose",995,null,null,null,null,null,null,null,null,null,null,null,null,null,null,null,null,null,null,"~"]
["SA37",2021,"Choose",996,null,null,null,null,null,null,null,null,null,null,null,null,null,null,null,null,null,null,"~"]
["SA37",2021,"Choose",997,null,null,null,null,null,null,null,null,null,null,null,null,null,null,null,null,null,null,"~"]
["SA37",2021,"Choose",998,null,null,null,null,null,null,null,null,null,null,null,null,null,null,null,null,null,null,"~"]
["SA37",2021,"Choose",999,null,null,null,null,null,null,null,null,null,null,null,null,null,null,null,null,null,null,"~"]
["SA37",2021,"Choose",1000,null,null,null,null,null,null,null,null,null,null,null,null,null,null,null,null,null,null,"~"]
["CONTACT",2021,"Choose",1,null,null,null,null,null,null,null,null,null,null,null,null,null,null,null,null,null,null,"~"]
["CONTACT",2021,"Choose",2,null,null,null,null,null,null,null,null,null,null,null,null,null,null,null,null,null,null,"~"]
["CONTACT",2021,"Choose",3,null,null,null,null,null,null,null,null,null,null,null,null,null,null,null,null,null,null,"~"]
["CONTACT",2021,"Choose",4,null,null,null,null,null,null,null,null,null,null,null,null,null,null,null,null,null,null,"~"]
["CONTACT",2021,"Choose",5,null,null,null,null,null,null,null,null,null,null,null,null,null,null,null,null,null,null,"~"]
["CONTACT",2021,"Choose",6,null,null,null,null,null,null,null,null,null,null,null,null,null,null,null,null,null,null,"~"]
["CONTACT",2021,"Choose",7,null,null,null,null,null,null,null,null,null,null,null,null,null,null,null,null,null,null,"~"]
["CONTACT",{"$f":"+MTREF","v":2021},{"$f":"LEFT(muni,(FIND(\" \",muni,1)-1))","v":"Choose"},8,null,null,null,null,null,null,null,null,null,null,null,null,null,null,null,null,null,null,"~"]
["CONTACT",2021,"Choose",9,null,null,null,null,null,null,null,null,null,null,null,null,null,null,null,null,null,null,"~"]
["CONTACT",2021,"Choose",10,null,null,null,null,null,null,null,null,null,null,null,null,null,null,null,null,null,null,"~"]
["CONTACT",2021,"Choose",11,null,null,null,null,null,null,null,null,null,null,null,null,null,null,null,null,null,null,"~"]
["CONTACT",2021,"Choose",12,null,null,null,null,null,null,null,null,null,null,null,null,null,null,null,null,null,null,"~"]
["CONTACT",2021,"Choose",13,null,null,null,null,null,null,null,null,null,null,null,null,null,null,null,null,null,null,"~"]
["CONTACT",2021,"Choose",14,null,null,null,null,null,null,null,null,null,null,null,null,null,null,null,null,null,null,"~"]
["CONTACT",2021,"Choose",15,null,null,null,null,null,null,null,null,null,null,null,null,null,null,null,null,null,null,"~"]
["CONTACT",2021,"Choose",16,null,null,null,null,null,null,null,null,null,null,null,null,null,null,null,null,null,null,"~"]
["CONTACT",2021,"Choose",17,null,null,null,null,null,null,null,null,null,null,null,null,null,null,null,null,null,null,"~"]
["CONTACT",2021,"Choose",18,null,null,null,null,null,null,null,null,null,null,null,null,null,null,null,null,null,null,"~"]
["CONTACT",2021,"Choose",19,null,null,null,null,null,null,null,null,null,null,null,null,null,null,null,null,null,null,"~"]
["CONTACT",2021,"Choose",20,null,null,null,null,null,null,null,null,null,null,null,null,null,null,null,null,null,null,"~"]
["CONTACT",2021,"Choose",21,null,null,null,null,null,null,null,null,null,null,null,null,null,null,null,null,null,null,"~"]
["CONTACT",2021,"Choose",22,null,null,null,null,null,null,null,null,null,null,null,null,null,null,null,null,null,null,"~"]
["CONTACT",2021,"Choose",23,null,null,null,null,null,null,null,null,null,null,null,null,null,null,null,null,null,null,"~"]
["CONTACT",2021,"Choose",24,null,null,null,null,null,null,null,null,null,null,null,null,null,null,null,null,null,null,"~"]
["CONTACT",2021,"Choose",25,null,null,null,null,null,null,null,null,null,null,null,null,null,null,null,null,null,null,"~"]
["CONTACT",2021,"Choose",26,null,null,null,null,null,null,null,null,null,null,null,null,null,null,null,null,null,null,"~"]
["CONTACT",2021,"Choose",27,null,null,null,null,null,null,null,null,null,null,null,null,null,null,null,null,null,null,"~"]
["CONTACT",2021,"Choose",28,null,null,null,null,null,null,null,null,null,null,null,null,null,null,null,null,null,null,"~"]
["CONTACT",2021,"Choose",29,null,null,null,null,null,null,null,null,null,null,null,null,null,null,null,null,null,null,"~"]
["CONTACT",2021,"Choose",30,null,null,null,null,null,null,null,null,null,null,null,null,null,null,null,null,null,null,"~"]
["CONTACT",2021,"Choose",31,null,null,null,null,null,null,null,null,null,null,null,null,null,null,null,null,null,null,"~"]
["CONTACT",2021,"Choose",32,null,null,null,null,null,null,null,null,null,null,null,null,null,null,null,null,null,null,"~"]
["CONTACT",2021,"Choose",33,null,null,null,null,null,null,null,null,null,null,null,null,null,null,null,null,null,null,"~"]
["CONTACT",2021,"Choose",34,null,null,null,null,null,null,null,null,null,null,null,null,null,null,null,null,null,null,"~"]
["CONTACT",2021,"Choose",35,null,null,null,null,null,null,null,null,null,null,null,null,null,null,null,null,null,null,"~"]
["CONTACT",2021,"Choose",36,null,null,null,null,null,null,null,null,null,null,null,null,null,null,null,null,null,null,"~"]
["CONTACT",2021,"Choose",37,null,null,null,null,null,null,null,null,null,null,null,null,null,null,null,null,null,null,"~"]
["CONTACT",2021,"Choose",38,null,null,null,null,null,null,null,null,null,null,null,null,null,null,null,null,null,null,"~"]
["CONTACT",2021,"Choose",39,null,null,null,null,null,null,null,null,null,null,null,null,null,null,null,null,null,null,"~"]
["CONTACT",2021,"Choose",40,null,null,null,null,null,null,null,null,null,null,null,null,null,null,null,null,null,null,"~"]
["CONTACT",2021,"Choose",41,null,null,null,null,null,null,null,null,null,null,null,null,null,null,null,null,null,null,"~"]
["CONTACT",2021,"Choose",42,null,null,null,null,null,null,null,null,null,null,null,null,null,null,null,null,null,null,"~"]
["CONTACT",2021,"Choose",43,null,null,null,null,null,null,null,null,null,null,null,null,null,null,null,null,null,null,"~"]
["CONTACT",2021,"Choose",44,null,null,null,null,null,null,null,null,null,null,null,null,null,null,null,null,null,null,"~"]
["CONTACT",2021,"Choose",45,null,null,null,null,null,null,null,null,null,null,null,null,null,null,null,null,null,null,"~"]
["CONTACT",2021,"Choose",46,null,null,null,null,null,null,null,null,null,null,null,null,null,null,null,null,null,null,"~"]
["CONTACT",2021,"Choose",47,null,null,null,null,null,null,null,null,null,null,null,null,null,null,null,null,null,null,"~"]
["CONTACT",2021,"Choose",48,null,null,null,null,null,null,null,null,null,null,null,null,null,null,null,null,null,null,"~"]
["CONTACT",2021,"Choose",49,null,null,null,null,null,null,null,null,null,null,null,null,null,null,null,null,null,null,"~"]
["CONTACT",2021,"Choose",50,null,null,null,null,null,null,null,null,null,null,null,null,null,null,null,null,null,null,"~"]
["CONTACT",2021,"Choose",51,null,null,null,null,null,null,null,null,null,null,null,null,null,null,null,null,null,null,"~"]
["CONTACT",2021,"Choose",52,null,null,null,null,null,null,null,null,null,null,null,null,null,null,null,null,null,null,"~"]
["CONTACT",2021,"Choose",53,null,null,null,null,null,null,null,null,null,null,null,null,null,null,null,null,null,null,"~"]
["CONTACT",2021,"Choose",54,null,null,null,null,null,null,null,null,null,null,null,null,null,null,null,null,null,null,"~"]
["CONTACT",2021,"Choose",55,null,null,null,null,null,null,null,null,null,null,null,null,null,null,null,null,null,null,"~"]
["CONTACT",2021,"Choose",56,null,null,null,null,null,null,null,null,null,null,null,null,null,null,null,null,null,null,"~"]
["CONTACT",2021,"Choose",57,null,null,null,null,null,null,null,null,null,null,null,null,null,null,null,null,null,null,"~"]
["CONTACT",2021,"Choose",58,null,null,null,null,null,null,null,null,null,null,null,null,null,null,null,null,null,null,"~"]
["CONTACT",2021,"Choose",59,null,null,null,null,null,null,null,null,null,null,null,null,null,null,null,null,null,null,"~"]
["CONTACT",2021,"Choose",60,null,null,null,null,null,null,null,null,null,null,null,null,null,null,null,null,null,null,"~"]
["CONTACT",2021,"Choose",61,null,null,null,null,null,null,null,null,null,null,null,null,null,null,null,null,null,null,"~"]
["CONTACT",2021,"Choose",62,null,null,null,null,null,null,null,null,null,null,null,null,null,null,null,null,null,null,"~"]
["CONTACT",2021,"Choose",63,null,null,null,null,null,null,null,null,null,null,null,null,null,null,null,null,null,null,"~"]
["CONTACT",2021,"Choose",64,null,null,null,null,null,null,null,null,null,null,null,null,null,null,null,null,null,null,"~"]
["CONTACT",2021,"Choose",65,null,null,null,null,null,null,null,null,null,null,null,null,null,null,null,null,null,null,"~"]
["CONTACT",2021,"Choose",66,null,null,null,null,null,null,null,null,null,null,null,null,null,null,null,null,null,null,"~"]
["CONTACT",2021,"Choose",67,null,null,null,null,null,null,null,null,null,null,null,null,null,null,null,null,null,null,"~"]
["CONTACT",2021,"Choose",68,null,null,null,null,null,null,null,null,null,null,null,null,null,null,null,null,null,null,"~"]
["CONTACT",2021,"Choose",69,null,null,null,null,null,null,null,null,null,null,null,null,null,null,null,null,null,null,"~"]
["CONTACT",2021,"Choose",70,null,null,null,null,null,null,null,null,null,null,null,null,null,null,null,null,null,null,"~"]
["CONTACT",2021,"Choose",71,null,null,null,null,null,null,null,null,null,null,null,null,null,null,null,null,null,null,"~"]
["CONTACT",{"$f":"+MTREF","v":2021},{"$f":"LEFT(muni,(FIND(\" \",muni,1)-1))","v":"Choose"},72,null,null,null,null,null,null,null,null,null,null,null,null,null,null,null,null,null,null,"~"]
["CONTACT",2021,"Choose",73,null,null,null,null,null,null,null,null,null,null,null,null,null,null,null,null,null,null,"~"]
["CONTACT",2021,"Choose",74,null,null,null,null,null,null,null,null,null,null,null,null,null,null,null,null,null,null,"~"]
["CONTACT",2021,"Choose",75,null,null,null,null,null,null,null,null,null,null,null,null,null,null,null,null,null,null,"~"]
["CONTACT",2021,"Choose",76,null,null,null,null,null,null,null,null,null,null,null,null,null,null,null,null,null,null,"~"]
["CONTACT",2021,"Choose",77,null,null,null,null,null,null,null,null,null,null,null,null,null,null,null,null,null,null,"~"]
["CONTACT",2021,"Choose",78,null,null,null,null,null,null,null,null,null,null,null,null,null,null,null,null,null,null,"~"]
["CONTACT",2021,"Choose",79,null,null,null,null,null,null,null,null,null,null,null,null,null,null,null,null,null,null,"~"]
["CONTACT",2021,"Choose",80,null,null,null,null,null,null,null,null,null,null,null,null,null,null,null,null,null,null,"~"]
["CONTACT",2021,"Choose",81,null,null,null,null,null,null,null,null,null,null,null,null,null,null,null,null,null,null,"~"]
["CONTACT",2021,"Choose",82,null,null,null,null,null,null,null,null,null,null,null,null,null,null,null,null,null,null,"~"]
["CONTACT",2021,"Choose",83,null,null,null,null,null,null,null,null,null,null,null,null,null,null,null,null,null,null,"~"]
["CONTACT",2021,"Choose",84,null,null,null,null,null,null,null,null,null,null,null,null,null,null,null,null,null,null,"~"]
["CONTACT",2021,"Choose",85,null,null,null,null,null,null,null,null,null,null,null,null,null,null,null,null,null,null,"~"]
["CONTACT",2021,"Choose",86,null,null,null,null,null,null,null,null,null,null,null,null,null,null,null,null,null,null,"~"]
["CONTACT",2021,"Choose",87,null,null,null,null,null,null,null,null,null,null,null,null,null,null,null,null,null,null,"~"]
["CONTACT",2021,"Choose",88,null,null,null,null,null,null,null,null,null,null,null,null,null,null,null,null,null,null,"~"]
["CONTACT",2021,"Choose",89,null,null,null,null,null,null,null,null,null,null,null,null,null,null,null,null,null,null,"~"]
["CONTACT",2021,"Choose",90,null,null,null,null,null,null,null,null,null,null,null,null,null,null,null,null,null,null,"~"]
["CONTACT",2021,"Choose",91,null,null,null,null,null,null,null,null,null,null,null,null,null,null,null,null,null,null,"~"]
["CONTACT",2021,"Choose",92,null,null,null,null,null,null,null,null,null,null,null,null,null,null,null,null,null,null,"~"]
["CONTACT",2021,"Choose",93,null,null,null,null,null,null,null,null,null,null,null,null,null,null,null,null,null,null,"~"]
["CONTACT",2021,"Choose",94,null,null,null,null,null,null,null,null,null,null,null,null,null,null,null,null,null,null,"~"]
["CONTACT",2021,"Choose",95,null,null,null,null,null,null,null,null,null,null,null,null,null,null,null,null,null,null,"~"]
["CONTACT",2021,"Choose",96,null,null,null,null,null,null,null,null,null,null,null,null,null,null,null,null,null,null,"~"]
["CONTACT",2021,"Choose",97,null,null,null,null,null,null,null,null,null,null,null,null,null,null,null,null,null,null,"~"]
["CONTACT",2021,"Choose",98,null,null,null,null,null,null,null,null,null,null,null,null,null,null,null,null,null,null,"~"]
["CONTACT",2021,"Choose",99,null,null,null,null,null,null,null,null,null,null,null,null,null,null,null,null,null,null,"~"]
["CONTACT",2021,"Choose",100,null,null,null,null,null,null,null,null,null,null,null,null,null,null,null,null,null,null,"~"]
["CONTACT",2021,"Choose",101,null,null,null,null,null,null,null,null,null,null,null,null,null,null,null,null,null,null,"~"]
["CONTACT",2021,"Choose",102,null,null,null,null,null,null,null,null,null,null,null,null,null,null,null,null,null,null,"~"]
["CONTACT",2021,"Choose",103,null,null,null,null,null,null,null,null,null,null,null,null,null,null,null,null,null,null,"~"]
["CONTACT",2021,"Choose",104,null,null,null,null,null,null,null,null,null,null,null,null,null,null,null,null,null,null,"~"]
["CONTACT",2021,"Choose",105,null,null,null,null,null,null,null,null,null,null,null,null,null,null,null,null,null,null,"~"]
["CONTACT",2021,"Choose",106,null,null,null,null,null,null,null,null,null,null,null,null,null,null,null,null,null,null,"~"]
["CONTACT",2021,"Choose",107,null,null,null,null,null,null,null,null,null,null,null,null,null,null,null,null,null,null,"~"]
["CONTACT",2021,"Choose",108,null,null,null,null,null,null,null,null,null,null,null,null,null,null,null,null,null,null,"~"]
["CONTACT",2021,"Choose",109,null,null,null,null,null,null,null,null,null,null,null,null,null,null,null,null,null,null,"~"]
["CONTACT",2021,"Choose",110,null,null,null,null,null,null,null,null,null,null,null,null,null,null,null,null,null,null,"~"]
["CONTACT",2021,"Choose",111,null,null,null,null,null,null,null,null,null,null,null,null,null,null,null,null,null,null,"~"]
["CONTACT",2021,"Choose",112,null,null,null,null,null,null,null,null,null,null,null,null,null,null,null,null,null,null,"~"]
["CONTACT",2021,"Choose",113,null,null,null,null,null,null,null,null,null,null,null,null,null,null,null,null,null,null,"~"]
["CONTACT",2021,"Choose",114,null,null,null,null,null,null,null,null,null,null,null,null,null,null,null,null,null,null,"~"]
["CONTACT",2021,"Choose",115,null,null,null,null,null,null,null,null,null,null,null,null,null,null,null,null,null,null,"~"]
["CONTACT",2021,"Choose",116,null,null,null,null,null,null,null,null,null,null,null,null,null,null,null,null,null,null,"~"]
["CONTACT",2021,"Choose",117,null,null,null,null,null,null,null,null,null,null,null,null,null,null,null,null,null,null,"~"]
["CONTACT",2021,"Choose",118,null,null,null,null,null,null,null,null,null,null,null,null,null,null,null,null,null,null,"~"]
["CONTACT",2021,"Choose",119,null,null,null,null,null,null,null,null,null,null,null,null,null,null,null,null,null,null,"~"]
["CONTACT",2021,"Choose",120,null,null,null,null,null,null,null,null,null,null,null,null,null,null,null,null,null,null,"~"]
["CONTACT",2021,"Choose",121,null,null,null,null,null,null,null,null,null,null,null,null,null,null,null,null,null,null,"~"]
["CONTACT",2021,"Choose",122,null,null,null,null,null,null,null,null,null,null,null,null,null,null,null,null,null,null,"~"]
["CONTACT",2021,"Choose",123,null,null,null,null,null,null,null,null,null,null,null,null,null,null,null,null,null,null,"~"]
["CONTACT",2021,"Choose",124,null,null,null,null,null,null,null,null,null,null,null,null,null,null,null,null,null,null,"~"]
["CONTACT",2021,"Choose",125,null,null,null,null,null,null,null,null,null,null,null,null,null,null,null,null,null,null,"~"]
["CONTACT",2021,"Choose",126,null,null,null,null,null,null,null,null,null,null,null,null,null,null,null,null,null,null,"~"]
["CONTACT",2021,"Choose",127,null,null,null,null,null,null,null,null,null,null,null,null,null,null,null,null,null,null,"~"]
["CONTACT",2021,"Choose",128,null,null,null,null,null,null,null,null,null,null,null,null,null,null,null,null,null,null,"~"]
["CONTACT",2021,"Choose",129,null,null,null,null,null,null,null,null,null,null,null,null,null,null,null,null,null,null,"~"]
["CONTACT",2021,"Choose",130,null,null,null,null,null,null,null,null,null,null,null,null,null,null,null,null,null,null,"~"]
["CONTACT",2021,"Choose",131,null,null,null,null,null,null,null,null,null,null,null,null,null,null,null,null,null,null,"~"]
["CONTACT",2021,"Choose",132,null,null,null,null,null,null,null,null,null,null,null,null,null,null,null,null,null,null,"~"]
["CONTACT",2021,"Choose",133,null,null,null,null,null,null,null,null,null,null,null,null,null,null,null,null,null,null,"~"]
["CONTACT",2021,"Choose",134,null,null,null,null,null,null,null,null,null,null,null,null,null,null,null,null,null,null,"~"]
["CONTACT",2021,"Choose",135,null,null,null,null,null,null,null,null,null,null,null,null,null,null,null,null,null,null,"~"]
["CONTACT",2021,"Choose",136,null,null,null,null,null,null,null,null,null,null,null,null,null,null,null,null,null,null,"~"]
["CONTACT",2021,"Choose",137,null,null,null,null,null,null,null,null,null,null,null,null,null,null,null,null,null,null,"~"]
["CONTACT",2021,"Choose",138,null,null,null,null,null,null,null,null,null,null,null,null,null,null,null,null,null,null,"~"]
["SA25",2021,"Choose",0,1,"Revenue By Source",null,null,null,null,null,null,null,null,null,null,null,null,null,null,null,null,"~"]
["SA25",2021,"Choose",0,2,"Property rates",null,null,null,null,null,null,null,null,null,null,null,null,null,null,null,null,"~"]
["SA25",2021,"Choose",0,3,"Property rates - penalties & collection charges",null,null,null,null,null,null,null,null,null,null,null,null,null,null,null,null,"~"]
["SA25",2021,"Choose",0,4,"Service charges - electricity revenue",null,null,null,null,null,null,null,null,null,null,null,null,null,null,null,null,"~"]
["SA25",2021,"Choose",0,5,"Service charges - water revenue",null,null,null,null,null,null,null,null,null,null,null,null,null,null,null,null,"~"]
["SA25",2021,"Choose",0,6,"Service charges - sanitation revenue",null,null,null,null,null,null,null,null,null,null,null,null,null,null,null,null,"~"]
["SA25",2021,"Choose",0,7,"Service charges - refuse revenue",null,null,null,null,null,null,null,null,null,null,null,null,null,null,null,null,"~"]
["SA25",2021,"Choose",0,8,"Service charges - other",null,null,null,null,null,null,null,null,null,null,null,null,null,null,null,null,"~"]
["SA25",2021,"Choose",0,9,"Rental of facilities and equipment",null,null,null,null,null,null,null,null,null,null,null,null,null,null,null,null,"~"]
["SA25",2021,"Choose",0,10,"Interest earned - external investments",null,null,null,null,null,null,null,null,null,null,null,null,null,null,null,null,"~"]
["SA25",2021,"Choose",0,11,"Interest earned - outstanding debtors",null,null,null,null,null,null,null,null,null,null,null,null,null,null,null,null,"~"]
["SA25",2021,"Choose",0,12,"Dividends received",null,null,null,null,null,null,null,null,null,null,null,null,null,null,null,null,"~"]
["SA25",2021,"Choose",0,13,"Fines",null,null,null,null,null,null,null,null,null,null,null,null,null,null,null,null,"~"]
["SA25",2021,"Choose",0,14,"Licences and permits",null,null,null,null,null,null,null,null,null,null,null,null,null,null,null,null,"~"]
["SA25",2021,"Choose",0,15,"Agency services",null,null,null,null,null,null,null,null,null,null,null,null,null,null,null,null,"~"]
["SA25",2021,"Choose",0,16,"Transfers recognised - operational",null,null,null,null,null,null,null,null,null,null,null,null,null,null,null,null,"~"]
["SA25",2021,"Choose",0,17,"Other revenue",null,null,null,null,null,null,null,null,null,null,null,null,null,null,null,null,"~"]
["SA25",2021,"Choose",0,18,"Gains on disposal of PPE",null,null,null,null,null,null,null,null,null,null,null,null,null,null,null,null,"~"]
["SA25",2021,"Choose",0,19,"Total Revenue (excluding capital transfers and contributions)",null,null,null,null,null,null,null,null,null,null,null,null,null,null,null,null,"~"]
["SA25",2021,"Choose",0,20,null,null,null,null,null,null,null,null,null,null,null,null,null,null,null,null,null,"~"]
["SA25",2021,"Choose",0,21,"Expenditure By Type",null,null,null,null,null,null,null,null,null,null,null,null,null,null,null,null,"~"]
["SA25",2021,"Choose",0,22,"Employee related costs",null,null,null,null,null,null,null,null,null,null,null,null,null,null,null,null,"~"]
["SA25",2021,"Choose",0,23,"Remuneration of councillors",null,null,null,null,null,null,null,null,null,null,null,null,null,null,null,null,"~"]
["SA25",2021,"Choose",0,24,"Debt impairment",null,null,null,null,null,null,null,null,null,null,null,null,null,null,null,null,"~"]
["SA25",2021,"Choose",0,25,"Depreciation & asset impairment",null,null,null,null,null,null,null,null,null,null,null,null,null,null,null,null,"~"]
["SA25",2021,"Choose",0,26,"Finance charges",null,null,null,null,null,null,null,null,null,null,null,null,null,null,null,null,"~"]
["SA25",2021,"Choose",0,27,"Bulk purchases",null,null,null,null,null,null,null,null,null,null,null,null,null,null,null,null,"~"]
["SA25",2021,"Choose",0,28,"Other materials",null,null,null,null,null,null,null,null,null,null,null,null,null,null,null,null,"~"]
["SA25",2021,"Choose",0,29,"Contracted services",null,null,null,null,null,null,null,null,null,null,null,null,null,null,null,null,"~"]
["SA25",2021,"Choose",0,30,"Transfers and grants",null,null,null,null,null,null,null,null,null,null,null,null,null,null,null,null,"~"]
["SA25",2021,"Choose",0,31,"Other expenditure",null,null,null,null,null,null,null,null,null,null,null,null,null,null,null,null,"~"]
["SA25",2021,"Choose",0,32,"Loss on disposal of PPE",null,null,null,null,null,null,null,null,null,null,null,null,null,null,null,null,"~"]
["SA25",2021,"Choose",0,33,"Total Expenditure",null,null,null,null,null,null,null,null,null,null,null,null,null,null,null,null,"~"]
["SA25",2021,"Choose",0,34,null,null,null,null,null,null,null,null,null,null,null,null,null,null,null,null,null,"~"]
["SA25",2021,"Choose",0,35,"Surplus/(Deficit)",null,null,null,null,null,null,null,null,null,null,null,null,null,null,null,null,"~"]
["SA25",{"$f":"+MTREF","v":2021},{"$f":"LEFT(muni,(FIND(\" \",muni,1)-1))","v":"Choose"},0,36,"Transfers recognised - capital",null,null,null,null,null,null,null,null,null,null,null,null,null,null,null,null,"~"]
["SA25",2021,"Choose",0,37,"Contributions recognised - capital",null,null,null,null,null,null,null,null,null,null,null,null,null,null,null,null,"~"]
["SA25",2021,"Choose",0,38,"Contributed assets",null,null,null,null,null,null,null,null,null,null,null,null,null,null,null,null,"~"]
["SA25",2021,"Choose",0,39,"Surplus/(Deficit) after capital transfers & contributions",null,null,null,null,null,null,null,null,null,null,null,null,null,null,null,null,"~"]
["SA25",2021,"Choose",0,40,"Taxation",null,null,null,null,null,null,null,null,null,null,null,null,null,null,null,null,"~"]
["SA25",2021,"Choose",0,41,"Attributable to minorities",null,null,null,null,null,null,null,null,null,null,null,null,null,null,null,null,"~"]
["SA25",2021,"Choose",0,44,"Share of surplus/ (deficit) of associate",null,null,null,null,null,null,null,null,null,null,null,null,null,null,null,null,"~"]
["SA27",2021,"Choose",null,null,"Revenue - Standard",null,null,null,null,null,null,null,null,null,null,null,null,null,null,null,null,"~"]
["SA27",2021,"Choose",null,null,"Governance and administration",null,null,null,null,null,null,null,null,null,null,null,null,null,null,null,null,"~"]
["SA27",2021,"Choose",1,11,"Executive and council",null,null,null,null,null,null,null,null,null,null,null,null,null,null,null,null,"~"]
["SA27",2021,"Choose",1,12,"Budget and treasury office",null,null,null,null,null,null,null,null,null,null,null,null,null,null,null,null,"~"]
["SA27",2021,"Choose",1,13,"Corporate services",null,null,null,null,null,null,null,null,null,null,null,null,null,null,null,null,"~"]
["SA27",2021,"Choose",null,null,"Community and public safety",null,null,null,null,null,null,null,null,null,null,null,null,null,null,null,null,"~"]
["SA27",2021,"Choose",1,21,"Community and social services",null,null,null,null,null,null,null,null,null,null,null,null,null,null,null,null,"~"]
["SA27",2021,"Choose",1,22,"Sport and recreation",null,null,null,null,null,null,null,null,null,null,null,null,null,null,null,null,"~"]
["SA27",2021,"Choose",1,23,"Public safety",null,null,null,null,null,null,null,null,null,null,null,null,null,null,null,null,"~"]
["SA27",2021,"Choose",1,24,"Housing",null,null,null,null,null,null,null,null,null,null,null,null,null,null,null,null,"~"]
["SA27",2021,"Choose",1,25,"Health",null,null,null,null,null,null,null,null,null,null,null,null,null,null,null,null,"~"]
["SA27",2021,"Choose",null,null,"Economic and environmental services",null,null,null,null,null,null,null,null,null,null,null,null,null,null,null,null,"~"]
["SA27",2021,"Choose",1,31,"Planning and development",null,null,null,null,null,null,null,null,null,null,null,null,null,null,null,null,"~"]
["SA27",2021,"Choose",1,32,"Road transport",null,null,null,null,null,null,null,null,null,null,null,null,null,null,null,null,"~"]
["SA27",2021,"Choose",1,33,"Environmental protection",null,null,null,null,null,null,null,null,null,null,null,null,null,null,null,null,"~"]
["SA27",2021,"Choose",null,null,"Trading services",null,null,null,null,null,null,null,null,null,null,null,null,null,null,null,null,"~"]
["SA27",2021,"Choose",1,41,"Electricity",null,null,null,null,null,null,null,null,null,null,null,null,null,null,null,null,"~"]
["SA27",2021,"Choose",1,42,"Water",null,null,null,null,null,null,null,null,null,null,null,null,null,null,null,null,"~"]
["SA27",2021,"Choose",1,43,"Waste water management",null,null,null,null,null,null,null,null,null,null,null,null,null,null,null,null,"~"]
["SA27",2021,"Choose",1,44,"Waste management",null,null,null,null,null,null,null,null,null,null,null,null,null,null,null,null,"~"]
["SA27",2021,"Choose",1,45,"Other",null,null,null,null,null,null,null,null,null,null,null,null,null,null,null,null,"~"]
["SA27",2021,"Choose",null,null,"Total Revenue - Standard",null,null,null,null,null,null,null,null,null,null,null,null,null,null,null,null,"~"]
["SA27",2021,"Choose",null,null,null,null,null,null,null,null,null,null,null,null,null,null,null,null,null,null,null,"~"]
["SA27",2021,"Choose",null,null,"Expenditure - Standard",null,null,null,null,null,null,null,null,null,null,null,null,null,null,null,null,"~"]
["SA27",2021,"Choose",null,null,"Governance and administration",null,null,null,null,null,null,null,null,null,null,null,null,null,null,null,null,"~"]
["SA27",2021,"Choose",2,11,"Executive and council",null,null,null,null,null,null,null,null,null,null,null,null,null,null,null,null,"~"]
["SA27",2021,"Choose",2,12,"Budget and treasury office",null,null,null,null,null,null,null,null,null,null,null,null,null,null,null,null,"~"]
["SA27",2021,"Choose",2,13,"Corporate services",null,null,null,null,null,null,null,null,null,null,null,null,null,null,null,null,"~"]
["SA27",2021,"Choose",null,null,"Community and public safety",null,null,null,null,null,null,null,null,null,null,null,null,null,null,null,null,"~"]
["SA27",2021,"Choose",2,21,"Community and social services",null,null,null,null,null,null,null,null,null,null,null,null,null,null,null,null,"~"]
["SA27",2021,"Choose",2,22,"Sport and recreation",null,null,null,null,null,null,null,null,null,null,null,null,null,null,null,null,"~"]
["SA27",2021,"Choose",2,23,"Public safety",null,null,null,null,null,null,null,null,null,null,null,null,null,null,null,null,"~"]
["SA27",2021,"Choose",2,24,"Housing",null,null,null,null,null,null,null,null,null,null,null,null,null,null,null,null,"~"]
["SA27",2021,"Choose",2,25,"Health",null,null,null,null,null,null,null,null,null,null,null,null,null,null,null,null,"~"]
["SA27",2021,"Choose",null,null,"Economic and environmental services",null,null,null,null,null,null,null,null,null,null,null,null,null,null,null,null,"~"]
["SA27",2021,"Choose",2,31,"Planning and development",null,null,null,null,null,null,null,null,null,null,null,null,null,null,null,null,"~"]
["SA27",2021,"Choose",2,32,"Road transport",null,null,null,null,null,null,null,null,null,null,null,null,null,null,null,null,"~"]
["SA27",2021,"Choose",2,33,"Environmental protection",null,null,null,null,null,null,null,null,null,null,null,null,null,null,null,null,"~"]
["SA27",2021,"Choose",null,null,"Trading services",null,null,null,null,null,null,null,null,null,null,null,null,null,null,null,null,"~"]
["SA27",2021,"Choose",2,41,"Electricity",null,null,null,null,null,null,null,null,null,null,null,null,null,null,null,null,"~"]
["SA27",2021,"Choose",2,42,"Water",null,null,null,null,null,null,null,null,null,null,null,null,null,null,null,null,"~"]
["SA27",2021,"Choose",2,43,"Waste water management",null,null,null,null,null,null,null,null,null,null,null,null,null,null,null,null,"~"]
["SA27",2021,"Choose",2,44,"Waste management",null,null,null,null,null,null,null,null,null,null,null,null,null,null,null,null,"~"]
["SA27",2021,"Choose",2,45,"Other",null,null,null,null,null,null,null,null,null,null,null,null,null,null,null,null,"~"]
["SA27",2021,"Choose",null,null,"Total Expenditure - Standard",null,null,null,null,null,null,null,null,null,null,null,null,null,null,null,null,"~"]
["SA29",2021,"Choose",null,null,"Capital Expenditure - Standard",null,null,null,null,null,null,null,null,null,null,null,null,null,null,null,null,"~"]
["SA29",2021,"Choose",null,null,"Governance and administration",null,null,null,null,null,null,null,null,null,null,null,null,null,null,null,null,"~"]
["SA29",2021,"Choose",1,11,"Executive and council",null,null,null,null,null,null,null,null,null,null,null,null,null,null,null,null,"~"]
["SA29",2021,"Choose",1,12,"Budget and treasury office",null,null,null,null,null,null,null,null,null,null,null,null,null,null,null,null,"~"]
["SA29",2021,"Choose",1,13,"Corporate services",null,null,null,null,null,null,null,null,null,null,null,null,null,null,null,null,"~"]
["SA29",2021,"Choose",null,null,"Community and public safety",null,null,null,null,null,null,null,null,null,null,null,null,null,null,null,null,"~"]
["SA29",2021,"Choose",1,21,"Community and social services",null,null,null,null,null,null,null,null,null,null,null,null,null,null,null,null,"~"]
["SA29",2021,"Choose",1,22,"Sport and recreation",null,null,null,null,null,null,null,null,null,null,null,null,null,null,null,null,"~"]
["SA29",2021,"Choose",1,23,"Public safety",null,null,null,null,null,null,null,null,null,null,null,null,null,null,null,null,"~"]
["SA29",2021,"Choose",1,24,"Housing",null,null,null,null,null,null,null,null,null,null,null,null,null,null,null,null,"~"]
["SA29",2021,"Choose",1,25,"Health",null,null,null,null,null,null,null,null,null,null,null,null,null,null,null,null,"~"]
["SA29",2021,"Choose",null,null,"Economic and environmental services",null,null,null,null,null,null,null,null,null,null,null,null,null,null,null,null,"~"]
["SA29",{"$f":"+MTREF","v":2021},{"$f":"LEFT(muni,(FIND(\" \",muni,1)-1))","v":"Choose"},1,31,"Planning and development",null,null,null,null,null,null,null,null,null,null,null,null,null,null,null,null,"~"]
["SA29",2021,"Choose",1,32,"Road transport",null,null,null,null,null,null,null,null,null,null,null,null,null,null,null,null,"~"]
["SA29",2021,"Choose",1,33,"Environmental protection",null,null,null,null,null,null,null,null,null,null,null,null,null,null,null,null,"~"]
["SA29",2021,"Choose",null,null,"Trading services",null,null,null,null,null,null,null,null,null,null,null,null,null,null,null,null,"~"]
["SA29",2021,"Choose",1,41,"Electricity",null,null,null,null,null,null,null,null,null,null,null,null,null,null,null,null,"~"]
["SA29",2021,"Choose",1,42,"Water",null,null,null,null,null,null,null,null,null,null,null,null,null,null,null,null,"~"]
["SA29",2021,"Choose",1,43,"Waste water management",null,null,null,null,null,null,null,null,null,null,null,null,null,null,null,null,"~"]
["SA29",2021,"Choose",1,44,"Waste management",null,null,null,null,null,null,null,null,null,null,null,null,null,null,null,null,"~"]
["SA29",2021,"Choose",1,45,"Other",null,null,null,null,null,null,null,null,null,null,null,null,null,null,null,null,"~"]
["SA29",2021,"Choose",null,null,"Total Capital Expenditure - Standard",null,null,null,null,null,null,null,null,null,null,null,null,null,null,null,null,"~"]
["SA29",2021,"Choose",null,null,null,null,null,null,null,null,null,null,null,null,null,null,null,null,null,null,null,"~"]
["SA29",2021,"Choose",2,50,"Funded by:",null,null,null,null,null,null,null,null,null,null,null,null,null,null,null,null,"~"]
["SA29",2021,"Choose",2,51,"National Government",null,null,null,null,null,null,null,null,null,null,null,null,null,null,null,null,"~"]
["SA29",2021,"Choose",2,52,"Provincial Government",null,null,null,null,null,null,null,null,null,null,null,null,null,null,null,null,"~"]
["SA29",2021,"Choose",2,53,"District Municipality",null,null,null,null,null,null,null,null,null,null,null,null,null,null,null,null,"~"]
["SA29",2021,"Choose",2,54,"Other transfers and grants",null,null,null,null,null,null,null,null,null,null,null,null,null,null,null,null,"~"]
["SA29",2021,"Choose",2,55,"Transfers recognised - capital",null,null,null,null,null,null,null,null,null,null,null,null,null,null,null,null,"~"]
["SA29",2021,"Choose",2,56,"Public contributions & donations",null,null,null,null,null,null,null,null,null,null,null,null,null,null,null,null,"~"]
["SA29",2021,"Choose",2,57,"Borrowing",null,null,null,null,null,null,null,null,null,null,null,null,null,null,null,null,"~"]
["SA29",2021,"Choose",2,58,"Internally generated funds",null,null,null,null,null,null,null,null,null,null,null,null,null,null,null,null,"~"]
["SA29",2021,"Choose",2,59,"Total Capital Funding",null,null,null,null,null,null,null,null,null,null,null,null,null,null,null,null,"~"]